Database-Async-Engine-PostgreSQL v1.002 Perl 5 v5.32.1 OpenBSD.amd64-openbsd-thread-multi

Status
Pass
From
David Cantrell (DCANTRELL)
Dist
Database-Async-Engine-PostgreSQL v1.002
Platform
Perl 5 v5.32.1 OpenBSD.amd64-openbsd-thread-multi
Date
2023-03-21 04:03:34
ID
59cef2f4-c79d-11ed-886c-e3dc683bc4c1
This distribution has been tested as part of the CPAN Testers
project, supporting the Perl programming language.  See
http://wiki.cpantesters.org/ for more information or email
questions to cpan-testers-discuss@perl.org


--
Dear Tom Molesworth,

This is a computer-generated report for Database-Async-Engine-PostgreSQL-1.002
on perl 5.32.1, created by CPAN-Reporter-1.2018.

Thank you for uploading your work to CPAN.  Congratulations!
All tests were successful.

Sections of this report:

    * Tester comments
    * Program output
    * Prerequisites
    * Environment and other context

------------------------------
TESTER COMMENTS
------------------------------

Additional comments from tester:

this report is from an automated smoke testing program
and was not reviewed by a human for accuracy

------------------------------
PROGRAM OUTPUT
------------------------------

Output from '/usr/bin/make test':

PERL_DL_NONLAZY=1 "/home/david/cpantesting/perl-5.32.1/bin/perl" "-MExtUtils::Command::MM" "-MTest::Harness" "-e" "undef *Test::Harness::Switches; test_harness(0, 'blib/lib', 'blib/arch')" t/*.t
t/00-check-deps.t ...... ok
t/00-compile.t ......... ok
# 
# Versions for all modules listed in MYMETA.json (including optional ones):
# 
# === Configure Requires ===
# 
#     Module              Want Have
#     ------------------- ---- ----
#     ExtUtils::MakeMaker  any 7.68
# 
# === Build Requires ===
# 
#     Module              Want Have
#     ------------------- ---- ----
#     ExtUtils::MakeMaker  any 7.68
# 
# === Test Requires ===
# 
#     Module                  Want     Have
#     ---------------------- ----- --------
#     ExtUtils::MakeMaker      any     7.68
#     File::Spec               any     3.78
#     File::Temp               any   0.2309
#     IO::Handle               any     1.42
#     IPC::Open3               any     1.21
#     Log::Any::Adapter::TAP   any 0.003003
#     Log::Any::Test         1.710    1.714
#     Test::CheckDeps        0.010    0.010
#     Test::Fatal            0.010    0.016
#     Test::MockModule       0.171  0.177.0
#     Test::More              0.98 1.302194
#     Test::Refcount          0.07     0.10
# 
# === Test Recommends ===
# 
#     Module         Want     Have
#     ---------- -------- --------
#     CPAN::Meta 2.120900 2.150010
# 
# === Runtime Requires ===
# 
#     Module                          Want     Have
#     ------------------------------ ----- --------
#     Bytes::Random::Secure            any     0.29
#     Config::Tiny                     any     2.28
#     CryptX                           any    0.077
#     Database::Async                0.016    0.018
#     Encode                           any     3.06
#     File::HomeDir                    any    1.006
#     Future                          0.46     0.50
#     Future::AsyncAwait              0.28     0.65
#     Log::Any                       1.050    1.714
#     MIME::Base64                     any     3.15
#     Path::Tiny                       any    0.122
#     Protocol::Database::PostgreSQL 2.000    2.000
#     Ryu                            3.004    3.004
#     Ryu::Async                     0.017    0.020
#     Syntax::Keyword::Try            0.25     0.28
#     Template                        2.28    3.101
#     URI::QueryParam                  any     5.10
#     URI::postgres                    any     0.20
#     Unicode::UTF8                    any     0.62
#     curry                          1.001 2.000001
#     indirect                         any     0.39
#     parent                           any    0.238
# 
t/00-report-prereqs.t .. ok
t/basic.t .............. skipped: set DATABASE_ASYNC_PG_TEST env var to test, but be prepared for it to *delete any and all data* in that database
t/connection.t ......... skipped: set DATABASE_ASYNC_PG_SERVICE env var to test, but be prepared for it to *delete any and all data* in that database
t/encoding.t ........... skipped: set DATABASE_ASYNC_PG_TEST env var to test
t/password.t ........... ok
t/service.t ............ ok
All tests successful.
Files=8, Tests=45,  8 wallclock secs ( 0.14 usr  0.03 sys +  6.06 cusr  1.24 csys =  7.47 CPU)
Result: PASS

------------------------------
PREREQUISITES
------------------------------

Prerequisite modules loaded:

requires:

    Module                         Need  Have    
    ------------------------------ ----- --------
    Bytes::Random::Secure          0     0.29    
    Config::Tiny                   0     2.28    
    CryptX                         0     0.077   
    curry                          1.001 2.000001
    Database::Async                0.016 0.018   
    Encode                         0     3.06    
    File::HomeDir                  0     1.006   
    Future                         0.46  0.50    
    Future::AsyncAwait             0.28  0.65    
    indirect                       0     0.39    
    Log::Any                       1.050 1.714   
    MIME::Base64                   0     3.15    
    parent                         0     0.238   
    Path::Tiny                     0     0.122   
    Protocol::Database::PostgreSQL 2.000 2.000   
    Ryu                            3.004 3.004   
    Ryu::Async                     0.017 0.020   
    Syntax::Keyword::Try           0.25  0.28    
    Template                       2.28  3.101   
    Unicode::UTF8                  0     0.62    
    URI::postgres                  0     0.20    
    URI::QueryParam                0     5.10    

build_requires:

    Module                         Need  Have    
    ------------------------------ ----- --------
    ExtUtils::MakeMaker            0     7.68    
    File::Spec                     0     3.78    
    File::Temp                     0     0.2309  
    IO::Handle                     0     1.42    
    IPC::Open3                     0     1.21    
    Log::Any::Adapter::TAP         0     0.003003
    Log::Any::Test                 1.710 1.714   
    Test::CheckDeps                0.010 0.010   
    Test::Fatal                    0.010 0.016   
    Test::MockModule               0.171 0.177.0 
    Test::More                     0.98  1.302194
    Test::Refcount                 0.07  0.10    

configure_requires:

    Module                         Need  Have    
    ------------------------------ ----- --------
    ExtUtils::MakeMaker            0     7.68    


------------------------------
ENVIRONMENT AND OTHER CONTEXT
------------------------------

Environment variables:

    AUTOMATED_TESTING = 1
    NONINTERACTIVE_TESTING = 1
    PATH = /home/david/perl5/perlbrew/bin:/home/david/perl5/perlbrew/perls/perl-5.32.0/bin:/home/david/bin:/bin:/sbin:/usr/bin:/usr/sbin:/usr/X11R6/bin:/usr/local/bin:/usr/local/sbin:/usr/games:/home/david/.fzf/bin
    PERL = 5.32.1
    PERL5LIB = 
    PERL5OPT = 
    PERL5_CPANPLUS_IS_RUNNING = 92223
    PERL5_CPAN_IS_RUNNING = 92223
    PERLBREW_HOME = /home/david/.perlbrew
    PERLBREW_MANPATH = /home/david/perl5/perlbrew/perls/perl-5.32.0/man
    PERLBREW_PATH = /home/david/perl5/perlbrew/bin:/home/david/perl5/perlbrew/perls/perl-5.32.0/bin
    PERLBREW_PERL = perl-5.32.0
    PERLBREW_ROOT = /home/david/perl5/perlbrew
    PERLBREW_SHELLRC_VERSION = 0.92
    PERLBREW_VERSION = 0.92
    PERLVER = 5.32.1
    PERL_INLINE_DIRECTORY = /home/david/.Inline-5.32.1
    PERL_MM_USE_DEFAULT = 1
    PERL_USE_UNSAFE_INC = 0
    SHELL = /usr/local/bin/bash
    TERM = screen

Perl special variables (and OS-specific diagnostics, for MSWin32):

    $^X = /home/david/cpantesting/perl-5.32.1/bin/perl
    $UID/$EUID = 1000 / 1000
    $GID = 1000 1000 0
    $EGID = 1000 1000 0

Perl module toolchain versions installed:

    Module              Have    
    ------------------- --------
    CPAN                2.27    
    CPAN::Meta          2.150010
    Cwd                 3.78    
    ExtUtils::CBuilder  0.280236
    ExtUtils::Command   7.68    
    ExtUtils::Install   2.14    
    ExtUtils::MakeMaker 7.68    
    ExtUtils::Manifest  1.72    
    ExtUtils::ParseXS   3.40    
    File::Spec          3.78    
    JSON                4.10    
    JSON::PP            4.04    
    Module::Build       0.4231  
    Module::Signature   n/a     
    Parse::CPAN::Meta   2.150010
    Test::Harness       3.42    
    Test::More          1.302194
    YAML                n/a     
    YAML::Syck          n/a     
    version             0.9924  


--

Summary of my perl5 (revision 5 version 32 subversion 1) configuration:
   
  Platform:
    osname=openbsd
    osvers=7.0
    archname=OpenBSD.amd64-openbsd-thread-multi
    uname='openbsd cpantesting-openbsd-utm.home 7.0 generic.mp#232 amd64 '
    config_args='-de -Dprefix=/home/david/cpantesting/perl-5.32.1 -Dusethreads'
    hint=recommended
    useposix=true
    d_sigaction=define
    useithreads=define
    usemultiplicity=define
    use64bitint=define
    use64bitall=define
    uselongdouble=undef
    usemymalloc=n
    default_inc_excludes_dot=define
    bincompat5005=undef
  Compiler:
    cc='cc'
    ccflags ='-pthread -fno-strict-aliasing -pipe -fstack-protector-strong -I/usr/local/include'
    optimize='-O2'
    cppflags='-pthread -fno-strict-aliasing -pipe -fstack-protector-strong -I/usr/local/include'
    ccversion=''
    gccversion='OpenBSD Clang 11.1.0'
    gccosandvers=''
    intsize=4
    longsize=8
    ptrsize=8
    doublesize=8
    byteorder=12345678
    doublekind=3
    d_longlong=define
    longlongsize=8
    d_longdbl=define
    longdblsize=16
    longdblkind=3
    ivtype='long'
    ivsize=8
    nvtype='double'
    nvsize=8
    Off_t='off_t'
    lseeksize=8
    alignbytes=8
    prototype=define
  Linker and Libraries:
    ld='cc'
    ldflags ='-pthread -Wl,-E  -fstack-protector-strong -L/usr/local/lib'
    libpth=/usr/lib /usr/local/lib
    libs=-lpthread -lm -lutil -lc
    perllibs=-lpthread -lm -lutil -lc
    libc=/usr/lib/libc.so.96.1
    so=so
    useshrplib=false
    libperl=libperl.a
    gnulibc_version=''
  Dynamic Linking:
    dlsrc=dl_dlopen.xs
    dlext=so
    d_dlsymun=undef
    ccdlflags=' '
    cccdlflags='-DPIC -fPIC '
    lddlflags='-shared -fPIC  -L/usr/local/lib -fstack-protector-strong'


Characteristics of this binary (from libperl): 
  Compile-time options:
    HAS_TIMES
    MULTIPLICITY
    PERLIO_LAYERS
    PERL_COPY_ON_WRITE
    PERL_DONT_CREATE_GVSV
    PERL_IMPLICIT_CONTEXT
    PERL_MALLOC_WRAP
    PERL_OP_PARENT
    PERL_PRESERVE_IVUV
    USE_64_BIT_ALL
    USE_64_BIT_INT
    USE_ITHREADS
    USE_LARGE_FILES
    USE_LOCALE
    USE_LOCALE_COLLATE
    USE_LOCALE_CTYPE
    USE_LOCALE_NUMERIC
    USE_LOCALE_TIME
    USE_PERLIO
    USE_PERL_ATOF
    USE_REENTRANT_API
  Built under openbsd
  Compiled at Feb 12 2022 00:11:28
  %ENV:
    PERL="5.32.1"
    PERL5LIB=""
    PERL5OPT=""
    PERL5_CPANPLUS_IS_RUNNING="92223"
    PERL5_CPAN_IS_RUNNING="92223"
    PERLBREW_HOME="/home/david/.perlbrew"
    PERLBREW_MANPATH="/home/david/perl5/perlbrew/perls/perl-5.32.0/man"
    PERLBREW_PATH="/home/david/perl5/perlbrew/bin:/home/david/perl5/perlbrew/perls/perl-5.32.0/bin"
    PERLBREW_PERL="perl-5.32.0"
    PERLBREW_ROOT="/home/david/perl5/perlbrew"
    PERLBREW_SHELLRC_VERSION="0.92"
    PERLBREW_VERSION="0.92"
    PERLVER="5.32.1"
    PERL_INLINE_DIRECTORY="/home/david/.Inline-5.32.1"
    PERL_MM_USE_DEFAULT="1"
    PERL_USE_UNSAFE_INC="0"
  @INC:
    /home/david/cpantesting/perl-5.32.1/lib/site_perl/5.32.1/OpenBSD.amd64-openbsd-thread-multi
    /home/david/cpantesting/perl-5.32.1/lib/site_perl/5.32.1
    /home/david/cpantesting/perl-5.32.1/lib/5.32.1/OpenBSD.amd64-openbsd-thread-multi
    /home/david/cpantesting/perl-5.32.1/lib/5.32.1