Graphics-Grid v0.001 Perl 5 v5.39.2 x86_64-linux-ld

Status
Pass
From
Andreas J. König (ANDK)
Dist
Graphics-Grid v0.001
Platform
Perl 5 v5.39.2 x86_64-linux-ld
Date
2023-08-26 14:39:24
ID
59cc9a9c-441e-11ee-b88c-65c1b4a1cd38
This distribution has been tested as part of the CPAN Testers
project, supporting the Perl programming language.  See
http://wiki.cpantesters.org/ for more information or email
questions to cpan-testers-discuss@perl.org


--
Dear Stephan Loyd,

This is a computer-generated report for Graphics-Grid-0.001
on perl 5.39.2, created by CPAN-Reporter-1.2019.

Thank you for uploading your work to CPAN.  Congratulations!
All tests were successful.

Sections of this report:

    * Tester comments
    * Program output
    * Prerequisites
    * Environment and other context

------------------------------
TESTER COMMENTS
------------------------------

Additional comments from tester:

this report is from an automated smoke testing program
and was not reviewed by a human for accuracy

------------------------------
PROGRAM OUTPUT
------------------------------

Output from '/usr/bin/make test':

PERL_DL_NONLAZY=1 "/tmp/basesmoker-reloperl-x6Zc/bin/perl" "-MExtUtils::Command::MM" "-MTest::Harness" "-e" "undef *Test::Harness::Switches; test_harness(0, 'blib/lib', 'blib/arch')" t/*.t
t/01-unit.t ............. ok
t/02-unit_arithmetic.t .. ok
t/05-gpar.t ............. ok
t/09-util.t ............. ok
t/10-layout.t ........... ok
t/11-viewport.t ......... ok
t/21-circle_grob.t ...... ok
t/22-points_grob.t ...... ok
t/23-polyline_grob.t .... ok
t/24-rect_grob.t ........ ok
t/25-text_grob.t ........ ok
t/26-null_grob.t ........ ok
t/27-zero_grob.t ........ ok
t/30-grill.t ............ ok
t/40-gtree.t ............ ok
t/45-driver.t ........... ok
t/50-grid-vptree.t ...... ok
# $VAR1 = bless( {
#                  'y' => bless( {
#                                  'unit' => [
#                                              'cm'
#                                            ],
#                                  'value' => [
#                                               '13.004270833333333'
#                                             ],
#                                  'elems' => 1
#                                }, 'Graphics::Grid::Unit' ),
#                  'height' => bless( {
#                                       'elems' => 1,
#                                       'unit' => [
#                                                   'cm'
#                                                 ],
#                                       'value' => [
#                                                    '0.343958333333333144'
#                                                  ]
#                                     }, 'Graphics::Grid::Unit' ),
#                  'x' => bless( {
#                                  'elems' => 1,
#                                  'value' => [
#                                               '12.0649999999999995'
#                                             ],
#                                  'unit' => [
#                                              'cm'
#                                            ]
#                                }, 'Graphics::Grid::Unit' ),
#                  'width' => bless( {
#                                      'elems' => 1,
#                                      'value' => [
#                                                   '2.38125000000000142'
#                                                 ],
#                                      'unit' => [
#                                                  'cm'
#                                                ]
#                                    }, 'Graphics::Grid::Unit' )
#                }, 'Graphics::Grid::Extents' );
t/51-extents.t .......... ok
t/90-functions.t ........ ok
t/91-examples.t ......... ok
t/author-critic.t ....... skipped: these tests are for testing by the author
t/author-pod-syntax.t ... skipped: these tests are for testing by the author
All tests successful.
Files=22, Tests=196, 29 wallclock secs ( 0.08 usr  0.03 sys + 27.14 cusr  2.25 csys = 29.50 CPU)
Result: PASS

------------------------------
PREREQUISITES
------------------------------

Prerequisite modules loaded:

requires:

    Module                    Need   Have    
    ------------------------- ------ --------
    boolean                   0      0.46    
    Cairo                     0      1.109   
    Carp                      0      1.54    
    Data::Dumper              0      2.188   
    Eval::Closure             0      0.14    
    Exporter::Tiny            0      1.006002
    feature                   0      1.84    
    Forest::Tree              0      0.10    
    Function::Parameters      2.0    2.002004
    Graphics::Color::RGB      0      0.31    
    Import::Into              0      1.002005
    List::AllUtils            0      0.19    
    Math::Trig                0      1.62    
    Module::Load              0      0.36    
    Moose                     2.1400 2.2206  
    Moose::Role               0      2.2206  
    MooseX::Aliases           0      0.11    
    MooseX::Clone             0      0.06    
    MooseX::LazyRequire       0      0.11    
    MooseX::StrictConstructor 0      0.21    
    namespace::autoclean      0.20   0.29    
    overload                  0      1.37    
    parent                    0      0.241   
    Path::Tiny                0      0.144   
    perl                      5.014  5.039002
    PerlX::Maybe              0      1.202   
    Ref::Util                 0      0.204   
    Safe::Isa                 0      1.000010
    Scalar::Util              0      1.63    
    strict                    0      1.13    
    Type::Library             0      2.004000
    Type::Params              0      2.004000
    Type::Utils               0      2.004000
    Types::Standard           0      2.004000
    utf8                      0      1.25    
    warnings                  0      1.67    

build_requires:

    Module                    Need   Have    
    ------------------------- ------ --------
    Capture::Tiny             0      0.48    
    ExtUtils::MakeMaker       0      7.70    
    File::Temp                0      0.2311  
    Test2::V0                 0      0.000155

configure_requires:

    Module                    Need   Have    
    ------------------------- ------ --------
    ExtUtils::MakeMaker       0      7.70    


------------------------------
ENVIRONMENT AND OTHER CONTEXT
------------------------------

Environment variables:

    AUTOMATED_TESTING = 1
    LANG = en_US.UTF-8
    PATH = /home/sand/bin:/usr/local/bin:/usr/local/sbin:/usr/sbin:/usr/bin:/sbin:/bin:/usr/games:/usr/local/games:/snap/bin:/usr/local/perl/bin:/usr/X11/bin
    PERL5LIB = /tmp/loop_over_bdir-3499167-qkfa4x/Business-Shipping-DataFiles-1.02-0/blib/arch:/tmp/loop_over_bdir-3499167-qkfa4x/Business-Shipping-DataFiles-1.02-0/blib/lib:/tmp/loop_over_bdir-3499167-qkfa4x/Lemonldap-NG-Cli-0.2-0/blib/arch:/tmp/loop_over_bdir-3499167-qkfa4x/Lemonldap-NG-Cli-0.2-0/blib/lib:/tmp/loop_over_bdir-3499167-qkfa4x/dta-tokwrap-0.98-0/blib/arch:/tmp/loop_over_bdir-3499167-qkfa4x/dta-tokwrap-0.98-0/blib/lib:/tmp/loop_over_bdir-3499167-qkfa4x/CORBA-Python-2.66-0/blib/arch:/tmp/loop_over_bdir-3499167-qkfa4x/CORBA-Python-2.66-0/blib/lib:/tmp/loop_over_bdir-3499167-qkfa4x/Captive-Portal-4.10-0/blib/arch:/tmp/loop_over_bdir-3499167-qkfa4x/Captive-Portal-4.10-0/blib/lib
    PERL5OPT = 
    PERL5_CPANPLUS_IS_RUNNING = 3499175
    PERL5_CPAN_IS_RUNNING = 3499175
    PERL_CANARY_STABILITY_NOPROMPT = 1
    PERL_MM_USE_DEFAULT = 1
    PERL_USE_UNSAFE_INC = 1
    SHELL = /usr/bin/zsh
    TERM = screen

Perl special variables (and OS-specific diagnostics, for MSWin32):

    $^X = /tmp/basesmoker-reloperl-x6Zc/bin/perl
    $UID/$EUID = 1005 / 1005
    $GID = 1005 1005
    $EGID = 1005 1005

Perl module toolchain versions installed:

    Module              Have    
    ------------------- --------
    CPAN                2.36    
    CPAN::Meta          2.150010
    Cwd                 3.90    
    ExtUtils::CBuilder  0.280239
    ExtUtils::Command   7.70    
    ExtUtils::Install   2.22    
    ExtUtils::MakeMaker 7.70    
    ExtUtils::Manifest  1.75    
    ExtUtils::ParseXS   3.51    
    File::Spec          3.90    
    JSON                4.10    
    JSON::PP            4.16    
    Module::Build       0.4234  
    Module::Signature   0.88    
    Parse::CPAN::Meta   2.150010
    Test2               1.302195
    Test::Harness       3.47    
    Test::More          1.302195
    YAML                1.30    
    YAML::Syck          1.34    
    version             0.9929  


--

Summary of my perl5 (revision 5 version 39 subversion 2) configuration:
  Commit id: e246fd63c3ad4034efc21113d44231047f6b2909
  Platform:
    osname=linux
    osvers=5.4.0-155-generic
    archname=x86_64-linux-ld
    uname='linux k93focal 5.4.0-155-generic #172-ubuntu smp fri jul 7 16:10:02 utc 2023 x86_64 x86_64 x86_64 gnulinux '
    config_args='-Dprefix=/home/sand/src/perl/repoperls/installed-perls/host/k93focal/v5.39.2/d3e4 -Dmyhostname=k93focal -Dinstallusrbinperl=n -Uversiononly -Dusedevel -des -Ui_db -Dlibswanted=cl pthread socket inet nsl gdbm dbm malloc dl ld sun m crypt sec util c cposix posix ucb BSD gdbm_compat -Uuseithreads -Duselongdouble -DEBUGGING=both'
    hint=recommended
    useposix=true
    d_sigaction=define
    useithreads=undef
    usemultiplicity=undef
    use64bitint=define
    use64bitall=define
    uselongdouble=define
    usemymalloc=n
    default_inc_excludes_dot=define
  Compiler:
    cc='cc'
    ccflags ='-fwrapv -DDEBUGGING -fno-strict-aliasing -pipe -fstack-protector-strong -I/usr/local/include -D_LARGEFILE_SOURCE -D_FILE_OFFSET_BITS=64'
    optimize='-O2 -g'
    cppflags='-fwrapv -DDEBUGGING -fno-strict-aliasing -pipe -fstack-protector-strong -I/usr/local/include'
    ccversion=''
    gccversion='9.4.0'
    gccosandvers=''
    intsize=4
    longsize=8
    ptrsize=8
    doublesize=8
    byteorder=12345678
    doublekind=3
    d_longlong=define
    longlongsize=8
    d_longdbl=define
    longdblsize=16
    longdblkind=3
    ivtype='long'
    ivsize=8
    nvtype='long double'
    nvsize=16
    Off_t='off_t'
    lseeksize=8
    alignbytes=16
    prototype=define
  Linker and Libraries:
    ld='cc'
    ldflags =' -fstack-protector-strong -L/usr/local/lib'
    libpth=/usr/local/lib /usr/lib/x86_64-linux-gnu /usr/lib /usr/lib64
    libs=-lpthread -lnsl -ldl -lm -lcrypt -lutil -lc
    perllibs=-lpthread -lnsl -ldl -lm -lcrypt -lutil -lc
    libc=libc-2.31.so
    so=so
    useshrplib=false
    libperl=libperl.a
    gnulibc_version='2.31'
  Dynamic Linking:
    dlsrc=dl_dlopen.xs
    dlext=so
    d_dlsymun=undef
    ccdlflags='-Wl,-E'
    cccdlflags='-fPIC'
    lddlflags='-shared -O2 -g -L/usr/local/lib -fstack-protector-strong'


Characteristics of this binary (from libperl): 
  Compile-time options:
    DEBUGGING
    HAS_LONG_DOUBLE
    HAS_STRTOLD
    HAS_TIMES
    PERLIO_LAYERS
    PERL_COPY_ON_WRITE
    PERL_DONT_CREATE_GVSV
    PERL_HASH_FUNC_SIPHASH13
    PERL_HASH_USE_SBOX32
    PERL_MALLOC_WRAP
    PERL_OP_PARENT
    PERL_PRESERVE_IVUV
    PERL_USE_DEVEL
    PERL_USE_SAFE_PUTENV
    USE_64_BIT_ALL
    USE_64_BIT_INT
    USE_LARGE_FILES
    USE_LOCALE
    USE_LOCALE_COLLATE
    USE_LOCALE_CTYPE
    USE_LOCALE_NUMERIC
    USE_LOCALE_TIME
    USE_LONG_DOUBLE
    USE_PERLIO
    USE_PERL_ATOF
  Built under linux
  Compiled at Aug 21 2023 03:23:06
  %ENV:
    PERL5LIB="/tmp/loop_over_bdir-3499167-qkfa4x/Business-Shipping-DataFiles-1.02-0/blib/arch:/tmp/loop_over_bdir-3499167-qkfa4x/Business-Shipping-DataFiles-1.02-0/blib/lib:/tmp/loop_over_bdir-3499167-qkfa4x/Lemonldap-NG-Cli-0.2-0/blib/arch:/tmp/loop_over_bdir-3499167-qkfa4x/Lemonldap-NG-Cli-0.2-0/blib/lib:/tmp/loop_over_bdir-3499167-qkfa4x/dta-tokwrap-0.98-0/blib/arch:/tmp/loop_over_bdir-3499167-qkfa4x/dta-tokwrap-0.98-0/blib/lib:/tmp/loop_over_bdir-3499167-qkfa4x/CORBA-Python-2.66-0/blib/arch:/tmp/loop_over_bdir-3499167-qkfa4x/CORBA-Python-2.66-0/blib/lib:/tmp/loop_over_bdir-3499167-qkfa4x/Captive-Portal-4.10-0/blib/arch:/tmp/loop_over_bdir-3499167-qkfa4x/Captive-Portal-4.10-0/blib/lib"
    PERL5OPT=""
    PERL5_CPANPLUS_IS_RUNNING="3499175"
    PERL5_CPAN_IS_RUNNING="3499175"
    PERL_CANARY_STABILITY_NOPROMPT="1"
    PERL_MM_USE_DEFAULT="1"
    PERL_USE_UNSAFE_INC="1"
  @INC:
    /tmp/loop_over_bdir-3499167-qkfa4x/Business-Shipping-DataFiles-1.02-0/blib/arch
    /tmp/loop_over_bdir-3499167-qkfa4x/Business-Shipping-DataFiles-1.02-0/blib/lib
    /tmp/loop_over_bdir-3499167-qkfa4x/Lemonldap-NG-Cli-0.2-0/blib/arch
    /tmp/loop_over_bdir-3499167-qkfa4x/Lemonldap-NG-Cli-0.2-0/blib/lib
    /tmp/loop_over_bdir-3499167-qkfa4x/dta-tokwrap-0.98-0/blib/arch
    /tmp/loop_over_bdir-3499167-qkfa4x/dta-tokwrap-0.98-0/blib/lib
    /tmp/loop_over_bdir-3499167-qkfa4x/CORBA-Python-2.66-0/blib/arch
    /tmp/loop_over_bdir-3499167-qkfa4x/CORBA-Python-2.66-0/blib/lib
    /tmp/loop_over_bdir-3499167-qkfa4x/Captive-Portal-4.10-0/blib/arch
    /tmp/loop_over_bdir-3499167-qkfa4x/Captive-Portal-4.10-0/blib/lib
    /home/sand/src/perl/repoperls/installed-perls/host/k93focal/v5.39.2/d3e4/lib/site_perl/5.39.2/x86_64-linux-ld
    /home/sand/src/perl/repoperls/installed-perls/host/k93focal/v5.39.2/d3e4/lib/site_perl/5.39.2
    /home/sand/src/perl/repoperls/installed-perls/host/k93focal/v5.39.2/d3e4/lib/5.39.2/x86_64-linux-ld
    /home/sand/src/perl/repoperls/installed-perls/host/k93focal/v5.39.2/d3e4/lib/5.39.2
    .