Mail-Mbox-MessageParser v1.5111 Perl 5 v5.34.0 RC2 x86_64-linux

Status
Pass
From
Andreas J. König (ANDK)
Dist
Mail-Mbox-MessageParser v1.5111
Platform
Perl 5 v5.34.0 RC2 x86_64-linux
Date
2021-05-20 06:33:55
ID
59c0299a-b935-11eb-b53e-ee4f941d8a4a
This distribution has been tested as part of the CPAN Testers
project, supporting the Perl programming language.  See
http://wiki.cpantesters.org/ for more information or email
questions to cpan-testers-discuss@perl.org


--
Dear David Coppit,

This is a computer-generated report for Mail-Mbox-MessageParser-1.5111
on perl 5.34.0, created by CPAN-Reporter-1.2018.

Thank you for uploading your work to CPAN.  Congratulations!
All tests were successful.

Sections of this report:

    * Tester comments
    * Program output
    * Prerequisites
    * Environment and other context

------------------------------
TESTER COMMENTS
------------------------------

Additional comments from tester:

this report is from an automated smoke testing program
and was not reviewed by a human for accuracy

------------------------------
PROGRAM OUTPUT
------------------------------

Output from '/usr/bin/make test':

PERL_DL_NONLAZY=1 "/tmp/basesmoker-reloperl-avCD/bin/perl" "-MExtUtils::Command::MM" "-MTest::Harness" "-e" "undef *Test::Harness::Switches; test_harness(1, 'blib/lib', 'blib/arch')" t/*.t
t/000_standard__compile.t ....... 
1..6
ok 1 - blib/lib/Mail/Mbox/MessageParser.pm compiles
ok 2 - blib/lib/Mail/Mbox/MessageParser/Config.pm compiles
ok 3 - blib/lib/Mail/Mbox/MessageParser/Grep.pm compiles
ok 4 - blib/lib/Mail/Mbox/MessageParser/Perl.pm compiles
ok 5 - blib/lib/Mail/Mbox/MessageParser/Cache.pm compiles
ok 6 - blib/lib/Mail/Mbox/MessageParser/MetaInfo.pm compiles
ok
t/000_standard__perl_critic.t ... skipped: Author test. Set $ENV{TEST_AUTHOR} to a true value to run.
t/000_standard__pod.t ........... 
1..6
ok 1 - POD test for blib/lib/Mail/Mbox/MessageParser.pm
ok 2 - POD test for blib/lib/Mail/Mbox/MessageParser/Config.pm
ok 3 - POD test for blib/lib/Mail/Mbox/MessageParser/Grep.pm
ok 4 - POD test for blib/lib/Mail/Mbox/MessageParser/Perl.pm
ok 5 - POD test for blib/lib/Mail/Mbox/MessageParser/Cache.pm
ok 6 - POD test for blib/lib/Mail/Mbox/MessageParser/MetaInfo.pm
ok
t/000_standard__pod_coverage.t .. 
1..6
ok 1 - Pod coverage on Mail::Mbox::MessageParser
ok 2 - Pod coverage on Mail::Mbox::MessageParser::Config
ok 3 - Pod coverage on Mail::Mbox::MessageParser::Grep
ok 4 - Pod coverage on Mail::Mbox::MessageParser::Perl
ok 5 - Pod coverage on Mail::Mbox::MessageParser::Cache
ok 6 - Pod coverage on Mail::Mbox::MessageParser::MetaInfo
ok
t/appended_mailbox.t ............ 
1..6
Testing modified mailbox with Perl implementation
Comparing /tmp/_w0rYWH8Ph to t/mailboxes/mailarc-1.txt
Output /tmp/_w0rYWH8Ph looks good.
ok 1 - Computing differences
Testing modified mailbox with Cache implementation
Comparing /tmp/wPEoHe7_1F to t/mailboxes/mailarc-1.txt
Output /tmp/wPEoHe7_1F looks good.
ok 2 - Computing differences
Testing modified mailbox with Grep implementation
ok 3 # skip GNU grep not available
Testing modified mailbox with Perl implementation
Comparing /tmp/HQAJkT61xZ to t/mailboxes/mailarc-1.txt
Output /tmp/HQAJkT61xZ looks good.
ok 4 - Computing differences
Testing modified mailbox with Cache implementation
Comparing /tmp/eok1tnXPIC to t/mailboxes/mailarc-1.txt
Output /tmp/eok1tnXPIC looks good.
ok 5 - Computing differences
Testing modified mailbox with Grep implementation
ok 6 # skip GNU grep not available
ok
t/bzip2.t ....................... 
1..1
Running test:
  "/bin/cat" "t/mailboxes/mailarc-2.txt.bz2" | "/bin/bzip2" -cd
Comparing /tmp/ppd0YhmYlu to t/results/mailarc-2.txt
Output /tmp/ppd0YhmYlu looks good.
Comparing /tmp/lHPPLqVXa8 to t/results/none
Output /tmp/lHPPLqVXa8 looks good.
ok 1 - Computing differences
ok
t/endline.t ..................... 
1..8
Testing filename: t/mailboxes/mailarc-1-dos.txt
ok 1 - Dos endline expected
ok 2 - Dos endline expected
ok 3 - Dos endline expected
ok 4 # skip GNU grep not available
Testing filename: t/mailboxes/mailarc-1.txt
ok 5 - Unix endline expected
ok 6 - Unix endline expected
ok 7 - Unix endline expected
ok 8 # skip GNU grep not available
ok
t/filehandle_compressed.t ....... 
1..16
Testing filename: t/mailboxes/mailarc-2.txt.bz2
Comparing /tmp/GEPuxENHzT to t/mailboxes/mailarc-2.txt
Output /tmp/GEPuxENHzT looks good.
ok 1 - Computing differences
Comparing /tmp/3rfl6TEc64 to t/mailboxes/mailarc-2.txt
Output /tmp/3rfl6TEc64 looks good.
ok 2 - Computing differences
Comparing /tmp/n02939TdlV to t/mailboxes/mailarc-2.txt
Output /tmp/n02939TdlV looks good.
ok 3 - Computing differences
ok 4 # skip GNU grep not available
Testing filename: t/mailboxes/mailarc-2.txt.gz
Comparing /tmp/6b7oCgxHh8 to t/mailboxes/mailarc-2.txt
Output /tmp/6b7oCgxHh8 looks good.
ok 5 - Computing differences
Comparing /tmp/khlj62I6En to t/mailboxes/mailarc-2.txt
Output /tmp/khlj62I6En looks good.
ok 6 - Computing differences
Comparing /tmp/eLshAwlqdK to t/mailboxes/mailarc-2.txt
Output /tmp/eLshAwlqdK looks good.
ok 7 - Computing differences
ok 8 # skip GNU grep not available
Testing filename: t/mailboxes/mailarc-2.txt.lz
ok 9 # skip lzip not available
ok 10 # skip lzip not available
ok 11 # skip lzip not available
ok 12 # skip lzip not available
Testing filename: t/mailboxes/mailarc-2.txt.xz
Comparing /tmp/aL94BzLb15 to t/mailboxes/mailarc-2.txt
Output /tmp/aL94BzLb15 looks good.
ok 13 - Computing differences
Comparing /tmp/26s9hF3CND to t/mailboxes/mailarc-2.txt
Output /tmp/26s9hF3CND looks good.
ok 14 - Computing differences
Comparing /tmp/W6wWrKwq8U to t/mailboxes/mailarc-2.txt
Output /tmp/W6wWrKwq8U looks good.
ok 15 - Computing differences
ok 16 # skip GNU grep not available
ok
t/filehandle_noncompressed.t .... 
1..44
Testing filename: t/mailboxes/binary_body.txt
Comparing /tmp/3agBoIbvaj to t/mailboxes/binary_body.txt
Output /tmp/3agBoIbvaj looks good.
ok 1 - Computing differences
Comparing /tmp/4mwNNhMCLJ to t/mailboxes/binary_body.txt
Output /tmp/4mwNNhMCLJ looks good.
ok 2 - Computing differences
Comparing /tmp/0MTBx8vOjm to t/mailboxes/binary_body.txt
Output /tmp/0MTBx8vOjm looks good.
ok 3 - Computing differences
ok 4 # skip GNU grep not available
Testing filename: t/mailboxes/hessbug.txt
Comparing /tmp/hZ1ocCqv6k to t/mailboxes/hessbug.txt
Output /tmp/hZ1ocCqv6k looks good.
ok 5 - Computing differences
Comparing /tmp/FICbirCksf to t/mailboxes/hessbug.txt
Output /tmp/FICbirCksf looks good.
ok 6 - Computing differences
Comparing /tmp/U6KJV8cXE2 to t/mailboxes/hessbug.txt
Output /tmp/U6KJV8cXE2 looks good.
ok 7 - Computing differences
ok 8 # skip GNU grep not available
Testing filename: t/mailboxes/invalid-boundaries.txt
Comparing /tmp/kao5VdLT86 to t/mailboxes/invalid-boundaries.txt
Output /tmp/kao5VdLT86 looks good.
ok 9 - Computing differences
Comparing /tmp/44UYdyhvj5 to t/mailboxes/invalid-boundaries.txt
Output /tmp/44UYdyhvj5 looks good.
ok 10 - Computing differences
Comparing /tmp/5QVlWLIjfq to t/mailboxes/invalid-boundaries.txt
Output /tmp/5QVlWLIjfq looks good.
ok 11 - Computing differences
ok 12 # skip GNU grep not available
Testing filename: t/mailboxes/mailarc-1-dos.txt
Comparing /tmp/gXQmQT6GnK to t/mailboxes/mailarc-1-dos.txt
Output /tmp/gXQmQT6GnK looks good.
ok 13 - Computing differences
Comparing /tmp/3uR9myBRLj to t/mailboxes/mailarc-1-dos.txt
Output /tmp/3uR9myBRLj looks good.
ok 14 - Computing differences
Comparing /tmp/teg2huWsqd to t/mailboxes/mailarc-1-dos.txt
Output /tmp/teg2huWsqd looks good.
ok 15 - Computing differences
ok 16 # skip GNU grep not available
Testing filename: t/mailboxes/mailarc-1.txt
Comparing /tmp/5AV06Ef0wj to t/mailboxes/mailarc-1.txt
Output /tmp/5AV06Ef0wj looks good.
ok 17 - Computing differences
Comparing /tmp/qcRE9NEWXo to t/mailboxes/mailarc-1.txt
Output /tmp/qcRE9NEWXo looks good.
ok 18 - Computing differences
Comparing /tmp/XF943VWVeW to t/mailboxes/mailarc-1.txt
Output /tmp/XF943VWVeW looks good.
ok 19 - Computing differences
ok 20 # skip GNU grep not available
Testing filename: t/mailboxes/mailarc-2.txt
Comparing /tmp/nSXTnDCk_d to t/mailboxes/mailarc-2.txt
Output /tmp/nSXTnDCk_d looks good.
ok 21 - Computing differences
Comparing /tmp/xOsIjV6Q5n to t/mailboxes/mailarc-2.txt
Output /tmp/xOsIjV6Q5n looks good.
ok 22 - Computing differences
Comparing /tmp/ePxN44LiL9 to t/mailboxes/mailarc-2.txt
Output /tmp/ePxN44LiL9 looks good.
ok 23 - Computing differences
ok 24 # skip GNU grep not available
Testing filename: t/mailboxes/mailarc-3.txt
Comparing /tmp/25HFbS2gYE to t/mailboxes/mailarc-3.txt
Output /tmp/25HFbS2gYE looks good.
ok 25 - Computing differences
Comparing /tmp/mwpFcJMg5F to t/mailboxes/mailarc-3.txt
Output /tmp/mwpFcJMg5F looks good.
ok 26 - Computing differences
Comparing /tmp/DHn6KnB14V to t/mailboxes/mailarc-3.txt
Output /tmp/DHn6KnB14V looks good.
ok 27 - Computing differences
ok 28 # skip GNU grep not available
Testing filename: t/mailboxes/mailseparators.txt
Comparing /tmp/iBiEAmAHdg to t/mailboxes/mailseparators.txt
Output /tmp/iBiEAmAHdg looks good.
ok 29 - Computing differences
Comparing /tmp/tJ_YUunxCF to t/mailboxes/mailseparators.txt
Output /tmp/tJ_YUunxCF looks good.
ok 30 - Computing differences
Comparing /tmp/FoI2TbHgWI to t/mailboxes/mailseparators.txt
Output /tmp/FoI2TbHgWI looks good.
ok 31 - Computing differences
ok 32 # skip GNU grep not available
Testing filename: t/mailboxes/malformed.txt
Comparing /tmp/SUIScoDXSI to t/mailboxes/malformed.txt
Output /tmp/SUIScoDXSI looks good.
ok 33 - Computing differences
Comparing /tmp/daFLbrEsOG to t/mailboxes/malformed.txt
Output /tmp/daFLbrEsOG looks good.
ok 34 - Computing differences
Comparing /tmp/KkGKRGEltl to t/mailboxes/malformed.txt
Output /tmp/KkGKRGEltl looks good.
ok 35 - Computing differences
ok 36 # skip GNU grep not available
Testing filename: t/mailboxes/newlines_at_beginning.txt
Comparing /tmp/yGyEo405a6 to t/mailboxes/newlines_at_beginning.txt
Output /tmp/yGyEo405a6 looks good.
ok 37 - Computing differences
Comparing /tmp/XQ4ntJXHfF to t/mailboxes/newlines_at_beginning.txt
Output /tmp/XQ4ntJXHfF looks good.
ok 38 - Computing differences
Comparing /tmp/PN67zFqIhp to t/mailboxes/newlines_at_beginning.txt
Output /tmp/PN67zFqIhp looks good.
ok 39 - Computing differences
ok 40 # skip GNU grep not available
Testing filename: t/mailboxes/vm-emacs.txt
Comparing /tmp/I12r2OSfZ7 to t/mailboxes/vm-emacs.txt
Output /tmp/I12r2OSfZ7 looks good.
ok 41 - Computing differences
Comparing /tmp/4WtSWRJ9F_ to t/mailboxes/vm-emacs.txt
Output /tmp/4WtSWRJ9F_ looks good.
ok 42 - Computing differences
Comparing /tmp/tp7cPyNAuo to t/mailboxes/vm-emacs.txt
Output /tmp/tp7cPyNAuo looks good.
ok 43 - Computing differences
ok 44 # skip GNU grep not available
ok
t/filename_compressed.t ......... 
1..4
Testing filename: t/mailboxes/mailarc-2.txt.bz2
Comparing /tmp/FIYWOvi23F to t/mailboxes/mailarc-2.txt
Output /tmp/FIYWOvi23F looks good.
ok 1 - Computing differences
Testing filename: t/mailboxes/mailarc-2.txt.gz
Comparing /tmp/Gyq5Uhsa82 to t/mailboxes/mailarc-2.txt
Output /tmp/Gyq5Uhsa82 looks good.
ok 2 - Computing differences
Testing filename: t/mailboxes/mailarc-2.txt.lz
ok 3 # skip lzip not available
Testing filename: t/mailboxes/mailarc-2.txt.xz
Comparing /tmp/BBT1TJQoAT to t/mailboxes/mailarc-2.txt
Output /tmp/BBT1TJQoAT looks good.
ok 4 - Computing differences
ok
t/filename_noncompressed.t ...... 
1..11
Testing filename: t/mailboxes/binary_body.txt
Comparing /tmp/iC2_C1wmiZ to t/mailboxes/binary_body.txt
Output /tmp/iC2_C1wmiZ looks good.
ok 1 - Computing differences
Testing filename: t/mailboxes/hessbug.txt
Comparing /tmp/rewLcajmTg to t/mailboxes/hessbug.txt
Output /tmp/rewLcajmTg looks good.
ok 2 - Computing differences
Testing filename: t/mailboxes/invalid-boundaries.txt
Comparing /tmp/36g4t9yEAm to t/mailboxes/invalid-boundaries.txt
Output /tmp/36g4t9yEAm looks good.
ok 3 - Computing differences
Testing filename: t/mailboxes/mailarc-1-dos.txt
Comparing /tmp/4ti3JIG3Ub to t/mailboxes/mailarc-1-dos.txt
Output /tmp/4ti3JIG3Ub looks good.
ok 4 - Computing differences
Testing filename: t/mailboxes/mailarc-1.txt
Comparing /tmp/0mClFtQYm3 to t/mailboxes/mailarc-1.txt
Output /tmp/0mClFtQYm3 looks good.
ok 5 - Computing differences
Testing filename: t/mailboxes/mailarc-2.txt
Comparing /tmp/CkFC0qGSkd to t/mailboxes/mailarc-2.txt
Output /tmp/CkFC0qGSkd looks good.
ok 6 - Computing differences
Testing filename: t/mailboxes/mailarc-3.txt
Comparing /tmp/l6ImWOsORe to t/mailboxes/mailarc-3.txt
Output /tmp/l6ImWOsORe looks good.
ok 7 - Computing differences
Testing filename: t/mailboxes/mailseparators.txt
Comparing /tmp/UXJS7kZOLG to t/mailboxes/mailseparators.txt
Output /tmp/UXJS7kZOLG looks good.
ok 8 - Computing differences
Testing filename: t/mailboxes/malformed.txt
Comparing /tmp/i9MbcKkUW4 to t/mailboxes/malformed.txt
Output /tmp/i9MbcKkUW4 looks good.
ok 9 - Computing differences
Testing filename: t/mailboxes/newlines_at_beginning.txt
Comparing /tmp/Nl0zvxCJio to t/mailboxes/newlines_at_beginning.txt
Output /tmp/Nl0zvxCJio looks good.
ok 10 - Computing differences
Testing filename: t/mailboxes/vm-emacs.txt
Comparing /tmp/3z2F4ex1Vr to t/mailboxes/vm-emacs.txt
Output /tmp/3z2F4ex1Vr looks good.
ok 11 - Computing differences
ok
t/grep.t ........................ 
1..4
Running test:
  unset LC_ALL LC_COLLATE LANG LC_CTYPE LC_MESSAGES; grep --extended-regexp --line-number --byte-offset --binary-files=text "^From [^:]+(:[0-9][0-9]){1,2}(  *([A-Z]{2,6}|[+-]?[0-9]{4})){1,3}( remote from .*)?
?$" t/mailboxes/mailarc-1.txt
ok 1 # skip 1
Running test:
  unset LC_ALL LC_COLLATE LANG LC_CTYPE LC_MESSAGES; grep --extended-regexp --line-number --byte-offset --binary-files=text "^From [^:]+(:[0-9][0-9]){1,2}(  *([A-Z]{2,6}|[+-]?[0-9]{4})){1,3}( remote from .*)?
?$" t/mailboxes/mailarc-2.txt
ok 2 # skip 1
Running test:
  unset LC_ALL LC_COLLATE LANG LC_CTYPE LC_MESSAGES; grep --extended-regexp --line-number --byte-offset --binary-files=text "^From [^:]+(:[0-9][0-9]){1,2}(  *([A-Z]{2,6}|[+-]?[0-9]{4})){1,3}( remote from .*)?
?$" t/mailboxes/mailarc-3.txt
ok 3 # skip 1
Running test:
  unset LC_ALL LC_COLLATE LANG LC_CTYPE LC_MESSAGES; grep --extended-regexp --line-number --byte-offset --binary-files=text "^From [^:]+(:[0-9][0-9]){1,2}(  *([A-Z]{2,6}|[+-]?[0-9]{4})){1,3}( remote from .*)?
?$" t/mailboxes/mailseparators.txt
ok 4 # skip 1
ok
t/gzip.t ........................ 
1..1
Running test:
  "/bin/cat" "t/mailboxes/mailarc-2.txt.gz" | "/bin/gzip" -cd
Comparing /tmp/6ZN7rzk1TX to t/results/mailarc-2.txt
Output /tmp/6ZN7rzk1TX looks good.
Comparing /tmp/X8pCkWhrHl to t/results/none
Output /tmp/X8pCkWhrHl looks good.
ok 1 - Computing differences
ok
t/length.t ...................... 
1..30
Testing filename: t/mailboxes/binary_body.txt
Comparing /tmp/FV3zkB_2Lv to t/results/length_binary_body.stdout
Output /tmp/FV3zkB_2Lv looks good.
ok 1 - Computing differences
Comparing /tmp/bVbcklpkhF to t/results/length_binary_body.stdout
Output /tmp/bVbcklpkhF looks good.
ok 2 - Computing differences
ok 3 # skip GNU grep not available
Testing filename: t/mailboxes/hessbug.txt
Comparing /tmp/v5ckwFvcYG to t/results/length_hessbug.stdout
Output /tmp/v5ckwFvcYG looks good.
ok 4 - Computing differences
Comparing /tmp/1MojMqsx9b to t/results/length_hessbug.stdout
Output /tmp/1MojMqsx9b looks good.
ok 5 - Computing differences
ok 6 # skip GNU grep not available
Testing filename: t/mailboxes/invalid-boundaries.txt
Comparing /tmp/TD2n0jkEYh to t/results/length_invalid-boundaries.stdout
Output /tmp/TD2n0jkEYh looks good.
ok 7 - Computing differences
Comparing /tmp/vL5QRmGVvF to t/results/length_invalid-boundaries.stdout
Output /tmp/vL5QRmGVvF looks good.
ok 8 - Computing differences
ok 9 # skip GNU grep not available
Testing filename: t/mailboxes/mailarc-1-dos.txt
Comparing /tmp/Mn6cHP8kGk to t/results/length_mailarc-1-dos.stdout
Output /tmp/Mn6cHP8kGk looks good.
ok 10 - Computing differences
Comparing /tmp/vIDEh9rRRZ to t/results/length_mailarc-1-dos.stdout
Output /tmp/vIDEh9rRRZ looks good.
ok 11 - Computing differences
ok 12 # skip GNU grep not available
Testing filename: t/mailboxes/mailarc-1.txt
Comparing /tmp/jp4cdadNRp to t/results/length_mailarc-1.stdout
Output /tmp/jp4cdadNRp looks good.
ok 13 - Computing differences
Comparing /tmp/AIEYdXN3aR to t/results/length_mailarc-1.stdout
Output /tmp/AIEYdXN3aR looks good.
ok 14 - Computing differences
ok 15 # skip GNU grep not available
Testing filename: t/mailboxes/mailarc-2.txt
Comparing /tmp/B7syBd_GKk to t/results/length_mailarc-2.stdout
Output /tmp/B7syBd_GKk looks good.
ok 16 - Computing differences
Comparing /tmp/0TWLRTkJL9 to t/results/length_mailarc-2.stdout
Output /tmp/0TWLRTkJL9 looks good.
ok 17 - Computing differences
ok 18 # skip GNU grep not available
Testing filename: t/mailboxes/mailarc-3.txt
Comparing /tmp/V1OL_r7aPS to t/results/length_mailarc-3.stdout
Output /tmp/V1OL_r7aPS looks good.
ok 19 - Computing differences
Comparing /tmp/oK3TgQLShD to t/results/length_mailarc-3.stdout
Output /tmp/oK3TgQLShD looks good.
ok 20 - Computing differences
ok 21 # skip GNU grep not available
Testing filename: t/mailboxes/mailseparators.txt
Comparing /tmp/EqvfVQ__3L to t/results/length_mailseparators.stdout
Output /tmp/EqvfVQ__3L looks good.
ok 22 - Computing differences
Comparing /tmp/ZSNV3pmulW to t/results/length_mailseparators.stdout
Output /tmp/ZSNV3pmulW looks good.
ok 23 - Computing differences
ok 24 # skip GNU grep not available
Testing filename: t/mailboxes/malformed.txt
Comparing /tmp/E144fNhVm7 to t/results/length_malformed.stdout
Output /tmp/E144fNhVm7 looks good.
ok 25 - Computing differences
Comparing /tmp/zD_XjngBIh to t/results/length_malformed.stdout
Output /tmp/zD_XjngBIh looks good.
ok 26 - Computing differences
ok 27 # skip GNU grep not available
Testing filename: t/mailboxes/newlines_at_beginning.txt
Comparing /tmp/zcOJrnaQvS to t/results/length_newlines_at_beginning.stdout
Output /tmp/zcOJrnaQvS looks good.
ok 28 - Computing differences
Comparing /tmp/7n_aYH1FTz to t/results/length_newlines_at_beginning.stdout
Output /tmp/7n_aYH1FTz looks good.
ok 29 - Computing differences
ok 30 # skip GNU grep not available
ok
t/line_number.t ................. 
1..30
Testing filename: t/mailboxes/binary_body.txt
Comparing /tmp/8b0Gjcktp0 to t/results/line_number_binary_body.stdout
Output /tmp/8b0Gjcktp0 looks good.
ok 1 - Computing differences
Comparing /tmp/0H7jbjBvRN to t/results/line_number_binary_body.stdout
Output /tmp/0H7jbjBvRN looks good.
ok 2 - Computing differences
ok 3 # skip GNU grep not available
Testing filename: t/mailboxes/hessbug.txt
Comparing /tmp/QElyeZhMlr to t/results/line_number_hessbug.stdout
Output /tmp/QElyeZhMlr looks good.
ok 4 - Computing differences
Comparing /tmp/qzmJLUlx_V to t/results/line_number_hessbug.stdout
Output /tmp/qzmJLUlx_V looks good.
ok 5 - Computing differences
ok 6 # skip GNU grep not available
Testing filename: t/mailboxes/invalid-boundaries.txt
Comparing /tmp/PyxrHZtUPr to t/results/line_number_invalid-boundaries.stdout
Output /tmp/PyxrHZtUPr looks good.
ok 7 - Computing differences
Comparing /tmp/lv4T1W1K77 to t/results/line_number_invalid-boundaries.stdout
Output /tmp/lv4T1W1K77 looks good.
ok 8 - Computing differences
ok 9 # skip GNU grep not available
Testing filename: t/mailboxes/mailarc-1-dos.txt
Comparing /tmp/iCKUfkZTDz to t/results/line_number_mailarc-1-dos.stdout
Output /tmp/iCKUfkZTDz looks good.
ok 10 - Computing differences
Comparing /tmp/Lj_7wAoQrT to t/results/line_number_mailarc-1-dos.stdout
Output /tmp/Lj_7wAoQrT looks good.
ok 11 - Computing differences
ok 12 # skip GNU grep not available
Testing filename: t/mailboxes/mailarc-1.txt
Comparing /tmp/vb_5hmNJkD to t/results/line_number_mailarc-1.stdout
Output /tmp/vb_5hmNJkD looks good.
ok 13 - Computing differences
Comparing /tmp/1LMh5gqSdu to t/results/line_number_mailarc-1.stdout
Output /tmp/1LMh5gqSdu looks good.
ok 14 - Computing differences
ok 15 # skip GNU grep not available
Testing filename: t/mailboxes/mailarc-2.txt
Comparing /tmp/Qwl98QfdOI to t/results/line_number_mailarc-2.stdout
Output /tmp/Qwl98QfdOI looks good.
ok 16 - Computing differences
Comparing /tmp/6y4gTbk4Qg to t/results/line_number_mailarc-2.stdout
Output /tmp/6y4gTbk4Qg looks good.
ok 17 - Computing differences
ok 18 # skip GNU grep not available
Testing filename: t/mailboxes/mailarc-3.txt
Comparing /tmp/F2709h1krL to t/results/line_number_mailarc-3.stdout
Output /tmp/F2709h1krL looks good.
ok 19 - Computing differences
Comparing /tmp/GQTI6Kmeuh to t/results/line_number_mailarc-3.stdout
Output /tmp/GQTI6Kmeuh looks good.
ok 20 - Computing differences
ok 21 # skip GNU grep not available
Testing filename: t/mailboxes/mailseparators.txt
Comparing /tmp/MG7dmFZyEk to t/results/line_number_mailseparators.stdout
Output /tmp/MG7dmFZyEk looks good.
ok 22 - Computing differences
Comparing /tmp/3izdi9gtS0 to t/results/line_number_mailseparators.stdout
Output /tmp/3izdi9gtS0 looks good.
ok 23 - Computing differences
ok 24 # skip GNU grep not available
Testing filename: t/mailboxes/malformed.txt
Comparing /tmp/f6DuoGB7gV to t/results/line_number_malformed.stdout
Output /tmp/f6DuoGB7gV looks good.
ok 25 - Computing differences
Comparing /tmp/rAcFwxY7LY to t/results/line_number_malformed.stdout
Output /tmp/rAcFwxY7LY looks good.
ok 26 - Computing differences
ok 27 # skip GNU grep not available
Testing filename: t/mailboxes/newlines_at_beginning.txt
Comparing /tmp/YAciNTRJs5 to t/results/line_number_newlines_at_beginning.stdout
Output /tmp/YAciNTRJs5 looks good.
ok 28 - Computing differences
Comparing /tmp/Hq1Um2fVm6 to t/results/line_number_newlines_at_beginning.stdout
Output /tmp/Hq1Um2fVm6 looks good.
ok 29 - Computing differences
ok 30 # skip GNU grep not available
ok
t/lzip.t ........................ 
1..1
Running test:
  "/bin/cat" "t/mailboxes/mailarc-2.txt.lz" | "lzip" -cd
ok 1 # skip lzip not available
ok
t/number.t ...................... 
1..30
Testing filename: t/mailboxes/binary_body.txt
Comparing /tmp/4M01XbIA_H to t/results/number_binary_body.stdout
Output /tmp/4M01XbIA_H looks good.
ok 1 - Computing differences
Comparing /tmp/C1h_YrQ5us to t/results/number_binary_body.stdout
Output /tmp/C1h_YrQ5us looks good.
ok 2 - Computing differences
ok 3 # skip GNU grep not available
Testing filename: t/mailboxes/hessbug.txt
Comparing /tmp/ko_022agGW to t/results/number_hessbug.stdout
Output /tmp/ko_022agGW looks good.
ok 4 - Computing differences
Comparing /tmp/pu391aoJ2Q to t/results/number_hessbug.stdout
Output /tmp/pu391aoJ2Q looks good.
ok 5 - Computing differences
ok 6 # skip GNU grep not available
Testing filename: t/mailboxes/invalid-boundaries.txt
Comparing /tmp/ZJxy3BXnrk to t/results/number_invalid-boundaries.stdout
Output /tmp/ZJxy3BXnrk looks good.
ok 7 - Computing differences
Comparing /tmp/85jyhk0dwD to t/results/number_invalid-boundaries.stdout
Output /tmp/85jyhk0dwD looks good.
ok 8 - Computing differences
ok 9 # skip GNU grep not available
Testing filename: t/mailboxes/mailarc-1-dos.txt
Comparing /tmp/55dXVIaZbt to t/results/number_mailarc-1-dos.stdout
Output /tmp/55dXVIaZbt looks good.
ok 10 - Computing differences
Comparing /tmp/KGUUsf782y to t/results/number_mailarc-1-dos.stdout
Output /tmp/KGUUsf782y looks good.
ok 11 - Computing differences
ok 12 # skip GNU grep not available
Testing filename: t/mailboxes/mailarc-1.txt
Comparing /tmp/X6nQR4Yhsa to t/results/number_mailarc-1.stdout
Output /tmp/X6nQR4Yhsa looks good.
ok 13 - Computing differences
Comparing /tmp/qsZ2O1OHeO to t/results/number_mailarc-1.stdout
Output /tmp/qsZ2O1OHeO looks good.
ok 14 - Computing differences
ok 15 # skip GNU grep not available
Testing filename: t/mailboxes/mailarc-2.txt
Comparing /tmp/FoghZH5TBg to t/results/number_mailarc-2.stdout
Output /tmp/FoghZH5TBg looks good.
ok 16 - Computing differences
Comparing /tmp/LewWAVc4QE to t/results/number_mailarc-2.stdout
Output /tmp/LewWAVc4QE looks good.
ok 17 - Computing differences
ok 18 # skip GNU grep not available
Testing filename: t/mailboxes/mailarc-3.txt
Comparing /tmp/5ft0jW5MSw to t/results/number_mailarc-3.stdout
Output /tmp/5ft0jW5MSw looks good.
ok 19 - Computing differences
Comparing /tmp/g2nKgzbgpt to t/results/number_mailarc-3.stdout
Output /tmp/g2nKgzbgpt looks good.
ok 20 - Computing differences
ok 21 # skip GNU grep not available
Testing filename: t/mailboxes/mailseparators.txt
Comparing /tmp/cfhbF5e1U9 to t/results/number_mailseparators.stdout
Output /tmp/cfhbF5e1U9 looks good.
ok 22 - Computing differences
Comparing /tmp/hgdVKF762U to t/results/number_mailseparators.stdout
Output /tmp/hgdVKF762U looks good.
ok 23 - Computing differences
ok 24 # skip GNU grep not available
Testing filename: t/mailboxes/malformed.txt
Comparing /tmp/VIQ2Jtfqu7 to t/results/number_malformed.stdout
Output /tmp/VIQ2Jtfqu7 looks good.
ok 25 - Computing differences
Comparing /tmp/OG4wZovN3H to t/results/number_malformed.stdout
Output /tmp/OG4wZovN3H looks good.
ok 26 - Computing differences
ok 27 # skip GNU grep not available
Testing filename: t/mailboxes/newlines_at_beginning.txt
Comparing /tmp/M5_i2cmwP_ to t/results/number_newlines_at_beginning.stdout
Output /tmp/M5_i2cmwP_ looks good.
ok 28 - Computing differences
Comparing /tmp/3IzHevAPGO to t/results/number_newlines_at_beginning.stdout
Output /tmp/3IzHevAPGO looks good.
ok 29 - Computing differences
ok 30 # skip GNU grep not available
ok
t/offset.t ...................... 
1..30
Testing filename: t/mailboxes/binary_body.txt
Comparing /tmp/jPwtMR8UAc to t/results/offset_binary_body.stdout
Output /tmp/jPwtMR8UAc looks good.
ok 1 - Computing differences
Comparing /tmp/lAMaob3eEO to t/results/offset_binary_body.stdout
Output /tmp/lAMaob3eEO looks good.
ok 2 - Computing differences
ok 3 # skip GNU grep not available
Testing filename: t/mailboxes/hessbug.txt
Comparing /tmp/OAMrj7lXJ3 to t/results/offset_hessbug.stdout
Output /tmp/OAMrj7lXJ3 looks good.
ok 4 - Computing differences
Comparing /tmp/zwEIXd6HCE to t/results/offset_hessbug.stdout
Output /tmp/zwEIXd6HCE looks good.
ok 5 - Computing differences
ok 6 # skip GNU grep not available
Testing filename: t/mailboxes/invalid-boundaries.txt
Comparing /tmp/tbE1kR1reC to t/results/offset_invalid-boundaries.stdout
Output /tmp/tbE1kR1reC looks good.
ok 7 - Computing differences
Comparing /tmp/xDbm1ugn30 to t/results/offset_invalid-boundaries.stdout
Output /tmp/xDbm1ugn30 looks good.
ok 8 - Computing differences
ok 9 # skip GNU grep not available
Testing filename: t/mailboxes/mailarc-1-dos.txt
Comparing /tmp/ZEIGpmO8xD to t/results/offset_mailarc-1-dos.stdout
Output /tmp/ZEIGpmO8xD looks good.
ok 10 - Computing differences
Comparing /tmp/kpxVG9Ku46 to t/results/offset_mailarc-1-dos.stdout
Output /tmp/kpxVG9Ku46 looks good.
ok 11 - Computing differences
ok 12 # skip GNU grep not available
Testing filename: t/mailboxes/mailarc-1.txt
Comparing /tmp/ijRCGrPImh to t/results/offset_mailarc-1.stdout
Output /tmp/ijRCGrPImh looks good.
ok 13 - Computing differences
Comparing /tmp/1KDJ57ePVa to t/results/offset_mailarc-1.stdout
Output /tmp/1KDJ57ePVa looks good.
ok 14 - Computing differences
ok 15 # skip GNU grep not available
Testing filename: t/mailboxes/mailarc-2.txt
Comparing /tmp/9YJ4lMk8dF to t/results/offset_mailarc-2.stdout
Output /tmp/9YJ4lMk8dF looks good.
ok 16 - Computing differences
Comparing /tmp/D32sVEXaSh to t/results/offset_mailarc-2.stdout
Output /tmp/D32sVEXaSh looks good.
ok 17 - Computing differences
ok 18 # skip GNU grep not available
Testing filename: t/mailboxes/mailarc-3.txt
Comparing /tmp/XmUFOOIffS to t/results/offset_mailarc-3.stdout
Output /tmp/XmUFOOIffS looks good.
ok 19 - Computing differences
Comparing /tmp/slZVRurcXf to t/results/offset_mailarc-3.stdout
Output /tmp/slZVRurcXf looks good.
ok 20 - Computing differences
ok 21 # skip GNU grep not available
Testing filename: t/mailboxes/mailseparators.txt
Comparing /tmp/wgB78Otnqt to t/results/offset_mailseparators.stdout
Output /tmp/wgB78Otnqt looks good.
ok 22 - Computing differences
Comparing /tmp/gbaw0JwRBO to t/results/offset_mailseparators.stdout
Output /tmp/gbaw0JwRBO looks good.
ok 23 - Computing differences
ok 24 # skip GNU grep not available
Testing filename: t/mailboxes/malformed.txt
Comparing /tmp/ne9ibjMlBN to t/results/offset_malformed.stdout
Output /tmp/ne9ibjMlBN looks good.
ok 25 - Computing differences
Comparing /tmp/3DaRiUqjwy to t/results/offset_malformed.stdout
Output /tmp/3DaRiUqjwy looks good.
ok 26 - Computing differences
ok 27 # skip GNU grep not available
Testing filename: t/mailboxes/newlines_at_beginning.txt
Comparing /tmp/E_bLRsRZvT to t/results/offset_newlines_at_beginning.stdout
Output /tmp/E_bLRsRZvT looks good.
ok 28 - Computing differences
Comparing /tmp/Iw0JEDUrQx to t/results/offset_newlines_at_beginning.stdout
Output /tmp/Iw0JEDUrQx looks good.
ok 29 - Computing differences
ok 30 # skip GNU grep not available
ok
t/prologue.t .................... 
1..33
Testing filename: t/mailboxes/binary_body.txt
Comparing /tmp/lY_6cKf1bQ to t/mailboxes/binary_body.txt
Output /tmp/lY_6cKf1bQ looks good.
ok 1 - Computing differences
Comparing /tmp/v33v281w1E to t/mailboxes/binary_body.txt
Output /tmp/v33v281w1E looks good.
ok 2 - Computing differences
ok 3 # skip GNU grep not available
Testing filename: t/mailboxes/hessbug.txt
Comparing /tmp/RmUjbze9l7 to t/mailboxes/hessbug.txt
Output /tmp/RmUjbze9l7 looks good.
ok 4 - Computing differences
Comparing /tmp/VzgeIUapWz to t/mailboxes/hessbug.txt
Output /tmp/VzgeIUapWz looks good.
ok 5 - Computing differences
ok 6 # skip GNU grep not available
Testing filename: t/mailboxes/invalid-boundaries.txt
Comparing /tmp/BjR8CdkO7l to t/mailboxes/invalid-boundaries.txt
Output /tmp/BjR8CdkO7l looks good.
ok 7 - Computing differences
Comparing /tmp/aMt_DWkQjo to t/mailboxes/invalid-boundaries.txt
Output /tmp/aMt_DWkQjo looks good.
ok 8 - Computing differences
ok 9 # skip GNU grep not available
Testing filename: t/mailboxes/mailarc-1-dos.txt
Comparing /tmp/Q5ojDnLY6k to t/mailboxes/mailarc-1-dos.txt
Output /tmp/Q5ojDnLY6k looks good.
ok 10 - Computing differences
Comparing /tmp/qPFGgVvK7h to t/mailboxes/mailarc-1-dos.txt
Output /tmp/qPFGgVvK7h looks good.
ok 11 - Computing differences
ok 12 # skip GNU grep not available
Testing filename: t/mailboxes/mailarc-1.txt
Comparing /tmp/WCfHM0uH0Z to t/mailboxes/mailarc-1.txt
Output /tmp/WCfHM0uH0Z looks good.
ok 13 - Computing differences
Comparing /tmp/aowpVJmvGu to t/mailboxes/mailarc-1.txt
Output /tmp/aowpVJmvGu looks good.
ok 14 - Computing differences
ok 15 # skip GNU grep not available
Testing filename: t/mailboxes/mailarc-2.txt
Comparing /tmp/b1xovPFgGL to t/mailboxes/mailarc-2.txt
Output /tmp/b1xovPFgGL looks good.
ok 16 - Computing differences
Comparing /tmp/8Wy2t8OamR to t/mailboxes/mailarc-2.txt
Output /tmp/8Wy2t8OamR looks good.
ok 17 - Computing differences
ok 18 # skip GNU grep not available
Testing filename: t/mailboxes/mailarc-3.txt
Comparing /tmp/jWf8fBVn3l to t/mailboxes/mailarc-3.txt
Output /tmp/jWf8fBVn3l looks good.
ok 19 - Computing differences
Comparing /tmp/xfyT1hvLm2 to t/mailboxes/mailarc-3.txt
Output /tmp/xfyT1hvLm2 looks good.
ok 20 - Computing differences
ok 21 # skip GNU grep not available
Testing filename: t/mailboxes/mailseparators.txt
Comparing /tmp/RfbcPRs5R_ to t/mailboxes/mailseparators.txt
Output /tmp/RfbcPRs5R_ looks good.
ok 22 - Computing differences
Comparing /tmp/qIJiMF7VRc to t/mailboxes/mailseparators.txt
Output /tmp/qIJiMF7VRc looks good.
ok 23 - Computing differences
ok 24 # skip GNU grep not available
Testing filename: t/mailboxes/malformed.txt
Comparing /tmp/s691msd0lk to t/mailboxes/malformed.txt
Output /tmp/s691msd0lk looks good.
ok 25 - Computing differences
Comparing /tmp/NfHW0Qcm9y to t/mailboxes/malformed.txt
Output /tmp/NfHW0Qcm9y looks good.
ok 26 - Computing differences
ok 27 # skip GNU grep not available
Testing filename: t/mailboxes/newlines_at_beginning.txt
Comparing /tmp/s8MtRvBQa4 to t/mailboxes/newlines_at_beginning.txt
Output /tmp/s8MtRvBQa4 looks good.
ok 28 - Computing differences
Comparing /tmp/FG9EDFzCRy to t/mailboxes/newlines_at_beginning.txt
Output /tmp/FG9EDFzCRy looks good.
ok 29 - Computing differences
ok 30 # skip GNU grep not available
Testing filename: t/mailboxes/vm-emacs.txt
Comparing /tmp/USvF9FQo1v to t/mailboxes/vm-emacs.txt
Output /tmp/USvF9FQo1v looks good.
ok 31 - Computing differences
Comparing /tmp/798tamAbhm to t/mailboxes/vm-emacs.txt
Output /tmp/798tamAbhm looks good.
ok 32 - Computing differences
ok 33 # skip GNU grep not available
ok
t/reset.t ....................... 
1..60
Testing filename: t/mailboxes/binary_body.txt
Testing partial mailbox reset with Perl implementation
Comparing /tmp/ihQ7AzzipK to t/results/reset_binary_body.stdout
Output /tmp/ihQ7AzzipK looks good.
ok 1 - Computing differences
Testing partial mailbox reset with Cache implementation
Comparing /tmp/E5qTfQZ0g1 to t/results/reset_binary_body.stdout
Output /tmp/E5qTfQZ0g1 looks good.
ok 2 - Computing differences
Testing partial mailbox reset with Grep implementation
ok 3 # skip GNU grep not available
Testing full mailbox reset with Perl implementation
Comparing /tmp/o7WVbbSS_e to t/results/reset_binary_body.stdout
Output /tmp/o7WVbbSS_e looks good.
ok 4 - Computing differences
Testing full mailbox reset with Cache implementation
Comparing /tmp/vU7D7cseU2 to t/results/reset_binary_body.stdout
Output /tmp/vU7D7cseU2 looks good.
ok 5 - Computing differences
Testing full mailbox reset with Grep implementation
ok 6 # skip GNU grep not available
Testing filename: t/mailboxes/hessbug.txt
Testing partial mailbox reset with Perl implementation
Comparing /tmp/ikZnsvG031 to t/results/reset_hessbug.stdout
Output /tmp/ikZnsvG031 looks good.
ok 7 - Computing differences
Testing partial mailbox reset with Cache implementation
Comparing /tmp/M30xTi_r80 to t/results/reset_hessbug.stdout
Output /tmp/M30xTi_r80 looks good.
ok 8 - Computing differences
Testing partial mailbox reset with Grep implementation
ok 9 # skip GNU grep not available
Testing full mailbox reset with Perl implementation
Comparing /tmp/25EoDPQQDc to t/results/reset_hessbug.stdout
Output /tmp/25EoDPQQDc looks good.
ok 10 - Computing differences
Testing full mailbox reset with Cache implementation
Comparing /tmp/pam30ym7cF to t/results/reset_hessbug.stdout
Output /tmp/pam30ym7cF looks good.
ok 11 - Computing differences
Testing full mailbox reset with Grep implementation
ok 12 # skip GNU grep not available
Testing filename: t/mailboxes/invalid-boundaries.txt
Testing partial mailbox reset with Perl implementation
Comparing /tmp/o65Cunnbiy to t/results/reset_invalid-boundaries.stdout
Output /tmp/o65Cunnbiy looks good.
ok 13 - Computing differences
Testing partial mailbox reset with Cache implementation
Comparing /tmp/KIk3qWODqN to t/results/reset_invalid-boundaries.stdout
Output /tmp/KIk3qWODqN looks good.
ok 14 - Computing differences
Testing partial mailbox reset with Grep implementation
ok 15 # skip GNU grep not available
Testing full mailbox reset with Perl implementation
Comparing /tmp/CgjIO1rPZG to t/results/reset_invalid-boundaries.stdout
Output /tmp/CgjIO1rPZG looks good.
ok 16 - Computing differences
Testing full mailbox reset with Cache implementation
Comparing /tmp/Tp3vo2QyWR to t/results/reset_invalid-boundaries.stdout
Output /tmp/Tp3vo2QyWR looks good.
ok 17 - Computing differences
Testing full mailbox reset with Grep implementation
ok 18 # skip GNU grep not available
Testing filename: t/mailboxes/mailarc-1-dos.txt
Testing partial mailbox reset with Perl implementation
Comparing /tmp/7_W0WJlIKz to t/results/reset_mailarc-1-dos.stdout
Output /tmp/7_W0WJlIKz looks good.
ok 19 - Computing differences
Testing partial mailbox reset with Cache implementation
Comparing /tmp/pqZvzWcWa7 to t/results/reset_mailarc-1-dos.stdout
Output /tmp/pqZvzWcWa7 looks good.
ok 20 - Computing differences
Testing partial mailbox reset with Grep implementation
ok 21 # skip GNU grep not available
Testing full mailbox reset with Perl implementation
Comparing /tmp/hZzPhQbVkn to t/results/reset_mailarc-1-dos.stdout
Output /tmp/hZzPhQbVkn looks good.
ok 22 - Computing differences
Testing full mailbox reset with Cache implementation
Comparing /tmp/q7TvQ7jVez to t/results/reset_mailarc-1-dos.stdout
Output /tmp/q7TvQ7jVez looks good.
ok 23 - Computing differences
Testing full mailbox reset with Grep implementation
ok 24 # skip GNU grep not available
Testing filename: t/mailboxes/mailarc-1.txt
Testing partial mailbox reset with Perl implementation
Comparing /tmp/mWwyquZXqO to t/results/reset_mailarc-1.stdout
Output /tmp/mWwyquZXqO looks good.
ok 25 - Computing differences
Testing partial mailbox reset with Cache implementation
Comparing /tmp/POWjOYjuyM to t/results/reset_mailarc-1.stdout
Output /tmp/POWjOYjuyM looks good.
ok 26 - Computing differences
Testing partial mailbox reset with Grep implementation
ok 27 # skip GNU grep not available
Testing full mailbox reset with Perl implementation
Comparing /tmp/3XLkGYLOXt to t/results/reset_mailarc-1.stdout
Output /tmp/3XLkGYLOXt looks good.
ok 28 - Computing differences
Testing full mailbox reset with Cache implementation
Comparing /tmp/tpd6OD2RbI to t/results/reset_mailarc-1.stdout
Output /tmp/tpd6OD2RbI looks good.
ok 29 - Computing differences
Testing full mailbox reset with Grep implementation
ok 30 # skip GNU grep not available
Testing filename: t/mailboxes/mailarc-2.txt
Testing partial mailbox reset with Perl implementation
Comparing /tmp/onaX0ehhhA to t/results/reset_mailarc-2.stdout
Output /tmp/onaX0ehhhA looks good.
ok 31 - Computing differences
Testing partial mailbox reset with Cache implementation
Comparing /tmp/4v2q_4qpZ2 to t/results/reset_mailarc-2.stdout
Output /tmp/4v2q_4qpZ2 looks good.
ok 32 - Computing differences
Testing partial mailbox reset with Grep implementation
ok 33 # skip GNU grep not available
Testing full mailbox reset with Perl implementation
Comparing /tmp/JPncPDLeJS to t/results/reset_mailarc-2.stdout
Output /tmp/JPncPDLeJS looks good.
ok 34 - Computing differences
Testing full mailbox reset with Cache implementation
Comparing /tmp/MhLbr24lxc to t/results/reset_mailarc-2.stdout
Output /tmp/MhLbr24lxc looks good.
ok 35 - Computing differences
Testing full mailbox reset with Grep implementation
ok 36 # skip GNU grep not available
Testing filename: t/mailboxes/mailarc-3.txt
Testing partial mailbox reset with Perl implementation
Comparing /tmp/AaGGXuRmxq to t/results/reset_mailarc-3.stdout
Output /tmp/AaGGXuRmxq looks good.
ok 37 - Computing differences
Testing partial mailbox reset with Cache implementation
Comparing /tmp/FrW1T_VG1e to t/results/reset_mailarc-3.stdout
Output /tmp/FrW1T_VG1e looks good.
ok 38 - Computing differences
Testing partial mailbox reset with Grep implementation
ok 39 # skip GNU grep not available
Testing full mailbox reset with Perl implementation
Comparing /tmp/MXCGZlS7Zo to t/results/reset_mailarc-3.stdout
Output /tmp/MXCGZlS7Zo looks good.
ok 40 - Computing differences
Testing full mailbox reset with Cache implementation
Comparing /tmp/r0tE1Oz2vf to t/results/reset_mailarc-3.stdout
Output /tmp/r0tE1Oz2vf looks good.
ok 41 - Computing differences
Testing full mailbox reset with Grep implementation
ok 42 # skip GNU grep not available
Testing filename: t/mailboxes/mailseparators.txt
Testing partial mailbox reset with Perl implementation
Comparing /tmp/8r_Hx5S5P7 to t/results/reset_mailseparators.stdout
Output /tmp/8r_Hx5S5P7 looks good.
ok 43 - Computing differences
Testing partial mailbox reset with Cache implementation
Comparing /tmp/ItfgzCpnWs to t/results/reset_mailseparators.stdout
Output /tmp/ItfgzCpnWs looks good.
ok 44 - Computing differences
Testing partial mailbox reset with Grep implementation
ok 45 # skip GNU grep not available
Testing full mailbox reset with Perl implementation
Comparing /tmp/jd96Y0SXS3 to t/results/reset_mailseparators.stdout
Output /tmp/jd96Y0SXS3 looks good.
ok 46 - Computing differences
Testing full mailbox reset with Cache implementation
Comparing /tmp/o_opZTXB8Z to t/results/reset_mailseparators.stdout
Output /tmp/o_opZTXB8Z looks good.
ok 47 - Computing differences
Testing full mailbox reset with Grep implementation
ok 48 # skip GNU grep not available
Testing filename: t/mailboxes/malformed.txt
Testing partial mailbox reset with Perl implementation
Comparing /tmp/TWXDBaVVii to t/results/reset_malformed.stdout
Output /tmp/TWXDBaVVii looks good.
ok 49 - Computing differences
Testing partial mailbox reset with Cache implementation
Comparing /tmp/WHUnkZDLsc to t/results/reset_malformed.stdout
Output /tmp/WHUnkZDLsc looks good.
ok 50 - Computing differences
Testing partial mailbox reset with Grep implementation
ok 51 # skip GNU grep not available
Testing full mailbox reset with Perl implementation
Comparing /tmp/MUCL3lA1iL to t/results/reset_malformed.stdout
Output /tmp/MUCL3lA1iL looks good.
ok 52 - Computing differences
Testing full mailbox reset with Cache implementation
Comparing /tmp/As8yGcfSmD to t/results/reset_malformed.stdout
Output /tmp/As8yGcfSmD looks good.
ok 53 - Computing differences
Testing full mailbox reset with Grep implementation
ok 54 # skip GNU grep not available
Testing filename: t/mailboxes/newlines_at_beginning.txt
Testing partial mailbox reset with Perl implementation
Comparing /tmp/Eg3JtE0TrV to t/results/reset_newlines_at_beginning.stdout
Output /tmp/Eg3JtE0TrV looks good.
ok 55 - Computing differences
Testing partial mailbox reset with Cache implementation
Comparing /tmp/RYYxuAst1o to t/results/reset_newlines_at_beginning.stdout
Output /tmp/RYYxuAst1o looks good.
ok 56 - Computing differences
Testing partial mailbox reset with Grep implementation
ok 57 # skip GNU grep not available
Testing full mailbox reset with Perl implementation
Comparing /tmp/Fl56t9UDAQ to t/results/reset_newlines_at_beginning.stdout
Output /tmp/Fl56t9UDAQ looks good.
ok 58 - Computing differences
Testing full mailbox reset with Cache implementation
Comparing /tmp/ASs4TMGZPw to t/results/reset_newlines_at_beginning.stdout
Output /tmp/ASs4TMGZPw looks good.
ok 59 - Computing differences
Testing full mailbox reset with Grep implementation
ok 60 # skip GNU grep not available
ok
t/separators.t .................. 
1..6
Testing filename: t/mailboxes/separators1.sep
ok 1 - Number of emails in t/mailboxes/separators1.sep
ok 2 - Number of emails in t/mailboxes/separators1.sep
ok 3 # skip GNU grep not available
Testing filename: t/mailboxes/separators2.sep
ok 4 - Number of emails in t/mailboxes/separators2.sep
ok 5 - Number of emails in t/mailboxes/separators2.sep
ok 6 # skip GNU grep not available
ok
t/stdin_compressed.t ............ 
1..4
Testing filename: t/mailboxes/mailarc-2.txt.bz2
Comparing /tmp/JO6GTok5fH to t/mailboxes/mailarc-2.txt
Output /tmp/JO6GTok5fH looks good.
ok 1 - Computing differences
Testing filename: t/mailboxes/mailarc-2.txt.gz
Comparing /tmp/3fggWqVgfZ to t/mailboxes/mailarc-2.txt
Output /tmp/3fggWqVgfZ looks good.
ok 2 - Computing differences
Testing filename: t/mailboxes/mailarc-2.txt.lz
ok 3 # skip lzip not available
Testing filename: t/mailboxes/mailarc-2.txt.xz
Comparing /tmp/mZVDD4AcDi to t/mailboxes/mailarc-2.txt
Output /tmp/mZVDD4AcDi looks good.
ok 4 - Computing differences
ok
t/stdin_uncompressed.t .......... 
1..11
Testing filename: t/mailboxes/binary_body.txt
Comparing /tmp/hiSmx__m6c to t/mailboxes/binary_body.txt
Output /tmp/hiSmx__m6c looks good.
ok 1 - Computing differences
Testing filename: t/mailboxes/hessbug.txt
Comparing /tmp/FQCg13gNyZ to t/mailboxes/hessbug.txt
Output /tmp/FQCg13gNyZ looks good.
ok 2 - Computing differences
Testing filename: t/mailboxes/invalid-boundaries.txt
Comparing /tmp/9xOTLgrj1H to t/mailboxes/invalid-boundaries.txt
Output /tmp/9xOTLgrj1H looks good.
ok 3 - Computing differences
Testing filename: t/mailboxes/mailarc-1-dos.txt
Comparing /tmp/n4GM6LokEc to t/mailboxes/mailarc-1-dos.txt
Output /tmp/n4GM6LokEc looks good.
ok 4 - Computing differences
Testing filename: t/mailboxes/mailarc-1.txt
Comparing /tmp/noiqnIDKTN to t/mailboxes/mailarc-1.txt
Output /tmp/noiqnIDKTN looks good.
ok 5 - Computing differences
Testing filename: t/mailboxes/mailarc-2.txt
Comparing /tmp/El4GKI2Nvr to t/mailboxes/mailarc-2.txt
Output /tmp/El4GKI2Nvr looks good.
ok 6 - Computing differences
Testing filename: t/mailboxes/mailarc-3.txt
Comparing /tmp/n24s3_byK7 to t/mailboxes/mailarc-3.txt
Output /tmp/n24s3_byK7 looks good.
ok 7 - Computing differences
Testing filename: t/mailboxes/mailseparators.txt
Comparing /tmp/e0GA9kUyPK to t/mailboxes/mailseparators.txt
Output /tmp/e0GA9kUyPK looks good.
ok 8 - Computing differences
Testing filename: t/mailboxes/malformed.txt
Comparing /tmp/eyMqo1uoAG to t/mailboxes/malformed.txt
Output /tmp/eyMqo1uoAG looks good.
ok 9 - Computing differences
Testing filename: t/mailboxes/newlines_at_beginning.txt
Comparing /tmp/pbKiPG_KYg to t/mailboxes/newlines_at_beginning.txt
Output /tmp/pbKiPG_KYg looks good.
ok 10 - Computing differences
Testing filename: t/mailboxes/vm-emacs.txt
Comparing /tmp/eLHAmuaCsG to t/mailboxes/vm-emacs.txt
Output /tmp/eLHAmuaCsG looks good.
ok 11 - Computing differences
ok
t/undef_return_value.t .......... 
1..33
Testing Perl 
Comparing /tmp/QaXjEQTlBv to t/mailboxes/binary_body.txt
Output /tmp/QaXjEQTlBv looks good.
ok 1 - Computing differences
Testing Cache implementation
Comparing /tmp/PQ9LpZzD2u to t/mailboxes/binary_body.txt
Output /tmp/PQ9LpZzD2u looks good.
ok 2 - Computing differences
ok 3 # skip GNU grep not available
Testing Perl 
Comparing /tmp/Eafw_ywWRA to t/mailboxes/hessbug.txt
Output /tmp/Eafw_ywWRA looks good.
ok 4 - Computing differences
Testing Cache implementation
Comparing /tmp/mNdIqBYfHY to t/mailboxes/hessbug.txt
Output /tmp/mNdIqBYfHY looks good.
ok 5 - Computing differences
ok 6 # skip GNU grep not available
Testing Perl 
Comparing /tmp/fQ4PodU8up to t/mailboxes/invalid-boundaries.txt
Output /tmp/fQ4PodU8up looks good.
ok 7 - Computing differences
Testing Cache implementation
Comparing /tmp/moU6o62dQl to t/mailboxes/invalid-boundaries.txt
Output /tmp/moU6o62dQl looks good.
ok 8 - Computing differences
ok 9 # skip GNU grep not available
Testing Perl 
Comparing /tmp/3J8Ib34s0g to t/mailboxes/mailarc-1-dos.txt
Output /tmp/3J8Ib34s0g looks good.
ok 10 - Computing differences
Testing Cache implementation
Comparing /tmp/vw2ceySH66 to t/mailboxes/mailarc-1-dos.txt
Output /tmp/vw2ceySH66 looks good.
ok 11 - Computing differences
ok 12 # skip GNU grep not available
Testing Perl 
Comparing /tmp/0olvgUv5nP to t/mailboxes/mailarc-1.txt
Output /tmp/0olvgUv5nP looks good.
ok 13 - Computing differences
Testing Cache implementation
Comparing /tmp/J5j8mKvpfN to t/mailboxes/mailarc-1.txt
Output /tmp/J5j8mKvpfN looks good.
ok 14 - Computing differences
ok 15 # skip GNU grep not available
Testing Perl 
Comparing /tmp/xlN0aqd6lW to t/mailboxes/mailarc-2.txt
Output /tmp/xlN0aqd6lW looks good.
ok 16 - Computing differences
Testing Cache implementation
Comparing /tmp/3uEDkpdavz to t/mailboxes/mailarc-2.txt
Output /tmp/3uEDkpdavz looks good.
ok 17 - Computing differences
ok 18 # skip GNU grep not available
Testing Perl 
Comparing /tmp/rX9rviImBW to t/mailboxes/mailarc-3.txt
Output /tmp/rX9rviImBW looks good.
ok 19 - Computing differences
Testing Cache implementation
Comparing /tmp/20WfxbGfhz to t/mailboxes/mailarc-3.txt
Output /tmp/20WfxbGfhz looks good.
ok 20 - Computing differences
ok 21 # skip GNU grep not available
Testing Perl 
Comparing /tmp/ZnFNtt8RoT to t/mailboxes/mailseparators.txt
Output /tmp/ZnFNtt8RoT looks good.
ok 22 - Computing differences
Testing Cache implementation
Comparing /tmp/J5iTEfMRyh to t/mailboxes/mailseparators.txt
Output /tmp/J5iTEfMRyh looks good.
ok 23 - Computing differences
ok 24 # skip GNU grep not available
Testing Perl 
Comparing /tmp/KwkWtbgLzM to t/mailboxes/malformed.txt
Output /tmp/KwkWtbgLzM looks good.
ok 25 - Computing differences
Testing Cache implementation
Comparing /tmp/CzQD46EnCS to t/mailboxes/malformed.txt
Output /tmp/CzQD46EnCS looks good.
ok 26 - Computing differences
ok 27 # skip GNU grep not available
Testing Perl 
Comparing /tmp/s71yk9bc85 to t/mailboxes/newlines_at_beginning.txt
Output /tmp/s71yk9bc85 looks good.
ok 28 - Computing differences
Testing Cache implementation
Comparing /tmp/j_ofaPxn2o to t/mailboxes/newlines_at_beginning.txt
Output /tmp/j_ofaPxn2o looks good.
ok 29 - Computing differences
ok 30 # skip GNU grep not available
Testing Perl 
Comparing /tmp/8VtUS9OHoQ to t/mailboxes/vm-emacs.txt
Output /tmp/8VtUS9OHoQ looks good.
ok 31 - Computing differences
Testing Cache implementation
Comparing /tmp/1hexZMJKqx to t/mailboxes/vm-emacs.txt
Output /tmp/1hexZMJKqx looks good.
ok 32 - Computing differences
ok 33 # skip GNU grep not available
ok
t/xz.t .......................... 
1..1
Running test:
  "/bin/cat" "t/mailboxes/mailarc-2.txt.xz" | "/usr/bin/xz" -cd
Comparing /tmp/P_AYQgmPwp to t/results/mailarc-2.txt
Output /tmp/P_AYQgmPwp looks good.
Comparing /tmp/0xScN2qLpk to t/results/none
Output /tmp/0xScN2qLpk looks good.
ok 1 - Computing differences
ok
All tests successful.
Files=25, Tests=382,  5 wallclock secs ( 0.11 usr  0.09 sys +  2.92 cusr  1.33 csys =  4.45 CPU)
Result: PASS

------------------------------
PREREQUISITES
------------------------------

Prerequisite modules loaded:

requires:

    Module              Need  Have    
    ------------------- ----- --------
    FileHandle::Unget   0     0.1634  
    perl                5.005 5.034000
    Storable            0     3.23    

build_requires:

    Module              Need  Have    
    ------------------- ----- --------
    ExtUtils::MakeMaker 6.36  7.62    
    File::Path          2.08  2.18    
    File::Slurper       0     0.012   
    Test::Compile       0     v2.4.1  
    Test::More          0     1.302183
    Text::Diff          0     1.45    
    UNIVERSAL::require  0     0.19    
    URI::Escape         0     5.09    

configure_requires:

    Module              Need  Have    
    ------------------- ----- --------
    ExtUtils::MakeMaker 6.36  7.62    
    URI::Escape         0     5.09    


------------------------------
ENVIRONMENT AND OTHER CONTEXT
------------------------------

Environment variables:

    AUTOMATED_TESTING = 1
    LANG = en_US.utf8
    PATH = /home/sand/bin:/usr/local/bin:/usr/local/sbin:/usr/sbin:/usr/bin:/sbin:/bin:/usr/games:/usr/local/games:/snap/bin:/usr/local/perl/bin:/usr/X11/bin
    PERL = /tmp/basesmoker-reloperl-avCD/bin/perl
    PERL5LIB = /tmp/loop_over_bdir-2386-l4Xjb2/triceps-2.1.0-0/blib/arch:/tmp/loop_over_bdir-2386-l4Xjb2/triceps-2.1.0-0/blib/lib:/tmp/loop_over_bdir-2386-l4Xjb2/Captive-Portal-4.10-0/blib/arch:/tmp/loop_over_bdir-2386-l4Xjb2/Captive-Portal-4.10-0/blib/lib:/tmp/loop_over_bdir-2386-l4Xjb2/Business-Shipping-DataFiles-1.02-0/blib/arch:/tmp/loop_over_bdir-2386-l4Xjb2/Business-Shipping-DataFiles-1.02-0/blib/lib:/tmp/loop_over_bdir-2386-l4Xjb2/Lingua-BioYaTeA-0.11-0/blib/arch:/tmp/loop_over_bdir-2386-l4Xjb2/Lingua-BioYaTeA-0.11-0/blib/lib:/tmp/loop_over_bdir-2386-l4Xjb2/LCFG-Build-Skeleton-0.5.0-0/blib/arch:/tmp/loop_over_bdir-2386-l4Xjb2/LCFG-Build-Skeleton-0.5.0-0/blib/lib:/tmp/loop_over_bdir-2386-l4Xjb2/RDF-NLP-SPARQLQuery-0.1-0/blib/arch:/tmp/loop_over_bdir-2386-l4Xjb2/RDF-NLP-SPARQLQuery-0.1-0/blib/lib:/tmp/loop_over_bdir-2386-l4Xjb2/shishi-0.0.1-0/blib/arch:/tmp/loop_over_bdir-2386-l4Xjb2/shishi-0.0.1-0/blib/lib:/tmp/loop_over_bdir-2386-l4Xjb2/perl-Hardware-UPS-Perl-0.43-0/blib/arch:/tmp/loop_over_bdir-2386-l4Xjb2/perl-Hardware-UPS-Perl-0.43-0/blib/lib:/tmp/loop_over_bdir-2386-l4Xjb2/DBIx-Migration-Directories-0.12-0/blib/arch:/tmp/loop_over_bdir-2386-l4Xjb2/DBIx-Migration-Directories-0.12-0/blib/lib:/tmp/loop_over_bdir-2386-l4Xjb2/AllKnowingDNS-1.7-0/blib/arch:/tmp/loop_over_bdir-2386-l4Xjb2/AllKnowingDNS-1.7-0/blib/lib:/tmp/loop_over_bdir-2386-l4Xjb2/Sysync-0.35-0/blib/arch:/tmp/loop_over_bdir-2386-l4Xjb2/Sysync-0.35-0/blib/lib:/tmp/loop_over_bdir-2386-l4Xjb2/mmds-1.902-0/blib/arch:/tmp/loop_over_bdir-2386-l4Xjb2/mmds-1.902-0/blib/lib:/tmp/loop_over_bdir-2386-l4Xjb2/Lingua-YaTeA-0.626-0/blib/arch:/tmp/loop_over_bdir-2386-l4Xjb2/Lingua-YaTeA-0.626-0/blib/lib:/tmp/loop_over_bdir-2386-l4Xjb2/Net-ISP-Balance-1.28-0/blib/arch:/tmp/loop_over_bdir-2386-l4Xjb2/Net-ISP-Balance-1.28-0/blib/lib:/tmp/loop_over_bdir-2386-l4Xjb2/Net-OpenVPN-DDNS-0.1-0/blib/arch:/tmp/loop_over_bdir-2386-l4Xjb2/Net-OpenVPN-DDNS-0.1-0/blib/lib:/tmp/loop_over_bdir-2386-l4Xjb2/CGI-Application-NetNewsIface-0.0204-0/blib/arch:/tmp/loop_over_bdir-2386-l4Xjb2/CGI-Application-NetNewsIface-0.0204-0/blib/lib:/tmp/loop_over_bdir-2386-l4Xjb2/Devel-Required-0.16-0/blib/arch:/tmp/loop_over_bdir-2386-l4Xjb2/Devel-Required-0.16-0/blib/lib:/tmp/loop_over_bdir-2386-l4Xjb2/Lemonldap-NG-Cli-0.2-0/blib/arch:/tmp/loop_over_bdir-2386-l4Xjb2/Lemonldap-NG-Cli-0.2-0/blib/lib:/tmp/loop_over_bdir-2386-l4Xjb2/ProjectBuilder-0.14.1-0/blib/arch:/tmp/loop_over_bdir-2386-l4Xjb2/ProjectBuilder-0.14.1-0/blib/lib:/tmp/loop_over_bdir-2386-l4Xjb2/makepp-1.19-0/blib/arch:/tmp/loop_over_bdir-2386-l4Xjb2/makepp-1.19-0/blib/lib:/tmp/loop_over_bdir-2386-l4Xjb2/dta-tokwrap-0.97-0/blib/arch:/tmp/loop_over_bdir-2386-l4Xjb2/dta-tokwrap-0.97-0/blib/lib:/tmp/loop_over_bdir-2386-l4Xjb2/App-rmcd-0.280-0/blib/arch:/tmp/loop_over_bdir-2386-l4Xjb2/App-rmcd-0.280-0/blib/lib:/tmp/loop_over_bdir-2386-l4Xjb2/Serge-1.4-0/blib/arch:/tmp/loop_over_bdir-2386-l4Xjb2/Serge-1.4-0/blib/lib
    PERL5OPT = 
    PERL5_CPANPLUS_IS_RUNNING = 2394
    PERL5_CPAN_IS_RUNNING = 2394
    PERL_CANARY_STABILITY_NOPROMPT = 1
    PERL_MM_USE_DEFAULT = 1
    PERL_USE_UNSAFE_INC = 1
    SHELL = /usr/bin/zsh
    TERM = screen

Perl special variables (and OS-specific diagnostics, for MSWin32):

    $^X = /tmp/basesmoker-reloperl-avCD/bin/perl
    $UID/$EUID = 1005 / 1005
    $GID = 1005 1005
    $EGID = 1005 1005

Perl module toolchain versions installed:

    Module              Have    
    ------------------- --------
    CPAN                2.28    
    CPAN::Meta          2.150010
    Cwd                 3.80    
    ExtUtils::CBuilder  0.280236
    ExtUtils::Command   7.62    
    ExtUtils::Install   2.20    
    ExtUtils::MakeMaker 7.62    
    ExtUtils::Manifest  1.73    
    ExtUtils::ParseXS   3.43    
    File::Spec          3.80    
    JSON                4.03    
    JSON::PP            4.06    
    Module::Build       0.4231  
    Module::Signature   0.87    
    Parse::CPAN::Meta   2.150010
    Test::Harness       3.43    
    Test::More          1.302183
    YAML                1.30    
    YAML::Syck          1.34    
    version             0.9929  


--

Summary of my perl5 (revision 5 version 34 subversion 0) configuration:
  Commit id: 9dab44d28b6721a6f58d163b22462beef88082c9
  Platform:
    osname=linux
    osvers=4.15.0-139-generic
    archname=x86_64-linux
    uname='linux k93bionic 4.15.0-139-generic #143-ubuntu smp tue mar 16 01:30:17 utc 2021 x86_64 x86_64 x86_64 gnulinux '
    config_args='-Dprefix=/home/sand/src/perl/repoperls/installed-perls/host/k93bionic/v5.34.0-RC2/2aaf -Dmyhostname=k93bionic -Dinstallusrbinperl=n -Uversiononly -Dusedevel -des -Ui_db -Dlibswanted=cl pthread socket inet nsl gdbm dbm malloc dl ld sun m crypt sec util c cposix posix ucb BSD gdbm_compat -Uuseithreads -Uuselongdouble -DEBUGGING=-g'
    hint=recommended
    useposix=true
    d_sigaction=define
    useithreads=undef
    usemultiplicity=undef
    use64bitint=define
    use64bitall=define
    uselongdouble=undef
    usemymalloc=n
    default_inc_excludes_dot=define
  Compiler:
    cc='cc'
    ccflags ='-fwrapv -fno-strict-aliasing -pipe -fstack-protector-strong -I/usr/local/include -D_LARGEFILE_SOURCE -D_FILE_OFFSET_BITS=64'
    optimize='-O2 -g'
    cppflags='-fwrapv -fno-strict-aliasing -pipe -fstack-protector-strong -I/usr/local/include'
    ccversion=''
    gccversion='7.5.0'
    gccosandvers=''
    intsize=4
    longsize=8
    ptrsize=8
    doublesize=8
    byteorder=12345678
    doublekind=3
    d_longlong=define
    longlongsize=8
    d_longdbl=define
    longdblsize=16
    longdblkind=3
    ivtype='long'
    ivsize=8
    nvtype='double'
    nvsize=8
    Off_t='off_t'
    lseeksize=8
    alignbytes=8
    prototype=define
  Linker and Libraries:
    ld='cc'
    ldflags =' -fstack-protector-strong -L/usr/local/lib'
    libpth=/usr/local/lib /usr/lib/x86_64-linux-gnu /usr/lib /lib/x86_64-linux-gnu /lib
    libs=-lpthread -lnsl -ldl -lm -lcrypt -lutil -lc
    perllibs=-lpthread -lnsl -ldl -lm -lcrypt -lutil -lc
    libc=libc-2.27.so
    so=so
    useshrplib=false
    libperl=libperl.a
    gnulibc_version='2.27'
  Dynamic Linking:
    dlsrc=dl_dlopen.xs
    dlext=so
    d_dlsymun=undef
    ccdlflags='-Wl,-E'
    cccdlflags='-fPIC'
    lddlflags='-shared -O2 -g -L/usr/local/lib -fstack-protector-strong'


Characteristics of this binary (from libperl): 
  Compile-time options:
    HAS_TIMES
    PERLIO_LAYERS
    PERL_COPY_ON_WRITE
    PERL_DONT_CREATE_GVSV
    PERL_MALLOC_WRAP
    PERL_OP_PARENT
    PERL_PRESERVE_IVUV
    PERL_USE_DEVEL
    USE_64_BIT_ALL
    USE_64_BIT_INT
    USE_LARGE_FILES
    USE_LOCALE
    USE_LOCALE_COLLATE
    USE_LOCALE_CTYPE
    USE_LOCALE_NUMERIC
    USE_LOCALE_TIME
    USE_PERLIO
    USE_PERL_ATOF
  Locally applied patches:
    RC2
  Built under linux
  Compiled at May 15 2021 15:55:00
  %ENV:
    PERL="/tmp/basesmoker-reloperl-avCD/bin/perl"
    PERL5LIB="/tmp/loop_over_bdir-2386-l4Xjb2/triceps-2.1.0-0/blib/arch:/tmp/loop_over_bdir-2386-l4Xjb2/triceps-2.1.0-0/blib/lib:/tmp/loop_over_bdir-2386-l4Xjb2/Captive-Portal-4.10-0/blib/arch:/tmp/loop_over_bdir-2386-l4Xjb2/Captive-Portal-4.10-0/blib/lib:/tmp/loop_over_bdir-2386-l4Xjb2/Business-Shipping-DataFiles-1.02-0/blib/arch:/tmp/loop_over_bdir-2386-l4Xjb2/Business-Shipping-DataFiles-1.02-0/blib/lib:/tmp/loop_over_bdir-2386-l4Xjb2/Lingua-BioYaTeA-0.11-0/blib/arch:/tmp/loop_over_bdir-2386-l4Xjb2/Lingua-BioYaTeA-0.11-0/blib/lib:/tmp/loop_over_bdir-2386-l4Xjb2/LCFG-Build-Skeleton-0.5.0-0/blib/arch:/tmp/loop_over_bdir-2386-l4Xjb2/LCFG-Build-Skeleton-0.5.0-0/blib/lib:/tmp/loop_over_bdir-2386-l4Xjb2/RDF-NLP-SPARQLQuery-0.1-0/blib/arch:/tmp/loop_over_bdir-2386-l4Xjb2/RDF-NLP-SPARQLQuery-0.1-0/blib/lib:/tmp/loop_over_bdir-2386-l4Xjb2/shishi-0.0.1-0/blib/arch:/tmp/loop_over_bdir-2386-l4Xjb2/shishi-0.0.1-0/blib/lib:/tmp/loop_over_bdir-2386-l4Xjb2/perl-Hardware-UPS-Perl-0.43-0/blib/arch:/tmp/loop_over_bdir-2386-l4Xjb2/perl-Hardware-UPS-Perl-0.43-0/blib/lib:/tmp/loop_over_bdir-2386-l4Xjb2/DBIx-Migration-Directories-0.12-0/blib/arch:/tmp/loop_over_bdir-2386-l4Xjb2/DBIx-Migration-Directories-0.12-0/blib/lib:/tmp/loop_over_bdir-2386-l4Xjb2/AllKnowingDNS-1.7-0/blib/arch:/tmp/loop_over_bdir-2386-l4Xjb2/AllKnowingDNS-1.7-0/blib/lib:/tmp/loop_over_bdir-2386-l4Xjb2/Sysync-0.35-0/blib/arch:/tmp/loop_over_bdir-2386-l4Xjb2/Sysync-0.35-0/blib/lib:/tmp/loop_over_bdir-2386-l4Xjb2/mmds-1.902-0/blib/arch:/tmp/loop_over_bdir-2386-l4Xjb2/mmds-1.902-0/blib/lib:/tmp/loop_over_bdir-2386-l4Xjb2/Lingua-YaTeA-0.626-0/blib/arch:/tmp/loop_over_bdir-2386-l4Xjb2/Lingua-YaTeA-0.626-0/blib/lib:/tmp/loop_over_bdir-2386-l4Xjb2/Net-ISP-Balance-1.28-0/blib/arch:/tmp/loop_over_bdir-2386-l4Xjb2/Net-ISP-Balance-1.28-0/blib/lib:/tmp/loop_over_bdir-2386-l4Xjb2/Net-OpenVPN-DDNS-0.1-0/blib/arch:/tmp/loop_over_bdir-2386-l4Xjb2/Net-OpenVPN-DDNS-0.1-0/blib/lib:/tmp/loop_over_bdir-2386-l4Xjb2/CGI-Application-NetNewsIface-0.0204-0/blib/arch:/tmp/loop_over_bdir-2386-l4Xjb2/CGI-Application-NetNewsIface-0.0204-0/blib/lib:/tmp/loop_over_bdir-2386-l4Xjb2/Devel-Required-0.16-0/blib/arch:/tmp/loop_over_bdir-2386-l4Xjb2/Devel-Required-0.16-0/blib/lib:/tmp/loop_over_bdir-2386-l4Xjb2/Lemonldap-NG-Cli-0.2-0/blib/arch:/tmp/loop_over_bdir-2386-l4Xjb2/Lemonldap-NG-Cli-0.2-0/blib/lib:/tmp/loop_over_bdir-2386-l4Xjb2/ProjectBuilder-0.14.1-0/blib/arch:/tmp/loop_over_bdir-2386-l4Xjb2/ProjectBuilder-0.14.1-0/blib/lib:/tmp/loop_over_bdir-2386-l4Xjb2/makepp-1.19-0/blib/arch:/tmp/loop_over_bdir-2386-l4Xjb2/makepp-1.19-0/blib/lib:/tmp/loop_over_bdir-2386-l4Xjb2/dta-tokwrap-0.97-0/blib/arch:/tmp/loop_over_bdir-2386-l4Xjb2/dta-tokwrap-0.97-0/blib/lib:/tmp/loop_over_bdir-2386-l4Xjb2/App-rmcd-0.280-0/blib/arch:/tmp/loop_over_bdir-2386-l4Xjb2/App-rmcd-0.280-0/blib/lib:/tmp/loop_over_bdir-2386-l4Xjb2/Serge-1.4-0/blib/arch:/tmp/loop_over_bdir-2386-l4Xjb2/Serge-1.4-0/blib/lib"
    PERL5OPT=""
    PERL5_CPANPLUS_IS_RUNNING="2394"
    PERL5_CPAN_IS_RUNNING="2394"
    PERL_CANARY_STABILITY_NOPROMPT="1"
    PERL_MM_USE_DEFAULT="1"
    PERL_USE_UNSAFE_INC="1"
  @INC:
    /tmp/loop_over_bdir-2386-l4Xjb2/triceps-2.1.0-0/blib/arch
    /tmp/loop_over_bdir-2386-l4Xjb2/triceps-2.1.0-0/blib/lib
    /tmp/loop_over_bdir-2386-l4Xjb2/Captive-Portal-4.10-0/blib/arch
    /tmp/loop_over_bdir-2386-l4Xjb2/Captive-Portal-4.10-0/blib/lib
    /tmp/loop_over_bdir-2386-l4Xjb2/Business-Shipping-DataFiles-1.02-0/blib/arch
    /tmp/loop_over_bdir-2386-l4Xjb2/Business-Shipping-DataFiles-1.02-0/blib/lib
    /tmp/loop_over_bdir-2386-l4Xjb2/Lingua-BioYaTeA-0.11-0/blib/arch
    /tmp/loop_over_bdir-2386-l4Xjb2/Lingua-BioYaTeA-0.11-0/blib/lib
    /tmp/loop_over_bdir-2386-l4Xjb2/LCFG-Build-Skeleton-0.5.0-0/blib/arch
    /tmp/loop_over_bdir-2386-l4Xjb2/LCFG-Build-Skeleton-0.5.0-0/blib/lib
    /tmp/loop_over_bdir-2386-l4Xjb2/RDF-NLP-SPARQLQuery-0.1-0/blib/arch
    /tmp/loop_over_bdir-2386-l4Xjb2/RDF-NLP-SPARQLQuery-0.1-0/blib/lib
    /tmp/loop_over_bdir-2386-l4Xjb2/shishi-0.0.1-0/blib/arch
    /tmp/loop_over_bdir-2386-l4Xjb2/shishi-0.0.1-0/blib/lib
    /tmp/loop_over_bdir-2386-l4Xjb2/perl-Hardware-UPS-Perl-0.43-0/blib/arch
    /tmp/loop_over_bdir-2386-l4Xjb2/perl-Hardware-UPS-Perl-0.43-0/blib/lib
    /tmp/loop_over_bdir-2386-l4Xjb2/DBIx-Migration-Directories-0.12-0/blib/arch
    /tmp/loop_over_bdir-2386-l4Xjb2/DBIx-Migration-Directories-0.12-0/blib/lib
    /tmp/loop_over_bdir-2386-l4Xjb2/AllKnowingDNS-1.7-0/blib/arch
    /tmp/loop_over_bdir-2386-l4Xjb2/AllKnowingDNS-1.7-0/blib/lib
    /tmp/loop_over_bdir-2386-l4Xjb2/Sysync-0.35-0/blib/arch
    /tmp/loop_over_bdir-2386-l4Xjb2/Sysync-0.35-0/blib/lib
    /tmp/loop_over_bdir-2386-l4Xjb2/mmds-1.902-0/blib/arch
    /tmp/loop_over_bdir-2386-l4Xjb2/mmds-1.902-0/blib/lib
    /tmp/loop_over_bdir-2386-l4Xjb2/Lingua-YaTeA-0.626-0/blib/arch
    /tmp/loop_over_bdir-2386-l4Xjb2/Lingua-YaTeA-0.626-0/blib/lib
    /tmp/loop_over_bdir-2386-l4Xjb2/Net-ISP-Balance-1.28-0/blib/arch
    /tmp/loop_over_bdir-2386-l4Xjb2/Net-ISP-Balance-1.28-0/blib/lib
    /tmp/loop_over_bdir-2386-l4Xjb2/Net-OpenVPN-DDNS-0.1-0/blib/arch
    /tmp/loop_over_bdir-2386-l4Xjb2/Net-OpenVPN-DDNS-0.1-0/blib/lib
    /tmp/loop_over_bdir-2386-l4Xjb2/CGI-Application-NetNewsIface-0.0204-0/blib/arch
    /tmp/loop_over_bdir-2386-l4Xjb2/CGI-Application-NetNewsIface-0.0204-0/blib/lib
    /tmp/loop_over_bdir-2386-l4Xjb2/Devel-Required-0.16-0/blib/arch
    /tmp/loop_over_bdir-2386-l4Xjb2/Devel-Required-0.16-0/blib/lib
    /tmp/loop_over_bdir-2386-l4Xjb2/Lemonldap-NG-Cli-0.2-0/blib/arch
    /tmp/loop_over_bdir-2386-l4Xjb2/Lemonldap-NG-Cli-0.2-0/blib/lib
    /tmp/loop_over_bdir-2386-l4Xjb2/ProjectBuilder-0.14.1-0/blib/arch
    /tmp/loop_over_bdir-2386-l4Xjb2/ProjectBuilder-0.14.1-0/blib/lib
    /tmp/loop_over_bdir-2386-l4Xjb2/makepp-1.19-0/blib/arch
    /tmp/loop_over_bdir-2386-l4Xjb2/makepp-1.19-0/blib/lib
    /tmp/loop_over_bdir-2386-l4Xjb2/dta-tokwrap-0.97-0/blib/arch
    /tmp/loop_over_bdir-2386-l4Xjb2/dta-tokwrap-0.97-0/blib/lib
    /tmp/loop_over_bdir-2386-l4Xjb2/App-rmcd-0.280-0/blib/arch
    /tmp/loop_over_bdir-2386-l4Xjb2/App-rmcd-0.280-0/blib/lib
    /tmp/loop_over_bdir-2386-l4Xjb2/Serge-1.4-0/blib/arch
    /tmp/loop_over_bdir-2386-l4Xjb2/Serge-1.4-0/blib/lib
    /home/sand/src/perl/repoperls/installed-perls/host/k93bionic/v5.34.0-RC2/2aaf/lib/site_perl/5.34.0/x86_64-linux
    /home/sand/src/perl/repoperls/installed-perls/host/k93bionic/v5.34.0-RC2/2aaf/lib/site_perl/5.34.0
    /home/sand/src/perl/repoperls/installed-perls/host/k93bionic/v5.34.0-RC2/2aaf/lib/5.34.0/x86_64-linux
    /home/sand/src/perl/repoperls/installed-perls/host/k93bionic/v5.34.0-RC2/2aaf/lib/5.34.0
    .