PerlPowerTools v1.047 Perl 5 v5.41.1 x86_64-linux-thread-multi-ld
- Status
- Pass
- From
- Andreas J. König (ANDK)
- Dist
-
PerlPowerTools v1.047
- Platform
- Perl 5 v5.41.1 x86_64-linux-thread-multi-ld
- Date
- 2024-10-12 00:10:12
- ID
- 5988e374-882e-11ef-a5d3-06585e2a2ecc
This distribution has been tested as part of the CPAN Testers
project, supporting the Perl programming language. See
http://wiki.cpantesters.org/ for more information or email
questions to cpan-testers-discuss@perl.org
--
Dear brian d foy,
This is a computer-generated report for PerlPowerTools-1.047
on perl 5.41.1, created by CPAN-Reporter-1.2019.
Thank you for uploading your work to CPAN. Congratulations!
All tests were successful.
Sections of this report:
* Tester comments
* Program output
* Prerequisites
* Environment and other context
------------------------------
TESTER COMMENTS
------------------------------
Additional comments from tester:
this report is from an automated smoke testing program
and was not reviewed by a human for accuracy
------------------------------
PROGRAM OUTPUT
------------------------------
Output from '/usr/bin/make test':
PERL_DL_NONLAZY=1 "/home/sand/src/perl/repoperls/installed-perls/host/k93msid/v5.41.1/8854/bin/perl" "-MExtUtils::Command::MM" "-MTest::Harness" "-e" "undef *Test::Harness::Switches; test_harness(0, 'blib/lib', 'blib/arch')" t/*.t t/*/*.t
# Found bin/mimedecode specific override file
# Found bin/robots specific override file
t/000.basic.t ................ ok
t/910.meta.t ................. ok
t/990.pod.t .................. ok
# Perl sqrt(2) is <1.41421356237309505>
"/tmp/Gd0z7_76vt", line 2: divide by 0 at bin/bc line 2312, <$input> line 2.
"/tmp/y5rIUSYLHZ", line 2: Illegal modulus zero at bin/bc line 2314, <$input> line 2.
"/tmp/WXpTmeGRRb", line 2: modulo by 0 at bin/bc line 2314, <$input> line 2.
t/bc/input.t ................. ok
t/cat/cat.t .................. ok
t/cp/gh-115-copy-into-dir.t .. ok
t/cut/cut.t .................. ok
t/date/date.t ................ ok
t/echo/echo.t ................ ok
t/factor/factor.t ............ ok
t/false/false.t .............. ok
# find2perl is at </home/sand/src/perl/repoperls/installed-perls/host/k93msid/v5.41.1/8854/bin/find2perl>
t/find/find.t ................ ok
t/mimedecode/000.basic.t ..... ok
t/nl/nl.t .................... ok
t/od/od.t .................... ok
t/rev/rev.t .................. ok
t/rm/process_options.t ....... ok
# Missing file error text is <No such file or directory>
t/rm/run.t ................... ok
t/robots/000.basic.t ......... ok
t/rot13/rot13.t .............. ok
t/seq/seq.t .................. ok
t/sort/sort.t ................ ok
t/true/true.t ................ ok
t/units/units.t .............. ok
t/uudecode/uudecode.t ........ ok
All tests successful.
Files=25, Tests=358, 12 wallclock secs ( 0.36 usr 0.07 sys + 8.34 cusr 1.77 csys = 10.54 CPU)
Result: PASS
------------------------------
PREREQUISITES
------------------------------
Prerequisite modules loaded:
requires:
Module Need Have
--------------------- ----- --------
App::a2p 0 1.013
App::find2perl 0 1.005
MIME::Parser 0 5.515
perl 5.008 5.041001
build_requires:
Module Need Have
--------------------- ----- --------
IPC::Run3 0 0.049
Test::More 1 1.302204
Test::Pod 0 1.52
Test::Warnings 0 0.033
configure_requires:
Module Need Have
--------------------- ----- --------
ExtUtils::MakeMaker 6.64 7.70
File::Spec::Functions 0 3.91
------------------------------
ENVIRONMENT AND OTHER CONTEXT
------------------------------
Environment variables:
AUTOMATED_TESTING = 1
LANG = en_US.UTF-8
LANGUAGE = en_US:en
PATH = /home/sand/bin:/usr/local/bin:/usr/bin:/bin:/usr/games:/usr/local/perl/bin:/usr/X11/bin:/sbin:/usr/sbin
PERL5LIB =
PERL5OPT =
PERL5_CPANPLUS_IS_RUNNING = 282124
PERL5_CPAN_IS_RUNNING = 282124
PERL_CANARY_STABILITY_NOPROMPT = 1
PERL_MM_USE_DEFAULT = 1
PERL_USE_UNSAFE_INC = 1
SHELL = /usr/bin/zsh
TERM = screen
Perl special variables (and OS-specific diagnostics, for MSWin32):
$^X = /home/sand/src/perl/repoperls/installed-perls/host/k93msid/v5.41.1/8854/bin/perl
$UID/$EUID = 1005 / 1005
$GID = 1005 1005
$EGID = 1005 1005
Perl module toolchain versions installed:
Module Have
------------------- --------
CPAN 2.37
CPAN::Meta 2.150010
Cwd 3.90
ExtUtils::CBuilder 0.280240
ExtUtils::Command 7.70
ExtUtils::Install 2.22
ExtUtils::MakeMaker 7.70
ExtUtils::Manifest 1.75
ExtUtils::ParseXS 3.52
File::Spec 3.90
JSON 4.10
JSON::PP 4.16
Module::Build 0.4234
Module::Signature 0.88
Parse::CPAN::Meta 2.150010
Test2 1.302204
Test::Harness 3.48
Test::More 1.302204
YAML 1.31
YAML::Syck 1.34
version 0.9932
--
Summary of my perl5 (revision 5 version 41 subversion 1) configuration:
Commit id: e9f8aee2bc0fcdce0a13746848aad38c23073ef7
Platform:
osname=linux
osvers=6.8.12-amd64
archname=x86_64-linux-thread-multi-ld
uname='linux k93msid 6.8.12-amd64 #1 smp preempt_dynamic debian 6.8.12-1 (2024-05-31) x86_64 gnulinux '
config_args='-Dprefix=/home/sand/src/perl/repoperls/installed-perls/host/k93msid/v5.41.1/8854 -Dmyhostname=k93msid -Dinstallusrbinperl=n -Uversiononly -Dusedevel -des -Ui_db -Dlibswanted=cl pthread socket inet nsl gdbm dbm malloc dl ld sun m crypt sec util c cposix posix ucb BSD gdbm_compat -Duseithreads -Duselongdouble -DEBUGGING=-g'
hint=recommended
useposix=true
d_sigaction=define
useithreads=define
usemultiplicity=define
use64bitint=define
use64bitall=define
uselongdouble=define
usemymalloc=n
default_inc_excludes_dot=define
Compiler:
cc='cc'
ccflags ='-D_REENTRANT -D_GNU_SOURCE -fwrapv -fno-strict-aliasing -pipe -fstack-protector-strong -I/usr/local/include -D_LARGEFILE_SOURCE -D_FILE_OFFSET_BITS=64 -D_FORTIFY_SOURCE=2'
optimize='-O2 -g'
cppflags='-D_REENTRANT -D_GNU_SOURCE -fwrapv -fno-strict-aliasing -pipe -fstack-protector-strong -I/usr/local/include'
ccversion=''
gccversion='13.3.0'
gccosandvers=''
intsize=4
longsize=8
ptrsize=8
doublesize=8
byteorder=12345678
doublekind=3
d_longlong=define
longlongsize=8
d_longdbl=define
longdblsize=16
longdblkind=3
ivtype='long'
ivsize=8
nvtype='long double'
nvsize=16
Off_t='off_t'
lseeksize=8
alignbytes=16
prototype=define
Linker and Libraries:
ld='cc'
ldflags =' -fstack-protector-strong -L/usr/local/lib'
libpth=/usr/local/lib /usr/lib/x86_64-linux-gnu /usr/lib /usr/lib64
libs=-lpthread -ldl -lm -lcrypt -lutil -lc
perllibs=-lpthread -ldl -lm -lcrypt -lutil -lc
libc=/lib/x86_64-linux-gnu/libc.so.6
so=so
useshrplib=false
libperl=libperl.a
gnulibc_version='2.38'
Dynamic Linking:
dlsrc=dl_dlopen.xs
dlext=so
d_dlsymun=undef
ccdlflags='-Wl,-E'
cccdlflags='-fPIC'
lddlflags='-shared -O2 -g -L/usr/local/lib -fstack-protector-strong'
Characteristics of this binary (from libperl):
Compile-time options:
HAS_LONG_DOUBLE
HAS_STRTOLD
HAS_TIMES
MULTIPLICITY
PERLIO_LAYERS
PERL_COPY_ON_WRITE
PERL_DONT_CREATE_GVSV
PERL_HASH_FUNC_SIPHASH13
PERL_HASH_USE_SBOX32
PERL_MALLOC_WRAP
PERL_OP_PARENT
PERL_PRESERVE_IVUV
PERL_USE_DEVEL
PERL_USE_SAFE_PUTENV
USE_64_BIT_ALL
USE_64_BIT_INT
USE_ITHREADS
USE_LARGE_FILES
USE_LOCALE
USE_LOCALE_COLLATE
USE_LOCALE_CTYPE
USE_LOCALE_NUMERIC
USE_LOCALE_TIME
USE_LONG_DOUBLE
USE_PERLIO
USE_PERL_ATOF
USE_REENTRANT_API
USE_THREAD_SAFE_LOCALE
Built under linux
Compiled at Jul 2 2024 22:19:21
%ENV:
PERL5LIB=""
PERL5OPT=""
PERL5_CPANPLUS_IS_RUNNING="282124"
PERL5_CPAN_IS_RUNNING="282124"
PERL_CANARY_STABILITY_NOPROMPT="1"
PERL_MM_USE_DEFAULT="1"
PERL_USE_UNSAFE_INC="1"
@INC:
/home/sand/src/perl/repoperls/installed-perls/host/k93msid/v5.41.1/8854/lib/site_perl/5.41.1/x86_64-linux-thread-multi-ld
/home/sand/src/perl/repoperls/installed-perls/host/k93msid/v5.41.1/8854/lib/site_perl/5.41.1
/home/sand/src/perl/repoperls/installed-perls/host/k93msid/v5.41.1/8854/lib/5.41.1/x86_64-linux-thread-multi-ld
/home/sand/src/perl/repoperls/installed-perls/host/k93msid/v5.41.1/8854/lib/5.41.1
.