Dist-Zilla-Plugin-BundleInspector v0.004 Perl 5 v5.24.3 OpenBSD.amd64-openbsd
- Status
- Pass
- From
- Alceu Rodrigues de Freitas Junior
- Dist
-
Dist-Zilla-Plugin-BundleInspector v0.004
- Platform
- Perl 5 v5.24.3 OpenBSD.amd64-openbsd
- Date
- 2017-11-29 05:30:02
- ID
- 5949ec1e-d4c6-11e7-9b56-7e38eb3b64b5
This distribution has been tested as part of the CPAN Testers
project, supporting the Perl programming language. See
http://wiki.cpantesters.org/ for more information or email
questions to cpan-testers-discuss@perl.org
--
Dear Randy Stauner,
This is a computer-generated report for Dist-Zilla-Plugin-BundleInspector-0.004
on perl 5.24.3, created by CPAN-Reporter-1.2018.
Thank you for uploading your work to CPAN. Congratulations!
All tests were successful.
Sections of this report:
* Tester comments
* Program output
* Prerequisites
* Environment and other context
------------------------------
TESTER COMMENTS
------------------------------
Additional comments from tester:
this report is from an automated smoke testing program
and was not reviewed by a human for accuracy
------------------------------
PROGRAM OUTPUT
------------------------------
Output from '/usr/bin/make test':
PERL_DL_NONLAZY=1 "/home/bar/perl5/perlbrew/perls/perl-5.24.3/bin/perl" "-MExtUtils::Command::MM" "-MTest::Harness" "-e" "undef *Test::Harness::Switches; test_harness(0, 'blib/lib', 'blib/arch')" t/*.t
t/00-compile.t ......... ok
#
# Versions for all modules listed in MYMETA.json (including optional ones):
#
# === Configure Requires ===
#
# Module Want Have
# ------------------- ---- -------
# ExtUtils::MakeMaker any 7.31_05
#
# === Build Requires ===
#
# Module Want Have
# ------------------- ---- -------
# ExtUtils::MakeMaker any 7.31_05
#
# === Test Requires ===
#
# Module Want Have
# ------------------------------------- ---- --------
# Dist::Zilla::Role::PluginBundle::Easy any 6.010
# ExtUtils::MakeMaker any 7.31_05
# File::Spec any 3.62
# File::Temp any 0.2304
# IO::Handle any 1.35
# IPC::Open3 any 1.20
# Path::Class any 0.37
# Test::DZil any 6.010
# Test::Differences any 0.64
# Test::More 0.96 1.302117
# lib any 0.63
#
# === Test Recommends ===
#
# Module Want Have
# ---------- -------- --------
# CPAN::Meta 2.120900 2.150010
#
# === Runtime Requires ===
#
# Module Want Have
# ----------------------------------- ----- --------
# Class::Load any 0.24
# Config::MVP::BundleInspector any 0.001
# Config::MVP::Writer::INI 0.003 0.005
# Dist::Zilla 4 6.010
# Dist::Zilla::Plugin::Bootstrap::lib any 1.001002
# Dist::Zilla::Role::FileMunger any 6.010
# Dist::Zilla::Role::PrereqSource any 6.010
# Moose any 2.2008
# Moose::Util::TypeConstraints any 2.2008
# MooseX::AttributeShortcuts any 0.036
# String::RewritePrefix any 0.007
# Sub::Override any 0.09
# Try::Tiny any 0.28
# namespace::autoclean any 0.28
# strict any 1.11
# warnings any 1.36
#
t/00-report-prereqs.t .. ok
t/attr.t ............... ok
t/inspector.t .......... ok
t/plugin.t ............. ok
All tests successful.
Files=5, Tests=12, 5 wallclock secs ( 0.02 usr 0.04 sys + 3.97 cusr 0.69 csys = 4.72 CPU)
Result: PASS
------------------------------
PREREQUISITES
------------------------------
Prerequisite modules loaded:
requires:
Module Need Have
------------------------------------- -------- --------
Class::Load 0 0.24
Config::MVP::BundleInspector 0 0.001
Config::MVP::Writer::INI 0.003 0.005
Dist::Zilla 4 6.010
Dist::Zilla::Plugin::Bootstrap::lib 0 1.001002
Dist::Zilla::Role::FileMunger 0 6.010
Dist::Zilla::Role::PrereqSource 0 6.010
Moose 0 2.2008
Moose::Util::TypeConstraints 0 2.2008
MooseX::AttributeShortcuts 0 0.036
namespace::autoclean 0 0.28
perl 5.006 5.024003
strict 0 1.11
String::RewritePrefix 0 0.007
Sub::Override 0 0.09
Try::Tiny 0 0.28
warnings 0 1.36
build_requires:
Module Need Have
------------------------------------- -------- --------
Dist::Zilla::Role::PluginBundle::Easy 0 6.010
ExtUtils::MakeMaker 0 7.31_05
File::Spec 0 3.62
File::Temp 0 0.2304
IO::Handle 0 1.35
IPC::Open3 0 1.20
lib 0 0.63
Path::Class 0 0.37
Test::Differences 0 0.64
Test::DZil 0 6.010
Test::More 0.96 1.302117
configure_requires:
Module Need Have
------------------------------------- -------- --------
ExtUtils::MakeMaker 0 7.31_05
perl 5.006 5.024003
opt_build_requires:
Module Need Have
------------------------------------- -------- --------
CPAN::Meta 2.120900 2.150010
------------------------------
ENVIRONMENT AND OTHER CONTEXT
------------------------------
Environment variables:
AUTOMATED_TESTING = 1
PATH = /home/bar/perl5/perlbrew/bin:/home/bar/perl5/perlbrew/perls/perl-5.24.3/bin:/home/bar/bin:/sbin:/usr/sbin:/bin:/usr/bin:/usr/X11R6/bin:/usr/local/sbin:/usr/local/bin
PERL5LIB =
PERL5OPT =
PERL5_CPANPLUS_IS_RUNNING = 21831
PERL5_CPAN_IS_RUNNING = 21831
PERL5_CPAN_IS_RUNNING_IN_RECURSION = 33141,21831
PERLBREW_BASHRC_VERSION = 0.80
PERLBREW_HOME = /home/bar/.perlbrew
PERLBREW_MANPATH = /home/bar/perl5/perlbrew/perls/perl-5.24.3/man
PERLBREW_PATH = /home/bar/perl5/perlbrew/bin:/home/bar/perl5/perlbrew/perls/perl-5.24.3/bin
PERLBREW_PERL = perl-5.24.3
PERLBREW_ROOT = /home/bar/perl5/perlbrew
PERLBREW_VERSION = 0.80
PERL_CR_SMOKER_CURRENT = Dist-Zilla-Plugin-BundleInspector-0.004
PERL_EXTUTILS_AUTOINSTALL = --defaultdeps
PERL_MM_USE_DEFAULT = 1
PERL_USE_UNSAFE_INC = 1
SHELL = /usr/local/bin/bash
TERM = xterm
Perl special variables (and OS-specific diagnostics, for MSWin32):
$^X = /home/bar/perl5/perlbrew/perls/perl-5.24.3/bin/perl
$UID/$EUID = 1002 / 1002
$GID = 1002 1002 1001
$EGID = 1002 1002 1001
Perl module toolchain versions installed:
Module Have
------------------- --------
CPAN 2.20
CPAN::Meta 2.150010
Cwd 3.62
ExtUtils::CBuilder 0.280230
ExtUtils::Command 7.31_05
ExtUtils::Install 2.14
ExtUtils::MakeMaker 7.31_05
ExtUtils::Manifest 1.70
ExtUtils::ParseXS 3.35
File::Spec 3.62
JSON 2.97000
JSON::PP 2.97000
Module::Build 0.4224
Module::Signature 0.81
Parse::CPAN::Meta 2.150010
Test::Harness 3.39
Test::More 1.302117
YAML 1.24
YAML::Syck 1.30
version 0.9918
--
Summary of my perl5 (revision 5 version 24 subversion 3) configuration:
Platform:
osname=openbsd, osvers=6.1, archname=OpenBSD.amd64-openbsd
uname='openbsd cpansmoker.my.domain 6.1 generic.mp#20 amd64 '
config_args='-de -Dprefix=/home/bar/perl5/perlbrew/perls/perl-5.24.3 -Aeval:scriptdir=/home/bar/perl5/perlbrew/perls/perl-5.24.3/bin'
hint=recommended, useposix=true, d_sigaction=define
useithreads=undef, usemultiplicity=undef
use64bitint=define, use64bitall=define, uselongdouble=undef
usemymalloc=n, bincompat5005=undef
Compiler:
cc='cc', ccflags ='-fno-strict-aliasing -pipe -fstack-protector-strong -I/usr/local/include -D_FORTIFY_SOURCE=2',
optimize='-O2',
cppflags='-fno-strict-aliasing -pipe -fstack-protector-strong -I/usr/local/include'
ccversion='', gccversion='4.2.1 20070719 ', gccosandvers='openbsd6.1'
intsize=4, longsize=8, ptrsize=8, doublesize=8, byteorder=12345678, doublekind=3
d_longlong=define, longlongsize=8, d_longdbl=define, longdblsize=16, longdblkind=3
ivtype='long', ivsize=8, nvtype='double', nvsize=8, Off_t='off_t', lseeksize=8
alignbytes=8, prototype=define
Linker and Libraries:
ld='cc', ldflags ='-Wl,-E -fstack-protector-strong -L/usr/local/lib'
libpth=/usr/lib /usr/local/lib
libs=-lpthread -lm -lutil -lc
perllibs=-lpthread -lm -lutil -lc
libc=/usr/lib/libc.so.89.3, so=so, useshrplib=false, libperl=libperl.a
gnulibc_version=''
Dynamic Linking:
dlsrc=dl_dlopen.xs, dlext=so, d_dlsymun=undef, ccdlflags=' '
cccdlflags='-DPIC -fPIC ', lddlflags='-shared -fPIC -L/usr/local/lib -fstack-protector-strong'
Characteristics of this binary (from libperl):
Compile-time options: HAS_TIMES PERLIO_LAYERS PERL_COPY_ON_WRITE
PERL_DONT_CREATE_GVSV
PERL_HASH_FUNC_ONE_AT_A_TIME_HARD PERL_MALLOC_WRAP
PERL_PRESERVE_IVUV USE_64_BIT_ALL USE_64_BIT_INT
USE_LARGE_FILES USE_LOCALE USE_LOCALE_COLLATE
USE_LOCALE_CTYPE USE_LOCALE_NUMERIC USE_LOCALE_TIME
USE_PERLIO USE_PERL_ATOF
Locally applied patches:
Devel::PatchPerl 1.48
Built under openbsd
Compiled at Nov 10 2017 21:17:21
%ENV:
PERL5LIB=""
PERL5OPT=""
PERL5_CPANPLUS_IS_RUNNING="21831"
PERL5_CPAN_IS_RUNNING="21831"
PERL5_CPAN_IS_RUNNING_IN_RECURSION="33141,21831"
PERLBREW_BASHRC_VERSION="0.80"
PERLBREW_HOME="/home/bar/.perlbrew"
PERLBREW_MANPATH="/home/bar/perl5/perlbrew/perls/perl-5.24.3/man"
PERLBREW_PATH="/home/bar/perl5/perlbrew/bin:/home/bar/perl5/perlbrew/perls/perl-5.24.3/bin"
PERLBREW_PERL="perl-5.24.3"
PERLBREW_ROOT="/home/bar/perl5/perlbrew"
PERLBREW_VERSION="0.80"
PERL_CR_SMOKER_CURRENT="Dist-Zilla-Plugin-BundleInspector-0.004"
PERL_EXTUTILS_AUTOINSTALL="--defaultdeps"
PERL_MM_USE_DEFAULT="1"
PERL_USE_UNSAFE_INC="1"
@INC:
/home/bar/perl5/perlbrew/perls/perl-5.24.3/lib/site_perl/5.24.3/OpenBSD.amd64-openbsd
/home/bar/perl5/perlbrew/perls/perl-5.24.3/lib/site_perl/5.24.3
/home/bar/perl5/perlbrew/perls/perl-5.24.3/lib/5.24.3/OpenBSD.amd64-openbsd
/home/bar/perl5/perlbrew/perls/perl-5.24.3/lib/5.24.3
.