Report for Data-Model-0.00007

Back
From: metabase:user:322078bc-2aae-11df-837a-5e0a49663a4f
Subject: PASS Data-Model-0.00007 v5.12.3 GNU/Linux
Date: 2011-05-01T10:11:15Z

This distribution has been tested as part of the CPAN Testers
project, supporting the Perl programming language.  See
http://wiki.cpantesters.org/ for more information or email
questions to cpan-testers-discuss@perl.org


--

Dear YAPPO,

This is a computer-generated error report created automatically by
CPANPLUS, version 0.9104. Testers personal comments may appear
at the end of this report.

MAKE TEST passed: PERL_DL_NONLAZY=1 /home/cpan/pit/bare/perl-5.12.3/bin/perl "-MExtUtils::Command::MM" "-e" "test_harness(0, 'inc', 'blib/lib', 'blib/arch')" t/*.t t/*/*.t t/*/*/*.t
t/00_compile.t ...................................................................................... ok
t/010_core/add_method.t ............................................................................. ok
t/010_core/iterator.t ............................................................................... ok
t/010_core/set_base_driver.t ........................................................................ ok
t/010_core/sql.t .................................................................................... ok
t/010_core/validate_column_options-pp.t ............................................................. ok
t/010_core/validate_column_options.t ................................................................ ok
t/010_core/validate_query_param-pp.t ................................................................ ok
t/010_core/validate_query_param.t ................................................................... ok
t/020_mock/cache-driver-memcached.t ................................................................. skipped: Cache::Memcached::Fast required for testing memcached driver
t/020_mock/create-mysql-sql.t ....................................................................... skipped: Set TEST_MYSQL environment variable to run this test
t/020_mock/create-sql.t ............................................................................. ok
t/020_mock/dbi-mysql-OnDuplicateKeyUpdate.t ......................................................... skipped: Set TEST_MYSQL environment variable to run this test
t/020_mock/dbi-mysql/alias_column-suger-rename.t .................................................... skipped: Set TEST_MYSQL environment variable to run this test
t/020_mock/dbi-mysql/alias_column-suger.t ........................................................... skipped: Set TEST_MYSQL environment variable to run this test
t/020_mock/dbi-mysql/alias_column.t ................................................................. skipped: Set TEST_MYSQL environment variable to run this test
t/020_mock/dbi-mysql/basic.t ........................................................................ skipped: Set TEST_MYSQL environment variable to run this test
t/020_mock/dbi-mysql/bigint.t ....................................................................... skipped: Set TEST_MYSQL environment variable to run this test
t/020_mock/dbi-mysql/binary.t ....................................................................... skipped: Set TEST_MYSQL environment variable to run this test
t/020_mock/dbi-mysql/cache-alias_column-suger-rename.t .............................................. skipped: Set TEST_MYSQL environment variable to run this test
t/020_mock/dbi-mysql/cache-alias_column-suger.t ..................................................... skipped: Set TEST_MYSQL environment variable to run this test
t/020_mock/dbi-mysql/cache-alias_column.t ........................................................... skipped: Set TEST_MYSQL environment variable to run this test
t/020_mock/dbi-mysql/cache-basic.t .................................................................. skipped: Set TEST_MYSQL environment variable to run this test
t/020_mock/dbi-mysql/cache-bigint.t ................................................................. skipped: Set TEST_MYSQL environment variable to run this test
t/020_mock/dbi-mysql/cache-binary.t ................................................................. skipped: Set TEST_MYSQL environment variable to run this test
t/020_mock/dbi-mysql/cache-default.t ................................................................ skipped: Set TEST_MYSQL environment variable to run this test
t/020_mock/dbi-mysql/cache-for_cache.t .............................................................. skipped: Set TEST_MYSQL environment variable to run this test
t/020_mock/dbi-mysql/cache-index.t .................................................................. skipped: Set TEST_MYSQL environment variable to run this test
t/020_mock/dbi-mysql/cache-inflate.t ................................................................ skipped: Set TEST_MYSQL environment variable to run this test
t/020_mock/dbi-mysql/cache-inflate_column-suger.t ................................................... skipped: Set TEST_MYSQL environment variable to run this test
t/020_mock/dbi-mysql/cache-iterator.t ............................................................... skipped: Set TEST_MYSQL environment variable to run this test
t/020_mock/dbi-mysql/cache-memcached-alias_column-suger-rename.t .................................... skipped: Set TEST_MYSQL environment variable to run this test
t/020_mock/dbi-mysql/cache-memcached-alias_column-suger.t ........................................... skipped: Set TEST_MYSQL environment variable to run this test
t/020_mock/dbi-mysql/cache-memcached-alias_column.t ................................................. skipped: Set TEST_MYSQL environment variable to run this test
t/020_mock/dbi-mysql/cache-memcached-basic.t ........................................................ skipped: Set TEST_MYSQL environment variable to run this test
t/020_mock/dbi-mysql/cache-memcached-bigint.t ....................................................... skipped: Set TEST_MYSQL environment variable to run this test
t/020_mock/dbi-mysql/cache-memcached-binary.t ....................................................... skipped: Set TEST_MYSQL environment variable to run this test
t/020_mock/dbi-mysql/cache-memcached-default.t ...................................................... skipped: Set TEST_MYSQL environment variable to run this test
t/020_mock/dbi-mysql/cache-memcached-for_cache.t .................................................... skipped: Set TEST_MYSQL environment variable to run this test
t/020_mock/dbi-mysql/cache-memcached-index.t ........................................................ skipped: Set TEST_MYSQL environment variable to run this test
t/020_mock/dbi-mysql/cache-memcached-inflate.t ...................................................... skipped: Set TEST_MYSQL environment variable to run this test
t/020_mock/dbi-mysql/cache-memcached-inflate_column-suger.t ......................................... skipped: Set TEST_MYSQL environment variable to run this test
t/020_mock/dbi-mysql/cache-memcached-iterator.t ..................................................... skipped: Set TEST_MYSQL environment variable to run this test
t/020_mock/dbi-mysql/cache-memcached-no_key.t ....................................................... skipped: Set TEST_MYSQL environment variable to run this test
t/020_mock/dbi-mysql/cache-memcached-transaction.t .................................................. skipped: Set TEST_MYSQL environment variable to run this test
t/020_mock/dbi-mysql/cache-no_key.t ................................................................. skipped: Set TEST_MYSQL environment variable to run this test
t/020_mock/dbi-mysql/cache-transaction.t ............................................................ skipped: Set TEST_MYSQL environment variable to run this test
t/020_mock/dbi-mysql/default.t ...................................................................... skipped: Set TEST_MYSQL environment variable to run this test
t/020_mock/dbi-mysql/for_cache.t .................................................................... skipped: Set TEST_MYSQL environment variable to run this test
t/020_mock/dbi-mysql/index.t ........................................................................ skipped: Set TEST_MYSQL environment variable to run this test
t/020_mock/dbi-mysql/inflate.t ...................................................................... skipped: Set TEST_MYSQL environment variable to run this test
t/020_mock/dbi-mysql/inflate_column-suger.t ......................................................... skipped: Set TEST_MYSQL environment variable to run this test
t/020_mock/dbi-mysql/iterator.t ..................................................................... skipped: Set TEST_MYSQL environment variable to run this test
t/020_mock/dbi-mysql/no_key.t ....................................................................... skipped: Set TEST_MYSQL environment variable to run this test
t/020_mock/dbi-mysql/transaction.t .................................................................. skipped: Set TEST_MYSQL environment variable to run this test
t/020_mock/dbi/alias_column-suger-rename.t .......................................................... ok
t/020_mock/dbi/alias_column-suger.t ................................................................. ok
t/020_mock/dbi/alias_column.t ....................................................................... ok
t/020_mock/dbi/basic.t .............................................................................. ok
t/020_mock/dbi/bigint.t ............................................................................. ok
t/020_mock/dbi/binary.t ............................................................................. ok
t/020_mock/dbi/cache-alias_column-suger-rename.t .................................................... ok
t/020_mock/dbi/cache-alias_column-suger.t ........................................................... ok
t/020_mock/dbi/cache-alias_column.t ................................................................. ok
t/020_mock/dbi/cache-basic.t ........................................................................ ok
t/020_mock/dbi/cache-bigint.t ....................................................................... ok
t/020_mock/dbi/cache-binary.t ....................................................................... ok
t/020_mock/dbi/cache-default.t ...................................................................... ok
t/020_mock/dbi/cache-for_cache.t .................................................................... ok
t/020_mock/dbi/cache-index.t ........................................................................ ok
t/020_mock/dbi/cache-inflate.t ...................................................................... ok
t/020_mock/dbi/cache-inflate_column-suger.t ......................................................... ok
t/020_mock/dbi/cache-iterator.t ..................................................................... ok
t/020_mock/dbi/cache-memcached-alias_column-suger-rename.t .......................................... skipped: Cache::Memcached::Fast required for testing memcached driver
t/020_mock/dbi/cache-memcached-alias_column-suger.t ................................................. skipped: Cache::Memcached::Fast required for testing memcached driver
t/020_mock/dbi/cache-memcached-alias_column.t ....................................................... skipped: Cache::Memcached::Fast required for testing memcached driver
t/020_mock/dbi/cache-memcached-basic.t .............................................................. skipped: Cache::Memcached::Fast required for testing memcached driver
t/020_mock/dbi/cache-memcached-bigint.t ............................................................. skipped: Cache::Memcached::Fast required for testing memcached driver
t/020_mock/dbi/cache-memcached-binary.t ............................................................. skipped: Cache::Memcached::Fast required for testing memcached driver
t/020_mock/dbi/cache-memcached-default.t ............................................................ skipped: Cache::Memcached::Fast required for testing memcached driver
t/020_mock/dbi/cache-memcached-for_cache.t .......................................................... skipped: Cache::Memcached::Fast required for testing memcached driver
t/020_mock/dbi/cache-memcached-index.t .............................................................. skipped: Cache::Memcached::Fast required for testing memcached driver
t/020_mock/dbi/cache-memcached-inflate.t ............................................................ skipped: Cache::Memcached::Fast required for testing memcached driver
t/020_mock/dbi/cache-memcached-inflate_column-suger.t ............................................... skipped: Cache::Memcached::Fast required for testing memcached driver
t/020_mock/dbi/cache-memcached-iterator.t ........................................................... skipped: Cache::Memcached::Fast required for testing memcached driver
t/020_mock/dbi/cache-memcached-no_key.t ............................................................. skipped: Cache::Memcached::Fast required for testing memcached driver
t/020_mock/dbi/cache-memcached-transaction.t ........................................................ skipped: Cache::Memcached::Fast required for testing memcached driver
t/020_mock/dbi/cache-no_key.t ....................................................................... ok
t/020_mock/dbi/cache-transaction.t .................................................................. ok
t/020_mock/dbi/default.t ............................................................................ ok
t/020_mock/dbi/for_cache.t .......................................................................... ok
t/020_mock/dbi/index.t .............................................................................. ok
t/020_mock/dbi/inflate.t ............................................................................ ok
t/020_mock/dbi/inflate_column-suger.t ............................................................... ok
t/020_mock/dbi/iterator.t ........................................................................... ok
t/020_mock/dbi/no_key.t ............................................................................. ok
t/020_mock/dbi/transaction.t ........................................................................ ok
t/020_mock/driver-memcached/basic.t ................................................................. skipped: Cache::Memcached::Fast required for testing memcached driver
t/020_mock/driver-memcached/changed-serializer-with-ignore_undef_value.t ............................ skipped: Cache::Memcached::Fast required for testing memcached driver
t/020_mock/driver-memcached/changed-serializer-with-strip-ignore_undef_value.t ...................... skipped: Cache::Memcached::Fast required for testing memcached driver
t/020_mock/driver-memcached/changed-serializer-with-strip.t ......................................... skipped: Cache::Memcached::Fast required for testing memcached driver
t/020_mock/driver-memcached/changed-serializer.t .................................................... skipped: Cache::Memcached::Fast required for testing memcached driver
t/020_mock/driver-memcached/column_model_rename-changed-serializer-with-ignore_undef_value.t ........ skipped: Cache::Memcached::Fast required for testing memcached driver
t/020_mock/driver-memcached/column_model_rename-changed-serializer-with-strip-ignore_undef_value.t .. skipped: Cache::Memcached::Fast required for testing memcached driver
t/020_mock/driver-memcached/column_model_rename-changed-serializer-with-strip.t ..................... skipped: Cache::Memcached::Fast required for testing memcached driver
t/020_mock/driver-memcached/column_model_rename-changed-serializer.t ................................ skipped: Cache::Memcached::Fast required for testing memcached driver
t/020_mock/driver-memcached/column_model_rename-ignore_undef_value.t ................................ skipped: Cache::Memcached::Fast required for testing memcached driver
t/020_mock/driver-memcached/column_model_rename-strip-ignore_undef_value.t .......................... skipped: Cache::Memcached::Fast required for testing memcached driver
t/020_mock/driver-memcached/column_model_rename-strip.t ............................................. skipped: Cache::Memcached::Fast required for testing memcached driver
t/020_mock/driver-memcached/column_model_rename.t ................................................... skipped: Cache::Memcached::Fast required for testing memcached driver
t/020_mock/driver-memcached/column_rename-changed-serializer-with-ignore_undef_value.t .............. skipped: Cache::Memcached::Fast required for testing memcached driver
t/020_mock/driver-memcached/column_rename-changed-serializer-with-strip-ignore_undef_value.t ........ skipped: Cache::Memcached::Fast required for testing memcached driver
t/020_mock/driver-memcached/column_rename-changed-serializer-with-strip.t ........................... skipped: Cache::Memcached::Fast required for testing memcached driver
t/020_mock/driver-memcached/column_rename-changed-serializer.t ...................................... skipped: Cache::Memcached::Fast required for testing memcached driver
t/020_mock/driver-memcached/column_rename-ignore_undef_value.t ...................................... skipped: Cache::Memcached::Fast required for testing memcached driver
t/020_mock/driver-memcached/column_rename-strip-ignore_undef_value.t ................................ skipped: Cache::Memcached::Fast required for testing memcached driver
t/020_mock/driver-memcached/column_rename-strip.t ................................................... skipped: Cache::Memcached::Fast required for testing memcached driver
t/020_mock/driver-memcached/column_rename.t ......................................................... skipped: Cache::Memcached::Fast required for testing memcached driver
t/020_mock/driver-memcached/ignore_undef_value.t .................................................... skipped: Cache::Memcached::Fast required for testing memcached driver
t/020_mock/driver-memcached/model_rename-changed-serializer-with-ignore_undef_value.t ............... skipped: Cache::Memcached::Fast required for testing memcached driver
t/020_mock/driver-memcached/model_rename-changed-serializer-with-strip-ignore_undef_value.t ......... skipped: Cache::Memcached::Fast required for testing memcached driver
t/020_mock/driver-memcached/model_rename-changed-serializer-with-strip.t ............................ skipped: Cache::Memcached::Fast required for testing memcached driver
t/020_mock/driver-memcached/model_rename-changed-serializer.t ....................................... skipped: Cache::Memcached::Fast required for testing memcached driver
t/020_mock/driver-memcached/model_rename-ignore_undef_value.t ....................................... skipped: Cache::Memcached::Fast required for testing memcached driver
t/020_mock/driver-memcached/model_rename-strip-ignore_undef_value.t ................................. skipped: Cache::Memcached::Fast required for testing memcached driver
t/020_mock/driver-memcached/model_rename-strip.t .................................................... skipped: Cache::Memcached::Fast required for testing memcached driver
t/020_mock/driver-memcached/model_rename.t .......................................................... skipped: Cache::Memcached::Fast required for testing memcached driver
t/020_mock/driver-memcached/strip-ignore_undef_value.t .............................................. skipped: Cache::Memcached::Fast required for testing memcached driver
t/020_mock/driver-memcached/strip.t ................................................................. skipped: Cache::Memcached::Fast required for testing memcached driver
t/020_mock/instance.t ............................................................................... ok
t/020_mock/logic-simple.t ........................................................................... ok
t/020_mock/memcached/bigint.t ....................................................................... skipped: Cache::Memcached::Fast required for testing memcached driver
t/020_mock/memcached/cache-bigint.t ................................................................. skipped: Cache::Memcached::Fast required for testing memcached driver
t/020_mock/memcached/cache-memcached-bigint.t ....................................................... skipped: Cache::Memcached::Fast required for testing memcached driver
t/020_mock/memory/alias_column-suger-rename.t ....................................................... ok
t/020_mock/memory/alias_column-suger.t .............................................................. ok
t/020_mock/memory/alias_column.t .................................................................... ok
t/020_mock/memory/basic.t ........................................................................... ok
t/020_mock/memory/bigint.t .......................................................................... ok
t/020_mock/memory/binary.t .......................................................................... ok
t/020_mock/memory/cache-alias_column-suger-rename.t ................................................. ok
t/020_mock/memory/cache-alias_column-suger.t ........................................................ ok
t/020_mock/memory/cache-alias_column.t .............................................................. ok
t/020_mock/memory/cache-basic.t ..................................................................... ok
t/020_mock/memory/cache-bigint.t .................................................................... ok
t/020_mock/memory/cache-binary.t .................................................................... ok
t/020_mock/memory/cache-default.t ................................................................... ok
t/020_mock/memory/cache-for_cache.t ................................................................. ok
t/020_mock/memory/cache-index.t ..................................................................... ok
t/020_mock/memory/cache-inflate.t ................................................................... ok
t/020_mock/memory/cache-inflate_column-suger.t ...................................................... ok
t/020_mock/memory/cache-iterator.t .................................................................. ok
t/020_mock/memory/cache-memcached-alias_column-suger-rename.t ....................................... skipped: Cache::Memcached::Fast required for testing memcached driver
t/020_mock/memory/cache-memcached-alias_column-suger.t .............................................. skipped: Cache::Memcached::Fast required for testing memcached driver
t/020_mock/memory/cache-memcached-alias_column.t .................................................... skipped: Cache::Memcached::Fast required for testing memcached driver
t/020_mock/memory/cache-memcached-basic.t ........................................................... skipped: Cache::Memcached::Fast required for testing memcached driver
t/020_mock/memory/cache-memcached-bigint.t .......................................................... skipped: Cache::Memcached::Fast required for testing memcached driver
t/020_mock/memory/cache-memcached-binary.t .......................................................... skipped: Cache::Memcached::Fast required for testing memcached driver
t/020_mock/memory/cache-memcached-default.t ......................................................... skipped: Cache::Memcached::Fast required for testing memcached driver
t/020_mock/memory/cache-memcached-for_cache.t ....................................................... skipped: Cache::Memcached::Fast required for testing memcached driver
t/020_mock/memory/cache-memcached-index.t ........................................................... skipped: Cache::Memcached::Fast required for testing memcached driver
t/020_mock/memory/cache-memcached-inflate.t ......................................................... skipped: Cache::Memcached::Fast required for testing memcached driver
t/020_mock/memory/cache-memcached-inflate_column-suger.t ............................................ skipped: Cache::Memcached::Fast required for testing memcached driver
t/020_mock/memory/cache-memcached-iterator.t ........................................................ skipped: Cache::Memcached::Fast required for testing memcached driver
t/020_mock/memory/cache-memcached-no_key.t .......................................................... skipped: Cache::Memcached::Fast required for testing memcached driver
t/020_mock/memory/cache-no_key.t .................................................................... ok
t/020_mock/memory/default.t ......................................................................... ok
t/020_mock/memory/for_cache.t ....................................................................... ok
t/020_mock/memory/index.t ........................................................................... ok
t/020_mock/memory/inflate.t ......................................................................... ok
t/020_mock/memory/inflate_column-suger.t ............................................................ ok
t/020_mock/memory/iterator.t ........................................................................ ok
t/020_mock/memory/no_key.t .......................................................................... ok
t/030_dbi/master_slave.t ............................................................................ ok
t/030_dbi/q4m.t ..................................................................................... skipped: Set TEST_Q4M environment variable to run this test
t/030_dbi/reuse_dbh-with-mysql_auto_reconnect.t ..................................................... skipped: Set TEST_MYSQL environment variable to run this test
t/030_dbi/reuse_dbh.t ............................................................................... ok
t/030_dbi/sqlite_collate_binary.t ................................................................... ok
t/030_dbi/stack_trace.t ............................................................................. ok
t/030_dbi/update-scalarref.t ........................................................................ ok
t/040_inflate/uuid.t ................................................................................ skipped: Data::UUID is not installed
t/050_mixin/base.t .................................................................................. ok
t/050_mixin/find_or_create.t ........................................................................ ok
t/060_driver/memcached/column_name-rename.t ......................................................... skipped: Cache::Memcached::Fast required for testing memcached driver
t/060_driver/memcached/ignore_undef_value.t ......................................................... ok
t/060_driver/memcached/model_name-rename.t .......................................................... skipped: Cache::Memcached::Fast required for testing memcached driver
t/060_driver/memcached/serializer.t ................................................................. ok
t/060_driver/memcached/strip_keys.t ................................................................. ok
t/060_driver/memcached/with_server.t ................................................................ skipped: Cache::Memcached::Fast required for testing memcached driver
All tests successful.
Files=189, Tests=5342, 62 wallclock secs ( 1.12 usr  0.37 sys + 19.25 cusr  3.83 csys = 24.57 CPU)
Result: PASS

[MSG] [Sun May  1 11:10:30 2011] Sending test report for 'Data-Model-0.00007'

This report was machine-generated by CPANPLUS::Dist::YACSmoke 0.62.
Powered by minismokebox version 0.44

------------------------------
ENVIRONMENT AND OTHER CONTEXT
------------------------------

Environment variables:

    AUTOMATED_TESTING = 1
    LANG = en_US
    LC_COLLATE = C
    PATH = /usr/local/bin:/usr/bin:/bin:/usr/games:/usr/lib64/java/bin:/usr/lib64/qt/bin:/usr/share/texmf/bin:.
    PERL5LIB = :/home/cpan/pit/bare/conf/perl-5.12.3/.cpanplus/5.12.3/build/IO-stringy-2.110/blib/lib:/home/cpan/pit/bare/conf/perl-5.12.3/.cpanplus/5.12.3/build/IO-stringy-2.110/blib/arch:/home/cpan/pit/bare/conf/perl-5.12.3/.cpanplus/5.12.3/build/Class-Trigger-0.14/blib/lib:/home/cpan/pit/bare/conf/perl-5.12.3/.cpanplus/5.12.3/build/Class-Trigger-0.14/blib/arch:/home/cpan/pit/bare/conf/perl-5.12.3/.cpanplus/5.12.3/build/DBI-1.616/blib/lib:/home/cpan/pit/bare/conf/perl-5.12.3/.cpanplus/5.12.3/build/DBI-1.616/blib/arch:/home/cpan/pit/bare/conf/perl-5.12.3/.cpanplus/5.12.3/build/DBD-SQLite-1.31/blib/lib:/home/cpan/pit/bare/conf/perl-5.12.3/.cpanplus/5.12.3/build/DBD-SQLite-1.31/blib/arch:/home/cpan/pit/bare/conf/perl-5.12.3/.cpanplus/5.12.3/build/Params-Validate-0.98/blib/lib:/home/cpan/pit/bare/conf/perl-5.12.3/.cpanplus/5.12.3/build/Params-Validate-0.98/blib/arch:/home/cpan/pit/bare/conf/perl-5.12.3/.cpanplus/5.12.3/build/Path-Class-0.23/blib/lib:/home/cpan/pit/bare/conf/perl-5.12.3/.cpanplus/5.12.3/build/Path-Class-0.23/blib/arch:/home/cpan/pit/bare/conf/perl-5.12.3/.cpanplus/5.12.3/build/MRO-Compat-0.11/blib/lib:/home/cpan/pit/bare/conf/perl-5.12.3/.cpanplus/5.12.3/build/MRO-Compat-0.11/blib/arch:/home/cpan/pit/bare/conf/perl-5.12.3/.cpanplus/5.12.3/build/Sub-Uplevel-0.22/blib/lib:/home/cpan/pit/bare/conf/perl-5.12.3/.cpanplus/5.12.3/build/Sub-Uplevel-0.22/blib/arch:/home/cpan/pit/bare/conf/perl-5.12.3/.cpanplus/5.12.3/build/Test-Exception-0.31/blib/lib:/home/cpan/pit/bare/conf/perl-5.12.3/.cpanplus/5.12.3/build/Test-Exception-0.31/blib/arch:/home/cpan/pit/bare/conf/perl-5.12.3/.cpanplus/5.12.3/build/Test-Class-0.36/blib/lib:/home/cpan/pit/bare/conf/perl-5.12.3/.cpanplus/5.12.3/build/Test-Class-0.36/blib/arch:/home/cpan/pit/bare/conf/perl-5.12.3/.cpanplus/5.12.3/build/URI-1.58/blib/lib:/home/cpan/pit/bare/conf/perl-5.12.3/.cpanplus/5.12.3/build/URI-1.58/blib/arch:/home/cpan/pit/bare/conf/perl-5.12.3/.cpanplus/5.12.3/build/Data-Model-0.00007/blib/lib:/home/cpan/pit/bare/conf/perl-5.12.3/.cpanplus/5.12.3/build/Data-Model-0.00007/blib/arch
    PERL5_CPANPLUS_IS_RUNNING = 17354
    PERL5_CPANPLUS_IS_VERSION = 0.9104
    PERL5_MINISMOKEBOX = 0.44
    PERL5_YACSMOKE_BASE = /home/cpan/pit/bare/conf/perl-5.12.3
    PERL_EXTUTILS_AUTOINSTALL = --defaultdeps
    PERL_MM_USE_DEFAULT = 1
    SHELL = /bin/bash
    TERM = screen

Perl special variables (and OS-specific diagnostics, for MSWin32):

    Perl: $^X = /home/cpan/pit/bare/perl-5.12.3/bin/perl
    UID:  $<  = 1001
    EUID: $>  = 1001
    GID:  $(  = 100 100
    EGID: $)  = 100 100


-------------------------------


--

Summary of my perl5 (revision 5 version 12 subversion 3) configuration:
   
  Platform:
    osname=linux, osvers=2.6.33.4, archname=x86_64-linux
    uname='linux slack64 2.6.33.4 #3 smp wed may 12 23:13:09 cdt 2010 x86_64 intel(r) xeon(r) cpu e5520 @ 2.27ghz genuineintel gnulinux '
    config_args='-des -Dprefix=/home/cpan/pit/bare/perl-5.12.3'
    hint=recommended, useposix=true, d_sigaction=define
    useithreads=undef, usemultiplicity=undef
    useperlio=define, d_sfio=undef, uselargefiles=define, usesocks=undef
    use64bitint=define, use64bitall=define, uselongdouble=undef
    usemymalloc=n, bincompat5005=undef
  Compiler:
    cc='cc', ccflags ='-fno-strict-aliasing -pipe -fstack-protector -I/usr/local/include -D_LARGEFILE_SOURCE -D_FILE_OFFSET_BITS=64',
    optimize='-O2',
    cppflags='-fno-strict-aliasing -pipe -fstack-protector -I/usr/local/include'
    ccversion='', gccversion='4.4.4', gccosandvers=''
    intsize=4, longsize=8, ptrsize=8, doublesize=8, byteorder=12345678
    d_longlong=define, longlongsize=8, d_longdbl=define, longdblsize=16
    ivtype='long', ivsize=8, nvtype='double', nvsize=8, Off_t='off_t', lseeksize=8
    alignbytes=8, prototype=define
  Linker and Libraries:
    ld='cc', ldflags =' -fstack-protector -L/usr/local/lib'
    libpth=/usr/local/lib /lib /usr/lib /lib64 /usr/lib64 /usr/local/lib64
    libs=-lnsl -lgdbm -ldb -ldl -lm -lcrypt -lutil -lc
    perllibs=-lnsl -ldl -lm -lcrypt -lutil -lc
    libc=, so=so, useshrplib=false, libperl=libperl.a
    gnulibc_version='2.11.1'
  Dynamic Linking:
    dlsrc=dl_dlopen.xs, dlext=so, d_dlsymun=undef, ccdlflags='-Wl,-E'
    cccdlflags='-fPIC', lddlflags='-shared -O2 -L/usr/local/lib -fstack-protector'


Characteristics of this binary (from libperl): 
  Compile-time options: PERL_DONT_CREATE_GVSV PERL_MALLOC_WRAP USE_64_BIT_ALL
                        USE_64_BIT_INT USE_LARGE_FILES USE_PERLIO
                        USE_PERL_ATOF
  Built under linux
  Compiled at Feb 15 2011 14:55:53
  %ENV:
    PERL5LIB=":/home/cpan/pit/bare/conf/perl-5.12.3/.cpanplus/5.12.3/build/IO-stringy-2.110/blib/lib:/home/cpan/pit/bare/conf/perl-5.12.3/.cpanplus/5.12.3/build/IO-stringy-2.110/blib/arch:/home/cpan/pit/bare/conf/perl-5.12.3/.cpanplus/5.12.3/build/Class-Trigger-0.14/blib/lib:/home/cpan/pit/bare/conf/perl-5.12.3/.cpanplus/5.12.3/build/Class-Trigger-0.14/blib/arch:/home/cpan/pit/bare/conf/perl-5.12.3/.cpanplus/5.12.3/build/DBI-1.616/blib/lib:/home/cpan/pit/bare/conf/perl-5.12.3/.cpanplus/5.12.3/build/DBI-1.616/blib/arch:/home/cpan/pit/bare/conf/perl-5.12.3/.cpanplus/5.12.3/build/DBD-SQLite-1.31/blib/lib:/home/cpan/pit/bare/conf/perl-5.12.3/.cpanplus/5.12.3/build/DBD-SQLite-1.31/blib/arch:/home/cpan/pit/bare/conf/perl-5.12.3/.cpanplus/5.12.3/build/Params-Validate-0.98/blib/lib:/home/cpan/pit/bare/conf/perl-5.12.3/.cpanplus/5.12.3/build/Params-Validate-0.98/blib/arch:/home/cpan/pit/bare/conf/perl-5.12.3/.cpanplus/5.12.3/build/Path-Class-0.23/blib/lib:/home/cpan/pit/bare/conf/perl-5.12.3/.cpanplus/5.12.3/build/Path-Class-0.23/blib/arch:/home/cpan/pit/bare/conf/perl-5.12.3/.cpanplus/5.12.3/build/MRO-Compat-0.11/blib/lib:/home/cpan/pit/bare/conf/perl-5.12.3/.cpanplus/5.12.3/build/MRO-Compat-0.11/blib/arch:/home/cpan/pit/bare/conf/perl-5.12.3/.cpanplus/5.12.3/build/Sub-Uplevel-0.22/blib/lib:/home/cpan/pit/bare/conf/perl-5.12.3/.cpanplus/5.12.3/build/Sub-Uplevel-0.22/blib/arch:/home/cpan/pit/bare/conf/perl-5.12.3/.cpanplus/5.12.3/build/Test-Exception-0.31/blib/lib:/home/cpan/pit/bare/conf/perl-5.12.3/.cpanplus/5.12.3/build/Test-Exception-0.31/blib/arch:/home/cpan/pit/bare/conf/perl-5.12.3/.cpanplus/5.12.3/build/Test-Class-0.36/blib/lib:/home/cpan/pit/bare/conf/perl-5.12.3/.cpanplus/5.12.3/build/Test-Class-0.36/blib/arch:/home/cpan/pit/bare/conf/perl-5.12.3/.cpanplus/5.12.3/build/URI-1.58/blib/lib:/home/cpan/pit/bare/conf/perl-5.12.3/.cpanplus/5.12.3/build/URI-1.58/blib/arch:/home/cpan/pit/bare/conf/perl-5.12.3/.cpanplus/5.12.3/build/Data-Model-0.00007/blib/lib:/home/cpan/pit/bare/conf/perl-5.12.3/.cpanplus/5.12.3/build/Data-Model-0.00007/blib/arch"
    PERL5_CPANPLUS_IS_RUNNING="17354"
    PERL5_CPANPLUS_IS_VERSION="0.9104"
    PERL5_MINISMOKEBOX="0.44"
    PERL5_YACSMOKE_BASE="/home/cpan/pit/bare/conf/perl-5.12.3"
    PERL_EXTUTILS_AUTOINSTALL="--defaultdeps"
    PERL_MM_USE_DEFAULT="1"
  @INC:
    /home/cpan/pit/bare/conf/perl-5.12.3/.cpanplus/5.12.3/build/IO-stringy-2.110/blib/lib
    /home/cpan/pit/bare/conf/perl-5.12.3/.cpanplus/5.12.3/build/IO-stringy-2.110/blib/arch
    /home/cpan/pit/bare/conf/perl-5.12.3/.cpanplus/5.12.3/build/Class-Trigger-0.14/blib/lib
    /home/cpan/pit/bare/conf/perl-5.12.3/.cpanplus/5.12.3/build/Class-Trigger-0.14/blib/arch
    /home/cpan/pit/bare/conf/perl-5.12.3/.cpanplus/5.12.3/build/DBI-1.616/blib/lib
    /home/cpan/pit/bare/conf/perl-5.12.3/.cpanplus/5.12.3/build/DBI-1.616/blib/arch
    /home/cpan/pit/bare/conf/perl-5.12.3/.cpanplus/5.12.3/build/DBD-SQLite-1.31/blib/lib
    /home/cpan/pit/bare/conf/perl-5.12.3/.cpanplus/5.12.3/build/DBD-SQLite-1.31/blib/arch
    /home/cpan/pit/bare/conf/perl-5.12.3/.cpanplus/5.12.3/build/Params-Validate-0.98/blib/lib
    /home/cpan/pit/bare/conf/perl-5.12.3/.cpanplus/5.12.3/build/Params-Validate-0.98/blib/arch
    /home/cpan/pit/bare/conf/perl-5.12.3/.cpanplus/5.12.3/build/Path-Class-0.23/blib/lib
    /home/cpan/pit/bare/conf/perl-5.12.3/.cpanplus/5.12.3/build/Path-Class-0.23/blib/arch
    /home/cpan/pit/bare/conf/perl-5.12.3/.cpanplus/5.12.3/build/MRO-Compat-0.11/blib/lib
    /home/cpan/pit/bare/conf/perl-5.12.3/.cpanplus/5.12.3/build/MRO-Compat-0.11/blib/arch
    /home/cpan/pit/bare/conf/perl-5.12.3/.cpanplus/5.12.3/build/Sub-Uplevel-0.22/blib/lib
    /home/cpan/pit/bare/conf/perl-5.12.3/.cpanplus/5.12.3/build/Sub-Uplevel-0.22/blib/arch
    /home/cpan/pit/bare/conf/perl-5.12.3/.cpanplus/5.12.3/build/Test-Exception-0.31/blib/lib
    /home/cpan/pit/bare/conf/perl-5.12.3/.cpanplus/5.12.3/build/Test-Exception-0.31/blib/arch
    /home/cpan/pit/bare/conf/perl-5.12.3/.cpanplus/5.12.3/build/Test-Class-0.36/blib/lib
    /home/cpan/pit/bare/conf/perl-5.12.3/.cpanplus/5.12.3/build/Test-Class-0.36/blib/arch
    /home/cpan/pit/bare/conf/perl-5.12.3/.cpanplus/5.12.3/build/URI-1.58/blib/lib
    /home/cpan/pit/bare/conf/perl-5.12.3/.cpanplus/5.12.3/build/URI-1.58/blib/arch
    /home/cpan/pit/bare/conf/perl-5.12.3/.cpanplus/5.12.3/build/Data-Model-0.00007/blib/lib
    /home/cpan/pit/bare/conf/perl-5.12.3/.cpanplus/5.12.3/build/Data-Model-0.00007/blib/arch
    /home/cpan/pit/bare/perl-5.12.3/lib/site_perl/5.12.3/x86_64-linux
    /home/cpan/pit/bare/perl-5.12.3/lib/site_perl/5.12.3
    /home/cpan/pit/bare/perl-5.12.3/lib/5.12.3/x86_64-linux
    /home/cpan/pit/bare/perl-5.12.3/lib/5.12.3
    .