CatalystX-SimpleLogin v0.21 Perl 5 v5.33.9 x86_64-dragonfly
- Status
- Pass
- From
- Carlos Guevara
- Dist
-
CatalystX-SimpleLogin v0.21
- Platform
- Perl 5 v5.33.9 x86_64-dragonfly
- Date
- 2021-03-23 16:25:15
- ID
- 593ca62e-8bf4-11eb-a43c-1280c93d32cd
This distribution has been tested as part of the CPAN Testers
project, supporting the Perl programming language. See
http://wiki.cpantesters.org/ for more information or email
questions to cpan-testers-discuss@perl.org
--
Dear Alexander Hartmaier,
This is a computer-generated report for CatalystX-SimpleLogin-0.21
on perl 5.33.9, created by CPAN-Reporter-1.2018.
Thank you for uploading your work to CPAN. Congratulations!
All tests were successful.
Sections of this report:
* Tester comments
* Program output
* Prerequisites
* Environment and other context
------------------------------
TESTER COMMENTS
------------------------------
Additional comments from tester:
this report is from an automated smoke testing program
and was not reviewed by a human for accuracy
------------------------------
PROGRAM OUTPUT
------------------------------
Output from '/usr/bin/make test':
PERL_DL_NONLAZY=1 "/home/cpan/bin/perl-blead/bin/perl5.33.9" "-MExtUtils::Command::MM" "-MTest::Harness" "-e" "undef *Test::Harness::Switches; test_harness(0, 'inc', 'blib/lib', 'blib/arch')" t/*.t
t/00-load.t ........................... ok
[warn] Attempted to use view 'TestApp::View::HTML', but does not exist
t/01-live-test.t ...................... ok
[warn] Attempted to use view 'TestAppRedirect::View::HTML', but does not exist
t/02-redirect-test.t .................. ok
t/03-login-form.t ..................... ok
[warn] Attempted to use view 'TestAppRedirect::View::HTML', but does not exist
t/04-test-role-apply-order.t .......... ok
[warn] Attempted to use view 'TestAppRedirect::View::HTML', but does not exist
t/05-login-redirect-custom-message.t .. ok
[warn] Attempted to use view 'TestAppRenderTT::View::HTML', but does not exist
t/06-rendertt.t ....................... ok
t/07-openid-live.t .................... skipped: OpenID dependencies not installed
t/08-dbic-mappedfields.t .............. skipped: Test needs MooseX::Types::JSON >= 0.02, MooseX::Types::Path::Class >= 0.05 (see DBIx::Class::Optional::Dependencies for details)
[warn] Attempted to use view 'TestAppClearSession::View::HTML', but does not exist
t/09-clearsession.t ................... ok
[warn] Attempted to use view 'TestAppFormArgs::View::HTML', but does not exist
t/10-form-args.t ...................... ok
[warn] Attempted to use view 'TestApp::View::HTML', but does not exist
t/chained_parts.t ..................... ok
All tests successful.
Files=12, Tests=100, 25 wallclock secs ( 0.07 usr 0.04 sys + 22.33 cusr 1.69 csys = 24.12 CPU)
Result: PASS
------------------------------
PREREQUISITES
------------------------------
Prerequisite modules loaded:
requires:
Module Need Have
---------------------------------------- ------- --------
Catalyst::Action::RenderView 0 0.16
Catalyst::Action::REST 0.74 1.21
Catalyst::ActionRole::ACL 0 0.07
Catalyst::Plugin::Authentication 0 0.10023
Catalyst::Plugin::Session 0.35 0.41
Catalyst::Plugin::Session::State::Cookie 0 0.18
Catalyst::Runtime 5.80013 5.90128
Catalyst::View::TT 0 0.45
CatalystX::Component::Traits 0.13 0.19
CatalystX::InjectComponent 0 0.025
Class::Load 0.20 0.25
File::Temp 0 0.2311
HTML::FormHandler 0.28001 0.40068
HTTP::Request::Common 0 6.29
Moose 0 2.2014
MooseX::MethodAttributes 0.18 0.32
MooseX::RelatedClassRoles 0.004 0.004
MooseX::Types 0 0.50
MooseX::Types::Common 0 0.001014
namespace::autoclean 0 0.29
SQL::Translator 0 1.62
Test::Exception 0 0.43
Test::More 0.94 1.302183
Try::Tiny 0.24 0.30
build_requires:
Module Need Have
---------------------------------------- ------- --------
Catalyst::Action::RenderView 0 0.16
Catalyst::ActionRole::ACL 0 0.07
Catalyst::Plugin::Session::State::Cookie 0 0.18
CatalystX::InjectComponent 0 0.025
Class::Load 0.20 0.25
ExtUtils::MakeMaker 6.36 7.60
File::Temp 0 0.2311
HTTP::Request::Common 0 6.29
SQL::Translator 0 1.62
Test::Exception 0 0.43
Test::More 0.94 1.302183
configure_requires:
Module Need Have
---------------------------------------- ------- --------
ExtUtils::MakeMaker 6.36 7.60
------------------------------
ENVIRONMENT AND OTHER CONTEXT
------------------------------
Environment variables:
AUTOMATED_TESTING = 1
DATE_MANIP_TEST_DM5 = 1
LC_ALL = C
NONINTERACTIVE_TESTING = 1
PATH = /home/cpan/bin/perl-blead/bin:/home/cpan/bin:/sbin:/bin:/usr/sbin:/usr/bin:/usr/games:/usr/local/sbin:/usr/local/bin:/usr/pkg/sbin:/usr/pkg/bin:/home/cpan/bin
PERL5LIB =
PERL5OPT =
PERL5_CPANPLUS_IS_RUNNING = 237062
PERL5_CPAN_IS_RUNNING = 237062
PERL_MM_USE_DEFAULT = 1
PERL_USE_UNSAFE_INC = 1
PERL_VERSION = blead
SHELL = /usr/local/bin/bash
TERM = screen.xterm-256color
TMPDIR = /home/cpan/tmp
Perl special variables (and OS-specific diagnostics, for MSWin32):
$^X = /home/cpan/bin/perl-blead/bin/perl5.33.9
$UID/$EUID = 1002 / 1002
$GID = 1002 1002
$EGID = 1002 1002
Perl module toolchain versions installed:
Module Have
------------------- --------
CPAN 2.28
CPAN::Meta 2.150010
Cwd 3.80
ExtUtils::CBuilder 0.280236
ExtUtils::Command 7.60
ExtUtils::Install 2.20
ExtUtils::MakeMaker 7.60
ExtUtils::Manifest 1.73
ExtUtils::ParseXS 3.42
File::Spec 3.80
JSON 4.03
JSON::PP 4.06
Module::Build 0.4231
Module::Signature n/a
Parse::CPAN::Meta 2.150010
Test::Harness 3.43
Test::More 1.302183
YAML 1.30
YAML::Syck 1.34
version 0.9928
--
Summary of my perl5 (revision 5 version 33 subversion 9) configuration:
Commit id: 3e25f6d2dce9289bf3894d673f992195fb530d8e
Platform:
osname=dragonfly
osvers=5.8-release
archname=x86_64-dragonfly
uname='dragonfly cjg-dragonfly5 5.8-release dragonfly v5.8.3-release #10: thu sep 24 19:19:45 edt 2020 root@www.shiningsilence.com:usrobjhomejustinrelease5_8sysx86_64_generic x86_64 '
config_args='-des -Dprefix=~/bin/perl-blead -Dscriptdir=~/bin/perl-blead/bin -Dusedevel -Duse64bitall'
hint=recommended
useposix=true
d_sigaction=define
useithreads=undef
usemultiplicity=undef
use64bitint=define
use64bitall=define
uselongdouble=undef
usemymalloc=n
default_inc_excludes_dot=define
Compiler:
cc='cc'
ccflags ='-DHAS_FPSETMASK -DHAS_FLOATINGPOINT_H -fwrapv -fno-strict-aliasing -pipe -fstack-protector-strong -I/usr/local/include -D_FORTIFY_SOURCE=2'
optimize='-O2'
cppflags='-DHAS_FPSETMASK -DHAS_FLOATINGPOINT_H -fwrapv -fno-strict-aliasing -pipe -fstack-protector-strong -I/usr/local/include'
ccversion=''
gccversion='8.3 [DragonFly] Release/2019-02-22'
gccosandvers=''
intsize=4
longsize=8
ptrsize=8
doublesize=8
byteorder=12345678
doublekind=3
d_longlong=define
longlongsize=8
d_longdbl=define
longdblsize=16
longdblkind=3
ivtype='long'
ivsize=8
nvtype='double'
nvsize=8
Off_t='off_t'
lseeksize=8
alignbytes=8
prototype=define
Linker and Libraries:
ld='cc'
ldflags ='-Wl,-E -fstack-protector-strong -L/usr/local/lib'
libpth=/usr/lib /usr/local/lib /usr/lib
libs=-lpthread -lgdbm -ldl -lm -lcrypt -lutil -lc
perllibs=-lpthread -ldl -lm -lcrypt -lutil -lc
libc=
so=so
useshrplib=false
libperl=libperl.a
gnulibc_version=''
Dynamic Linking:
dlsrc=dl_dlopen.xs
dlext=so
d_dlsymun=undef
ccdlflags=' '
cccdlflags='-DPIC -fPIC'
lddlflags='-shared -L/usr/local/lib -fstack-protector-strong'
Characteristics of this binary (from libperl):
Compile-time options:
HAS_TIMES
PERLIO_LAYERS
PERL_COPY_ON_WRITE
PERL_DONT_CREATE_GVSV
PERL_MALLOC_WRAP
PERL_OP_PARENT
PERL_PRESERVE_IVUV
PERL_USE_DEVEL
USE_64_BIT_ALL
USE_64_BIT_INT
USE_LARGE_FILES
USE_LOCALE
USE_LOCALE_COLLATE
USE_LOCALE_CTYPE
USE_LOCALE_NUMERIC
USE_LOCALE_TIME
USE_PERLIO
USE_PERL_ATOF
Built under dragonfly
Compiled at Mar 23 2021 04:52:09
%ENV:
PERL5LIB=""
PERL5OPT=""
PERL5_CPANPLUS_IS_RUNNING="237062"
PERL5_CPAN_IS_RUNNING="237062"
PERL_MM_USE_DEFAULT="1"
PERL_USE_UNSAFE_INC="1"
PERL_VERSION="blead"
@INC:
/home/cpan/bin/perl-blead/lib/site_perl/5.33.9/x86_64-dragonfly
/home/cpan/bin/perl-blead/lib/site_perl/5.33.9
/home/cpan/bin/perl-blead/lib/5.33.9/x86_64-dragonfly
/home/cpan/bin/perl-blead/lib/5.33.9
.