Module-Build v0.42_35 Perl 5 v5.36.0 amd64-freebsd
- Status
- Pass
- From
- Bartosz Jarzyna
- Dist
-
Module-Build v0.42_35
- Platform
- Perl 5 v5.36.0 amd64-freebsd
- Date
- 2023-04-30 22:57:14
- ID
- 5923ae94-e7aa-11ed-a632-d7e8ba41fc32
This distribution has been tested as part of the CPAN Testers
project, supporting the Perl programming language. See
http://wiki.cpantesters.org/ for more information or email
questions to cpan-testers-discuss@perl.org
--
Dear Leon Timmermans,
This is a computer-generated report for Module-Build-0.42_35
on perl 5.36.0, created by CPAN-Reporter-1.2018.
Thank you for uploading your work to CPAN. Congratulations!
All tests were successful.
Sections of this report:
* Tester comments
* Program output
* Prerequisites
* Environment and other context
------------------------------
TESTER COMMENTS
------------------------------
Additional comments from tester:
this report is from an automated smoke testing program
and was not reviewed by a human for accuracy
------------------------------
PROGRAM OUTPUT
------------------------------
Output from './Build test':
t/00-compile.t ................. ok
t/PL_files.t ................... ok
t/actions/installdeps.t ........ ok
t/actions/manifest_skip.t ...... ok
t/add_property.t ............... ok
t/add_property_array.t ......... ok
t/add_property_hash.t .......... ok
t/basic.t ...................... ok
t/bundle_inc.t ................. skipped: $ENV{MB_TEST_EXPERIMENTAL} is not set
t/compat.t ..................... ok
t/compat/exit.t ................ ok
t/debug.t ...................... ok
t/destinations.t ............... ok
t/ext.t ........................ ok
t/extend.t ..................... ok
t/files.t ...................... ok
t/help.t ....................... ok
t/install.t .................... ok
t/install_extra_target.t ....... ok
t/manifypods.t ................. ok
t/manifypods_with_utf8.t ....... ok
t/metadata.t ................... ok
t/metadata2.t .................. ok
t/mymeta.t ..................... ok
t/new_from_context.t ........... ok
t/notes.t ...................... ok
t/par.t ........................ skipped: PAR::Dist 0.17 or up not installed to check .par's.
t/parents.t .................... ok
t/perl_mb_opt.t ................ ok
t/pod_parser.t ................. ok
t/ppm.t ........................ ok
t/properties/dist_suffix.t ..... ok
t/properties/license.t ......... ok
t/properties/module_name.t ..... ok
t/properties/needs_compiler.t .. ok
t/properties/release_status.t .. ok
t/properties/requires.t ........ ok
t/properties/share_dir.t ....... ok
t/resume.t ..................... ok
t/runthrough.t ................. ok
t/sample.t ..................... ok
t/script_dist.t ................ ok
t/signature.t .................. ok
t/test_file_exts.t ............. ok
t/test_reqs.t .................. ok
t/test_type.t .................. ok
t/test_types.t ................. ok
t/tilde.t ...................... ok
t/unit_run_test_harness.t ...... ok
t/use_tap_harness.t ............ ok
t/versions.t ................... ok
t/write_default_maniskip.t ..... ok
t/xs.t ......................... ok
All tests successful.
Files=53, Tests=1189, 84 wallclock secs ( 0.26 usr 0.13 sys + 47.97 cusr 14.27 csys = 62.62 CPU)
Result: PASS
------------------------------
PREREQUISITES
------------------------------
Prerequisite modules loaded:
requires:
Module Need Have
---------------------- -------- --------
CPAN::Meta 2.142060 2.150010
Cwd 0 3.84
Data::Dumper 0 2.184
ExtUtils::CBuilder 0.27 0.280236
ExtUtils::Install 0 2.20
ExtUtils::InstallPaths 0.003 0.012
ExtUtils::Manifest 0 1.73
ExtUtils::Mkbootstrap 0 7.64
ExtUtils::ParseXS 2.21 3.45
File::Basename 0 2.85
File::Compare 0 1.1007
File::Copy 0 2.39
File::Find 0 1.40
File::Path 0 2.18
File::Spec 0.82 3.84
Getopt::Long 0 2.52
Module::Metadata 1.000002 1.000037
perl 5.006001 5.036000
Perl::OSType 1 1.010
TAP::Harness 3.29 3.44
Text::Abbrev 0 1.02
Text::ParseWords 0 3.31
version 0.87 0.9929
build_requires:
Module Need Have
---------------------- -------- --------
CPAN::Meta::YAML 0.003 0.018
File::Temp 0.15 0.2311
Parse::CPAN::Meta 1.4401 2.150010
TAP::Harness 3.29 3.44
Test::More 0.49 1.302190
configure_requires:
Module Need Have
---------------------- -------- --------
CPAN::Meta 2.142060 2.150010
File::Basename 0 2.85
File::Copy 0 2.39
File::Path 0 2.18
File::Spec 0.82 3.84
Module::Metadata 1.000002 1.000037
Perl::OSType 1 1.010
version 0.87 0.9929
opt_requires:
Module Need Have
---------------------- -------- --------
ExtUtils::Install 0.3 2.20
ExtUtils::Manifest 1.54 1.73
------------------------------
ENVIRONMENT AND OTHER CONTEXT
------------------------------
Environment variables:
AUTOMATED_TESTING = 1
LANG = C.UTF-8
PATH = /sbin:/bin:/usr/sbin:/usr/bin:/usr/local/sbin:/usr/local/bin:/home/smoker/bin
PERL5LIB = /home/smoker/.cpan/build/ExtUtils-InstallPaths-0.012-2/blib/arch:/home/smoker/.cpan/build/ExtUtils-InstallPaths-0.012-2/blib/lib:/home/smoker/.cpan/build/ExtUtils-Config-0.008-2/blib/arch:/home/smoker/.cpan/build/ExtUtils-Config-0.008-2/blib/lib
PERL5OPT =
PERL5_CPANPLUS_IS_RUNNING = 19365
PERL5_CPAN_IS_RUNNING = 19365
PERL5_CPAN_IS_RUNNING_IN_RECURSION = 6962,19365
PERL_CR_SMOKER_CURRENT = Module-Build-0.42_35
PERL_EXTUTILS_AUTOINSTALL = --defaultdeps
PERL_MM_USE_DEFAULT = 1
PERL_USE_UNSAFE_INC = 1
SHELL = /bin/sh
Perl special variables (and OS-specific diagnostics, for MSWin32):
$^X = /usr/home/smoker/perl5/perlbrew/perls/perl-5.36.0/bin/perl
$UID/$EUID = 1001 / 1001
$GID = 1001 1001
$EGID = 1001 1001
Perl module toolchain versions installed:
Module Have
------------------- --------
CPAN 2.33
CPAN::Meta 2.150010
Cwd 3.84
ExtUtils::CBuilder 0.280236
ExtUtils::Command 7.64
ExtUtils::Install 2.20
ExtUtils::MakeMaker 7.64
ExtUtils::Manifest 1.73
ExtUtils::ParseXS 3.45
File::Spec 3.84
JSON n/a
JSON::PP 4.07
Module::Build 0.4231
Module::Signature n/a
Parse::CPAN::Meta 2.150010
Test::Harness 3.44
Test::More 1.302190
YAML 1.30
YAML::Syck n/a
version 0.9929
--
Summary of my perl5 (revision 5 version 36 subversion 0) configuration:
Platform:
osname=freebsd
osvers=13.1-release-p3
archname=amd64-freebsd
uname='freebsd smoker-36.smoker 13.1-release-p3 freebsd 13.1-release-p3 generic amd64 '
config_args='-de -Dprefix=/home/smoker/perl5/perlbrew/perls/perl-5.36.0 -Aeval:scriptdir=/home/smoker/perl5/perlbrew/perls/perl-5.36.0/bin'
hint=recommended
useposix=true
d_sigaction=define
useithreads=undef
usemultiplicity=undef
use64bitint=define
use64bitall=define
uselongdouble=undef
usemymalloc=n
default_inc_excludes_dot=define
Compiler:
cc='cc'
ccflags ='-DHAS_FPSETMASK -DHAS_FLOATINGPOINT_H -fno-strict-aliasing -pipe -fstack-protector-strong -I/usr/local/include'
optimize='-O2'
cppflags='-DHAS_FPSETMASK -DHAS_FLOATINGPOINT_H -fno-strict-aliasing -pipe -fstack-protector-strong -I/usr/local/include'
ccversion=''
gccversion='FreeBSD Clang 13.0.0 (git@github.com:llvm/llvm-project.git llvmorg-13.0.0-0-gd7b669b3a303)'
gccosandvers=''
intsize=4
longsize=8
ptrsize=8
doublesize=8
byteorder=12345678
doublekind=3
d_longlong=define
longlongsize=8
d_longdbl=define
longdblsize=16
longdblkind=3
ivtype='long'
ivsize=8
nvtype='double'
nvsize=8
Off_t='off_t'
lseeksize=8
alignbytes=8
prototype=define
Linker and Libraries:
ld='cc'
ldflags ='-Wl,-E -fstack-protector-strong -L/usr/local/lib'
libpth=/usr/lib /usr/local/lib /usr/lib/clang/13.0.0/lib
libs=-lpthread -ldl -lm -lcrypt -lutil -lc
perllibs=-lpthread -ldl -lm -lcrypt -lutil -lc
libc=
so=so
useshrplib=false
libperl=libperl.a
gnulibc_version=''
Dynamic Linking:
dlsrc=dl_dlopen.xs
dlext=so
d_dlsymun=undef
ccdlflags=' '
cccdlflags='-DPIC -fPIC'
lddlflags='-shared -L/usr/local/lib -fstack-protector-strong'
Characteristics of this binary (from libperl):
Compile-time options:
HAS_TIMES
PERLIO_LAYERS
PERL_COPY_ON_WRITE
PERL_DONT_CREATE_GVSV
PERL_MALLOC_WRAP
PERL_OP_PARENT
PERL_PRESERVE_IVUV
USE_64_BIT_ALL
USE_64_BIT_INT
USE_LARGE_FILES
USE_LOCALE
USE_LOCALE_COLLATE
USE_LOCALE_CTYPE
USE_LOCALE_NUMERIC
USE_LOCALE_TIME
USE_PERLIO
USE_PERL_ATOF
Built under freebsd
Compiled at Nov 14 2022 20:41:28
%ENV:
PERL5LIB="/home/smoker/.cpan/build/ExtUtils-InstallPaths-0.012-2/blib/arch:/home/smoker/.cpan/build/ExtUtils-InstallPaths-0.012-2/blib/lib:/home/smoker/.cpan/build/ExtUtils-Config-0.008-2/blib/arch:/home/smoker/.cpan/build/ExtUtils-Config-0.008-2/blib/lib"
PERL5OPT=""
PERL5_CPANPLUS_IS_RUNNING="19365"
PERL5_CPAN_IS_RUNNING="19365"
PERL5_CPAN_IS_RUNNING_IN_RECURSION="6962,19365"
PERL_CR_SMOKER_CURRENT="Module-Build-0.42_35"
PERL_EXTUTILS_AUTOINSTALL="--defaultdeps"
PERL_MM_USE_DEFAULT="1"
PERL_USE_UNSAFE_INC="1"
@INC:
/home/smoker/.cpan/build/ExtUtils-InstallPaths-0.012-2/blib/arch
/home/smoker/.cpan/build/ExtUtils-InstallPaths-0.012-2/blib/lib
/home/smoker/.cpan/build/ExtUtils-Config-0.008-2/blib/arch
/home/smoker/.cpan/build/ExtUtils-Config-0.008-2/blib/lib
/home/smoker/perl5/perlbrew/perls/perl-5.36.0/lib/site_perl/5.36.0/amd64-freebsd
/home/smoker/perl5/perlbrew/perls/perl-5.36.0/lib/site_perl/5.36.0
/home/smoker/perl5/perlbrew/perls/perl-5.36.0/lib/5.36.0/amd64-freebsd
/home/smoker/perl5/perlbrew/perls/perl-5.36.0/lib/5.36.0
.