Report for Path-Extended-0.23

Back
From: metabase:user:30f4dfbe-2aae-11df-837a-5e0a49663a4f
Subject: PASS Path-Extended-0.23 v5.10.0 GNU/Linux
Date: 2015-03-12T14:52:04Z

This distribution has been tested as part of the CPAN Testers
project, supporting the Perl programming language.  See
http://wiki.cpantesters.org/ for more information or email
questions to cpan-testers-discuss@perl.org


--
Dear Kenichi Ishigaki,

This is a computer-generated report for Path-Extended-0.23
on perl 5.10.0, created by CPAN-Reporter-1.2011.

Thank you for uploading your work to CPAN.  Congratulations!
All tests were successful.

Sections of this report:

    * Tester comments
    * Program output
    * Prerequisites
    * Environment and other context

------------------------------
TESTER COMMENTS
------------------------------

Additional comments from tester:

this report is from an automated smoke testing program
and was not reviewed by a human for accuracy

------------------------------
PROGRAM OUTPUT
------------------------------

Output from '/usr/bin/make test':

PERL_DL_NONLAZY=1 "/home/njh/perl5/perlbrew/perls/perl-5.10.0/bin/perl" "-MExtUtils::Command::MM" "-MTest::Harness" "-e" "undef *Test::Harness::Switches; test_harness(0, 'blib/lib', 'blib/arch')" t/*.t t/*/*.t
t/00_load.t ...................... ok
t/10_entity/basic.t .............. ok
t/15_file_or_dir/basic.t ......... ok
t/15_file_or_dir/for_dir.t ....... ok
t/20_file/copy.t ................. ok
t/20_file/grep.t ................. ok
t/20_file/overload.t ............. ok
t/20_file/path.t ................. ok
t/20_file/read.t ................. ok
t/20_file/slurp.t ................ ok
t/20_file/stat.t ................. ok
t/30_directory/copy.t ............ ok
t/30_directory/exists.t .......... ok
t/30_directory/find.t ............ ok
t/30_directory/mkdir.t ........... ok
t/30_directory/next.t ............ ok
t/30_directory/path.t ............ ok
t/30_directory/prune.t ........... ok
t/30_directory/recurse.t ......... ok
t/30_directory/rmdir.t ........... ok
t/30_directory/seek.t ............ ok
t/30_directory/subsumes.t ........ ok
t/40_compatibility/basic.t ....... ok
t/40_compatibility/filesystem.t .. ok
t/50_subclass/dir.t .............. ok
t/50_subclass/file.t ............. ok
t/50_subclass/file_or_dir.t ...... ok
t/50_subclass/import.t ........... ok
t/99_pod.t ....................... skipped: set TEST_POD to enable this test
t/99_podcoverage.t ............... skipped: set TEST_POD to enable this test
All tests successful.
Files=30, Tests=122,  2 wallclock secs ( 0.10 usr  0.03 sys +  1.20 cusr  0.07 csys =  1.40 CPU)
Result: PASS

------------------------------
PREREQUISITES
------------------------------

Prerequisite modules loaded:

requires:

    Module                        Need Have  
    ----------------------------- ---- ------
    Carp                          0    1.32  
    Encode                        0    2.55  
    Fcntl                         0    1.06  
    File::Basename                0    2.76  
    File::Copy::Recursive         0    0.38  
    File::Find::Rule              0    0.33  
    File::Path                    0    2.09  
    File::Spec                    3.23 3.40  
    File::stat                    1    1.00  
    File::Temp                    0    0.2301
    IO                            1.23 1.25  
    Log::Dump                     0    0.14  
    Scalar::Util                  0    1.41  
    Sub::Install                  0    0.926 

build_requires:

    Module                        Need Have  
    ----------------------------- ---- ------
    ExtUtils::MakeMaker           0    7.04  
    Test::More                    0.98 0.98  
    Test::UseAllModules           0.09 0.14  

configure_requires:

    Module                        Need Have  
    ----------------------------- ---- ------
    ExtUtils::MakeMaker::CPANfile 0.06 0.06  


------------------------------
ENVIRONMENT AND OTHER CONTEXT
------------------------------

Environment variables:

    AUTOMATED_TESTING = 1
    LANG = en_GB.UTF-8
    LANGUAGE = en_GB:en
    LD_LIBRARY_PATH = /usr/local/lib::
    PATH = /home/njh/perl5/perlbrew/bin:/home/njh/perl5/perlbrew/perls/perl-5.10.0/bin:/home/njh/perl5/perlbrew/bin:/usr/local/bin:/usr/bin:/bin:/usr/local/games:/usr/games:/home/njh/bin:/sbin
    PERL5LIB = /home/njh/.cpan/build/Log-Dump-0.14-WmbTBY/blib/arch:/home/njh/.cpan/build/Log-Dump-0.14-WmbTBY/blib/lib:/home/njh/.cpan/build/ExtUtils-MakeMaker-CPANfile-0.06-CLbfAH/blib/arch:/home/njh/.cpan/build/ExtUtils-MakeMaker-CPANfile-0.06-CLbfAH/blib/lib:/home/njh/.cpan/build/Module-CPANfile-1.1000-jThaiu/blib/arch:/home/njh/.cpan/build/Module-CPANfile-1.1000-jThaiu/blib/lib
    PERL5OPT = 
    PERL5_CPANPLUS_IS_RUNNING = 7084
    PERL5_CPAN_IS_RUNNING = 7084
    PERL5_MINISMOKEBOX = 0.58
    PERLBREW_BASHRC_VERSION = 0.71
    PERLBREW_HOME = /home/njh/.perlbrew
    PERLBREW_LIB = 
    PERLBREW_MANPATH = /home/njh/perl5/perlbrew/perls/perl-5.10.0/man
    PERLBREW_PATH = /home/njh/perl5/perlbrew/bin:/home/njh/perl5/perlbrew/perls/perl-5.10.0/bin
    PERLBREW_PERL = perl-5.10.0
    PERLBREW_ROOT = /home/njh/perl5/perlbrew
    PERLBREW_VERSION = 0.73
    PERL_EXTUTILS_AUTOINSTALL = --defaultdeps
    PERL_LOCAL_LIB_ROOT = 
    PERL_MM_USE_DEFAULT = 1
    SHELL = /bin/bash
    TMPDIR = /home/njh/tmp

Perl special variables (and OS-specific diagnostics, for MSWin32):

    $^X = /home/njh/perl5/perlbrew/perls/perl-5.10.0/bin/perl
    $UID/$EUID = 1000 / 1000
    $GID = 1000 4 24 25 29 30 44 46 108 112 1000
    $EGID = 1000 4 24 25 29 30 44 46 108 112 1000

Perl module toolchain versions installed:

    Module              Have    
    ------------------- --------
    CPAN                2.05    
    CPAN::Meta          2.132830
    Cwd                 3.40    
    ExtUtils::CBuilder  0.280216
    ExtUtils::Command   1.18    
    ExtUtils::Install   1.54    
    ExtUtils::MakeMaker 7.04    
    ExtUtils::Manifest  1.65    
    ExtUtils::ParseXS   3.22    
    File::Spec          3.40    
    JSON                2.59    
    JSON::PP            2.27203 
    Module::Build       0.32    
    Module::Signature   0.73    
    Parse::CPAN::Meta   1.4409  
    Test::Harness       3.29    
    Test::More          0.98    
    YAML                0.84    
    YAML::Syck          1.29    
    version             0.9904  


--

Summary of my perl5 (revision 5 version 10 subversion 0) configuration:
  Platform:
    osname=linux, osvers=3.2.0-4-amd64, archname=x86_64-linux-thread-multi
    uname='linux nigelhorne.force9.co.uk 3.2.0-4-amd64 #1 smp debian 3.2.32-1 x86_64 gnulinux '
    config_args='-de -Dprefix=/home/njh/perl5/perlbrew/perls/perl-5.10.0 -Duseithreads -Dusemultiplicity -Accflags=-O2 -W -Wformat=2 -Wswitch -Wshadow -Wwrite-strings -Wuninitialized -Wall -pipe -mtune=native -march=native -fomit-frame-pointer -mfpmath=sse -pedantic -D_FORTIFY_SOURCE=2 -Wpointer-arith -Wstrict-prototypes -fstack-protector -Wstack-protector -Wextra -Wbad-function-cast -Wcast-align -Wcast-qual -Wdisabled-optimization -Wendif-labels -Wfloat-equal -Wformat-nonliteral -Winline -Wmissing-declarations -Wmissing-prototypes -Wnested-externs -Wpointer-arith -Wundef -Wformat-security -Aeval:scriptdir=/home/njh/perl5/perlbrew/perls/perl-5.10.0/bin'
    hint=recommended, useposix=true, d_sigaction=define
    useithreads=define, usemultiplicity=define
    useperlio=define, d_sfio=undef, uselargefiles=define, usesocks=undef
    use64bitint=define, use64bitall=define, uselongdouble=undef
    usemymalloc=n, bincompat5005=undef
  Compiler:
    cc='cc', ccflags ='-D_REENTRANT -D_GNU_SOURCE -O2 -W -Wformat=2 -Wswitch -Wshadow -Wwrite-strings -Wuninitialized -Wall -pipe -mtune=native -march=native -fomit-frame-pointer -mfpmath=sse -pedantic -D_FORTIFY_SOURCE=2 -Wpointer-arith -Wstrict-prototypes -fstack-protector -Wstack-protector -Wextra -Wbad-function-cast -Wcast-align -Wcast-qual -Wdisabled-optimization -Wendif-labels -Wfloat-equal -Wformat-nonliteral -Winline -Wmissing-declarations -Wmissing-prototypes -Wnested-externs -Wpointer-arith -Wundef -Wformat-security -fno-strict-aliasing -I/usr/local/include -D_LARGEFILE_SOURCE -D_FILE_OFFSET_BITS=64',
    optimize='-O2',
    cppflags='-D_REENTRANT -D_GNU_SOURCE -O2 -W -Wformat=2 -Wswitch -Wshadow -Wwrite-strings -Wuninitialized -Wall -pipe -mtune=native -march=native -fomit-frame-pointer -mfpmath=sse -pedantic -D_FORTIFY_SOURCE=2 -Wpointer-arith -Wstrict-prototypes -fstack-protector -Wstack-protector -Wextra -Wbad-function-cast -Wcast-align -Wcast-qual -Wdisabled-optimization -Wendif-labels -Wfloat-equal -Wformat-nonliteral -Winline -Wmissing-declarations -Wmissing-prototypes -Wnested-externs -Wpointer-arith -Wundef -Wformat-security -fno-strict-aliasing -I/usr/local/include'
    ccversion='', gccversion='4.7.2', gccosandvers=''
    intsize=4, longsize=8, ptrsize=8, doublesize=8, byteorder=12345678
    d_longlong=define, longlongsize=8, d_longdbl=define, longdblsize=16
    ivtype='long', ivsize=8, nvtype='double', nvsize=8, Off_t='off_t', lseeksize=8
    alignbytes=8, prototype=define
  Linker and Libraries:
    ld='cc', ldflags =' -L/usr/local/lib'
    libpth=/usr/local/lib /lib/x86_64-linux-gnu /lib/../lib /usr/lib/x86_64-linux-gnu /usr/lib/../lib /lib /usr/lib
    libs=-lnsl -lgdbm -ldb -ldl -lm -lcrypt -lutil -lpthread -lc -lgdbm_compat
    perllibs=-lnsl -ldl -lm -lcrypt -lutil -lpthread -lc -lgdbm_compat
    libc=, so=so, useshrplib=false, libperl=libperl.a
    gnulibc_version='2.13'
  Dynamic Linking:
    dlsrc=dl_dlopen.xs, dlext=so, d_dlsymun=undef, ccdlflags='-Wl,-E'
    cccdlflags='-fPIC', lddlflags='-shared -O2 -L/usr/local/lib'


Characteristics of this binary (from libperl): 
  Compile-time options: MULTIPLICITY PERL_DONT_CREATE_GVSV
                        PERL_IMPLICIT_CONTEXT PERL_MALLOC_WRAP USE_64_BIT_ALL
                        USE_64_BIT_INT USE_ITHREADS USE_LARGE_FILES
                        USE_PERLIO USE_REENTRANT_API
  Built under linux
  Compiled at Mar  4 2013 20:42:58
  %ENV:
    PERL5LIB="/home/njh/.cpan/build/Log-Dump-0.14-WmbTBY/blib/arch:/home/njh/.cpan/build/Log-Dump-0.14-WmbTBY/blib/lib:/home/njh/.cpan/build/ExtUtils-MakeMaker-CPANfile-0.06-CLbfAH/blib/arch:/home/njh/.cpan/build/ExtUtils-MakeMaker-CPANfile-0.06-CLbfAH/blib/lib:/home/njh/.cpan/build/Module-CPANfile-1.1000-jThaiu/blib/arch:/home/njh/.cpan/build/Module-CPANfile-1.1000-jThaiu/blib/lib"
    PERL5OPT=""
    PERL5_CPANPLUS_IS_RUNNING="7084"
    PERL5_CPAN_IS_RUNNING="7084"
    PERL5_MINISMOKEBOX="0.58"
    PERLBREW_BASHRC_VERSION="0.71"
    PERLBREW_HOME="/home/njh/.perlbrew"
    PERLBREW_LIB=""
    PERLBREW_MANPATH="/home/njh/perl5/perlbrew/perls/perl-5.10.0/man"
    PERLBREW_PATH="/home/njh/perl5/perlbrew/bin:/home/njh/perl5/perlbrew/perls/perl-5.10.0/bin"
    PERLBREW_PERL="perl-5.10.0"
    PERLBREW_ROOT="/home/njh/perl5/perlbrew"
    PERLBREW_VERSION="0.73"
    PERL_EXTUTILS_AUTOINSTALL="--defaultdeps"
    PERL_LOCAL_LIB_ROOT=""
    PERL_MM_USE_DEFAULT="1"
  @INC:
    /home/njh/.cpan/build/Log-Dump-0.14-WmbTBY/blib/arch
    /home/njh/.cpan/build/Log-Dump-0.14-WmbTBY/blib/lib
    /home/njh/.cpan/build/ExtUtils-MakeMaker-CPANfile-0.06-CLbfAH/blib/arch
    /home/njh/.cpan/build/ExtUtils-MakeMaker-CPANfile-0.06-CLbfAH/blib/lib
    /home/njh/.cpan/build/Module-CPANfile-1.1000-jThaiu/blib/arch
    /home/njh/.cpan/build/Module-CPANfile-1.1000-jThaiu/blib/lib
    /home/njh/perl5/perlbrew/perls/perl-5.10.0/lib/5.10.0/x86_64-linux-thread-multi
    /home/njh/perl5/perlbrew/perls/perl-5.10.0/lib/5.10.0
    /home/njh/perl5/perlbrew/perls/perl-5.10.0/lib/site_perl/5.10.0/x86_64-linux-thread-multi
    /home/njh/perl5/perlbrew/perls/perl-5.10.0/lib/site_perl/5.10.0
    .