Report for HTTP-Session2-1.09

Back
From: metabase:user:838e5b0a-2bb6-1016-a696-43a2537fa0c6
Subject: PASS HTTP-Session2-1.09 v5.23.0 OpenBSD
Date: 2015-07-20T13:50:57Z

This distribution has been tested as part of the CPAN Testers
project, supporting the Perl programming language.  See
http://wiki.cpantesters.org/ for more information or email
questions to cpan-testers-discuss@perl.org


--
Dear Tokuhiro Matsuno,

This is a computer-generated report for HTTP-Session2-1.09
on perl 5.23.0, created by CPAN-Reporter-1.2014.

Thank you for uploading your work to CPAN.  Congratulations!
All tests were successful.

Sections of this report:

    * Tester comments
    * Program output
    * Prerequisites
    * Environment and other context

------------------------------
TESTER COMMENTS
------------------------------

Additional comments from tester:

this report is from an automated smoke testing program
and was not reviewed by a human for accuracy

------------------------------
PROGRAM OUTPUT
------------------------------

Output from './Build test':

t/00_compile.t .............. ok
Secret string too short at /home/perluser/.cpan/build/HTTP-Session2-1.09-9jUNP3/blib/lib/HTTP/Session2/Base.pm line 79.
	HTTP::Session2::Base::__ANON__(HTTP::Session2::ServerStore=HASH(0xb6a669bd118), "s3cret") called at t/01_server_side.t line 23
	main::__ANON__("client -> server: request without cookie", CODE(0xb6a94f66910)) called at t/01_server_side.t line 25
	main::__ANON__() called at /home/perluser/perl5/perlbrew/perls/perl-5.23.0/lib/5.23.0/Test/Builder.pm line 261
	Test::Builder::__ANON__() called at /home/perluser/perl5/perlbrew/perls/perl-5.23.0/lib/5.23.0/Test/Builder.pm line 266
	eval {...} called at /home/perluser/perl5/perlbrew/perls/perl-5.23.0/lib/5.23.0/Test/Builder.pm line 266
	Test::Builder::subtest(Test::Builder=HASH(0xb6a25b0fdc0), "First request", CODE(0xb6ac993a718)) called at /home/perluser/perl5/perlbrew/perls/perl-5.23.0/lib/5.23.0/Test/More.pm line 771
	Test::More::subtest("First request", CODE(0xb6ac993a718)) called at t/01_server_side.t line 11
	main::scenario("First request", CODE(0xb6ac993a718)) called at t/01_server_side.t line 31
Secret string too short at /home/perluser/.cpan/build/HTTP-Session2-1.09-9jUNP3/blib/lib/HTTP/Session2/Base.pm line 79.
	HTTP::Session2::Base::__ANON__(HTTP::Session2::ServerStore=HASH(0xb6a94f66ef8), "s3cret") called at t/01_server_side.t line 40
	main::__ANON__("client -> server: request without cookie", CODE(0xb6a669bd028)) called at t/01_server_side.t line 42
	main::__ANON__() called at /home/perluser/perl5/perlbrew/perls/perl-5.23.0/lib/5.23.0/Test/Builder.pm line 261
	Test::Builder::__ANON__() called at /home/perluser/perl5/perlbrew/perls/perl-5.23.0/lib/5.23.0/Test/Builder.pm line 266
	eval {...} called at /home/perluser/perl5/perlbrew/perls/perl-5.23.0/lib/5.23.0/Test/Builder.pm line 266
	Test::Builder::subtest(Test::Builder=HASH(0xb6a25b0fdc0), "Store something without login", CODE(0xb6afb5b9778)) called at /home/perluser/perl5/perlbrew/perls/perl-5.23.0/lib/5.23.0/Test/More.pm line 771
	Test::More::subtest("Store something without login", CODE(0xb6afb5b9778)) called at t/01_server_side.t line 11
	main::scenario("Store something without login", CODE(0xb6afb5b9778)) called at t/01_server_side.t line 58
Secret string too short at /home/perluser/.cpan/build/HTTP-Session2-1.09-9jUNP3/blib/lib/HTTP/Session2/Base.pm line 79.
	HTTP::Session2::Base::__ANON__(HTTP::Session2::ServerStore=HASH(0xb6a94f66868), "s3cret") called at t/01_server_side.t line 70
	main::__ANON__("client -> server: request without cookie", CODE(0xb6a669bdc88)) called at t/01_server_side.t line 72
	main::__ANON__() called at /home/perluser/perl5/perlbrew/perls/perl-5.23.0/lib/5.23.0/Test/Builder.pm line 261
	Test::Builder::__ANON__() called at /home/perluser/perl5/perlbrew/perls/perl-5.23.0/lib/5.23.0/Test/Builder.pm line 266
	eval {...} called at /home/perluser/perl5/perlbrew/perls/perl-5.23.0/lib/5.23.0/Test/Builder.pm line 266
	Test::Builder::subtest(Test::Builder=HASH(0xb6a25b0fdc0), "Login", CODE(0xb6afb5b9a60)) called at /home/perluser/perl5/perlbrew/perls/perl-5.23.0/lib/5.23.0/Test/More.pm line 771
	Test::More::subtest("Login", CODE(0xb6afb5b9a60)) called at t/01_server_side.t line 11
	main::scenario("Login", CODE(0xb6afb5b9a60)) called at t/01_server_side.t line 96
Secret string too short at /home/perluser/.cpan/build/HTTP-Session2-1.09-9jUNP3/blib/lib/HTTP/Session2/Base.pm line 79.
	HTTP::Session2::Base::__ANON__(HTTP::Session2::ServerStore=HASH(0xb6a285bce38), "s3cret") called at t/01_server_side.t line 108
	main::__ANON__("client -> server: request without cookie", CODE(0xb6a669bd550)) called at t/01_server_side.t line 110
	main::__ANON__() called at /home/perluser/perl5/perlbrew/perls/perl-5.23.0/lib/5.23.0/Test/Builder.pm line 261
	Test::Builder::__ANON__() called at /home/perluser/perl5/perlbrew/perls/perl-5.23.0/lib/5.23.0/Test/Builder.pm line 266
	eval {...} called at /home/perluser/perl5/perlbrew/perls/perl-5.23.0/lib/5.23.0/Test/Builder.pm line 266
	Test::Builder::subtest(Test::Builder=HASH(0xb6a25b0fdc0), "In a login session", CODE(0xb6a94f66148)) called at /home/perluser/perl5/perlbrew/perls/perl-5.23.0/lib/5.23.0/Test/More.pm line 771
	Test::More::subtest("In a login session", CODE(0xb6a94f66148)) called at t/01_server_side.t line 11
	main::scenario("In a login session", CODE(0xb6a94f66148)) called at t/01_server_side.t line 124
Secret string too short at /home/perluser/.cpan/build/HTTP-Session2-1.09-9jUNP3/blib/lib/HTTP/Session2/Base.pm line 79.
	HTTP::Session2::Base::__ANON__(HTTP::Session2::ServerStore=HASH(0xb6a669bdc70), "s3cret") called at t/01_server_side.t line 131
	main::__ANON__("client -> server: request without cookie", CODE(0xb6a669bda78)) called at t/01_server_side.t line 138
	main::__ANON__() called at /home/perluser/perl5/perlbrew/perls/perl-5.23.0/lib/5.23.0/Test/Builder.pm line 261
	Test::Builder::__ANON__() called at /home/perluser/perl5/perlbrew/perls/perl-5.23.0/lib/5.23.0/Test/Builder.pm line 266
	eval {...} called at /home/perluser/perl5/perlbrew/perls/perl-5.23.0/lib/5.23.0/Test/Builder.pm line 266
	Test::Builder::subtest(Test::Builder=HASH(0xb6a25b0fdc0), "Logout", CODE(0xb6a94f66820)) called at /home/perluser/perl5/perlbrew/perls/perl-5.23.0/lib/5.23.0/Test/More.pm line 771
	Test::More::subtest("Logout", CODE(0xb6a94f66820)) called at t/01_server_side.t line 11
	main::scenario("Logout", CODE(0xb6a94f66820)) called at t/01_server_side.t line 153
t/01_server_side.t .......... ok
Secret string too short at /home/perluser/.cpan/build/HTTP-Session2-1.09-9jUNP3/blib/lib/HTTP/Session2/Base.pm line 79.
	HTTP::Session2::Base::__ANON__(HTTP::Session2::ClientStore=HASH(0xe3b88c89760), "s3cret") called at t/02_client_side.t line 17
	main::__ANON__("client -> server: request without cookie", CODE(0xe3b88c89868)) called at t/02_client_side.t line 22
	main::__ANON__() called at /home/perluser/perl5/perlbrew/perls/perl-5.23.0/lib/5.23.0/Test/Builder.pm line 261
	Test::Builder::__ANON__() called at /home/perluser/perl5/perlbrew/perls/perl-5.23.0/lib/5.23.0/Test/Builder.pm line 266
	eval {...} called at /home/perluser/perl5/perlbrew/perls/perl-5.23.0/lib/5.23.0/Test/Builder.pm line 266
	Test::Builder::subtest(Test::Builder=HASH(0xe3b68d3fdc0), "First request", CODE(0xe3b2ab1c190)) called at /home/perluser/perl5/perlbrew/perls/perl-5.23.0/lib/5.23.0/Test/More.pm line 771
	Test::More::subtest("First request", CODE(0xe3b2ab1c190)) called at t/02_client_side.t line 9
	main::scenario("First request", CODE(0xe3b2ab1c190)) called at t/02_client_side.t line 28
Secret string too short at /home/perluser/.cpan/build/HTTP-Session2-1.09-9jUNP3/blib/lib/HTTP/Session2/Base.pm line 79.
	HTTP::Session2::Base::__ANON__(HTTP::Session2::ClientStore=HASH(0xe3b88c89820), "s3cret") called at t/02_client_side.t line 33
	main::__ANON__("client -> server: request without cookie", CODE(0xe3b88c899e8)) called at t/02_client_side.t line 38
	main::__ANON__() called at /home/perluser/perl5/perlbrew/perls/perl-5.23.0/lib/5.23.0/Test/Builder.pm line 261
	Test::Builder::__ANON__() called at /home/perluser/perl5/perlbrew/perls/perl-5.23.0/lib/5.23.0/Test/Builder.pm line 266
	eval {...} called at /home/perluser/perl5/perlbrew/perls/perl-5.23.0/lib/5.23.0/Test/Builder.pm line 266
	Test::Builder::subtest(Test::Builder=HASH(0xe3b68d3fdc0), "Store something without login", CODE(0xe3ba7539910)) called at /home/perluser/perl5/perlbrew/perls/perl-5.23.0/lib/5.23.0/Test/More.pm line 771
	Test::More::subtest("Store something without login", CODE(0xe3ba7539910)) called at t/02_client_side.t line 9
	main::scenario("Store something without login", CODE(0xe3ba7539910)) called at t/02_client_side.t line 54
Do not use HTTP::Session2::ClientStore. Use HTTP::Session2::ServerStore or HTTP::Session2::ClientStore2 instead. at /home/perluser/.cpan/build/HTTP-Session2-1.09-9jUNP3/blib/lib/HTTP/Session2/ClientStore.pm line 25.
Secret string too short at /home/perluser/.cpan/build/HTTP-Session2-1.09-9jUNP3/blib/lib/HTTP/Session2/Base.pm line 79.
	HTTP::Session2::Base::__ANON__(HTTP::Session2::ClientStore=HASH(0xe3b88c89820), "s3cret") called at t/02_client_side.t line 60
	main::__ANON__("client -> server: request without cookie", CODE(0xe3b88c89328)) called at t/02_client_side.t line 66
	main::__ANON__() called at /home/perluser/perl5/perlbrew/perls/perl-5.23.0/lib/5.23.0/Test/Builder.pm line 261
	Test::Builder::__ANON__() called at /home/perluser/perl5/perlbrew/perls/perl-5.23.0/lib/5.23.0/Test/Builder.pm line 266
	eval {...} called at /home/perluser/perl5/perlbrew/perls/perl-5.23.0/lib/5.23.0/Test/Builder.pm line 266
	Test::Builder::subtest(Test::Builder=HASH(0xe3b68d3fdc0), "Login", CODE(0xe3ba7539b38)) called at /home/perluser/perl5/perlbrew/perls/perl-5.23.0/lib/5.23.0/Test/More.pm line 771
	Test::More::subtest("Login", CODE(0xe3ba7539b38)) called at t/02_client_side.t line 9
	main::scenario("Login", CODE(0xe3ba7539b38)) called at t/02_client_side.t line 86
Do not use HTTP::Session2::ClientStore. Use HTTP::Session2::ServerStore or HTTP::Session2::ClientStore2 instead. at /home/perluser/.cpan/build/HTTP-Session2-1.09-9jUNP3/blib/lib/HTTP/Session2/ClientStore.pm line 35.
Do not use HTTP::Session2::ClientStore. Use HTTP::Session2::ServerStore or HTTP::Session2::ClientStore2 instead. at /home/perluser/.cpan/build/HTTP-Session2-1.09-9jUNP3/blib/lib/HTTP/Session2/ClientStore.pm line 25.
Secret string too short at /home/perluser/.cpan/build/HTTP-Session2-1.09-9jUNP3/blib/lib/HTTP/Session2/Base.pm line 79.
	HTTP::Session2::Base::__ANON__(HTTP::Session2::ClientStore=HASH(0xe3c1acb6580), "s3cret") called at t/02_client_side.t line 92
	main::__ANON__("client -> server: request without cookie", CODE(0xe3c1acb6760)) called at t/02_client_side.t line 98
	main::__ANON__() called at /home/perluser/perl5/perlbrew/perls/perl-5.23.0/lib/5.23.0/Test/Builder.pm line 261
	Test::Builder::__ANON__() called at /home/perluser/perl5/perlbrew/perls/perl-5.23.0/lib/5.23.0/Test/Builder.pm line 266
	eval {...} called at /home/perluser/perl5/perlbrew/perls/perl-5.23.0/lib/5.23.0/Test/Builder.pm line 266
	Test::Builder::subtest(Test::Builder=HASH(0xe3b68d3fdc0), "In a login session", CODE(0xe3b88c89028)) called at /home/perluser/perl5/perlbrew/perls/perl-5.23.0/lib/5.23.0/Test/More.pm line 771
	Test::More::subtest("In a login session", CODE(0xe3b88c89028)) called at t/02_client_side.t line 9
	main::scenario("In a login session", CODE(0xe3b88c89028)) called at t/02_client_side.t line 107
Do not use HTTP::Session2::ClientStore. Use HTTP::Session2::ServerStore or HTTP::Session2::ClientStore2 instead. at /home/perluser/.cpan/build/HTTP-Session2-1.09-9jUNP3/blib/lib/HTTP/Session2/ClientStore.pm line 35.
Do not use HTTP::Session2::ClientStore. Use HTTP::Session2::ServerStore or HTTP::Session2::ClientStore2 instead. at /home/perluser/.cpan/build/HTTP-Session2-1.09-9jUNP3/blib/lib/HTTP/Session2/ClientStore.pm line 25.
Secret string too short at /home/perluser/.cpan/build/HTTP-Session2-1.09-9jUNP3/blib/lib/HTTP/Session2/Base.pm line 79.
	HTTP::Session2::Base::__ANON__(HTTP::Session2::ClientStore=HASH(0xe3c1acb6790), "s3cret") called at t/02_client_side.t line 112
	main::__ANON__("client -> server: request without cookie", CODE(0xe3c1acb66e8)) called at t/02_client_side.t line 118
	main::__ANON__() called at /home/perluser/perl5/perlbrew/perls/perl-5.23.0/lib/5.23.0/Test/Builder.pm line 261
	Test::Builder::__ANON__() called at /home/perluser/perl5/perlbrew/perls/perl-5.23.0/lib/5.23.0/Test/Builder.pm line 266
	eval {...} called at /home/perluser/perl5/perlbrew/perls/perl-5.23.0/lib/5.23.0/Test/Builder.pm line 266
	Test::Builder::subtest(Test::Builder=HASH(0xe3b68d3fdc0), "Logout", CODE(0xe3b88c890a0)) called at /home/perluser/perl5/perlbrew/perls/perl-5.23.0/lib/5.23.0/Test/More.pm line 771
	Test::More::subtest("Logout", CODE(0xe3b88c890a0)) called at t/02_client_side.t line 9
	main::scenario("Logout", CODE(0xe3b88c890a0)) called at t/02_client_side.t line 131
t/02_client_side.t .......... ok
Secret string too short at /home/perluser/.cpan/build/HTTP-Session2-1.09-9jUNP3/blib/lib/HTTP/Session2/Base.pm line 79.
	HTTP::Session2::Base::__ANON__(HTTP::Session2::ServerStore=HASH(0x18da25e24340), "s3cret") called at t/03_mech.t line 121
	main::server_session(HASH(0x18d99e7c4130)) called at t/03_mech.t line 17
	main::__ANON__(HASH(0x18d99e7c4130)) called at /home/perluser/.cpan/build/Test-WWW-Mechanize-PSGI-0.35-Rw5hBk/blib/lib/Test/WWW/Mechanize/PSGI.pm line 39
	Test::WWW::Mechanize::PSGI::__ANON__() called at /home/perluser/perl5/perlbrew/perls/perl-5.23.0/lib/site_perl/5.23.0/Try/Tiny.pm line 81
	eval {...} called at /home/perluser/perl5/perlbrew/perls/perl-5.23.0/lib/site_perl/5.23.0/Try/Tiny.pm line 72
	Try::Tiny::try(CODE(0x18d9f2304070), Try::Tiny::Catch=REF(0x18da0bb375b0)) called at /home/perluser/.cpan/build/Test-WWW-Mechanize-PSGI-0.35-Rw5hBk/blib/lib/Test/WWW/Mechanize/PSGI.pm line 46
	Test::WWW::Mechanize::PSGI::simple_request(Test::WWW::Mechanize::PSGI=HASH(0x18d992f0f430), HTTP::Request=HASH(0x18d992f0fef8), undef, undef) called at /home/perluser/perl5/perlbrew/perls/perl-5.23.0/lib/site_perl/5.23.0/LWP/UserAgent.pm line 282
	LWP::UserAgent::request(Test::WWW::Mechanize::PSGI=HASH(0x18d992f0f430), HTTP::Request=HASH(0x18d992f0fef8)) called at /home/perluser/.cpan/build/WWW-Mechanize-1.75-jly5o8/blib/lib/WWW/Mechanize.pm line 2598
	WWW::Mechanize::_make_request(Test::WWW::Mechanize::PSGI=HASH(0x18d992f0f430), HTTP::Request=HASH(0x18d992f0fef8)) called at /home/perluser/.cpan/build/WWW-Mechanize-1.75-jly5o8/blib/lib/WWW/Mechanize.pm line 2312
	WWW::Mechanize::request(Test::WWW::Mechanize::PSGI=HASH(0x18d992f0f430), HTTP::Request=HASH(0x18d992f0fef8)) called at /home/perluser/perl5/perlbrew/perls/perl-5.23.0/lib/site_perl/5.23.0/LWP/UserAgent.pm line 411
	LWP::UserAgent::get(Test::WWW::Mechanize::PSGI=HASH(0x18d992f0f430), "/") called at /home/perluser/.cpan/build/WWW-Mechanize-1.75-jly5o8/blib/lib/WWW/Mechanize.pm line 407
	WWW::Mechanize::get(Test::WWW::Mechanize::PSGI=HASH(0x18d992f0f430), "/") called at /home/perluser/.cpan/build/Test-WWW-Mechanize-1.44-ewSCdA/blib/lib/Test/WWW/Mechanize.pm line 159
	Test::WWW::Mechanize::get_ok(Test::WWW::Mechanize::PSGI=HASH(0x18d992f0f430), "/") called at t/03_mech.t line 74
Secret string too short at /home/perluser/.cpan/build/HTTP-Session2-1.09-9jUNP3/blib/lib/HTTP/Session2/Base.pm line 79.
	HTTP::Session2::Base::__ANON__(HTTP::Session2::ServerStore=HASH(0x18d9d1d4d868), "s3cret") called at t/03_mech.t line 121
	main::server_session(HASH(0x18d9f92d7178)) called at t/03_mech.t line 17
	main::__ANON__(HASH(0x18d9f92d7178)) called at /home/perluser/.cpan/build/Test-WWW-Mechanize-PSGI-0.35-Rw5hBk/blib/lib/Test/WWW/Mechanize/PSGI.pm line 39
	Test::WWW::Mechanize::PSGI::__ANON__() called at /home/perluser/perl5/perlbrew/perls/perl-5.23.0/lib/site_perl/5.23.0/Try/Tiny.pm line 81
	eval {...} called at /home/perluser/perl5/perlbrew/perls/perl-5.23.0/lib/site_perl/5.23.0/Try/Tiny.pm line 72
	Try::Tiny::try(CODE(0x18d9f92d71f0), Try::Tiny::Catch=REF(0x18da25e24178)) called at /home/perluser/.cpan/build/Test-WWW-Mechanize-PSGI-0.35-Rw5hBk/blib/lib/Test/WWW/Mechanize/PSGI.pm line 46
	Test::WWW::Mechanize::PSGI::simple_request(Test::WWW::Mechanize::PSGI=HASH(0x18d992f0f430), HTTP::Request=HASH(0x18da25e24f40), undef, undef) called at /home/perluser/perl5/perlbrew/perls/perl-5.23.0/lib/site_perl/5.23.0/LWP/UserAgent.pm line 282
	LWP::UserAgent::request(Test::WWW::Mechanize::PSGI=HASH(0x18d992f0f430), HTTP::Request=HASH(0x18da25e24f40)) called at /home/perluser/.cpan/build/WWW-Mechanize-1.75-jly5o8/blib/lib/WWW/Mechanize.pm line 2598
	WWW::Mechanize::_make_request(Test::WWW::Mechanize::PSGI=HASH(0x18d992f0f430), HTTP::Request=HASH(0x18da25e24f40)) called at /home/perluser/.cpan/build/WWW-Mechanize-1.75-jly5o8/blib/lib/WWW/Mechanize.pm line 2312
	WWW::Mechanize::request(Test::WWW::Mechanize::PSGI=HASH(0x18d992f0f430), HTTP::Request=HASH(0x18da25e24f40)) called at /home/perluser/perl5/perlbrew/perls/perl-5.23.0/lib/site_perl/5.23.0/LWP/UserAgent.pm line 419
	LWP::UserAgent::post(Test::WWW::Mechanize::PSGI=HASH(0x18d992f0f430), "/wishlist?foo", HASH(0x18d993c93c10)) called at /home/perluser/.cpan/build/Test-WWW-Mechanize-1.44-ewSCdA/blib/lib/Test/WWW/Mechanize.pm line 236
	Test::WWW::Mechanize::post_ok(Test::WWW::Mechanize::PSGI=HASH(0x18d992f0f430), "/wishlist?foo") called at t/03_mech.t line 75
Secret string too short at /home/perluser/.cpan/build/HTTP-Session2-1.09-9jUNP3/blib/lib/HTTP/Session2/Base.pm line 79.
	HTTP::Session2::Base::__ANON__(HTTP::Session2::ServerStore=HASH(0x18d9ac65ec28), "s3cret") called at t/03_mech.t line 121
	main::server_session(HASH(0x18da38bf4d00)) called at t/03_mech.t line 17
	main::__ANON__(HASH(0x18da38bf4d00)) called at /home/perluser/.cpan/build/Test-WWW-Mechanize-PSGI-0.35-Rw5hBk/blib/lib/Test/WWW/Mechanize/PSGI.pm line 39
	Test::WWW::Mechanize::PSGI::__ANON__() called at /home/perluser/perl5/perlbrew/perls/perl-5.23.0/lib/site_perl/5.23.0/Try/Tiny.pm line 81
	eval {...} called at /home/perluser/perl5/perlbrew/perls/perl-5.23.0/lib/site_perl/5.23.0/Try/Tiny.pm line 72
	Try::Tiny::try(CODE(0x18d9d1d4dd60), Try::Tiny::Catch=REF(0x18d9d1d4d538)) called at /home/perluser/.cpan/build/Test-WWW-Mechanize-PSGI-0.35-Rw5hBk/blib/lib/Test/WWW/Mechanize/PSGI.pm line 46
	Test::WWW::Mechanize::PSGI::simple_request(Test::WWW::Mechanize::PSGI=HASH(0x18d992f0f430), HTTP::Request=HASH(0x18d9cca03790), undef, undef) called at /home/perluser/perl5/perlbrew/perls/perl-5.23.0/lib/site_perl/5.23.0/LWP/UserAgent.pm line 282
	LWP::UserAgent::request(Test::WWW::Mechanize::PSGI=HASH(0x18d992f0f430), HTTP::Request=HASH(0x18d9cca03790)) called at /home/perluser/.cpan/build/WWW-Mechanize-1.75-jly5o8/blib/lib/WWW/Mechanize.pm line 2598
	WWW::Mechanize::_make_request(Test::WWW::Mechanize::PSGI=HASH(0x18d992f0f430), HTTP::Request=HASH(0x18d9cca03790)) called at /home/perluser/.cpan/build/WWW-Mechanize-1.75-jly5o8/blib/lib/WWW/Mechanize.pm line 2312
	WWW::Mechanize::request(Test::WWW::Mechanize::PSGI=HASH(0x18d992f0f430), HTTP::Request=HASH(0x18d9cca03790)) called at /home/perluser/perl5/perlbrew/perls/perl-5.23.0/lib/site_perl/5.23.0/LWP/UserAgent.pm line 411
	LWP::UserAgent::get(Test::WWW::Mechanize::PSGI=HASH(0x18d992f0f430), "http://localhost/wishlist") called at /home/perluser/.cpan/build/WWW-Mechanize-1.75-jly5o8/blib/lib/WWW/Mechanize.pm line 407
	WWW::Mechanize::get(Test::WWW::Mechanize::PSGI=HASH(0x18d992f0f430), "/wishlist") called at /home/perluser/.cpan/build/Test-WWW-Mechanize-1.44-ewSCdA/blib/lib/Test/WWW/Mechanize.pm line 159
	Test::WWW::Mechanize::get_ok(Test::WWW::Mechanize::PSGI=HASH(0x18d992f0f430), "/wishlist") called at t/03_mech.t line 76
Secret string too short at /home/perluser/.cpan/build/HTTP-Session2-1.09-9jUNP3/blib/lib/HTTP/Session2/Base.pm line 79.
	HTTP::Session2::Base::__ANON__(HTTP::Session2::ServerStore=HASH(0x18da7e233160), "s3cret") called at t/03_mech.t line 121
	main::server_session(HASH(0x18d9ac65ec28)) called at t/03_mech.t line 17
	main::__ANON__(HASH(0x18d9ac65ec28)) called at /home/perluser/.cpan/build/Test-WWW-Mechanize-PSGI-0.35-Rw5hBk/blib/lib/Test/WWW/Mechanize/PSGI.pm line 39
	Test::WWW::Mechanize::PSGI::__ANON__() called at /home/perluser/perl5/perlbrew/perls/perl-5.23.0/lib/site_perl/5.23.0/Try/Tiny.pm line 81
	eval {...} called at /home/perluser/perl5/perlbrew/perls/perl-5.23.0/lib/site_perl/5.23.0/Try/Tiny.pm line 72
	Try::Tiny::try(CODE(0x18da7e233028), Try::Tiny::Catch=REF(0x18d9ac65eac0)) called at /home/perluser/.cpan/build/Test-WWW-Mechanize-PSGI-0.35-Rw5hBk/blib/lib/Test/WWW/Mechanize/PSGI.pm line 46
	Test::WWW::Mechanize::PSGI::simple_request(Test::WWW::Mechanize::PSGI=HASH(0x18d992f0f430), HTTP::Request=HASH(0x18d9ac65e868), undef, undef) called at /home/perluser/perl5/perlbrew/perls/perl-5.23.0/lib/site_perl/5.23.0/LWP/UserAgent.pm line 282
	LWP::UserAgent::request(Test::WWW::Mechanize::PSGI=HASH(0x18d992f0f430), HTTP::Request=HASH(0x18d9ac65e868)) called at /home/perluser/.cpan/build/WWW-Mechanize-1.75-jly5o8/blib/lib/WWW/Mechanize.pm line 2598
	WWW::Mechanize::_make_request(Test::WWW::Mechanize::PSGI=HASH(0x18d992f0f430), HTTP::Request=HASH(0x18d9ac65e868)) called at /home/perluser/.cpan/build/WWW-Mechanize-1.75-jly5o8/blib/lib/WWW/Mechanize.pm line 2312
	WWW::Mechanize::request(Test::WWW::Mechanize::PSGI=HASH(0x18d992f0f430), HTTP::Request=HASH(0x18d9ac65e868)) called at /home/perluser/perl5/perlbrew/perls/perl-5.23.0/lib/site_perl/5.23.0/LWP/UserAgent.pm line 419
	LWP::UserAgent::post(Test::WWW::Mechanize::PSGI=HASH(0x18d992f0f430), "/wishlist?bar") called at t/03_mech.t line 78
Secret string too short at /home/perluser/.cpan/build/HTTP-Session2-1.09-9jUNP3/blib/lib/HTTP/Session2/Base.pm line 79.
	HTTP::Session2::Base::__ANON__(HTTP::Session2::ServerStore=HASH(0x18da7e2335e0), "s3cret") called at t/03_mech.t line 121
	main::server_session(HASH(0x18da7e233160)) called at t/03_mech.t line 17
	main::__ANON__(HASH(0x18da7e233160)) called at /home/perluser/.cpan/build/Test-WWW-Mechanize-PSGI-0.35-Rw5hBk/blib/lib/Test/WWW/Mechanize/PSGI.pm line 39
	Test::WWW::Mechanize::PSGI::__ANON__() called at /home/perluser/perl5/perlbrew/perls/perl-5.23.0/lib/site_perl/5.23.0/Try/Tiny.pm line 81
	eval {...} called at /home/perluser/perl5/perlbrew/perls/perl-5.23.0/lib/site_perl/5.23.0/Try/Tiny.pm line 72
	Try::Tiny::try(CODE(0x18d9ac65ebe0), Try::Tiny::Catch=REF(0x18d9ac65ee50)) called at /home/perluser/.cpan/build/Test-WWW-Mechanize-PSGI-0.35-Rw5hBk/blib/lib/Test/WWW/Mechanize/PSGI.pm line 46
	Test::WWW::Mechanize::PSGI::simple_request(Test::WWW::Mechanize::PSGI=HASH(0x18d992f0f430), HTTP::Request=HASH(0x18d9ac65ee98), undef, undef) called at /home/perluser/perl5/perlbrew/perls/perl-5.23.0/lib/site_perl/5.23.0/LWP/UserAgent.pm line 282
	LWP::UserAgent::request(Test::WWW::Mechanize::PSGI=HASH(0x18d992f0f430), HTTP::Request=HASH(0x18d9ac65ee98)) called at /home/perluser/.cpan/build/WWW-Mechanize-1.75-jly5o8/blib/lib/WWW/Mechanize.pm line 2598
	WWW::Mechanize::_make_request(Test::WWW::Mechanize::PSGI=HASH(0x18d992f0f430), HTTP::Request=HASH(0x18d9ac65ee98)) called at /home/perluser/.cpan/build/WWW-Mechanize-1.75-jly5o8/blib/lib/WWW/Mechanize.pm line 2312
	WWW::Mechanize::request(Test::WWW::Mechanize::PSGI=HASH(0x18d992f0f430), HTTP::Request=HASH(0x18d9ac65ee98)) called at /home/perluser/perl5/perlbrew/perls/perl-5.23.0/lib/site_perl/5.23.0/LWP/UserAgent.pm line 419
	LWP::UserAgent::post(Test::WWW::Mechanize::PSGI=HASH(0x18d992f0f430), "/wishlist?bar", HASH(0x18d993c93c10)) called at /home/perluser/.cpan/build/Test-WWW-Mechanize-1.44-ewSCdA/blib/lib/Test/WWW/Mechanize.pm line 236
	Test::WWW::Mechanize::post_ok(Test::WWW::Mechanize::PSGI=HASH(0x18d992f0f430), "/wishlist?bar") called at t/03_mech.t line 81
Secret string too short at /home/perluser/.cpan/build/HTTP-Session2-1.09-9jUNP3/blib/lib/HTTP/Session2/Base.pm line 79.
	HTTP::Session2::Base::__ANON__(HTTP::Session2::ServerStore=HASH(0x18da7e233af0), "s3cret") called at t/03_mech.t line 121
	main::server_session(HASH(0x18da7e233688)) called at t/03_mech.t line 17
	main::__ANON__(HASH(0x18da7e233688)) called at /home/perluser/.cpan/build/Test-WWW-Mechanize-PSGI-0.35-Rw5hBk/blib/lib/Test/WWW/Mechanize/PSGI.pm line 39
	Test::WWW::Mechanize::PSGI::__ANON__() called at /home/perluser/perl5/perlbrew/perls/perl-5.23.0/lib/site_perl/5.23.0/Try/Tiny.pm line 81
	eval {...} called at /home/perluser/perl5/perlbrew/perls/perl-5.23.0/lib/site_perl/5.23.0/Try/Tiny.pm line 72
	Try::Tiny::try(CODE(0x18da7e2331c0), Try::Tiny::Catch=REF(0x18da7e233508)) called at /home/perluser/.cpan/build/Test-WWW-Mechanize-PSGI-0.35-Rw5hBk/blib/lib/Test/WWW/Mechanize/PSGI.pm line 46
	Test::WWW::Mechanize::PSGI::simple_request(Test::WWW::Mechanize::PSGI=HASH(0x18d992f0f430), HTTP::Request=HASH(0x18d9ac65eef8), undef, undef) called at /home/perluser/perl5/perlbrew/perls/perl-5.23.0/lib/site_perl/5.23.0/LWP/UserAgent.pm line 282
	LWP::UserAgent::request(Test::WWW::Mechanize::PSGI=HASH(0x18d992f0f430), HTTP::Request=HASH(0x18d9ac65eef8)) called at /home/perluser/.cpan/build/WWW-Mechanize-1.75-jly5o8/blib/lib/WWW/Mechanize.pm line 2598
	WWW::Mechanize::_make_request(Test::WWW::Mechanize::PSGI=HASH(0x18d992f0f430), HTTP::Request=HASH(0x18d9ac65eef8)) called at /home/perluser/.cpan/build/WWW-Mechanize-1.75-jly5o8/blib/lib/WWW/Mechanize.pm line 2312
	WWW::Mechanize::request(Test::WWW::Mechanize::PSGI=HASH(0x18d992f0f430), HTTP::Request=HASH(0x18d9ac65eef8)) called at /home/perluser/perl5/perlbrew/perls/perl-5.23.0/lib/site_perl/5.23.0/LWP/UserAgent.pm line 411
	LWP::UserAgent::get(Test::WWW::Mechanize::PSGI=HASH(0x18d992f0f430), "http://localhost/wishlist") called at /home/perluser/.cpan/build/WWW-Mechanize-1.75-jly5o8/blib/lib/WWW/Mechanize.pm line 407
	WWW::Mechanize::get(Test::WWW::Mechanize::PSGI=HASH(0x18d992f0f430), "/wishlist") called at /home/perluser/.cpan/build/Test-WWW-Mechanize-1.44-ewSCdA/blib/lib/Test/WWW/Mechanize.pm line 159
	Test::WWW::Mechanize::get_ok(Test::WWW::Mechanize::PSGI=HASH(0x18d992f0f430), "/wishlist") called at t/03_mech.t line 82
Secret string too short at /home/perluser/.cpan/build/HTTP-Session2-1.09-9jUNP3/blib/lib/HTTP/Session2/Base.pm line 79.
	HTTP::Session2::Base::__ANON__(HTTP::Session2::ServerStore=HASH(0x18da7e233f58), "s3cret") called at t/03_mech.t line 121
	main::server_session(HASH(0x18da7e233e08)) called at t/03_mech.t line 17
	main::__ANON__(HASH(0x18da7e233e08)) called at /home/perluser/.cpan/build/Test-WWW-Mechanize-PSGI-0.35-Rw5hBk/blib/lib/Test/WWW/Mechanize/PSGI.pm line 39
	Test::WWW::Mechanize::PSGI::__ANON__() called at /home/perluser/perl5/perlbrew/perls/perl-5.23.0/lib/site_perl/5.23.0/Try/Tiny.pm line 81
	eval {...} called at /home/perluser/perl5/perlbrew/perls/perl-5.23.0/lib/site_perl/5.23.0/Try/Tiny.pm line 72
	Try::Tiny::try(CODE(0x18da7e2337a8), Try::Tiny::Catch=REF(0x18da7e2337d8)) called at /home/perluser/.cpan/build/Test-WWW-Mechanize-PSGI-0.35-Rw5hBk/blib/lib/Test/WWW/Mechanize/PSGI.pm line 46
	Test::WWW::Mechanize::PSGI::simple_request(Test::WWW::Mechanize::PSGI=HASH(0x18d992f0f430), HTTP::Request=HASH(0x18da7e2338e0), undef, undef) called at /home/perluser/perl5/perlbrew/perls/perl-5.23.0/lib/site_perl/5.23.0/LWP/UserAgent.pm line 282
	LWP::UserAgent::request(Test::WWW::Mechanize::PSGI=HASH(0x18d992f0f430), HTTP::Request=HASH(0x18da7e2338e0)) called at /home/perluser/.cpan/build/WWW-Mechanize-1.75-jly5o8/blib/lib/WWW/Mechanize.pm line 2598
	WWW::Mechanize::_make_request(Test::WWW::Mechanize::PSGI=HASH(0x18d992f0f430), HTTP::Request=HASH(0x18da7e2338e0)) called at /home/perluser/.cpan/build/WWW-Mechanize-1.75-jly5o8/blib/lib/WWW/Mechanize.pm line 2312
	WWW::Mechanize::request(Test::WWW::Mechanize::PSGI=HASH(0x18d992f0f430), HTTP::Request=HASH(0x18da7e2338e0)) called at /home/perluser/perl5/perlbrew/perls/perl-5.23.0/lib/site_perl/5.23.0/LWP/UserAgent.pm line 419
	LWP::UserAgent::post(Test::WWW::Mechanize::PSGI=HASH(0x18d992f0f430), "/account/login?john", HASH(0x18d993c93c10)) called at /home/perluser/.cpan/build/Test-WWW-Mechanize-1.44-ewSCdA/blib/lib/Test/WWW/Mechanize.pm line 236
	Test::WWW::Mechanize::post_ok(Test::WWW::Mechanize::PSGI=HASH(0x18d992f0f430), "/account/login?john") called at t/03_mech.t line 84
Secret string too short at /home/perluser/.cpan/build/HTTP-Session2-1.09-9jUNP3/blib/lib/HTTP/Session2/Base.pm line 79.
	HTTP::Session2::Base::__ANON__(HTTP::Session2::ServerStore=HASH(0x18d9c7c2d1a8), "s3cret") called at t/03_mech.t line 121
	main::server_session(HASH(0x18da7e233fb8)) called at t/03_mech.t line 17
	main::__ANON__(HASH(0x18da7e233fb8)) called at /home/perluser/.cpan/build/Test-WWW-Mechanize-PSGI-0.35-Rw5hBk/blib/lib/Test/WWW/Mechanize/PSGI.pm line 39
	Test::WWW::Mechanize::PSGI::__ANON__() called at /home/perluser/perl5/perlbrew/perls/perl-5.23.0/lib/site_perl/5.23.0/Try/Tiny.pm line 81
	eval {...} called at /home/perluser/perl5/perlbrew/perls/perl-5.23.0/lib/site_perl/5.23.0/Try/Tiny.pm line 72
	Try::Tiny::try(CODE(0x18da7e233eb0), Try::Tiny::Catch=REF(0x18da7e233d78)) called at /home/perluser/.cpan/build/Test-WWW-Mechanize-PSGI-0.35-Rw5hBk/blib/lib/Test/WWW/Mechanize/PSGI.pm line 46
	Test::WWW::Mechanize::PSGI::simple_request(Test::WWW::Mechanize::PSGI=HASH(0x18d992f0f430), HTTP::Request=HASH(0x18da7e233a90), undef, undef) called at /home/perluser/perl5/perlbrew/perls/perl-5.23.0/lib/site_perl/5.23.0/LWP/UserAgent.pm line 282
	LWP::UserAgent::request(Test::WWW::Mechanize::PSGI=HASH(0x18d992f0f430), HTTP::Request=HASH(0x18da7e233a90)) called at /home/perluser/.cpan/build/WWW-Mechanize-1.75-jly5o8/blib/lib/WWW/Mechanize.pm line 2598
	WWW::Mechanize::_make_request(Test::WWW::Mechanize::PSGI=HASH(0x18d992f0f430), HTTP::Request=HASH(0x18da7e233a90)) called at /home/perluser/.cpan/build/WWW-Mechanize-1.75-jly5o8/blib/lib/WWW/Mechanize.pm line 2312
	WWW::Mechanize::request(Test::WWW::Mechanize::PSGI=HASH(0x18d992f0f430), HTTP::Request=HASH(0x18da7e233a90)) called at /home/perluser/perl5/perlbrew/perls/perl-5.23.0/lib/site_perl/5.23.0/LWP/UserAgent.pm line 411
	LWP::UserAgent::get(Test::WWW::Mechanize::PSGI=HASH(0x18d992f0f430), "http://localhost/wishlist") called at /home/perluser/.cpan/build/WWW-Mechanize-1.75-jly5o8/blib/lib/WWW/Mechanize.pm line 407
	WWW::Mechanize::get(Test::WWW::Mechanize::PSGI=HASH(0x18d992f0f430), "/wishlist") called at /home/perluser/.cpan/build/Test-WWW-Mechanize-1.44-ewSCdA/blib/lib/Test/WWW/Mechanize.pm line 159
	Test::WWW::Mechanize::get_ok(Test::WWW::Mechanize::PSGI=HASH(0x18d992f0f430), "/wishlist", "Wishlist is still available") called at t/03_mech.t line 85
Secret string too short at /home/perluser/.cpan/build/HTTP-Session2-1.09-9jUNP3/blib/lib/HTTP/Session2/Base.pm line 79.
	HTTP::Session2::Base::__ANON__(HTTP::Session2::ServerStore=HASH(0x18d9c7c2d940), "s3cret") called at t/03_mech.t line 121
	main::server_session(HASH(0x18d9c7c2d088)) called at t/03_mech.t line 17
	main::__ANON__(HASH(0x18d9c7c2d088)) called at /home/perluser/.cpan/build/Test-WWW-Mechanize-PSGI-0.35-Rw5hBk/blib/lib/Test/WWW/Mechanize/PSGI.pm line 39
	Test::WWW::Mechanize::PSGI::__ANON__() called at /home/perluser/perl5/perlbrew/perls/perl-5.23.0/lib/site_perl/5.23.0/Try/Tiny.pm line 81
	eval {...} called at /home/perluser/perl5/perlbrew/perls/perl-5.23.0/lib/site_perl/5.23.0/Try/Tiny.pm line 72
	Try::Tiny::try(CODE(0x18d9c7c2d3e8), Try::Tiny::Catch=REF(0x18d9c7c2d100)) called at /home/perluser/.cpan/build/Test-WWW-Mechanize-PSGI-0.35-Rw5hBk/blib/lib/Test/WWW/Mechanize/PSGI.pm line 46
	Test::WWW::Mechanize::PSGI::simple_request(Test::WWW::Mechanize::PSGI=HASH(0x18d992f0f430), HTTP::Request=HASH(0x18d9c7c2d448), undef, undef) called at /home/perluser/perl5/perlbrew/perls/perl-5.23.0/lib/site_perl/5.23.0/LWP/UserAgent.pm line 282
	LWP::UserAgent::request(Test::WWW::Mechanize::PSGI=HASH(0x18d992f0f430), HTTP::Request=HASH(0x18d9c7c2d448)) called at /home/perluser/.cpan/build/WWW-Mechanize-1.75-jly5o8/blib/lib/WWW/Mechanize.pm line 2598
	WWW::Mechanize::_make_request(Test::WWW::Mechanize::PSGI=HASH(0x18d992f0f430), HTTP::Request=HASH(0x18d9c7c2d448)) called at /home/perluser/.cpan/build/WWW-Mechanize-1.75-jly5o8/blib/lib/WWW/Mechanize.pm line 2312
	WWW::Mechanize::request(Test::WWW::Mechanize::PSGI=HASH(0x18d992f0f430), HTTP::Request=HASH(0x18d9c7c2d448)) called at /home/perluser/perl5/perlbrew/perls/perl-5.23.0/lib/site_perl/5.23.0/LWP/UserAgent.pm line 419
	LWP::UserAgent::post(Test::WWW::Mechanize::PSGI=HASH(0x18d992f0f430), "/wishlist?baz") called at t/03_mech.t line 87
Secret string too short at /home/perluser/.cpan/build/HTTP-Session2-1.09-9jUNP3/blib/lib/HTTP/Session2/Base.pm line 79.
	HTTP::Session2::Base::__ANON__(HTTP::Session2::ServerStore=HASH(0x18d9c7c2dd60), "s3cret") called at t/03_mech.t line 121
	main::server_session(HASH(0x18d9ac65e658)) called at t/03_mech.t line 17
	main::__ANON__(HASH(0x18d9ac65e658)) called at /home/perluser/.cpan/build/Test-WWW-Mechanize-PSGI-0.35-Rw5hBk/blib/lib/Test/WWW/Mechanize/PSGI.pm line 39
	Test::WWW::Mechanize::PSGI::__ANON__() called at /home/perluser/perl5/perlbrew/perls/perl-5.23.0/lib/site_perl/5.23.0/Try/Tiny.pm line 81
	eval {...} called at /home/perluser/perl5/perlbrew/perls/perl-5.23.0/lib/site_perl/5.23.0/Try/Tiny.pm line 72
	Try::Tiny::try(CODE(0x18d9c7c2d310), Try::Tiny::Catch=REF(0x18d9c7c2d7d8)) called at /home/perluser/.cpan/build/Test-WWW-Mechanize-PSGI-0.35-Rw5hBk/blib/lib/Test/WWW/Mechanize/PSGI.pm line 46
	Test::WWW::Mechanize::PSGI::simple_request(Test::WWW::Mechanize::PSGI=HASH(0x18d992f0f430), HTTP::Request=HASH(0x18d9c7c2d580), undef, undef) called at /home/perluser/perl5/perlbrew/perls/perl-5.23.0/lib/site_perl/5.23.0/LWP/UserAgent.pm line 282
	LWP::UserAgent::request(Test::WWW::Mechanize::PSGI=HASH(0x18d992f0f430), HTTP::Request=HASH(0x18d9c7c2d580)) called at /home/perluser/.cpan/build/WWW-Mechanize-1.75-jly5o8/blib/lib/WWW/Mechanize.pm line 2598
	WWW::Mechanize::_make_request(Test::WWW::Mechanize::PSGI=HASH(0x18d992f0f430), HTTP::Request=HASH(0x18d9c7c2d580)) called at /home/perluser/.cpan/build/WWW-Mechanize-1.75-jly5o8/blib/lib/WWW/Mechanize.pm line 2312
	WWW::Mechanize::request(Test::WWW::Mechanize::PSGI=HASH(0x18d992f0f430), HTTP::Request=HASH(0x18d9c7c2d580)) called at /home/perluser/perl5/perlbrew/perls/perl-5.23.0/lib/site_perl/5.23.0/LWP/UserAgent.pm line 419
	LWP::UserAgent::post(Test::WWW::Mechanize::PSGI=HASH(0x18d992f0f430), "/wishlist?baz", HASH(0x18d993c93c10)) called at /home/perluser/.cpan/build/Test-WWW-Mechanize-1.44-ewSCdA/blib/lib/Test/WWW/Mechanize.pm line 236
	Test::WWW::Mechanize::post_ok(Test::WWW::Mechanize::PSGI=HASH(0x18d992f0f430), "/wishlist?baz") called at t/03_mech.t line 90
Secret string too short at /home/perluser/.cpan/build/HTTP-Session2-1.09-9jUNP3/blib/lib/HTTP/Session2/Base.pm line 79.
	HTTP::Session2::Base::__ANON__(HTTP::Session2::ServerStore=HASH(0x18da2a063310), "s3cret") called at t/03_mech.t line 121
	main::server_session(HASH(0x18d9c7c2de68)) called at t/03_mech.t line 17
	main::__ANON__(HASH(0x18d9c7c2de68)) called at /home/perluser/.cpan/build/Test-WWW-Mechanize-PSGI-0.35-Rw5hBk/blib/lib/Test/WWW/Mechanize/PSGI.pm line 39
	Test::WWW::Mechanize::PSGI::__ANON__() called at /home/perluser/perl5/perlbrew/perls/perl-5.23.0/lib/site_perl/5.23.0/Try/Tiny.pm line 81
	eval {...} called at /home/perluser/perl5/perlbrew/perls/perl-5.23.0/lib/site_perl/5.23.0/Try/Tiny.pm line 72
	Try::Tiny::try(CODE(0x18d9c7c2daf0), Try::Tiny::Catch=REF(0x18d9c7c2db38)) called at /home/perluser/.cpan/build/Test-WWW-Mechanize-PSGI-0.35-Rw5hBk/blib/lib/Test/WWW/Mechanize/PSGI.pm line 46
	Test::WWW::Mechanize::PSGI::simple_request(Test::WWW::Mechanize::PSGI=HASH(0x18d992f0f430), HTTP::Request=HASH(0x18d9c7c2d748), undef, undef) called at /home/perluser/perl5/perlbrew/perls/perl-5.23.0/lib/site_perl/5.23.0/LWP/UserAgent.pm line 282
	LWP::UserAgent::request(Test::WWW::Mechanize::PSGI=HASH(0x18d992f0f430), HTTP::Request=HASH(0x18d9c7c2d748)) called at /home/perluser/.cpan/build/WWW-Mechanize-1.75-jly5o8/blib/lib/WWW/Mechanize.pm line 2598
	WWW::Mechanize::_make_request(Test::WWW::Mechanize::PSGI=HASH(0x18d992f0f430), HTTP::Request=HASH(0x18d9c7c2d748)) called at /home/perluser/.cpan/build/WWW-Mechanize-1.75-jly5o8/blib/lib/WWW/Mechanize.pm line 2312
	WWW::Mechanize::request(Test::WWW::Mechanize::PSGI=HASH(0x18d992f0f430), HTTP::Request=HASH(0x18d9c7c2d748)) called at /home/perluser/perl5/perlbrew/perls/perl-5.23.0/lib/site_perl/5.23.0/LWP/UserAgent.pm line 411
	LWP::UserAgent::get(Test::WWW::Mechanize::PSGI=HASH(0x18d992f0f430), "http://localhost/wishlist") called at /home/perluser/.cpan/build/WWW-Mechanize-1.75-jly5o8/blib/lib/WWW/Mechanize.pm line 407
	WWW::Mechanize::get(Test::WWW::Mechanize::PSGI=HASH(0x18d992f0f430), "/wishlist") called at /home/perluser/.cpan/build/Test-WWW-Mechanize-1.44-ewSCdA/blib/lib/Test/WWW/Mechanize.pm line 159
	Test::WWW::Mechanize::get_ok(Test::WWW::Mechanize::PSGI=HASH(0x18d992f0f430), "/wishlist", "Wishlist is still available") called at t/03_mech.t line 91
Secret string too short at /home/perluser/.cpan/build/HTTP-Session2-1.09-9jUNP3/blib/lib/HTTP/Session2/Base.pm line 79.
	HTTP::Session2::Base::__ANON__(HTTP::Session2::ServerStore=HASH(0x18da2a063820), "s3cret") called at t/03_mech.t line 121
	main::server_session(HASH(0x18da7e233f40)) called at t/03_mech.t line 17
	main::__ANON__(HASH(0x18da7e233f40)) called at /home/perluser/.cpan/build/Test-WWW-Mechanize-PSGI-0.35-Rw5hBk/blib/lib/Test/WWW/Mechanize/PSGI.pm line 39
	Test::WWW::Mechanize::PSGI::__ANON__() called at /home/perluser/perl5/perlbrew/perls/perl-5.23.0/lib/site_perl/5.23.0/Try/Tiny.pm line 81
	eval {...} called at /home/perluser/perl5/perlbrew/perls/perl-5.23.0/lib/site_perl/5.23.0/Try/Tiny.pm line 72
	Try::Tiny::try(CODE(0x18d9c7c2dc28), Try::Tiny::Catch=REF(0x18d9c7c2dfd0)) called at /home/perluser/.cpan/build/Test-WWW-Mechanize-PSGI-0.35-Rw5hBk/blib/lib/Test/WWW/Mechanize/PSGI.pm line 46
	Test::WWW::Mechanize::PSGI::simple_request(Test::WWW::Mechanize::PSGI=HASH(0x18d992f0f430), HTTP::Request=HASH(0x18d9c7c2dbe0), undef, undef) called at /home/perluser/perl5/perlbrew/perls/perl-5.23.0/lib/site_perl/5.23.0/LWP/UserAgent.pm line 282
	LWP::UserAgent::request(Test::WWW::Mechanize::PSGI=HASH(0x18d992f0f430), HTTP::Request=HASH(0x18d9c7c2dbe0)) called at /home/perluser/.cpan/build/WWW-Mechanize-1.75-jly5o8/blib/lib/WWW/Mechanize.pm line 2598
	WWW::Mechanize::_make_request(Test::WWW::Mechanize::PSGI=HASH(0x18d992f0f430), HTTP::Request=HASH(0x18d9c7c2dbe0)) called at /home/perluser/.cpan/build/WWW-Mechanize-1.75-jly5o8/blib/lib/WWW/Mechanize.pm line 2312
	WWW::Mechanize::request(Test::WWW::Mechanize::PSGI=HASH(0x18d992f0f430), HTTP::Request=HASH(0x18d9c7c2dbe0)) called at /home/perluser/perl5/perlbrew/perls/perl-5.23.0/lib/site_perl/5.23.0/LWP/UserAgent.pm line 411
	LWP::UserAgent::get(Test::WWW::Mechanize::PSGI=HASH(0x18d992f0f430), "http://localhost/my/name") called at /home/perluser/.cpan/build/WWW-Mechanize-1.75-jly5o8/blib/lib/WWW/Mechanize.pm line 407
	WWW::Mechanize::get(Test::WWW::Mechanize::PSGI=HASH(0x18d992f0f430), "/my/name") called at /home/perluser/.cpan/build/Test-WWW-Mechanize-1.44-ewSCdA/blib/lib/Test/WWW/Mechanize.pm line 159
	Test::WWW::Mechanize::get_ok(Test::WWW::Mechanize::PSGI=HASH(0x18d992f0f430), "/my/name") called at t/03_mech.t line 93
Secret string too short at /home/perluser/.cpan/build/HTTP-Session2-1.09-9jUNP3/blib/lib/HTTP/Session2/Base.pm line 79.
	HTTP::Session2::Base::__ANON__(HTTP::Session2::ServerStore=HASH(0x18da2a063ce8), "s3cret") called at t/03_mech.t line 121
	main::server_session(HASH(0x18da2a063670)) called at t/03_mech.t line 17
	main::__ANON__(HASH(0x18da2a063670)) called at /home/perluser/.cpan/build/Test-WWW-Mechanize-PSGI-0.35-Rw5hBk/blib/lib/Test/WWW/Mechanize/PSGI.pm line 39
	Test::WWW::Mechanize::PSGI::__ANON__() called at /home/perluser/perl5/perlbrew/perls/perl-5.23.0/lib/site_perl/5.23.0/Try/Tiny.pm line 81
	eval {...} called at /home/perluser/perl5/perlbrew/perls/perl-5.23.0/lib/site_perl/5.23.0/Try/Tiny.pm line 72
	Try::Tiny::try(CODE(0x18da2a063688), Try::Tiny::Catch=REF(0x18da2a0635c8)) called at /home/perluser/.cpan/build/Test-WWW-Mechanize-PSGI-0.35-Rw5hBk/blib/lib/Test/WWW/Mechanize/PSGI.pm line 46
	Test::WWW::Mechanize::PSGI::simple_request(Test::WWW::Mechanize::PSGI=HASH(0x18d992f0f430), HTTP::Request=HASH(0x18d9c7c2df70), undef, undef) called at /home/perluser/perl5/perlbrew/perls/perl-5.23.0/lib/site_perl/5.23.0/LWP/UserAgent.pm line 282
	LWP::UserAgent::request(Test::WWW::Mechanize::PSGI=HASH(0x18d992f0f430), HTTP::Request=HASH(0x18d9c7c2df70)) called at /home/perluser/.cpan/build/WWW-Mechanize-1.75-jly5o8/blib/lib/WWW/Mechanize.pm line 2598
	WWW::Mechanize::_make_request(Test::WWW::Mechanize::PSGI=HASH(0x18d992f0f430), HTTP::Request=HASH(0x18d9c7c2df70)) called at /home/perluser/.cpan/build/WWW-Mechanize-1.75-jly5o8/blib/lib/WWW/Mechanize.pm line 2312
	WWW::Mechanize::request(Test::WWW::Mechanize::PSGI=HASH(0x18d992f0f430), HTTP::Request=HASH(0x18d9c7c2df70)) called at /home/perluser/perl5/perlbrew/perls/perl-5.23.0/lib/site_perl/5.23.0/LWP/UserAgent.pm line 419
	LWP::UserAgent::post(Test::WWW::Mechanize::PSGI=HASH(0x18d992f0f430), "/account/logout?john") called at t/03_mech.t line 97
Secret string too short at /home/perluser/.cpan/build/HTTP-Session2-1.09-9jUNP3/blib/lib/HTTP/Session2/Base.pm line 79.
	HTTP::Session2::Base::__ANON__(HTTP::Session2::ClientStore=HASH(0x18d9d1d4d658), "s3cret") called at t/03_mech.t line 127
	main::client_session(HASH(0x18da2a0639e8)) called at t/03_mech.t line 17
	main::__ANON__(HASH(0x18da2a0639e8)) called at /home/perluser/.cpan/build/Test-WWW-Mechanize-PSGI-0.35-Rw5hBk/blib/lib/Test/WWW/Mechanize/PSGI.pm line 39
	Test::WWW::Mechanize::PSGI::__ANON__() called at /home/perluser/perl5/perlbrew/perls/perl-5.23.0/lib/site_perl/5.23.0/Try/Tiny.pm line 81
	eval {...} called at /home/perluser/perl5/perlbrew/perls/perl-5.23.0/lib/site_perl/5.23.0/Try/Tiny.pm line 72
	Try::Tiny::try(CODE(0x18d9ac65ef88), Try::Tiny::Catch=REF(0x18da2a063b38)) called at /home/perluser/.cpan/build/Test-WWW-Mechanize-PSGI-0.35-Rw5hBk/blib/lib/Test/WWW/Mechanize/PSGI.pm line 46
	Test::WWW::Mechanize::PSGI::simple_request(Test::WWW::Mechanize::PSGI=HASH(0x18d992f0fd90), HTTP::Request=HASH(0x18d992f0fdf0), undef, undef) called at /home/perluser/perl5/perlbrew/perls/perl-5.23.0/lib/site_perl/5.23.0/LWP/UserAgent.pm line 282
	LWP::UserAgent::request(Test::WWW::Mechanize::PSGI=HASH(0x18d992f0fd90), HTTP::Request=HASH(0x18d992f0fdf0)) called at /home/perluser/.cpan/build/WWW-Mechanize-1.75-jly5o8/blib/lib/WWW/Mechanize.pm line 2598
	WWW::Mechanize::_make_request(Test::WWW::Mechanize::PSGI=HASH(0x18d992f0fd90), HTTP::Request=HASH(0x18d992f0fdf0)) called at /home/perluser/.cpan/build/WWW-Mechanize-1.75-jly5o8/blib/lib/WWW/Mechanize.pm line 2312
	WWW::Mechanize::request(Test::WWW::Mechanize::PSGI=HASH(0x18d992f0fd90), HTTP::Request=HASH(0x18d992f0fdf0)) called at /home/perluser/perl5/perlbrew/perls/perl-5.23.0/lib/site_perl/5.23.0/LWP/UserAgent.pm line 411
	LWP::UserAgent::get(Test::WWW::Mechanize::PSGI=HASH(0x18d992f0fd90), "/") called at /home/perluser/.cpan/build/WWW-Mechanize-1.75-jly5o8/blib/lib/WWW/Mechanize.pm line 407
	WWW::Mechanize::get(Test::WWW::Mechanize::PSGI=HASH(0x18d992f0fd90), "/") called at /home/perluser/.cpan/build/Test-WWW-Mechanize-1.44-ewSCdA/blib/lib/Test/WWW/Mechanize.pm line 159
	Test::WWW::Mechanize::get_ok(Test::WWW::Mechanize::PSGI=HASH(0x18d992f0fd90), "/") called at t/03_mech.t line 74
Secret string too short at /home/perluser/.cpan/build/HTTP-Session2-1.09-9jUNP3/blib/lib/HTTP/Session2/Base.pm line 79.
	HTTP::Session2::Base::__ANON__(HTTP::Session2::ClientStore=HASH(0x18da7e233100), "s3cret") called at t/03_mech.t line 127
	main::client_session(HASH(0x18d9d1d4d658)) called at t/03_mech.t line 17
	main::__ANON__(HASH(0x18d9d1d4d658)) called at /home/perluser/.cpan/build/Test-WWW-Mechanize-PSGI-0.35-Rw5hBk/blib/lib/Test/WWW/Mechanize/PSGI.pm line 39
	Test::WWW::Mechanize::PSGI::__ANON__() called at /home/perluser/perl5/perlbrew/perls/perl-5.23.0/lib/site_perl/5.23.0/Try/Tiny.pm line 81
	eval {...} called at /home/perluser/perl5/perlbrew/perls/perl-5.23.0/lib/site_perl/5.23.0/Try/Tiny.pm line 72
	Try::Tiny::try(CODE(0x18d9ac65ead8), Try::Tiny::Catch=REF(0x18d9ac65eb50)) called at /home/perluser/.cpan/build/Test-WWW-Mechanize-PSGI-0.35-Rw5hBk/blib/lib/Test/WWW/Mechanize/PSGI.pm line 46
	Test::WWW::Mechanize::PSGI::simple_request(Test::WWW::Mechanize::PSGI=HASH(0x18d992f0fd90), HTTP::Request=HASH(0x18da30743fd0), undef, undef) called at /home/perluser/perl5/perlbrew/perls/perl-5.23.0/lib/site_perl/5.23.0/LWP/UserAgent.pm line 282
	LWP::UserAgent::request(Test::WWW::Mechanize::PSGI=HASH(0x18d992f0fd90), HTTP::Request=HASH(0x18da30743fd0)) called at /home/perluser/.cpan/build/WWW-Mechanize-1.75-jly5o8/blib/lib/WWW/Mechanize.pm line 2598
	WWW::Mechanize::_make_request(Test::WWW::Mechanize::PSGI=HASH(0x18d992f0fd90), HTTP::Request=HASH(0x18da30743fd0)) called at /home/perluser/.cpan/build/WWW-Mechanize-1.75-jly5o8/blib/lib/WWW/Mechanize.pm line 2312
	WWW::Mechanize::request(Test::WWW::Mechanize::PSGI=HASH(0x18d992f0fd90), HTTP::Request=HASH(0x18da30743fd0)) called at /home/perluser/perl5/perlbrew/perls/perl-5.23.0/lib/site_perl/5.23.0/LWP/UserAgent.pm line 419
	LWP::UserAgent::post(Test::WWW::Mechanize::PSGI=HASH(0x18d992f0fd90), "/wishlist?foo", HASH(0x18d993c93c10)) called at /home/perluser/.cpan/build/Test-WWW-Mechanize-1.44-ewSCdA/blib/lib/Test/WWW/Mechanize.pm line 236
	Test::WWW::Mechanize::post_ok(Test::WWW::Mechanize::PSGI=HASH(0x18d992f0fd90), "/wishlist?foo") called at t/03_mech.t line 75
Do not use HTTP::Session2::ClientStore. Use HTTP::Session2::ServerStore or HTTP::Session2::ClientStore2 instead. at /home/perluser/.cpan/build/HTTP-Session2-1.09-9jUNP3/blib/lib/HTTP/Session2/ClientStore.pm line 25.
Secret string too short at /home/perluser/.cpan/build/HTTP-Session2-1.09-9jUNP3/blib/lib/HTTP/Session2/Base.pm line 79.
	HTTP::Session2::Base::__ANON__(HTTP::Session2::ClientStore=HASH(0x18da7e233e08), "s3cret") called at t/03_mech.t line 127
	main::client_session(HASH(0x18d9ac65ee20)) called at t/03_mech.t line 17
	main::__ANON__(HASH(0x18d9ac65ee20)) called at /home/perluser/.cpan/build/Test-WWW-Mechanize-PSGI-0.35-Rw5hBk/blib/lib/Test/WWW/Mechanize/PSGI.pm line 39
	Test::WWW::Mechanize::PSGI::__ANON__() called at /home/perluser/perl5/perlbrew/perls/perl-5.23.0/lib/site_perl/5.23.0/Try/Tiny.pm line 81
	eval {...} called at /home/perluser/perl5/perlbrew/perls/perl-5.23.0/lib/site_perl/5.23.0/Try/Tiny.pm line 72
	Try::Tiny::try(CODE(0x18da7e2333d0), Try::Tiny::Catch=REF(0x18da7e233370)) called at /home/perluser/.cpan/build/Test-WWW-Mechanize-PSGI-0.35-Rw5hBk/blib/lib/Test/WWW/Mechanize/PSGI.pm line 46
	Test::WWW::Mechanize::PSGI::simple_request(Test::WWW::Mechanize::PSGI=HASH(0x18d992f0fd90), HTTP::Request=HASH(0x18da25e24c70), undef, undef) called at /home/perluser/perl5/perlbrew/perls/perl-5.23.0/lib/site_perl/5.23.0/LWP/UserAgent.pm line 282
	LWP::UserAgent::request(Test::WWW::Mechanize::PSGI=HASH(0x18d992f0fd90), HTTP::Request=HASH(0x18da25e24c70)) called at /home/perluser/.cpan/build/WWW-Mechanize-1.75-jly5o8/blib/lib/WWW/Mechanize.pm line 2598
	WWW::Mechanize::_make_request(Test::WWW::Mechanize::PSGI=HASH(0x18d992f0fd90), HTTP::Request=HASH(0x18da25e24c70)) called at /home/perluser/.cpan/build/WWW-Mechanize-1.75-jly5o8/blib/lib/WWW/Mechanize.pm line 2312
	WWW::Mechanize::request(Test::WWW::Mechanize::PSGI=HASH(0x18d992f0fd90), HTTP::Request=HASH(0x18da25e24c70)) called at /home/perluser/perl5/perlbrew/perls/perl-5.23.0/lib/site_perl/5.23.0/LWP/UserAgent.pm line 411
	LWP::UserAgent::get(Test::WWW::Mechanize::PSGI=HASH(0x18d992f0fd90), "http://localhost/wishlist") called at /home/perluser/.cpan/build/WWW-Mechanize-1.75-jly5o8/blib/lib/WWW/Mechanize.pm line 407
	WWW::Mechanize::get(Test::WWW::Mechanize::PSGI=HASH(0x18d992f0fd90), "/wishlist") called at /home/perluser/.cpan/build/Test-WWW-Mechanize-1.44-ewSCdA/blib/lib/Test/WWW/Mechanize.pm line 159
	Test::WWW::Mechanize::get_ok(Test::WWW::Mechanize::PSGI=HASH(0x18d992f0fd90), "/wishlist") called at t/03_mech.t line 76
Do not use HTTP::Session2::ClientStore. Use HTTP::Session2::ServerStore or HTTP::Session2::ClientStore2 instead. at /home/perluser/.cpan/build/HTTP-Session2-1.09-9jUNP3/blib/lib/HTTP/Session2/ClientStore.pm line 35.
Secret string too short at /home/perluser/.cpan/build/HTTP-Session2-1.09-9jUNP3/blib/lib/HTTP/Session2/Base.pm line 79.
	HTTP::Session2::Base::__ANON__(HTTP::Session2::ClientStore=HASH(0x18d9c7c2d6d0), "s3cret") called at t/03_mech.t line 127
	main::client_session(HASH(0x18da7e233370)) called at t/03_mech.t line 17
	main::__ANON__(HASH(0x18da7e233370)) called at /home/perluser/.cpan/build/Test-WWW-Mechanize-PSGI-0.35-Rw5hBk/blib/lib/Test/WWW/Mechanize/PSGI.pm line 39
	Test::WWW::Mechanize::PSGI::__ANON__() called at /home/perluser/perl5/perlbrew/perls/perl-5.23.0/lib/site_perl/5.23.0/Try/Tiny.pm line 81
	eval {...} called at /home/perluser/perl5/perlbrew/perls/perl-5.23.0/lib/site_perl/5.23.0/Try/Tiny.pm line 72
	Try::Tiny::try(CODE(0x18da7e233eb0), Try::Tiny::Catch=REF(0x18da7e2335b0)) called at /home/perluser/.cpan/build/Test-WWW-Mechanize-PSGI-0.35-Rw5hBk/blib/lib/Test/WWW/Mechanize/PSGI.pm line 46
	Test::WWW::Mechanize::PSGI::simple_request(Test::WWW::Mechanize::PSGI=HASH(0x18d992f0fd90), HTTP::Request=HASH(0x18d9d1d4dd90), undef, undef) called at /home/perluser/perl5/perlbrew/perls/perl-5.23.0/lib/site_perl/5.23.0/LWP/UserAgent.pm line 282
	LWP::UserAgent::request(Test::WWW::Mechanize::PSGI=HASH(0x18d992f0fd90), HTTP::Request=HASH(0x18d9d1d4dd90)) called at /home/perluser/.cpan/build/WWW-Mechanize-1.75-jly5o8/blib/lib/WWW/Mechanize.pm line 2598
	WWW::Mechanize::_make_request(Test::WWW::Mechanize::PSGI=HASH(0x18d992f0fd90), HTTP::Request=HASH(0x18d9d1d4dd90)) called at /home/perluser/.cpan/build/WWW-Mechanize-1.75-jly5o8/blib/lib/WWW/Mechanize.pm line 2312
	WWW::Mechanize::request(Test::WWW::Mechanize::PSGI=HASH(0x18d992f0fd90), HTTP::Request=HASH(0x18d9d1d4dd90)) called at /home/perluser/perl5/perlbrew/perls/perl-5.23.0/lib/site_perl/5.23.0/LWP/UserAgent.pm line 419
	LWP::UserAgent::post(Test::WWW::Mechanize::PSGI=HASH(0x18d992f0fd90), "/wishlist?bar") called at t/03_mech.t line 78
Do not use HTTP::Session2::ClientStore. Use HTTP::Session2::ServerStore or HTTP::Session2::ClientStore2 instead. at /home/perluser/.cpan/build/HTTP-Session2-1.09-9jUNP3/blib/lib/HTTP/Session2/ClientStore.pm line 35.
Secret string too short at /home/perluser/.cpan/build/HTTP-Session2-1.09-9jUNP3/blib/lib/HTTP/Session2/Base.pm line 79.
	HTTP::Session2::Base::__ANON__(HTTP::Session2::ClientStore=HASH(0x18da2a063178), "s3cret") called at t/03_mech.t line 127
	main::client_session(HASH(0x18d9c7c2d4a8)) called at t/03_mech.t line 17
	main::__ANON__(HASH(0x18d9c7c2d4a8)) called at /home/perluser/.cpan/build/Test-WWW-Mechanize-PSGI-0.35-Rw5hBk/blib/lib/Test/WWW/Mechanize/PSGI.pm line 39
	Test::WWW::Mechanize::PSGI::__ANON__() called at /home/perluser/perl5/perlbrew/perls/perl-5.23.0/lib/site_perl/5.23.0/Try/Tiny.pm line 81
	eval {...} called at /home/perluser/perl5/perlbrew/perls/perl-5.23.0/lib/site_perl/5.23.0/Try/Tiny.pm line 72
	Try::Tiny::try(CODE(0x18d9c7c2d448), Try::Tiny::Catch=REF(0x18da7e233b98)) called at /home/perluser/.cpan/build/Test-WWW-Mechanize-PSGI-0.35-Rw5hBk/blib/lib/Test/WWW/Mechanize/PSGI.pm line 46
	Test::WWW::Mechanize::PSGI::simple_request(Test::WWW::Mechanize::PSGI=HASH(0x18d992f0fd90), HTTP::Request=HASH(0x18d9ac65e5c8), undef, undef) called at /home/perluser/perl5/perlbrew/perls/perl-5.23.0/lib/site_perl/5.23.0/LWP/UserAgent.pm line 282
	LWP::UserAgent::request(Test::WWW::Mechanize::PSGI=HASH(0x18d992f0fd90), HTTP::Request=HASH(0x18d9ac65e5c8)) called at /home/perluser/.cpan/build/WWW-Mechanize-1.75-jly5o8/blib/lib/WWW/Mechanize.pm line 2598
	WWW::Mechanize::_make_request(Test::WWW::Mechanize::PSGI=HASH(0x18d992f0fd90), HTTP::Request=HASH(0x18d9ac65e5c8)) called at /home/perluser/.cpan/build/WWW-Mechanize-1.75-jly5o8/blib/lib/WWW/Mechanize.pm line 2312
	WWW::Mechanize::request(Test::WWW::Mechanize::PSGI=HASH(0x18d992f0fd90), HTTP::Request=HASH(0x18d9ac65e5c8)) called at /home/perluser/perl5/perlbrew/perls/perl-5.23.0/lib/site_perl/5.23.0/LWP/UserAgent.pm line 419
	LWP::UserAgent::post(Test::WWW::Mechanize::PSGI=HASH(0x18d992f0fd90), "/wishlist?bar", HASH(0x18d993c93c10)) called at /home/perluser/.cpan/build/Test-WWW-Mechanize-1.44-ewSCdA/blib/lib/Test/WWW/Mechanize.pm line 236
	Test::WWW::Mechanize::post_ok(Test::WWW::Mechanize::PSGI=HASH(0x18d992f0fd90), "/wishlist?bar") called at t/03_mech.t line 81
Do not use HTTP::Session2::ClientStore. Use HTTP::Session2::ServerStore or HTTP::Session2::ClientStore2 instead. at /home/perluser/.cpan/build/HTTP-Session2-1.09-9jUNP3/blib/lib/HTTP/Session2/ClientStore.pm line 35.
Do not use HTTP::Session2::ClientStore. Use HTTP::Session2::ServerStore or HTTP::Session2::ClientStore2 instead. at /home/perluser/.cpan/build/HTTP-Session2-1.09-9jUNP3/blib/lib/HTTP/Session2/ClientStore.pm line 25.
Secret string too short at /home/perluser/.cpan/build/HTTP-Session2-1.09-9jUNP3/blib/lib/HTTP/Session2/Base.pm line 79.
	HTTP::Session2::Base::__ANON__(HTTP::Session2::ClientStore=HASH(0x18d9c7c2db20), "s3cret") called at t/03_mech.t line 127
	main::client_session(HASH(0x18d9c7c2d640)) called at t/03_mech.t line 17
	main::__ANON__(HASH(0x18d9c7c2d640)) called at /home/perluser/.cpan/build/Test-WWW-Mechanize-PSGI-0.35-Rw5hBk/blib/lib/Test/WWW/Mechanize/PSGI.pm line 39
	Test::WWW::Mechanize::PSGI::__ANON__() called at /home/perluser/perl5/perlbrew/perls/perl-5.23.0/lib/site_perl/5.23.0/Try/Tiny.pm line 81
	eval {...} called at /home/perluser/perl5/perlbrew/perls/perl-5.23.0/lib/site_perl/5.23.0/Try/Tiny.pm line 72
	Try::Tiny::try(CODE(0x18d9c7c2dc10), Try::Tiny::Catch=REF(0x18d9c7c2d790)) called at /home/perluser/.cpan/build/Test-WWW-Mechanize-PSGI-0.35-Rw5hBk/blib/lib/Test/WWW/Mechanize/PSGI.pm line 46
	Test::WWW::Mechanize::PSGI::simple_request(Test::WWW::Mechanize::PSGI=HASH(0x18d992f0fd90), HTTP::Request=HASH(0x18d9c7c2d0a0), undef, undef) called at /home/perluser/perl5/perlbrew/perls/perl-5.23.0/lib/site_perl/5.23.0/LWP/UserAgent.pm line 282
	LWP::UserAgent::request(Test::WWW::Mechanize::PSGI=HASH(0x18d992f0fd90), HTTP::Request=HASH(0x18d9c7c2d0a0)) called at /home/perluser/.cpan/build/WWW-Mechanize-1.75-jly5o8/blib/lib/WWW/Mechanize.pm line 2598
	WWW::Mechanize::_make_request(Test::WWW::Mechanize::PSGI=HASH(0x18d992f0fd90), HTTP::Request=HASH(0x18d9c7c2d0a0)) called at /home/perluser/.cpan/build/WWW-Mechanize-1.75-jly5o8/blib/lib/WWW/Mechanize.pm line 2312
	WWW::Mechanize::request(Test::WWW::Mechanize::PSGI=HASH(0x18d992f0fd90), HTTP::Request=HASH(0x18d9c7c2d0a0)) called at /home/perluser/perl5/perlbrew/perls/perl-5.23.0/lib/site_perl/5.23.0/LWP/UserAgent.pm line 411
	LWP::UserAgent::get(Test::WWW::Mechanize::PSGI=HASH(0x18d992f0fd90), "http://localhost/wishlist") called at /home/perluser/.cpan/build/WWW-Mechanize-1.75-jly5o8/blib/lib/WWW/Mechanize.pm line 407
	WWW::Mechanize::get(Test::WWW::Mechanize::PSGI=HASH(0x18d992f0fd90), "/wishlist") called at /home/perluser/.cpan/build/Test-WWW-Mechanize-1.44-ewSCdA/blib/lib/Test/WWW/Mechanize.pm line 159
	Test::WWW::Mechanize::get_ok(Test::WWW::Mechanize::PSGI=HASH(0x18d992f0fd90), "/wishlist") called at t/03_mech.t line 82
Do not use HTTP::Session2::ClientStore. Use HTTP::Session2::ServerStore or HTTP::Session2::ClientStore2 instead. at /home/perluser/.cpan/build/HTTP-Session2-1.09-9jUNP3/blib/lib/HTTP/Session2/ClientStore.pm line 35.
Secret string too short at /home/perluser/.cpan/build/HTTP-Session2-1.09-9jUNP3/blib/lib/HTTP/Session2/Base.pm line 79.
	HTTP::Session2::Base::__ANON__(HTTP::Session2::ClientStore=HASH(0x18d992f0fbb0), "s3cret") called at t/03_mech.t line 127
	main::client_session(HASH(0x18da2a063100)) called at t/03_mech.t line 17
	main::__ANON__(HASH(0x18da2a063100)) called at /home/perluser/.cpan/build/Test-WWW-Mechanize-PSGI-0.35-Rw5hBk/blib/lib/Test/WWW/Mechanize/PSGI.pm line 39
	Test::WWW::Mechanize::PSGI::__ANON__() called at /home/perluser/perl5/perlbrew/perls/perl-5.23.0/lib/site_perl/5.23.0/Try/Tiny.pm line 81
	eval {...} called at /home/perluser/perl5/perlbrew/perls/perl-5.23.0/lib/site_perl/5.23.0/Try/Tiny.pm line 72
	Try::Tiny::try(CODE(0x18da7e233748), Try::Tiny::Catch=REF(0x18d9c7c2dac0)) called at /home/perluser/.cpan/build/Test-WWW-Mechanize-PSGI-0.35-Rw5hBk/blib/lib/Test/WWW/Mechanize/PSGI.pm line 46
	Test::WWW::Mechanize::PSGI::simple_request(Test::WWW::Mechanize::PSGI=HASH(0x18d992f0fd90), HTTP::Request=HASH(0x18da7e233760), undef, undef) called at /home/perluser/perl5/perlbrew/perls/perl-5.23.0/lib/site_perl/5.23.0/LWP/UserAgent.pm line 282
	LWP::UserAgent::request(Test::WWW::Mechanize::PSGI=HASH(0x18d992f0fd90), HTTP::Request=HASH(0x18da7e233760)) called at /home/perluser/.cpan/build/WWW-Mechanize-1.75-jly5o8/blib/lib/WWW/Mechanize.pm line 2598
	WWW::Mechanize::_make_request(Test::WWW::Mechanize::PSGI=HASH(0x18d992f0fd90), HTTP::Request=HASH(0x18da7e233760)) called at /home/perluser/.cpan/build/WWW-Mechanize-1.75-jly5o8/blib/lib/WWW/Mechanize.pm line 2312
	WWW::Mechanize::request(Test::WWW::Mechanize::PSGI=HASH(0x18d992f0fd90), HTTP::Request=HASH(0x18da7e233760)) called at /home/perluser/perl5/perlbrew/perls/perl-5.23.0/lib/site_perl/5.23.0/LWP/UserAgent.pm line 419
	LWP::UserAgent::post(Test::WWW::Mechanize::PSGI=HASH(0x18d992f0fd90), "/account/login?john", HASH(0x18d993c93c10)) called at /home/perluser/.cpan/build/Test-WWW-Mechanize-1.44-ewSCdA/blib/lib/Test/WWW/Mechanize.pm line 236
	Test::WWW::Mechanize::post_ok(Test::WWW::Mechanize::PSGI=HASH(0x18d992f0fd90), "/account/login?john") called at t/03_mech.t line 84
Do not use HTTP::Session2::ClientStore. Use HTTP::Session2::ServerStore or HTTP::Session2::ClientStore2 instead. at /home/perluser/.cpan/build/HTTP-Session2-1.09-9jUNP3/blib/lib/HTTP/Session2/ClientStore.pm line 35.
Do not use HTTP::Session2::ClientStore. Use HTTP::Session2::ServerStore or HTTP::Session2::ClientStore2 instead. at /home/perluser/.cpan/build/HTTP-Session2-1.09-9jUNP3/blib/lib/HTTP/Session2/ClientStore.pm line 35.
Do not use HTTP::Session2::ClientStore. Use HTTP::Session2::ServerStore or HTTP::Session2::ClientStore2 instead. at /home/perluser/.cpan/build/HTTP-Session2-1.09-9jUNP3/blib/lib/HTTP/Session2/ClientStore.pm line 25.
Secret string too short at /home/perluser/.cpan/build/HTTP-Session2-1.09-9jUNP3/blib/lib/HTTP/Session2/Base.pm line 79.
	HTTP::Session2::Base::__ANON__(HTTP::Session2::ClientStore=HASH(0x18d992f0f700), "s3cret") called at t/03_mech.t line 127
	main::client_session(HASH(0x18d9ac65e730)) called at t/03_mech.t line 17
	main::__ANON__(HASH(0x18d9ac65e730)) called at /home/perluser/.cpan/build/Test-WWW-Mechanize-PSGI-0.35-Rw5hBk/blib/lib/Test/WWW/Mechanize/PSGI.pm line 39
	Test::WWW::Mechanize::PSGI::__ANON__() called at /home/perluser/perl5/perlbrew/perls/perl-5.23.0/lib/site_perl/5.23.0/Try/Tiny.pm line 81
	eval {...} called at /home/perluser/perl5/perlbrew/perls/perl-5.23.0/lib/site_perl/5.23.0/Try/Tiny.pm line 72
	Try::Tiny::try(CODE(0x18da2a063ad8), Try::Tiny::Catch=REF(0x18da2a0635b0)) called at /home/perluser/.cpan/build/Test-WWW-Mechanize-PSGI-0.35-Rw5hBk/blib/lib/Test/WWW/Mechanize/PSGI.pm line 46
	Test::WWW::Mechanize::PSGI::simple_request(Test::WWW::Mechanize::PSGI=HASH(0x18d992f0fd90), HTTP::Request=HASH(0x18d9ac65ee80), undef, undef) called at /home/perluser/perl5/perlbrew/perls/perl-5.23.0/lib/site_perl/5.23.0/LWP/UserAgent.pm line 282
	LWP::UserAgent::request(Test::WWW::Mechanize::PSGI=HASH(0x18d992f0fd90), HTTP::Request=HASH(0x18d9ac65ee80)) called at /home/perluser/.cpan/build/WWW-Mechanize-1.75-jly5o8/blib/lib/WWW/Mechanize.pm line 2598
	WWW::Mechanize::_make_request(Test::WWW::Mechanize::PSGI=HASH(0x18d992f0fd90), HTTP::Request=HASH(0x18d9ac65ee80)) called at /home/perluser/.cpan/build/WWW-Mechanize-1.75-jly5o8/blib/lib/WWW/Mechanize.pm line 2312
	WWW::Mechanize::request(Test::WWW::Mechanize::PSGI=HASH(0x18d992f0fd90), HTTP::Request=HASH(0x18d9ac65ee80)) called at /home/perluser/perl5/perlbrew/perls/perl-5.23.0/lib/site_perl/5.23.0/LWP/UserAgent.pm line 411
	LWP::UserAgent::get(Test::WWW::Mechanize::PSGI=HASH(0x18d992f0fd90), "http://localhost/wishlist") called at /home/perluser/.cpan/build/WWW-Mechanize-1.75-jly5o8/blib/lib/WWW/Mechanize.pm line 407
	WWW::Mechanize::get(Test::WWW::Mechanize::PSGI=HASH(0x18d992f0fd90), "/wishlist") called at /home/perluser/.cpan/build/Test-WWW-Mechanize-1.44-ewSCdA/blib/lib/Test/WWW/Mechanize.pm line 159
	Test::WWW::Mechanize::get_ok(Test::WWW::Mechanize::PSGI=HASH(0x18d992f0fd90), "/wishlist", "Wishlist is still available") called at t/03_mech.t line 85
Do not use HTTP::Session2::ClientStore. Use HTTP::Session2::ServerStore or HTTP::Session2::ClientStore2 instead. at /home/perluser/.cpan/build/HTTP-Session2-1.09-9jUNP3/blib/lib/HTTP/Session2/ClientStore.pm line 35.
Secret string too short at /home/perluser/.cpan/build/HTTP-Session2-1.09-9jUNP3/blib/lib/HTTP/Session2/Base.pm line 79.
	HTTP::Session2::Base::__ANON__(HTTP::Session2::ClientStore=HASH(0x18d9f77ae8e0), "s3cret") called at t/03_mech.t line 127
	main::client_session(HASH(0x18da2a0635b0)) called at t/03_mech.t line 17
	main::__ANON__(HASH(0x18da2a0635b0)) called at /home/perluser/.cpan/build/Test-WWW-Mechanize-PSGI-0.35-Rw5hBk/blib/lib/Test/WWW/Mechanize/PSGI.pm line 39
	Test::WWW::Mechanize::PSGI::__ANON__() called at /home/perluser/perl5/perlbrew/perls/perl-5.23.0/lib/site_perl/5.23.0/Try/Tiny.pm line 81
	eval {...} called at /home/perluser/perl5/perlbrew/perls/perl-5.23.0/lib/site_perl/5.23.0/Try/Tiny.pm line 72
	Try::Tiny::try(CODE(0x18d992f0f850), Try::Tiny::Catch=REF(0x18da2a063430)) called at /home/perluser/.cpan/build/Test-WWW-Mechanize-PSGI-0.35-Rw5hBk/blib/lib/Test/WWW/Mechanize/PSGI.pm line 46
	Test::WWW::Mechanize::PSGI::simple_request(Test::WWW::Mechanize::PSGI=HASH(0x18d992f0fd90), HTTP::Request=HASH(0x18da2a063dc0), undef, undef) called at /home/perluser/perl5/perlbrew/perls/perl-5.23.0/lib/site_perl/5.23.0/LWP/UserAgent.pm line 282
	LWP::UserAgent::request(Test::WWW::Mechanize::PSGI=HASH(0x18d992f0fd90), HTTP::Request=HASH(0x18da2a063dc0)) called at /home/perluser/.cpan/build/WWW-Mechanize-1.75-jly5o8/blib/lib/WWW/Mechanize.pm line 2598
	WWW::Mechanize::_make_request(Test::WWW::Mechanize::PSGI=HASH(0x18d992f0fd90), HTTP::Request=HASH(0x18da2a063dc0)) called at /home/perluser/.cpan/build/WWW-Mechanize-1.75-jly5o8/blib/lib/WWW/Mechanize.pm line 2312
	WWW::Mechanize::request(Test::WWW::Mechanize::PSGI=HASH(0x18d992f0fd90), HTTP::Request=HASH(0x18da2a063dc0)) called at /home/perluser/perl5/perlbrew/perls/perl-5.23.0/lib/site_perl/5.23.0/LWP/UserAgent.pm line 419
	LWP::UserAgent::post(Test::WWW::Mechanize::PSGI=HASH(0x18d992f0fd90), "/wishlist?baz") called at t/03_mech.t line 87
Do not use HTTP::Session2::ClientStore. Use HTTP::Session2::ServerStore or HTTP::Session2::ClientStore2 instead. at /home/perluser/.cpan/build/HTTP-Session2-1.09-9jUNP3/blib/lib/HTTP/Session2/ClientStore.pm line 35.
Secret string too short at /home/perluser/.cpan/build/HTTP-Session2-1.09-9jUNP3/blib/lib/HTTP/Session2/Base.pm line 79.
	HTTP::Session2::Base::__ANON__(HTTP::Session2::ClientStore=HASH(0x18da2a063c10), "s3cret") called at t/03_mech.t line 127
	main::client_session(HASH(0x18d9c7c2da48)) called at t/03_mech.t line 17
	main::__ANON__(HASH(0x18d9c7c2da48)) called at /home/perluser/.cpan/build/Test-WWW-Mechanize-PSGI-0.35-Rw5hBk/blib/lib/Test/WWW/Mechanize/PSGI.pm line 39
	Test::WWW::Mechanize::PSGI::__ANON__() called at /home/perluser/perl5/perlbrew/perls/perl-5.23.0/lib/site_perl/5.23.0/Try/Tiny.pm line 81
	eval {...} called at /home/perluser/perl5/perlbrew/perls/perl-5.23.0/lib/site_perl/5.23.0/Try/Tiny.pm line 72
	Try::Tiny::try(CODE(0x18d992f0fb38), Try::Tiny::Catch=REF(0x18d992f0faf0)) called at /home/perluser/.cpan/build/Test-WWW-Mechanize-PSGI-0.35-Rw5hBk/blib/lib/Test/WWW/Mechanize/PSGI.pm line 46
	Test::WWW::Mechanize::PSGI::simple_request(Test::WWW::Mechanize::PSGI=HASH(0x18d992f0fd90), HTTP::Request=HASH(0x18d9c7c2d358), undef, undef) called at /home/perluser/perl5/perlbrew/perls/perl-5.23.0/lib/site_perl/5.23.0/LWP/UserAgent.pm line 282
	LWP::UserAgent::request(Test::WWW::Mechanize::PSGI=HASH(0x18d992f0fd90), HTTP::Request=HASH(0x18d9c7c2d358)) called at /home/perluser/.cpan/build/WWW-Mechanize-1.75-jly5o8/blib/lib/WWW/Mechanize.pm line 2598
	WWW::Mechanize::_make_request(Test::WWW::Mechanize::PSGI=HASH(0x18d992f0fd90), HTTP::Request=HASH(0x18d9c7c2d358)) called at /home/perluser/.cpan/build/WWW-Mechanize-1.75-jly5o8/blib/lib/WWW/Mechanize.pm line 2312
	WWW::Mechanize::request(Test::WWW::Mechanize::PSGI=HASH(0x18d992f0fd90), HTTP::Request=HASH(0x18d9c7c2d358)) called at /home/perluser/perl5/perlbrew/perls/perl-5.23.0/lib/site_perl/5.23.0/LWP/UserAgent.pm line 419
	LWP::UserAgent::post(Test::WWW::Mechanize::PSGI=HASH(0x18d992f0fd90), "/wishlist?baz", HASH(0x18d993c93c10)) called at /home/perluser/.cpan/build/Test-WWW-Mechanize-1.44-ewSCdA/blib/lib/Test/WWW/Mechanize.pm line 236
	Test::WWW::Mechanize::post_ok(Test::WWW::Mechanize::PSGI=HASH(0x18d992f0fd90), "/wishlist?baz") called at t/03_mech.t line 90
Do not use HTTP::Session2::ClientStore. Use HTTP::Session2::ServerStore or HTTP::Session2::ClientStore2 instead. at /home/perluser/.cpan/build/HTTP-Session2-1.09-9jUNP3/blib/lib/HTTP/Session2/ClientStore.pm line 35.
Do not use HTTP::Session2::ClientStore. Use HTTP::Session2::ServerStore or HTTP::Session2::ClientStore2 instead. at /home/perluser/.cpan/build/HTTP-Session2-1.09-9jUNP3/blib/lib/HTTP/Session2/ClientStore.pm line 25.
Secret string too short at /home/perluser/.cpan/build/HTTP-Session2-1.09-9jUNP3/blib/lib/HTTP/Session2/Base.pm line 79.
	HTTP::Session2::Base::__ANON__(HTTP::Session2::ClientStore=HASH(0x18d9b0f2e238), "s3cret") called at t/03_mech.t line 127
	main::client_session(HASH(0x18da2a063e20)) called at t/03_mech.t line 17
	main::__ANON__(HASH(0x18da2a063e20)) called at /home/perluser/.cpan/build/Test-WWW-Mechanize-PSGI-0.35-Rw5hBk/blib/lib/Test/WWW/Mechanize/PSGI.pm line 39
	Test::WWW::Mechanize::PSGI::__ANON__() called at /home/perluser/perl5/perlbrew/perls/perl-5.23.0/lib/site_perl/5.23.0/Try/Tiny.pm line 81
	eval {...} called at /home/perluser/perl5/perlbrew/perls/perl-5.23.0/lib/site_perl/5.23.0/Try/Tiny.pm line 72
	Try::Tiny::try(CODE(0x18da2a063df0), Try::Tiny::Catch=REF(0x18d9d1d4da18)) called at /home/perluser/.cpan/build/Test-WWW-Mechanize-PSGI-0.35-Rw5hBk/blib/lib/Test/WWW/Mechanize/PSGI.pm line 46
	Test::WWW::Mechanize::PSGI::simple_request(Test::WWW::Mechanize::PSGI=HASH(0x18d992f0fd90), HTTP::Request=HASH(0x18d992f0fdd8), undef, undef) called at /home/perluser/perl5/perlbrew/perls/perl-5.23.0/lib/site_perl/5.23.0/LWP/UserAgent.pm line 282
	LWP::UserAgent::request(Test::WWW::Mechanize::PSGI=HASH(0x18d992f0fd90), HTTP::Request=HASH(0x18d992f0fdd8)) called at /home/perluser/.cpan/build/WWW-Mechanize-1.75-jly5o8/blib/lib/WWW/Mechanize.pm line 2598
	WWW::Mechanize::_make_request(Test::WWW::Mechanize::PSGI=HASH(0x18d992f0fd90), HTTP::Request=HASH(0x18d992f0fdd8)) called at /home/perluser/.cpan/build/WWW-Mechanize-1.75-jly5o8/blib/lib/WWW/Mechanize.pm line 2312
	WWW::Mechanize::request(Test::WWW::Mechanize::PSGI=HASH(0x18d992f0fd90), HTTP::Request=HASH(0x18d992f0fdd8)) called at /home/perluser/perl5/perlbrew/perls/perl-5.23.0/lib/site_perl/5.23.0/LWP/UserAgent.pm line 411
	LWP::UserAgent::get(Test::WWW::Mechanize::PSGI=HASH(0x18d992f0fd90), "http://localhost/wishlist") called at /home/perluser/.cpan/build/WWW-Mechanize-1.75-jly5o8/blib/lib/WWW/Mechanize.pm line 407
	WWW::Mechanize::get(Test::WWW::Mechanize::PSGI=HASH(0x18d992f0fd90), "/wishlist") called at /home/perluser/.cpan/build/Test-WWW-Mechanize-1.44-ewSCdA/blib/lib/Test/WWW/Mechanize.pm line 159
	Test::WWW::Mechanize::get_ok(Test::WWW::Mechanize::PSGI=HASH(0x18d992f0fd90), "/wishlist", "Wishlist is still available") called at t/03_mech.t line 91
Do not use HTTP::Session2::ClientStore. Use HTTP::Session2::ServerStore or HTTP::Session2::ClientStore2 instead. at /home/perluser/.cpan/build/HTTP-Session2-1.09-9jUNP3/blib/lib/HTTP/Session2/ClientStore.pm line 35.
Secret string too short at /home/perluser/.cpan/build/HTTP-Session2-1.09-9jUNP3/blib/lib/HTTP/Session2/Base.pm line 79.
	HTTP::Session2::Base::__ANON__(HTTP::Session2::ClientStore=HASH(0x18d9b0f2e3d0), "s3cret") called at t/03_mech.t line 127
	main::client_session(HASH(0x18da2a063b68)) called at t/03_mech.t line 17
	main::__ANON__(HASH(0x18da2a063b68)) called at /home/perluser/.cpan/build/Test-WWW-Mechanize-PSGI-0.35-Rw5hBk/blib/lib/Test/WWW/Mechanize/PSGI.pm line 39
	Test::WWW::Mechanize::PSGI::__ANON__() called at /home/perluser/perl5/perlbrew/perls/perl-5.23.0/lib/site_perl/5.23.0/Try/Tiny.pm line 81
	eval {...} called at /home/perluser/perl5/perlbrew/perls/perl-5.23.0/lib/site_perl/5.23.0/Try/Tiny.pm line 72
	Try::Tiny::try(CODE(0x18d9c7c2d508), Try::Tiny::Catch=REF(0x18d9b0f2e208)) called at /home/perluser/.cpan/build/Test-WWW-Mechanize-PSGI-0.35-Rw5hBk/blib/lib/Test/WWW/Mechanize/PSGI.pm line 46
	Test::WWW::Mechanize::PSGI::simple_request(Test::WWW::Mechanize::PSGI=HASH(0x18d992f0fd90), HTTP::Request=HASH(0x18d9c7c2d8f8), undef, undef) called at /home/perluser/perl5/perlbrew/perls/perl-5.23.0/lib/site_perl/5.23.0/LWP/UserAgent.pm line 282
	LWP::UserAgent::request(Test::WWW::Mechanize::PSGI=HASH(0x18d992f0fd90), HTTP::Request=HASH(0x18d9c7c2d8f8)) called at /home/perluser/.cpan/build/WWW-Mechanize-1.75-jly5o8/blib/lib/WWW/Mechanize.pm line 2598
	WWW::Mechanize::_make_request(Test::WWW::Mechanize::PSGI=HASH(0x18d992f0fd90), HTTP::Request=HASH(0x18d9c7c2d8f8)) called at /home/perluser/.cpan/build/WWW-Mechanize-1.75-jly5o8/blib/lib/WWW/Mechanize.pm line 2312
	WWW::Mechanize::request(Test::WWW::Mechanize::PSGI=HASH(0x18d992f0fd90), HTTP::Request=HASH(0x18d9c7c2d8f8)) called at /home/perluser/perl5/perlbrew/perls/perl-5.23.0/lib/site_perl/5.23.0/LWP/UserAgent.pm line 411
	LWP::UserAgent::get(Test::WWW::Mechanize::PSGI=HASH(0x18d992f0fd90), "http://localhost/my/name") called at /home/perluser/.cpan/build/WWW-Mechanize-1.75-jly5o8/blib/lib/WWW/Mechanize.pm line 407
	WWW::Mechanize::get(Test::WWW::Mechanize::PSGI=HASH(0x18d992f0fd90), "/my/name") called at /home/perluser/.cpan/build/Test-WWW-Mechanize-1.44-ewSCdA/blib/lib/Test/WWW/Mechanize.pm line 159
	Test::WWW::Mechanize::get_ok(Test::WWW::Mechanize::PSGI=HASH(0x18d992f0fd90), "/my/name") called at t/03_mech.t line 93
Do not use HTTP::Session2::ClientStore. Use HTTP::Session2::ServerStore or HTTP::Session2::ClientStore2 instead. at /home/perluser/.cpan/build/HTTP-Session2-1.09-9jUNP3/blib/lib/HTTP/Session2/ClientStore.pm line 35.
Secret string too short at /home/perluser/.cpan/build/HTTP-Session2-1.09-9jUNP3/blib/lib/HTTP/Session2/Base.pm line 79.
	HTTP::Session2::Base::__ANON__(HTTP::Session2::ClientStore=HASH(0x18d9b0f2eef8), "s3cret") called at t/03_mech.t line 127
	main::client_session(HASH(0x18d9b0f2ee20)) called at t/03_mech.t line 17
	main::__ANON__(HASH(0x18d9b0f2ee20)) called at /home/perluser/.cpan/build/Test-WWW-Mechanize-PSGI-0.35-Rw5hBk/blib/lib/Test/WWW/Mechanize/PSGI.pm line 39
	Test::WWW::Mechanize::PSGI::__ANON__() called at /home/perluser/perl5/perlbrew/perls/perl-5.23.0/lib/site_perl/5.23.0/Try/Tiny.pm line 81
	eval {...} called at /home/perluser/perl5/perlbrew/perls/perl-5.23.0/lib/site_perl/5.23.0/Try/Tiny.pm line 72
	Try::Tiny::try(CODE(0x18d9b0f2ee80), Try::Tiny::Catch=REF(0x18d9b0f2e868)) called at /home/perluser/.cpan/build/Test-WWW-Mechanize-PSGI-0.35-Rw5hBk/blib/lib/Test/WWW/Mechanize/PSGI.pm line 46
	Test::WWW::Mechanize::PSGI::simple_request(Test::WWW::Mechanize::PSGI=HASH(0x18d992f0fd90), HTTP::Request=HASH(0x18d9b0f2e808), undef, undef) called at /home/perluser/perl5/perlbrew/perls/perl-5.23.0/lib/site_perl/5.23.0/LWP/UserAgent.pm line 282
	LWP::UserAgent::request(Test::WWW::Mechanize::PSGI=HASH(0x18d992f0fd90), HTTP::Request=HASH(0x18d9b0f2e808)) called at /home/perluser/.cpan/build/WWW-Mechanize-1.75-jly5o8/blib/lib/WWW/Mechanize.pm line 2598
	WWW::Mechanize::_make_request(Test::WWW::Mechanize::PSGI=HASH(0x18d992f0fd90), HTTP::Request=HASH(0x18d9b0f2e808)) called at /home/perluser/.cpan/build/WWW-Mechanize-1.75-jly5o8/blib/lib/WWW/Mechanize.pm line 2312
	WWW::Mechanize::request(Test::WWW::Mechanize::PSGI=HASH(0x18d992f0fd90), HTTP::Request=HASH(0x18d9b0f2e808)) called at /home/perluser/perl5/perlbrew/perls/perl-5.23.0/lib/site_perl/5.23.0/LWP/UserAgent.pm line 419
	LWP::UserAgent::post(Test::WWW::Mechanize::PSGI=HASH(0x18d992f0fd90), "/account/logout?john") called at t/03_mech.t line 97
Do not use HTTP::Session2::ClientStore. Use HTTP::Session2::ServerStore or HTTP::Session2::ClientStore2 instead. at /home/perluser/.cpan/build/HTTP-Session2-1.09-9jUNP3/blib/lib/HTTP/Session2/ClientStore.pm line 35.
Do not use HTTP::Session2::ClientStore. Use HTTP::Session2::ServerStore or HTTP::Session2::ClientStore2 instead. at /home/perluser/.cpan/build/HTTP-Session2-1.09-9jUNP3/blib/lib/HTTP/Session2/ClientStore.pm line 35.
t/03_mech.t ................. ok
Do not use HTTP::Session2::ClientStore. Use HTTP::Session2::ServerStore or HTTP::Session2::ClientStore2 instead. at /home/perluser/.cpan/build/HTTP-Session2-1.09-9jUNP3/blib/lib/HTTP/Session2/ClientStore.pm line 25.
t/04_plack_response.t ....... ok
Secret string too short at /home/perluser/.cpan/build/HTTP-Session2-1.09-9jUNP3/blib/lib/HTTP/Session2/Base.pm line 79.
	HTTP::Session2::Base::__ANON__(HTTP::Session2::ClientStore=HASH(0xcccb9da63b8), "s3cret") called at t/05_keep_me_signed_in.t line 20
Do not use HTTP::Session2::ClientStore. Use HTTP::Session2::ServerStore or HTTP::Session2::ClientStore2 instead. at /home/perluser/.cpan/build/HTTP-Session2-1.09-9jUNP3/blib/lib/HTTP/Session2/ClientStore.pm line 25.
t/05_keep_me_signed_in.t .... ok
Secret string too short at /home/perluser/.cpan/build/HTTP-Session2-1.09-9jUNP3/blib/lib/HTTP/Session2/Base.pm line 79.
	HTTP::Session2::Base::__ANON__(HTTP::Session2::Base=HASH(0x5f9b770a0e8), "i am secret") called at t/06_base_abstract.t line 7
t/06_base_abstract.t ........ ok
Secret string too short at /home/perluser/.cpan/build/HTTP-Session2-1.09-9jUNP3/blib/lib/HTTP/Session2/Base.pm line 79.
	HTTP::Session2::Base::__ANON__(HTTP::Session2::ClientStore=HASH(0xa5ade1eccd0), "secret") called at t/07_client_store.t line 23
	main::__ANON__() called at /home/perluser/perl5/perlbrew/perls/perl-5.23.0/lib/5.23.0/Test/Builder.pm line 261
	Test::Builder::__ANON__() called at /home/perluser/perl5/perlbrew/perls/perl-5.23.0/lib/5.23.0/Test/Builder.pm line 266
	eval {...} called at /home/perluser/perl5/perlbrew/perls/perl-5.23.0/lib/5.23.0/Test/Builder.pm line 266
	Test::Builder::subtest(Test::Builder=HASH(0xa5ad7f8fe20), "get/set/remove", CODE(0xa5b37a6b208)) called at /home/perluser/perl5/perlbrew/perls/perl-5.23.0/lib/5.23.0/Test/More.pm line 771
	Test::More::subtest("get/set/remove", CODE(0xa5b37a6b208)) called at t/07_client_store.t line 31
Secret string too short at /home/perluser/.cpan/build/HTTP-Session2-1.09-9jUNP3/blib/lib/HTTP/Session2/Base.pm line 79.
	HTTP::Session2::Base::__ANON__(HTTP::Session2::ClientStore=HASH(0xa5ae2445f10), "secret") called at t/07_client_store.t line 35
	main::__ANON__() called at /home/perluser/perl5/perlbrew/perls/perl-5.23.0/lib/5.23.0/Test/Builder.pm line 261
	Test::Builder::__ANON__() called at /home/perluser/perl5/perlbrew/perls/perl-5.23.0/lib/5.23.0/Test/Builder.pm line 266
	eval {...} called at /home/perluser/perl5/perlbrew/perls/perl-5.23.0/lib/5.23.0/Test/Builder.pm line 266
	Test::Builder::subtest(Test::Builder=HASH(0xa5ad7f8fe20), "validate_token", CODE(0xa5b37a6b5f8)) called at /home/perluser/perl5/perlbrew/perls/perl-5.23.0/lib/5.23.0/Test/More.pm line 771
	Test::More::subtest("validate_token", CODE(0xa5b37a6b5f8)) called at t/07_client_store.t line 71
Do not use HTTP::Session2::ClientStore. Use HTTP::Session2::ServerStore or HTTP::Session2::ClientStore2 instead. at /home/perluser/.cpan/build/HTTP-Session2-1.09-9jUNP3/blib/lib/HTTP/Session2/ClientStore.pm line 25.
Secret string too short at /home/perluser/.cpan/build/HTTP-Session2-1.09-9jUNP3/blib/lib/HTTP/Session2/Base.pm line 79.
	HTTP::Session2::Base::__ANON__(HTTP::Session2::ClientStore=HASH(0xa5b7babcd30), "secret") called at t/07_client_store.t line 51
	main::__ANON__() called at /home/perluser/perl5/perlbrew/perls/perl-5.23.0/lib/5.23.0/Test/Builder.pm line 261
	Test::Builder::__ANON__() called at /home/perluser/perl5/perlbrew/perls/perl-5.23.0/lib/5.23.0/Test/Builder.pm line 266
	eval {...} called at /home/perluser/perl5/perlbrew/perls/perl-5.23.0/lib/5.23.0/Test/Builder.pm line 266
	Test::Builder::subtest(Test::Builder=HASH(0xa5ad7f8fe20), "bad", CODE(0xa5b7babc820)) called at /home/perluser/perl5/perlbrew/perls/perl-5.23.0/lib/5.23.0/Test/More.pm line 771
	Test::More::subtest("bad", CODE(0xa5b7babc820)) called at t/07_client_store.t line 57
	main::__ANON__() called at /home/perluser/perl5/perlbrew/perls/perl-5.23.0/lib/5.23.0/Test/Builder.pm line 261
	Test::Builder::__ANON__() called at /home/perluser/perl5/perlbrew/perls/perl-5.23.0/lib/5.23.0/Test/Builder.pm line 266
	eval {...} called at /home/perluser/perl5/perlbrew/perls/perl-5.23.0/lib/5.23.0/Test/Builder.pm line 266
	Test::Builder::subtest(Test::Builder=HASH(0xa5ad7f8fe20), "validate_token", CODE(0xa5b37a6b5f8)) called at /home/perluser/perl5/perlbrew/perls/perl-5.23.0/lib/5.23.0/Test/More.pm line 771
	Test::More::subtest("validate_token", CODE(0xa5b37a6b5f8)) called at t/07_client_store.t line 71
Do not use HTTP::Session2::ClientStore. Use HTTP::Session2::ServerStore or HTTP::Session2::ClientStore2 instead. at /home/perluser/.cpan/build/HTTP-Session2-1.09-9jUNP3/blib/lib/HTTP/Session2/ClientStore.pm line 35.
Secret string too short at /home/perluser/.cpan/build/HTTP-Session2-1.09-9jUNP3/blib/lib/HTTP/Session2/Base.pm line 79.
	HTTP::Session2::Base::__ANON__(HTTP::Session2::ClientStore=HASH(0xa5b278c3058), "secret") called at t/07_client_store.t line 65
	main::__ANON__() called at /home/perluser/perl5/perlbrew/perls/perl-5.23.0/lib/5.23.0/Test/Builder.pm line 261
	Test::Builder::__ANON__() called at /home/perluser/perl5/perlbrew/perls/perl-5.23.0/lib/5.23.0/Test/Builder.pm line 266
	eval {...} called at /home/perluser/perl5/perlbrew/perls/perl-5.23.0/lib/5.23.0/Test/Builder.pm line 266
	Test::Builder::subtest(Test::Builder=HASH(0xa5ad7f8fe20), "good", CODE(0xa5b7babc820)) called at /home/perluser/perl5/perlbrew/perls/perl-5.23.0/lib/5.23.0/Test/More.pm line 771
	Test::More::subtest("good", CODE(0xa5b7babc820)) called at t/07_client_store.t line 70
	main::__ANON__() called at /home/perluser/perl5/perlbrew/perls/perl-5.23.0/lib/5.23.0/Test/Builder.pm line 261
	Test::Builder::__ANON__() called at /home/perluser/perl5/perlbrew/perls/perl-5.23.0/lib/5.23.0/Test/Builder.pm line 266
	eval {...} called at /home/perluser/perl5/perlbrew/perls/perl-5.23.0/lib/5.23.0/Test/Builder.pm line 266
	Test::Builder::subtest(Test::Builder=HASH(0xa5ad7f8fe20), "validate_token", CODE(0xa5b37a6b5f8)) called at /home/perluser/perl5/perlbrew/perls/perl-5.23.0/lib/5.23.0/Test/More.pm line 771
	Test::More::subtest("validate_token", CODE(0xa5b37a6b5f8)) called at t/07_client_store.t line 71
Do not use HTTP::Session2::ClientStore. Use HTTP::Session2::ServerStore or HTTP::Session2::ClientStore2 instead. at /home/perluser/.cpan/build/HTTP-Session2-1.09-9jUNP3/blib/lib/HTTP/Session2/ClientStore.pm line 35.
Secret string too short at /home/perluser/.cpan/build/HTTP-Session2-1.09-9jUNP3/blib/lib/HTTP/Session2/Base.pm line 79.
	HTTP::Session2::Base::__ANON__(HTTP::Session2::ClientStore=HASH(0xa5b7babc640), "secret") called at t/07_client_store.t line 76
	main::__ANON__() called at /home/perluser/perl5/perlbrew/perls/perl-5.23.0/lib/5.23.0/Test/Builder.pm line 261
	Test::Builder::__ANON__() called at /home/perluser/perl5/perlbrew/perls/perl-5.23.0/lib/5.23.0/Test/Builder.pm line 266
	eval {...} called at /home/perluser/perl5/perlbrew/perls/perl-5.23.0/lib/5.23.0/Test/Builder.pm line 266
	Test::Builder::subtest(Test::Builder=HASH(0xa5ad7f8fe20), "ignore_old", CODE(0xa5b573ad388)) called at /home/perluser/perl5/perlbrew/perls/perl-5.23.0/lib/5.23.0/Test/More.pm line 771
	Test::More::subtest("ignore_old", CODE(0xa5b573ad388)) called at t/07_client_store.t line 106
Do not use HTTP::Session2::ClientStore. Use HTTP::Session2::ServerStore or HTTP::Session2::ClientStore2 instead. at /home/perluser/.cpan/build/HTTP-Session2-1.09-9jUNP3/blib/lib/HTTP/Session2/ClientStore.pm line 25.
Secret string too short at /home/perluser/.cpan/build/HTTP-Session2-1.09-9jUNP3/blib/lib/HTTP/Session2/Base.pm line 79.
	HTTP::Session2::Base::__ANON__(HTTP::Session2::ClientStore=HASH(0xa5b7babcb80), "secret") called at t/07_client_store.t line 87
	main::__ANON__() called at /home/perluser/perl5/perlbrew/perls/perl-5.23.0/lib/5.23.0/Test/Builder.pm line 261
	Test::Builder::__ANON__() called at /home/perluser/perl5/perlbrew/perls/perl-5.23.0/lib/5.23.0/Test/Builder.pm line 266
	eval {...} called at /home/perluser/perl5/perlbrew/perls/perl-5.23.0/lib/5.23.0/Test/Builder.pm line 266
	Test::Builder::subtest(Test::Builder=HASH(0xa5ad7f8fe20), "ignore_old disabled", CODE(0xa5b7babc928)) called at /home/perluser/perl5/perlbrew/perls/perl-5.23.0/lib/5.23.0/Test/More.pm line 771
	Test::More::subtest("ignore_old disabled", CODE(0xa5b7babc928)) called at t/07_client_store.t line 95
	main::__ANON__() called at /home/perluser/perl5/perlbrew/perls/perl-5.23.0/lib/5.23.0/Test/Builder.pm line 261
	Test::Builder::__ANON__() called at /home/perluser/perl5/perlbrew/perls/perl-5.23.0/lib/5.23.0/Test/Builder.pm line 266
	eval {...} called at /home/perluser/perl5/perlbrew/perls/perl-5.23.0/lib/5.23.0/Test/Builder.pm line 266
	Test::Builder::subtest(Test::Builder=HASH(0xa5ad7f8fe20), "ignore_old", CODE(0xa5b573ad388)) called at /home/perluser/perl5/perlbrew/perls/perl-5.23.0/lib/5.23.0/Test/More.pm line 771
	Test::More::subtest("ignore_old", CODE(0xa5b573ad388)) called at t/07_client_store.t line 106
Do not use HTTP::Session2::ClientStore. Use HTTP::Session2::ServerStore or HTTP::Session2::ClientStore2 instead. at /home/perluser/.cpan/build/HTTP-Session2-1.09-9jUNP3/blib/lib/HTTP/Session2/ClientStore.pm line 35.
Secret string too short at /home/perluser/.cpan/build/HTTP-Session2-1.09-9jUNP3/blib/lib/HTTP/Session2/Base.pm line 79.
	HTTP::Session2::Base::__ANON__(HTTP::Session2::ClientStore=HASH(0xa5b7babc598), "secret") called at t/07_client_store.t line 97
	main::__ANON__() called at /home/perluser/perl5/perlbrew/perls/perl-5.23.0/lib/5.23.0/Test/Builder.pm line 261
	Test::Builder::__ANON__() called at /home/perluser/perl5/perlbrew/perls/perl-5.23.0/lib/5.23.0/Test/Builder.pm line 266
	eval {...} called at /home/perluser/perl5/perlbrew/perls/perl-5.23.0/lib/5.23.0/Test/Builder.pm line 266
	Test::Builder::subtest(Test::Builder=HASH(0xa5ad7f8fe20), "ignore_old enabled", CODE(0xa5b7babc928)) called at /home/perluser/perl5/perlbrew/perls/perl-5.23.0/lib/5.23.0/Test/More.pm line 771
	Test::More::subtest("ignore_old enabled", CODE(0xa5b7babc928)) called at t/07_client_store.t line 105
	main::__ANON__() called at /home/perluser/perl5/perlbrew/perls/perl-5.23.0/lib/5.23.0/Test/Builder.pm line 261
	Test::Builder::__ANON__() called at /home/perluser/perl5/perlbrew/perls/perl-5.23.0/lib/5.23.0/Test/Builder.pm line 266
	eval {...} called at /home/perluser/perl5/perlbrew/perls/perl-5.23.0/lib/5.23.0/Test/Builder.pm line 266
	Test::Builder::subtest(Test::Builder=HASH(0xa5ad7f8fe20), "ignore_old", CODE(0xa5b573ad388)) called at /home/perluser/perl5/perlbrew/perls/perl-5.23.0/lib/5.23.0/Test/More.pm line 771
	Test::More::subtest("ignore_old", CODE(0xa5b573ad388)) called at t/07_client_store.t line 106
t/07_client_store.t ......... ok
Secret string too short at /home/perluser/.cpan/build/HTTP-Session2-1.09-9jUNP3/blib/lib/HTTP/Session2/Base.pm line 79.
	HTTP::Session2::Base::__ANON__(HTTP::Session2::Expired=HASH(0x17cf35d80ee0), 33333) called at t/08_expired.t line 7
t/08_expired.t .............. ok
# /dev/urandom available
# /dev/urandom(1): Azmno0aDcNiGUFGyy1ZoUTR7mjV-PDd
# /dev/urandom(2): aOCWLTBAiW0icJFB11W_ECbQNC8JWqe
# perl:            748140183905306113d8fe279c91669
t/09_random.t ............... ok
t/11_secret_string.t ........ ok
Secret string too short at /home/perluser/.cpan/build/HTTP-Session2-1.09-9jUNP3/blib/lib/HTTP/Session2/Base.pm line 79.
	HTTP::Session2::Base::__ANON__(HTTP::Session2::ClientStore2=HASH(0x8b5a432a00), "s3cret") called at t/client_store2/01_basic.t line 24
	main::__ANON__("client -> server: request without cookie", CODE(0x8b5a4325f8)) called at t/client_store2/01_basic.t line 30
	main::__ANON__() called at /home/perluser/perl5/perlbrew/perls/perl-5.23.0/lib/5.23.0/Test/Builder.pm line 261
	Test::Builder::__ANON__() called at /home/perluser/perl5/perlbrew/perls/perl-5.23.0/lib/5.23.0/Test/Builder.pm line 266
	eval {...} called at /home/perluser/perl5/perlbrew/perls/perl-5.23.0/lib/5.23.0/Test/Builder.pm line 266
	Test::Builder::subtest(Test::Builder=HASH(0x8ab4290e38), "First request", CODE(0x8a78ef1538)) called at /home/perluser/perl5/perlbrew/perls/perl-5.23.0/lib/5.23.0/Test/More.pm line 771
	Test::More::subtest("First request", CODE(0x8a78ef1538)) called at t/client_store2/01_basic.t line 9
	main::scenario("First request", CODE(0x8a78ef1538)) called at t/client_store2/01_basic.t line 36
Secret string too short at /home/perluser/.cpan/build/HTTP-Session2-1.09-9jUNP3/blib/lib/HTTP/Session2/Base.pm line 79.
	HTTP::Session2::Base::__ANON__(HTTP::Session2::ClientStore2=HASH(0x8b5a432778), "s3cret") called at t/client_store2/01_basic.t line 41
	main::__ANON__("client -> server: request without cookie", CODE(0x8b5a432868)) called at t/client_store2/01_basic.t line 47
	main::__ANON__() called at /home/perluser/perl5/perlbrew/perls/perl-5.23.0/lib/5.23.0/Test/Builder.pm line 261
	Test::Builder::__ANON__() called at /home/perluser/perl5/perlbrew/perls/perl-5.23.0/lib/5.23.0/Test/Builder.pm line 266
	eval {...} called at /home/perluser/perl5/perlbrew/perls/perl-5.23.0/lib/5.23.0/Test/Builder.pm line 266
	Test::Builder::subtest(Test::Builder=HASH(0x8ab4290e38), "Store something without login", CODE(0x8a78ef1538)) called at /home/perluser/perl5/perlbrew/perls/perl-5.23.0/lib/5.23.0/Test/More.pm line 771
	Test::More::subtest("Store something without login", CODE(0x8a78ef1538)) called at t/client_store2/01_basic.t line 9
	main::scenario("Store something without login", CODE(0x8a78ef1538)) called at t/client_store2/01_basic.t line 63
Secret string too short at /home/perluser/.cpan/build/HTTP-Session2-1.09-9jUNP3/blib/lib/HTTP/Session2/Base.pm line 79.
	HTTP::Session2::Base::__ANON__(HTTP::Session2::ClientStore2=HASH(0x8b5a4329a0), "s3cret") called at t/client_store2/01_basic.t line 69
	main::__ANON__("client -> server: request without cookie", CODE(0x8a73e5fbe0)) called at t/client_store2/01_basic.t line 76
	main::__ANON__() called at /home/perluser/perl5/perlbrew/perls/perl-5.23.0/lib/5.23.0/Test/Builder.pm line 261
	Test::Builder::__ANON__() called at /home/perluser/perl5/perlbrew/perls/perl-5.23.0/lib/5.23.0/Test/Builder.pm line 266
	eval {...} called at /home/perluser/perl5/perlbrew/perls/perl-5.23.0/lib/5.23.0/Test/Builder.pm line 266
	Test::Builder::subtest(Test::Builder=HASH(0x8ab4290e38), "Login", CODE(0x8a78ef1538)) called at /home/perluser/perl5/perlbrew/perls/perl-5.23.0/lib/5.23.0/Test/More.pm line 771
	Test::More::subtest("Login", CODE(0x8a78ef1538)) called at t/client_store2/01_basic.t line 9
	main::scenario("Login", CODE(0x8a78ef1538)) called at t/client_store2/01_basic.t line 96
Ciphertext does not begin with a valid header for 'salt' header mode at /home/perluser/.cpan/build/HTTP-Session2-1.09-9jUNP3/blib/lib/HTTP/Session2/ClientStore2.pm line 81.
Ciphertext does not begin with a valid header for 'salt' header mode at /home/perluser/.cpan/build/HTTP-Session2-1.09-9jUNP3/blib/lib/HTTP/Session2/ClientStore2.pm line 81.
Secret string too short at /home/perluser/.cpan/build/HTTP-Session2-1.09-9jUNP3/blib/lib/HTTP/Session2/Base.pm line 79.
	HTTP::Session2::Base::__ANON__(HTTP::Session2::ClientStore2=HASH(0x8a73e5fe20), "s3cret") called at t/client_store2/01_basic.t line 102
	main::__ANON__("client -> server: request without cookie", CODE(0x8a73e5fca0)) called at t/client_store2/01_basic.t line 109
	main::__ANON__() called at /home/perluser/perl5/perlbrew/perls/perl-5.23.0/lib/5.23.0/Test/Builder.pm line 261
	Test::Builder::__ANON__() called at /home/perluser/perl5/perlbrew/perls/perl-5.23.0/lib/5.23.0/Test/Builder.pm line 266
	eval {...} called at /home/perluser/perl5/perlbrew/perls/perl-5.23.0/lib/5.23.0/Test/Builder.pm line 266
	Test::Builder::subtest(Test::Builder=HASH(0x8ab4290e38), "In a login session", CODE(0x8a78ef1538)) called at /home/perluser/perl5/perlbrew/perls/perl-5.23.0/lib/5.23.0/Test/More.pm line 771
	Test::More::subtest("In a login session", CODE(0x8a78ef1538)) called at t/client_store2/01_basic.t line 9
	main::scenario("In a login session", CODE(0x8a78ef1538)) called at t/client_store2/01_basic.t line 118
Ciphertext does not begin with a valid header for 'salt' header mode at /home/perluser/.cpan/build/HTTP-Session2-1.09-9jUNP3/blib/lib/HTTP/Session2/ClientStore2.pm line 81.
Secret string too short at /home/perluser/.cpan/build/HTTP-Session2-1.09-9jUNP3/blib/lib/HTTP/Session2/Base.pm line 79.
	HTTP::Session2::Base::__ANON__(HTTP::Session2::ClientStore2=HASH(0x8b5a4320a0), "s3cret") called at t/client_store2/01_basic.t line 123
	main::__ANON__("client -> server: request without cookie", CODE(0x8b5a432940)) called at t/client_store2/01_basic.t line 130
	main::__ANON__() called at /home/perluser/perl5/perlbrew/perls/perl-5.23.0/lib/5.23.0/Test/Builder.pm line 261
	Test::Builder::__ANON__() called at /home/perluser/perl5/perlbrew/perls/perl-5.23.0/lib/5.23.0/Test/Builder.pm line 266
	eval {...} called at /home/perluser/perl5/perlbrew/perls/perl-5.23.0/lib/5.23.0/Test/Builder.pm line 266
	Test::Builder::subtest(Test::Builder=HASH(0x8ab4290e38), "Logout", CODE(0x8a78ef1538)) called at /home/perluser/perl5/perlbrew/perls/perl-5.23.0/lib/5.23.0/Test/More.pm line 771
	Test::More::subtest("Logout", CODE(0x8a78ef1538)) called at t/client_store2/01_basic.t line 9
	main::scenario("Logout", CODE(0x8a78ef1538)) called at t/client_store2/01_basic.t line 143
Ciphertext does not begin with a valid header for 'salt' header mode at /home/perluser/.cpan/build/HTTP-Session2-1.09-9jUNP3/blib/lib/HTTP/Session2/ClientStore2.pm line 81.
t/client_store2/01_basic.t .. ok
t/client_store2/02_mech.t ... ok
t/client_store2/03_colon.t .. ok
All tests successful.
Files=14, Tests=83,  6 wallclock secs ( 0.13 usr  0.20 sys +  2.14 cusr  2.32 csys =  4.79 CPU)
Result: PASS

------------------------------
PREREQUISITES
------------------------------

Prerequisite modules loaded:

requires:

    Module                     Need     Have    
    -------------------------- -------- --------
    Cookie::Baker              0        0.06    
    Crypt::CBC                 0        2.33    
    Data::MessagePack          0        0.48    
    Digest::HMAC               0        1.03    
    Digest::SHA                0        5.95    
    Digest::SHA1               0        2.13    
    MIME::Base64               3.11     3.15    
    Mouse                      0        2.4.2   
    parent                     0        0.234   
    perl                       5.008005 5.023000
    Time::HiRes                0        1.9726  

build_requires:

    Module                     Need     Have    
    -------------------------- -------- --------
    Crypt::Rijndael            0        1.13    
    Plack::Request             0        1.0037  
    Plack::Response            0        1.0037  
    Test::More                 0.98     1.001014
    Test::WWW::Mechanize::PSGI 0        0.35    

configure_requires:

    Module                     Need     Have    
    -------------------------- -------- --------
    Module::Build              0.38     0.4214  


------------------------------
ENVIRONMENT AND OTHER CONTEXT
------------------------------

Environment variables:

    AUTOMATED_TESTING = 1
    PATH = /home/perluser/perl5/perlbrew/bin:/home/perluser/perl5/perlbrew/perls/perl-5.23.0/bin:/sbin:/usr/sbin:/bin:/usr/bin:/usr/X11R6/bin:/usr/local/sbin:/usr/local/bin
    PERL5LIB = /home/perluser/.cpan/build/Crypt-Rijndael-1.13-l_enlr/blib/arch:/home/perluser/.cpan/build/Crypt-Rijndael-1.13-l_enlr/blib/lib:/home/perluser/.cpan/build/Test-WWW-Mechanize-PSGI-0.35-Rw5hBk/blib/arch:/home/perluser/.cpan/build/Test-WWW-Mechanize-PSGI-0.35-Rw5hBk/blib/lib:/home/perluser/.cpan/build/Test-WWW-Mechanize-1.44-ewSCdA/blib/arch:/home/perluser/.cpan/build/Test-WWW-Mechanize-1.44-ewSCdA/blib/lib:/home/perluser/.cpan/build/Test-LongString-0.17-tp6pb2/blib/arch:/home/perluser/.cpan/build/Test-LongString-0.17-tp6pb2/blib/lib:/home/perluser/.cpan/build/WWW-Mechanize-1.75-jly5o8/blib/arch:/home/perluser/.cpan/build/WWW-Mechanize-1.75-jly5o8/blib/lib:/home/perluser/.cpan/build/HTML-Form-6.03-IWYLa6/blib/arch:/home/perluser/.cpan/build/HTML-Form-6.03-IWYLa6/blib/lib:/home/perluser/.cpan/build/HTTP-Server-Simple-0.50-q4kwaD/blib/arch:/home/perluser/.cpan/build/HTTP-Server-Simple-0.50-q4kwaD/blib/lib:/home/perluser/.cpan/build/Carp-Assert-More-1.14-m3A5cG/blib/arch:/home/perluser/.cpan/build/Carp-Assert-More-1.14-m3A5cG/blib/lib:/home/perluser/.cpan/build/Carp-Assert-0.21-q_TS0O/blib/arch:/home/perluser/.cpan/build/Carp-Assert-0.21-q_TS0O/blib/lib:/home/perluser/.cpan/build/HTML-Tree-5.03-hrDd7m/blib/arch:/home/perluser/.cpan/build/HTML-Tree-5.03-hrDd7m/blib/lib:/home/perluser/.cpan/build/Crypt-CBC-2.33-_GDY0H/blib/arch:/home/perluser/.cpan/build/Crypt-CBC-2.33-_GDY0H/blib/lib:/home/perluser/.cpan/build/MRO-Compat-0.12-kBLKig/blib/arch:/home/perluser/.cpan/build/MRO-Compat-0.12-kBLKig/blib/lib:/home/perluser/.cpan/build/Text-Xslate-3.3.4-fQgGKc/blib/arch:/home/perluser/.cpan/build/Text-Xslate-3.3.4-fQgGKc/blib/lib:/home/perluser/.cpan/build/Mouse-2.4.2-8xLL3F/blib/arch:/home/perluser/.cpan/build/Mouse-2.4.2-8xLL3F/blib/lib:/home/perluser/.cpan/build/Test-Output-1.03-Q1rJli/blib/arch:/home/perluser/.cpan/build/Test-Output-1.03-Q1rJli/blib/lib:/home/perluser/.cpan/build/Test-Exception-0.40-xWNgcK/blib/arch:/home/perluser/.cpan/build/Test-Exception-0.40-xWNgcK/blib/lib:/home/perluser/.cpan/build/Test-LeakTrace-0.15-UOdHU2/blib/arch:/home/perluser/.cpan/build/Test-LeakTrace-0.15-UOdHU2/blib/lib:/home/perluser/.cpan/build/Module-Build-XSUtil-0.16-mFwwvq/blib/arch:/home/perluser/.cpan/build/Module-Build-XSUtil-0.16-mFwwvq/blib/lib:/home/perluser/.cpan/build/Devel-CheckCompiler-0.06-Q28rW_/blib/arch:/home/perluser/.cpan/build/Devel-CheckCompiler-0.06-Q28rW_/blib/lib:/home/perluser/.cpan/build/Cwd-Guard-0.04-7S9O9X/blib/arch:/home/perluser/.cpan/build/Cwd-Guard-0.04-7S9O9X/blib/lib:/home/perluser/.cpan/build/Data-MessagePack-0.48-3Cx8iE/blib/arch:/home/perluser/.cpan/build/Data-MessagePack-0.48-3Cx8iE/blib/lib:/home/perluser/.cpan/build/Router-Boom-1.02-EAfylw/blib/arch:/home/perluser/.cpan/build/Router-Boom-1.02-EAfylw/blib/lib:/home/perluser/.cpan/build/Class-Accessor-Lite-0.08-ewv4hS/blib/arch:/home/perluser/.cpan/build/Class-Accessor-Lite-0.08-ewv4hS/blib/lib:/home/perluser/.cpan/build/Plack-Middleware-Session-0.30-diI9Dx/blib/arch:/home/perluser/.cpan/build/Plack-Middleware-Session-0.30-diI9Dx/blib/lib:/home/perluser/.cpan/build/Plack-1.0037-UnRjSC/blib/arch:/home/perluser/.cpan/build/Plack-1.0037-UnRjSC/blib/lib:/home/perluser/.cpan/build/Apache-LogFormat-Compiler-0.32-rZYWR2/blib/arch:/home/perluser/.cpan/build/Apache-LogFormat-Compiler-0.32-rZYWR2/blib/lib:/home/perluser/.cpan/build/Test-MockTime-0.13-66Rrjb/blib/arch:/home/perluser/.cpan/build/Test-MockTime-0.13-66Rrjb/blib/lib:/home/perluser/.cpan/build/POSIX-strftime-Compiler-0.41-B_eVHb/blib/arch:/home/perluser/.cpan/build/POSIX-strftime-Compiler-0.41-B_eVHb/blib/lib:/home/perluser/.cpan/build/Devel-StackTrace-AsHTML-0.14-7_EmKG/blib/arch:/home/perluser/.cpan/build/Devel-StackTrace-AsHTML-0.14-7_EmKG/blib/lib:/home/perluser/.cpan/build/Devel-StackTrace-2.00-OHbHfH/blib/arch:/home/perluser/.cpan/build/Devel-StackTrace-2.00-OHbHfH/blib/lib:/home/perluser/.cpan/build/HTTP-Headers-Fast-0.18-A3P2Za/blib/arch:/home/perluser/.cpan/build/HTTP-Headers-Fast-0.18-A3P2Za/blib/lib:/home/perluser/.cpan/build/Stream-Buffered-0.03-QmplI1/blib/arch:/home/perluser/.cpan/build/Stream-Buffered-0.03-QmplI1/blib/lib:/home/perluser/.cpan/build/HTTP-Body-1.22-l7Mb_p/blib/arch:/home/perluser/.cpan/build/HTTP-Body-1.22-l7Mb_p/blib/lib:/home/perluser/.cpan/build/Test-TCP-2.12-0oiO_b/blib/arch:/home/perluser/.cpan/build/Test-TCP-2.12-0oiO_b/blib/lib:/home/perluser/.cpan/build/Hash-MultiValue-0.16-KP6uHp/blib/arch:/home/perluser/.cpan/build/Hash-MultiValue-0.16-KP6uHp/blib/lib:/home/perluser/.cpan/build/Filesys-Notify-Simple-0.12-IoUFTH/blib/arch:/home/perluser/.cpan/build/Filesys-Notify-Simple-0.12-IoUFTH/blib/lib:/home/perluser/.cpan/build/Test-SharedFork-0.33-GTUnCZ/blib/arch:/home/perluser/.cpan/build/Test-SharedFork-0.33-GTUnCZ/blib/lib:/home/perluser/.cpan/build/Test-Requires-0.08-7GmF9j/blib/arch:/home/perluser/.cpan/build/Test-Requires-0.08-7GmF9j/blib/lib:/home/perluser/.cpan/build/File-ShareDir-1.102-KI6LyQ/blib/arch:/home/perluser/.cpan/build/File-ShareDir-1.102-KI6LyQ/blib/lib:/home/perluser/.cpan/build/Class-Inspector-1.28-hANlMd/blib/arch:/home/perluser/.cpan/build/Class-Inspector-1.28-hANlMd/blib/lib:/home/perluser/.cpan/build/File-ShareDir-Install-0.10-JvYRo3/blib/arch:/home/perluser/.cpan/build/File-ShareDir-Install-0.10-JvYRo3/blib/lib:/home/perluser/.cpan/build/Digest-SHA1-2.13-2xBFhZ/blib/arch:/home/perluser/.cpan/build/Digest-SHA1-2.13-2xBFhZ/blib/lib:/home/perluser/.cpan/build/Digest-HMAC-1.03-jAYO9L/blib/arch:/home/perluser/.cpan/build/Digest-HMAC-1.03-jAYO9L/blib/lib:/home/perluser/.cpan/build/Cookie-Baker-0.06-lrc5d9/blib/arch:/home/perluser/.cpan/build/Cookie-Baker-0.06-lrc5d9/blib/lib:/home/perluser/.cpan/build/Test-Time-0.04-HhpTcH/blib/arch:/home/perluser/.cpan/build/Test-Time-0.04-HhpTcH/blib/lib:/home/perluser/.cpan/build/Test-Name-FromLine-0.13-85kB_V/blib/arch:/home/perluser/.cpan/build/Test-Name-FromLine-0.13-85kB_V/blib/lib:/home/perluser/.cpan/build/Test-Differences-0.63-seWlHa/blib/arch:/home/perluser/.cpan/build/Test-Differences-0.63-seWlHa/blib/lib:/home/perluser/.cpan/build/File-Slurp-9999.19-aXCVpc/blib/arch:/home/perluser/.cpan/build/File-Slurp-9999.19-aXCVpc/blib/lib:/home/perluser/.cpan/build/Module-Build-Tiny-0.039-Yfl7Gz/blib/arch:/home/perluser/.cpan/build/Module-Build-Tiny-0.039-Yfl7Gz/blib/lib:/home/perluser/.cpan/build/ExtUtils-InstallPaths-0.011-_3yaq7/blib/arch:/home/perluser/.cpan/build/ExtUtils-InstallPaths-0.011-_3yaq7/blib/lib:/home/perluser/.cpan/build/ExtUtils-Helpers-0.022-mV8bWy/blib/arch:/home/perluser/.cpan/build/ExtUtils-Helpers-0.022-mV8bWy/blib/lib:/home/perluser/.cpan/build/ExtUtils-Config-0.008-Vws5gG/blib/arch:/home/perluser/.cpan/build/ExtUtils-Config-0.008-Vws5gG/blib/lib:/home/perluser/.cpan/build/HTML-FillInForm-Lite-1.13-Sr192G/blib/arch:/home/perluser/.cpan/build/HTML-FillInForm-Lite-1.13-Sr192G/blib/lib:/home/perluser/.cpan/build/CGI-4.21-Qm3xh_/blib/arch:/home/perluser/.cpan/build/CGI-4.21-Qm3xh_/blib/lib:/home/perluser/.cpan/build/Test-Deep-0.117-2nh7rc/blib/arch:/home/perluser/.cpan/build/Test-Deep-0.117-2nh7rc/blib/lib:/home/perluser/.cpan/build/Test-NoWarnings-1.04-aNlhd4/blib/arch:/home/perluser/.cpan/build/Test-NoWarnings-1.04-aNlhd4/blib/lib:/home/perluser/.cpan/build/Test-Warn-0.30-FNeovX/blib/arch:/home/perluser/.cpan/build/Test-Warn-0.30-FNeovX/blib/lib:/home/perluser/.cpan/build/Sub-Uplevel-0.25-AWgIqa/blib/arch:/home/perluser/.cpan/build/Sub-Uplevel-0.25-AWgIqa/blib/lib:/home/perluser/.cpan/build/Module-CPANfile-1.1000-1XO2MG/blib/arch:/home/perluser/.cpan/build/Module-CPANfile-1.1000-1XO2MG/blib/lib
    PERL5OPT = 
    PERL5_CPANPLUS_IS_RUNNING = 343
    PERL5_CPAN_IS_RUNNING = 343
    PERL5_CPAN_IS_RUNNING_IN_RECURSION = 11154,343
    PERLBREW_BASHRC_VERSION = 0.71
    PERLBREW_HOME = /home/perluser/.perlbrew
    PERLBREW_MANPATH = /home/perluser/perl5/perlbrew/perls/perl-5.23.0/man
    PERLBREW_PATH = /home/perluser/perl5/perlbrew/bin:/home/perluser/perl5/perlbrew/perls/perl-5.23.0/bin
    PERLBREW_PERL = perl-5.23.0
    PERLBREW_ROOT = /home/perluser/perl5/perlbrew
    PERLBREW_VERSION = 0.71
    PERL_CR_SMOKER_CURRENT = Amon2-6.12
    PERL_EXTUTILS_AUTOINSTALL = --defaultdeps
    PERL_MM_USE_DEFAULT = 1
    SHELL = /bin/ksh
    TERM = vt220

Perl special variables (and OS-specific diagnostics, for MSWin32):

    $^X = /home/perluser/perl5/perlbrew/perls/perl-5.23.0/bin/perl5.23.0
    $UID/$EUID = 1000 / 1000
    $GID = 1000 1000
    $EGID = 1000 1000

Perl module toolchain versions installed:

    Module              Have    
    ------------------- --------
    CPAN                2.11    
    CPAN::Meta          2.150005
    Cwd                 3.56    
    ExtUtils::CBuilder  0.280223
    ExtUtils::Command   1.20    
    ExtUtils::Install   2.04    
    ExtUtils::MakeMaker 7.04_01 
    ExtUtils::Manifest  1.70    
    ExtUtils::ParseXS   3.28    
    File::Spec          3.56    
    JSON                2.90    
    JSON::PP            2.27300 
    Module::Build       0.4214  
    Module::Signature   n/a     
    Parse::CPAN::Meta   1.4417  
    Test::Harness       3.35    
    Test::More          1.001014
    YAML                1.15    
    YAML::Syck          1.29    
    version             0.9909  


--

Summary of my perl5 (revision 5 version 23 subversion 0) configuration:
   
  Platform:
    osname=openbsd, osvers=5.5, archname=OpenBSD.amd64-openbsd
    uname='openbsd openbsd-test.manor.solimano.org 5.5 generic#271 amd64 '
    config_args='-de -Dprefix=/home/perluser/perl5/perlbrew/perls/perl-5.23.0 -Dusedevel -Aeval:scriptdir=/home/perluser/perl5/perlbrew/perls/perl-5.23.0/bin'
    hint=recommended, useposix=true, d_sigaction=define
    useithreads=undef, usemultiplicity=undef
    use64bitint=define, use64bitall=define, uselongdouble=undef
    usemymalloc=n, bincompat5005=undef
  Compiler:
    cc='cc', ccflags ='-fno-strict-aliasing -pipe -fstack-protector-strong -I/usr/local/include -D_FORTIFY_SOURCE=2',
    optimize='-O2',
    cppflags='-fno-strict-aliasing -pipe -fstack-protector-strong -I/usr/local/include'
    ccversion='', gccversion='4.2.1 20070719 ', gccosandvers='openbsd5.5'
    intsize=4, longsize=8, ptrsize=8, doublesize=8, byteorder=12345678, doublekind=3
    d_longlong=define, longlongsize=8, d_longdbl=define, longdblsize=16, longdblkind=3
    ivtype='long', ivsize=8, nvtype='double', nvsize=8, Off_t='off_t', lseeksize=8
    alignbytes=8, prototype=define
  Linker and Libraries:
    ld='cc', ldflags ='-Wl,-E  -fstack-protector-strong -L/usr/local/lib'
    libpth=/usr/lib /usr/local/lib
    libs=-lpthread -lm -lutil -lc
    perllibs=-lpthread -lm -lutil -lc
    libc=/usr/lib/libc.so.73.1, so=so, useshrplib=false, libperl=libperl.a
    gnulibc_version=''
  Dynamic Linking:
    dlsrc=dl_dlopen.xs, dlext=so, d_dlsymun=undef, ccdlflags=' '
    cccdlflags='-DPIC -fPIC ', lddlflags='-shared -fPIC  -L/usr/local/lib -fstack-protector-strong'


Characteristics of this binary (from libperl): 
  Compile-time options: HAS_TIMES PERLIO_LAYERS PERL_DONT_CREATE_GVSV
                        PERL_HASH_FUNC_ONE_AT_A_TIME_HARD PERL_MALLOC_WRAP
                        PERL_NEW_COPY_ON_WRITE PERL_PRESERVE_IVUV
                        PERL_USE_DEVEL USE_64_BIT_ALL USE_64_BIT_INT
                        USE_LARGE_FILES USE_LOCALE USE_LOCALE_COLLATE
                        USE_LOCALE_CTYPE USE_LOCALE_NUMERIC USE_LOCALE_TIME
                        USE_PERLIO USE_PERL_ATOF
  Locally applied patches:
	Devel::PatchPerl 1.30
  Built under openbsd
  Compiled at Jul  4 2015 00:40:29
  %ENV:
    PERL5LIB="/home/perluser/.cpan/build/Crypt-Rijndael-1.13-l_enlr/blib/arch:/home/perluser/.cpan/build/Crypt-Rijndael-1.13-l_enlr/blib/lib:/home/perluser/.cpan/build/Test-WWW-Mechanize-PSGI-0.35-Rw5hBk/blib/arch:/home/perluser/.cpan/build/Test-WWW-Mechanize-PSGI-0.35-Rw5hBk/blib/lib:/home/perluser/.cpan/build/Test-WWW-Mechanize-1.44-ewSCdA/blib/arch:/home/perluser/.cpan/build/Test-WWW-Mechanize-1.44-ewSCdA/blib/lib:/home/perluser/.cpan/build/Test-LongString-0.17-tp6pb2/blib/arch:/home/perluser/.cpan/build/Test-LongString-0.17-tp6pb2/blib/lib:/home/perluser/.cpan/build/WWW-Mechanize-1.75-jly5o8/blib/arch:/home/perluser/.cpan/build/WWW-Mechanize-1.75-jly5o8/blib/lib:/home/perluser/.cpan/build/HTML-Form-6.03-IWYLa6/blib/arch:/home/perluser/.cpan/build/HTML-Form-6.03-IWYLa6/blib/lib:/home/perluser/.cpan/build/HTTP-Server-Simple-0.50-q4kwaD/blib/arch:/home/perluser/.cpan/build/HTTP-Server-Simple-0.50-q4kwaD/blib/lib:/home/perluser/.cpan/build/Carp-Assert-More-1.14-m3A5cG/blib/arch:/home/perluser/.cpan/build/Carp-Assert-More-1.14-m3A5cG/blib/lib:/home/perluser/.cpan/build/Carp-Assert-0.21-q_TS0O/blib/arch:/home/perluser/.cpan/build/Carp-Assert-0.21-q_TS0O/blib/lib:/home/perluser/.cpan/build/HTML-Tree-5.03-hrDd7m/blib/arch:/home/perluser/.cpan/build/HTML-Tree-5.03-hrDd7m/blib/lib:/home/perluser/.cpan/build/Crypt-CBC-2.33-_GDY0H/blib/arch:/home/perluser/.cpan/build/Crypt-CBC-2.33-_GDY0H/blib/lib:/home/perluser/.cpan/build/MRO-Compat-0.12-kBLKig/blib/arch:/home/perluser/.cpan/build/MRO-Compat-0.12-kBLKig/blib/lib:/home/perluser/.cpan/build/Text-Xslate-3.3.4-fQgGKc/blib/arch:/home/perluser/.cpan/build/Text-Xslate-3.3.4-fQgGKc/blib/lib:/home/perluser/.cpan/build/Mouse-2.4.2-8xLL3F/blib/arch:/home/perluser/.cpan/build/Mouse-2.4.2-8xLL3F/blib/lib:/home/perluser/.cpan/build/Test-Output-1.03-Q1rJli/blib/arch:/home/perluser/.cpan/build/Test-Output-1.03-Q1rJli/blib/lib:/home/perluser/.cpan/build/Test-Exception-0.40-xWNgcK/blib/arch:/home/perluser/.cpan/build/Test-Exception-0.40-xWNgcK/blib/lib:/home/perluser/.cpan/build/Test-LeakTrace-0.15-UOdHU2/blib/arch:/home/perluser/.cpan/build/Test-LeakTrace-0.15-UOdHU2/blib/lib:/home/perluser/.cpan/build/Module-Build-XSUtil-0.16-mFwwvq/blib/arch:/home/perluser/.cpan/build/Module-Build-XSUtil-0.16-mFwwvq/blib/lib:/home/perluser/.cpan/build/Devel-CheckCompiler-0.06-Q28rW_/blib/arch:/home/perluser/.cpan/build/Devel-CheckCompiler-0.06-Q28rW_/blib/lib:/home/perluser/.cpan/build/Cwd-Guard-0.04-7S9O9X/blib/arch:/home/perluser/.cpan/build/Cwd-Guard-0.04-7S9O9X/blib/lib:/home/perluser/.cpan/build/Data-MessagePack-0.48-3Cx8iE/blib/arch:/home/perluser/.cpan/build/Data-MessagePack-0.48-3Cx8iE/blib/lib:/home/perluser/.cpan/build/Router-Boom-1.02-EAfylw/blib/arch:/home/perluser/.cpan/build/Router-Boom-1.02-EAfylw/blib/lib:/home/perluser/.cpan/build/Class-Accessor-Lite-0.08-ewv4hS/blib/arch:/home/perluser/.cpan/build/Class-Accessor-Lite-0.08-ewv4hS/blib/lib:/home/perluser/.cpan/build/Plack-Middleware-Session-0.30-diI9Dx/blib/arch:/home/perluser/.cpan/build/Plack-Middleware-Session-0.30-diI9Dx/blib/lib:/home/perluser/.cpan/build/Plack-1.0037-UnRjSC/blib/arch:/home/perluser/.cpan/build/Plack-1.0037-UnRjSC/blib/lib:/home/perluser/.cpan/build/Apache-LogFormat-Compiler-0.32-rZYWR2/blib/arch:/home/perluser/.cpan/build/Apache-LogFormat-Compiler-0.32-rZYWR2/blib/lib:/home/perluser/.cpan/build/Test-MockTime-0.13-66Rrjb/blib/arch:/home/perluser/.cpan/build/Test-MockTime-0.13-66Rrjb/blib/lib:/home/perluser/.cpan/build/POSIX-strftime-Compiler-0.41-B_eVHb/blib/arch:/home/perluser/.cpan/build/POSIX-strftime-Compiler-0.41-B_eVHb/blib/lib:/home/perluser/.cpan/build/Devel-StackTrace-AsHTML-0.14-7_EmKG/blib/arch:/home/perluser/.cpan/build/Devel-StackTrace-AsHTML-0.14-7_EmKG/blib/lib:/home/perluser/.cpan/build/Devel-StackTrace-2.00-OHbHfH/blib/arch:/home/perluser/.cpan/build/Devel-StackTrace-2.00-OHbHfH/blib/lib:/home/perluser/.cpan/build/HTTP-Headers-Fast-0.18-A3P2Za/blib/arch:/home/perluser/.cpan/build/HTTP-Headers-Fast-0.18-A3P2Za/blib/lib:/home/perluser/.cpan/build/Stream-Buffered-0.03-QmplI1/blib/arch:/home/perluser/.cpan/build/Stream-Buffered-0.03-QmplI1/blib/lib:/home/perluser/.cpan/build/HTTP-Body-1.22-l7Mb_p/blib/arch:/home/perluser/.cpan/build/HTTP-Body-1.22-l7Mb_p/blib/lib:/home/perluser/.cpan/build/Test-TCP-2.12-0oiO_b/blib/arch:/home/perluser/.cpan/build/Test-TCP-2.12-0oiO_b/blib/lib:/home/perluser/.cpan/build/Hash-MultiValue-0.16-KP6uHp/blib/arch:/home/perluser/.cpan/build/Hash-MultiValue-0.16-KP6uHp/blib/lib:/home/perluser/.cpan/build/Filesys-Notify-Simple-0.12-IoUFTH/blib/arch:/home/perluser/.cpan/build/Filesys-Notify-Simple-0.12-IoUFTH/blib/lib:/home/perluser/.cpan/build/Test-SharedFork-0.33-GTUnCZ/blib/arch:/home/perluser/.cpan/build/Test-SharedFork-0.33-GTUnCZ/blib/lib:/home/perluser/.cpan/build/Test-Requires-0.08-7GmF9j/blib/arch:/home/perluser/.cpan/build/Test-Requires-0.08-7GmF9j/blib/lib:/home/perluser/.cpan/build/File-ShareDir-1.102-KI6LyQ/blib/arch:/home/perluser/.cpan/build/File-ShareDir-1.102-KI6LyQ/blib/lib:/home/perluser/.cpan/build/Class-Inspector-1.28-hANlMd/blib/arch:/home/perluser/.cpan/build/Class-Inspector-1.28-hANlMd/blib/lib:/home/perluser/.cpan/build/File-ShareDir-Install-0.10-JvYRo3/blib/arch:/home/perluser/.cpan/build/File-ShareDir-Install-0.10-JvYRo3/blib/lib:/home/perluser/.cpan/build/Digest-SHA1-2.13-2xBFhZ/blib/arch:/home/perluser/.cpan/build/Digest-SHA1-2.13-2xBFhZ/blib/lib:/home/perluser/.cpan/build/Digest-HMAC-1.03-jAYO9L/blib/arch:/home/perluser/.cpan/build/Digest-HMAC-1.03-jAYO9L/blib/lib:/home/perluser/.cpan/build/Cookie-Baker-0.06-lrc5d9/blib/arch:/home/perluser/.cpan/build/Cookie-Baker-0.06-lrc5d9/blib/lib:/home/perluser/.cpan/build/Test-Time-0.04-HhpTcH/blib/arch:/home/perluser/.cpan/build/Test-Time-0.04-HhpTcH/blib/lib:/home/perluser/.cpan/build/Test-Name-FromLine-0.13-85kB_V/blib/arch:/home/perluser/.cpan/build/Test-Name-FromLine-0.13-85kB_V/blib/lib:/home/perluser/.cpan/build/Test-Differences-0.63-seWlHa/blib/arch:/home/perluser/.cpan/build/Test-Differences-0.63-seWlHa/blib/lib:/home/perluser/.cpan/build/File-Slurp-9999.19-aXCVpc/blib/arch:/home/perluser/.cpan/build/File-Slurp-9999.19-aXCVpc/blib/lib:/home/perluser/.cpan/build/Module-Build-Tiny-0.039-Yfl7Gz/blib/arch:/home/perluser/.cpan/build/Module-Build-Tiny-0.039-Yfl7Gz/blib/lib:/home/perluser/.cpan/build/ExtUtils-InstallPaths-0.011-_3yaq7/blib/arch:/home/perluser/.cpan/build/ExtUtils-InstallPaths-0.011-_3yaq7/blib/lib:/home/perluser/.cpan/build/ExtUtils-Helpers-0.022-mV8bWy/blib/arch:/home/perluser/.cpan/build/ExtUtils-Helpers-0.022-mV8bWy/blib/lib:/home/perluser/.cpan/build/ExtUtils-Config-0.008-Vws5gG/blib/arch:/home/perluser/.cpan/build/ExtUtils-Config-0.008-Vws5gG/blib/lib:/home/perluser/.cpan/build/HTML-FillInForm-Lite-1.13-Sr192G/blib/arch:/home/perluser/.cpan/build/HTML-FillInForm-Lite-1.13-Sr192G/blib/lib:/home/perluser/.cpan/build/CGI-4.21-Qm3xh_/blib/arch:/home/perluser/.cpan/build/CGI-4.21-Qm3xh_/blib/lib:/home/perluser/.cpan/build/Test-Deep-0.117-2nh7rc/blib/arch:/home/perluser/.cpan/build/Test-Deep-0.117-2nh7rc/blib/lib:/home/perluser/.cpan/build/Test-NoWarnings-1.04-aNlhd4/blib/arch:/home/perluser/.cpan/build/Test-NoWarnings-1.04-aNlhd4/blib/lib:/home/perluser/.cpan/build/Test-Warn-0.30-FNeovX/blib/arch:/home/perluser/.cpan/build/Test-Warn-0.30-FNeovX/blib/lib:/home/perluser/.cpan/build/Sub-Uplevel-0.25-AWgIqa/blib/arch:/home/perluser/.cpan/build/Sub-Uplevel-0.25-AWgIqa/blib/lib:/home/perluser/.cpan/build/Module-CPANfile-1.1000-1XO2MG/blib/arch:/home/perluser/.cpan/build/Module-CPANfile-1.1000-1XO2MG/blib/lib"
    PERL5OPT=""
    PERL5_CPANPLUS_IS_RUNNING="343"
    PERL5_CPAN_IS_RUNNING="343"
    PERL5_CPAN_IS_RUNNING_IN_RECURSION="11154,343"
    PERLBREW_BASHRC_VERSION="0.71"
    PERLBREW_HOME="/home/perluser/.perlbrew"
    PERLBREW_MANPATH="/home/perluser/perl5/perlbrew/perls/perl-5.23.0/man"
    PERLBREW_PATH="/home/perluser/perl5/perlbrew/bin:/home/perluser/perl5/perlbrew/perls/perl-5.23.0/bin"
    PERLBREW_PERL="perl-5.23.0"
    PERLBREW_ROOT="/home/perluser/perl5/perlbrew"
    PERLBREW_VERSION="0.71"
    PERL_CR_SMOKER_CURRENT="Amon2-6.12"
    PERL_EXTUTILS_AUTOINSTALL="--defaultdeps"
    PERL_MM_USE_DEFAULT="1"
  @INC:
    /home/perluser/.cpan/build/Crypt-Rijndael-1.13-l_enlr/blib/arch
    /home/perluser/.cpan/build/Crypt-Rijndael-1.13-l_enlr/blib/lib
    /home/perluser/.cpan/build/Test-WWW-Mechanize-PSGI-0.35-Rw5hBk/blib/arch
    /home/perluser/.cpan/build/Test-WWW-Mechanize-PSGI-0.35-Rw5hBk/blib/lib
    /home/perluser/.cpan/build/Test-WWW-Mechanize-1.44-ewSCdA/blib/arch
    /home/perluser/.cpan/build/Test-WWW-Mechanize-1.44-ewSCdA/blib/lib
    /home/perluser/.cpan/build/Test-LongString-0.17-tp6pb2/blib/arch
    /home/perluser/.cpan/build/Test-LongString-0.17-tp6pb2/blib/lib
    /home/perluser/.cpan/build/WWW-Mechanize-1.75-jly5o8/blib/arch
    /home/perluser/.cpan/build/WWW-Mechanize-1.75-jly5o8/blib/lib
    /home/perluser/.cpan/build/HTML-Form-6.03-IWYLa6/blib/arch
    /home/perluser/.cpan/build/HTML-Form-6.03-IWYLa6/blib/lib
    /home/perluser/.cpan/build/HTTP-Server-Simple-0.50-q4kwaD/blib/arch
    /home/perluser/.cpan/build/HTTP-Server-Simple-0.50-q4kwaD/blib/lib
    /home/perluser/.cpan/build/Carp-Assert-More-1.14-m3A5cG/blib/arch
    /home/perluser/.cpan/build/Carp-Assert-More-1.14-m3A5cG/blib/lib
    /home/perluser/.cpan/build/Carp-Assert-0.21-q_TS0O/blib/arch
    /home/perluser/.cpan/build/Carp-Assert-0.21-q_TS0O/blib/lib
    /home/perluser/.cpan/build/HTML-Tree-5.03-hrDd7m/blib/arch
    /home/perluser/.cpan/build/HTML-Tree-5.03-hrDd7m/blib/lib
    /home/perluser/.cpan/build/Crypt-CBC-2.33-_GDY0H/blib/arch
    /home/perluser/.cpan/build/Crypt-CBC-2.33-_GDY0H/blib/lib
    /home/perluser/.cpan/build/MRO-Compat-0.12-kBLKig/blib/arch
    /home/perluser/.cpan/build/MRO-Compat-0.12-kBLKig/blib/lib
    /home/perluser/.cpan/build/Text-Xslate-3.3.4-fQgGKc/blib/arch
    /home/perluser/.cpan/build/Text-Xslate-3.3.4-fQgGKc/blib/lib
    /home/perluser/.cpan/build/Mouse-2.4.2-8xLL3F/blib/arch
    /home/perluser/.cpan/build/Mouse-2.4.2-8xLL3F/blib/lib
    /home/perluser/.cpan/build/Test-Output-1.03-Q1rJli/blib/arch
    /home/perluser/.cpan/build/Test-Output-1.03-Q1rJli/blib/lib
    /home/perluser/.cpan/build/Test-Exception-0.40-xWNgcK/blib/arch
    /home/perluser/.cpan/build/Test-Exception-0.40-xWNgcK/blib/lib
    /home/perluser/.cpan/build/Test-LeakTrace-0.15-UOdHU2/blib/arch
    /home/perluser/.cpan/build/Test-LeakTrace-0.15-UOdHU2/blib/lib
    /home/perluser/.cpan/build/Module-Build-XSUtil-0.16-mFwwvq/blib/arch
    /home/perluser/.cpan/build/Module-Build-XSUtil-0.16-mFwwvq/blib/lib
    /home/perluser/.cpan/build/Devel-CheckCompiler-0.06-Q28rW_/blib/arch
    /home/perluser/.cpan/build/Devel-CheckCompiler-0.06-Q28rW_/blib/lib
    /home/perluser/.cpan/build/Cwd-Guard-0.04-7S9O9X/blib/arch
    /home/perluser/.cpan/build/Cwd-Guard-0.04-7S9O9X/blib/lib
    /home/perluser/.cpan/build/Data-MessagePack-0.48-3Cx8iE/blib/arch
    /home/perluser/.cpan/build/Data-MessagePack-0.48-3Cx8iE/blib/lib
    /home/perluser/.cpan/build/Router-Boom-1.02-EAfylw/blib/arch
    /home/perluser/.cpan/build/Router-Boom-1.02-EAfylw/blib/lib
    /home/perluser/.cpan/build/Class-Accessor-Lite-0.08-ewv4hS/blib/arch
    /home/perluser/.cpan/build/Class-Accessor-Lite-0.08-ewv4hS/blib/lib
    /home/perluser/.cpan/build/Plack-Middleware-Session-0.30-diI9Dx/blib/arch
    /home/perluser/.cpan/build/Plack-Middleware-Session-0.30-diI9Dx/blib/lib
    /home/perluser/.cpan/build/Plack-1.0037-UnRjSC/blib/arch
    /home/perluser/.cpan/build/Plack-1.0037-UnRjSC/blib/lib
    /home/perluser/.cpan/build/Apache-LogFormat-Compiler-0.32-rZYWR2/blib/arch
    /home/perluser/.cpan/build/Apache-LogFormat-Compiler-0.32-rZYWR2/blib/lib
    /home/perluser/.cpan/build/Test-MockTime-0.13-66Rrjb/blib/arch
    /home/perluser/.cpan/build/Test-MockTime-0.13-66Rrjb/blib/lib
    /home/perluser/.cpan/build/POSIX-strftime-Compiler-0.41-B_eVHb/blib/arch
    /home/perluser/.cpan/build/POSIX-strftime-Compiler-0.41-B_eVHb/blib/lib
    /home/perluser/.cpan/build/Devel-StackTrace-AsHTML-0.14-7_EmKG/blib/arch
    /home/perluser/.cpan/build/Devel-StackTrace-AsHTML-0.14-7_EmKG/blib/lib
    /home/perluser/.cpan/build/Devel-StackTrace-2.00-OHbHfH/blib/arch
    /home/perluser/.cpan/build/Devel-StackTrace-2.00-OHbHfH/blib/lib
    /home/perluser/.cpan/build/HTTP-Headers-Fast-0.18-A3P2Za/blib/arch
    /home/perluser/.cpan/build/HTTP-Headers-Fast-0.18-A3P2Za/blib/lib
    /home/perluser/.cpan/build/Stream-Buffered-0.03-QmplI1/blib/arch
    /home/perluser/.cpan/build/Stream-Buffered-0.03-QmplI1/blib/lib
    /home/perluser/.cpan/build/HTTP-Body-1.22-l7Mb_p/blib/arch
    /home/perluser/.cpan/build/HTTP-Body-1.22-l7Mb_p/blib/lib
    /home/perluser/.cpan/build/Test-TCP-2.12-0oiO_b/blib/arch
    /home/perluser/.cpan/build/Test-TCP-2.12-0oiO_b/blib/lib
    /home/perluser/.cpan/build/Hash-MultiValue-0.16-KP6uHp/blib/arch
    /home/perluser/.cpan/build/Hash-MultiValue-0.16-KP6uHp/blib/lib
    /home/perluser/.cpan/build/Filesys-Notify-Simple-0.12-IoUFTH/blib/arch
    /home/perluser/.cpan/build/Filesys-Notify-Simple-0.12-IoUFTH/blib/lib
    /home/perluser/.cpan/build/Test-SharedFork-0.33-GTUnCZ/blib/arch
    /home/perluser/.cpan/build/Test-SharedFork-0.33-GTUnCZ/blib/lib
    /home/perluser/.cpan/build/Test-Requires-0.08-7GmF9j/blib/arch
    /home/perluser/.cpan/build/Test-Requires-0.08-7GmF9j/blib/lib
    /home/perluser/.cpan/build/File-ShareDir-1.102-KI6LyQ/blib/arch
    /home/perluser/.cpan/build/File-ShareDir-1.102-KI6LyQ/blib/lib
    /home/perluser/.cpan/build/Class-Inspector-1.28-hANlMd/blib/arch
    /home/perluser/.cpan/build/Class-Inspector-1.28-hANlMd/blib/lib
    /home/perluser/.cpan/build/File-ShareDir-Install-0.10-JvYRo3/blib/arch
    /home/perluser/.cpan/build/File-ShareDir-Install-0.10-JvYRo3/blib/lib
    /home/perluser/.cpan/build/Digest-SHA1-2.13-2xBFhZ/blib/arch
    /home/perluser/.cpan/build/Digest-SHA1-2.13-2xBFhZ/blib/lib
    /home/perluser/.cpan/build/Digest-HMAC-1.03-jAYO9L/blib/arch
    /home/perluser/.cpan/build/Digest-HMAC-1.03-jAYO9L/blib/lib
    /home/perluser/.cpan/build/Cookie-Baker-0.06-lrc5d9/blib/arch
    /home/perluser/.cpan/build/Cookie-Baker-0.06-lrc5d9/blib/lib
    /home/perluser/.cpan/build/Test-Time-0.04-HhpTcH/blib/arch
    /home/perluser/.cpan/build/Test-Time-0.04-HhpTcH/blib/lib
    /home/perluser/.cpan/build/Test-Name-FromLine-0.13-85kB_V/blib/arch
    /home/perluser/.cpan/build/Test-Name-FromLine-0.13-85kB_V/blib/lib
    /home/perluser/.cpan/build/Test-Differences-0.63-seWlHa/blib/arch
    /home/perluser/.cpan/build/Test-Differences-0.63-seWlHa/blib/lib
    /home/perluser/.cpan/build/File-Slurp-9999.19-aXCVpc/blib/arch
    /home/perluser/.cpan/build/File-Slurp-9999.19-aXCVpc/blib/lib
    /home/perluser/.cpan/build/Module-Build-Tiny-0.039-Yfl7Gz/blib/arch
    /home/perluser/.cpan/build/Module-Build-Tiny-0.039-Yfl7Gz/blib/lib
    /home/perluser/.cpan/build/ExtUtils-InstallPaths-0.011-_3yaq7/blib/arch
    /home/perluser/.cpan/build/ExtUtils-InstallPaths-0.011-_3yaq7/blib/lib
    /home/perluser/.cpan/build/ExtUtils-Helpers-0.022-mV8bWy/blib/arch
    /home/perluser/.cpan/build/ExtUtils-Helpers-0.022-mV8bWy/blib/lib
    /home/perluser/.cpan/build/ExtUtils-Config-0.008-Vws5gG/blib/arch
    /home/perluser/.cpan/build/ExtUtils-Config-0.008-Vws5gG/blib/lib
    /home/perluser/.cpan/build/HTML-FillInForm-Lite-1.13-Sr192G/blib/arch
    /home/perluser/.cpan/build/HTML-FillInForm-Lite-1.13-Sr192G/blib/lib
    /home/perluser/.cpan/build/CGI-4.21-Qm3xh_/blib/arch
    /home/perluser/.cpan/build/CGI-4.21-Qm3xh_/blib/lib
    /home/perluser/.cpan/build/Test-Deep-0.117-2nh7rc/blib/arch
    /home/perluser/.cpan/build/Test-Deep-0.117-2nh7rc/blib/lib
    /home/perluser/.cpan/build/Test-NoWarnings-1.04-aNlhd4/blib/arch
    /home/perluser/.cpan/build/Test-NoWarnings-1.04-aNlhd4/blib/lib
    /home/perluser/.cpan/build/Test-Warn-0.30-FNeovX/blib/arch
    /home/perluser/.cpan/build/Test-Warn-0.30-FNeovX/blib/lib
    /home/perluser/.cpan/build/Sub-Uplevel-0.25-AWgIqa/blib/arch
    /home/perluser/.cpan/build/Sub-Uplevel-0.25-AWgIqa/blib/lib
    /home/perluser/.cpan/build/Module-CPANfile-1.1000-1XO2MG/blib/arch
    /home/perluser/.cpan/build/Module-CPANfile-1.1000-1XO2MG/blib/lib
    /home/perluser/perl5/perlbrew/perls/perl-5.23.0/lib/site_perl/5.23.0/OpenBSD.amd64-openbsd
    /home/perluser/perl5/perlbrew/perls/perl-5.23.0/lib/site_perl/5.23.0
    /home/perluser/perl5/perlbrew/perls/perl-5.23.0/lib/5.23.0/OpenBSD.amd64-openbsd
    /home/perluser/perl5/perlbrew/perls/perl-5.23.0/lib/5.23.0
    .