Test-CleanNamespaces v0.24 Perl 5 v5.32.1 x86_64-linux
- Status
- Pass
- From
- Slaven Rezić
- Dist
-
Test-CleanNamespaces v0.24
- Platform
- Perl 5 v5.32.1 x86_64-linux
- Date
- 2021-02-02 09:52:22
- ID
- 58d49630-653c-11eb-9aad-df7c1f24ea8f
This distribution has been tested as part of the CPAN Testers
project, supporting the Perl programming language. See
http://wiki.cpantesters.org/ for more information or email
questions to cpan-testers-discuss@perl.org
--
Dear Karen Etheridge,
This is a computer-generated report for Test-CleanNamespaces-0.24
on perl 5.32.1, created by CPAN-Reporter-1.2018.
Thank you for uploading your work to CPAN. Congratulations!
All tests were successful.
Sections of this report:
* Tester comments
* Program output
* Prerequisites
* Environment and other context
------------------------------
TESTER COMMENTS
------------------------------
Additional comments from tester:
none provided
------------------------------
PROGRAM OUTPUT
------------------------------
Output from '/usr/bin/make test':
PERL_DL_NONLAZY=1 "/opt/perl-5.32.1/bin/perl" "-MExtUtils::Command::MM" "-MTest::Harness" "-e" "undef *Test::Harness::Switches; test_harness(0, 'blib/lib', 'blib/arch')" t/*.t
#
# Versions for all modules listed in MYMETA.json (including optional ones):
#
# === Configure Requires ===
#
# Module Want Have
# ------------------------ -------- --------
# CPAN::Meta::Requirements 2.120620 2.140
# ExtUtils::MakeMaker any 7.44
# Module::Metadata any 1.000037
#
# === Build Requires ===
#
# Module Want Have
# ------------------- ---- ----
# ExtUtils::MakeMaker any 7.44
#
# === Test Requires ===
#
# Module Want Have
# --------------------- ----- --------
# ExtUtils::MakeMaker any 7.44
# File::Spec any 3.78
# File::Spec::Functions any 3.78
# File::pushd any 1.016
# Scalar::Util any 1.55
# Sub::Exporter any 0.987
# Test::Deep any 1.130
# Test::More 0.96 1.302183
# Test::Needs any 0.002006
# Test::Tester any 1.302183
# Test::Warnings 0.009 0.030
# constant any 1.33
# if any 0.0608
# lib any 0.65
# namespace::clean any 0.27
# overload any 1.31
# parent any 0.238
#
# === Test Recommends ===
#
# Module Want Have
# ---------- -------- --------
# CPAN::Meta 2.120900 2.150010
#
# === Test Suggests ===
#
# Module Want Have
# --------------------------- -------- --------
# Class::MOP::Class any missing
# Moo any 2.004004
# Moo::Role any 2.004004
# Moose any missing
# Moose::Exporter any missing
# Moose::Role any missing
# MooseX::Role::Parameterized any missing
# Mouse any v2.5.10
# Mouse::Role any v2.5.10
# Role::Tiny 1.003000 2.002004
# metaclass any missing
#
# === Runtime Requires ===
#
# Module Want Have
# --------------- -------- --------
# Exporter 5.57 5.74
# File::Find any 1.37
# File::Spec any 3.78
# Module::Runtime any 0.016
# Package::Stash 0.14 0.39
# Role::Tiny 1.003000 2.002004
# Sub::Identify any 0.14
# Test::Builder any 1.302183
# strict any 1.11
# warnings any 1.47
#
# === Runtime Recommends ===
#
# Module Want Have
# ------------------ ---- ----
# Package::Stash::XS any 0.29
#
# === Runtime Suggests ===
#
# Module Want Have
# ---------- ---- --------
# Role::Tiny any 2.002004
#
# === Other Modules ===
#
# Module Have
# --------------- ------
# Encode 3.08
# File::Temp 0.2309
# JSON::PP 4.04
# Module::Runtime 0.016
# Pod::Coverage 0.23
# Sub::Name 0.26
# YAML 1.30
# autodie 2.32
#
t/00-report-prereqs.t ......... ok
t/basic.t ..................... ok
t/class_mop.t ................. skipped: skipping for regular installs, due to possible circular dependency issues
t/clean-namespaces.t .......... ok
t/find_modules.t .............. ok
t/moo.t ....................... ok
t/moose-parameterized-role.t .. skipped: skipping for regular installs, due to possible circular dependency issues
t/moose.t ..................... skipped: skipping for regular installs, due to possible circular dependency issues
t/mouse.t ..................... ok
t/overload.t .................. ok
t/role_tiny.t ................. ok
t/self.t ...................... ok
t/zzz-check-breaks.t .......... ok
All tests successful.
Files=13, Tests=161, 0 wallclock secs ( 0.04 usr 0.01 sys + 0.79 cusr 0.09 csys = 0.93 CPU)
Result: PASS
------------------------------
PREREQUISITES
------------------------------
Prerequisite modules loaded:
requires:
Module Need Have
------------------------ -------- --------
Exporter 5.57 5.74
File::Find 0 1.37
File::Spec 0 3.78
Module::Runtime 0 0.016
Package::Stash 0.14 0.39
perl 5.006 5.032001
Role::Tiny 1.003000 2.002004
strict 0 1.11
Sub::Identify 0 0.14
Test::Builder 0 1.302183
warnings 0 1.47
build_requires:
Module Need Have
------------------------ -------- --------
constant 0 1.33
ExtUtils::MakeMaker 0 7.44
File::pushd 0 1.016
File::Spec 0 3.78
File::Spec::Functions 0 3.78
if 0 0.0608
lib 0 0.65
namespace::clean 0 0.27
overload 0 1.31
parent 0 0.238
Scalar::Util 0 1.55
Sub::Exporter 0 0.987
Test::Deep 0 1.130
Test::More 0.96 1.302183
Test::Needs 0 0.002006
Test::Tester 0 1.302183
Test::Warnings 0.009 0.030
configure_requires:
Module Need Have
------------------------ -------- --------
CPAN::Meta::Requirements 2.120620 2.140
ExtUtils::MakeMaker 0 7.44
Module::Metadata 0 1.000037
perl 5.006 5.032001
opt_requires:
Module Need Have
------------------------ -------- --------
Package::Stash::XS 0 0.29
opt_build_requires:
Module Need Have
------------------------ -------- --------
CPAN::Meta 2.120900 2.150010
------------------------------
ENVIRONMENT AND OTHER CONTEXT
------------------------------
Environment variables:
LANG = de_DE.UTF-8
PATH = /usr/local/bin:/usr/bin:/bin:/usr/local/sbin:/usr/sbin:/sbin:/home/slaven_rezic/bin/linux-gnu:/home/slaven_rezic/bin/sh:/home/slaven_rezic/bin:/home/slaven_rezic/bin/pistachio-perl/bin:/usr/games:/home/slaven_rezic/devel:/home/slaven_rezic/work/drafts-slaven.rezic/misc:/home/slaven_rezic/work2/fzf/bin:/home/slaven_rezic/src/srezic-misc/scripts
PERL5LIB =
PERL5OPT =
PERL5_CPANPLUS_IS_RUNNING = 490113
PERL5_CPAN_IS_RUNNING = 490113
PERL5_CPAN_IS_RUNNING_IN_RECURSION = 490088,490113
PERLDOC = -MPod::Perldoc::ToTextOverstrike
PERL_BATCH = yes
PERL_CANARY_STABILITY_NOPROMPT = 1
PERL_CPAN_REPORTER_CONFIG = /var/tmp/cpansmoker-1000/2021020210/cpanreporter_001_config.ini
PERL_EXTUTILS_AUTOINSTALL = --defaultdeps
PERL_MM_USE_DEFAULT = 1
PERL_USE_UNSAFE_INC = 1
SHELL = /bin/zsh
STDPERL = /home/slaven_rezic/bin/pistachio-perl/bin/perl
TERM = screen
TMPDIR = /var/tmp/cpansmoker-1000/2021020210
Perl special variables (and OS-specific diagnostics, for MSWin32):
$^X = /opt/perl-5.32.1/bin/perl
$UID/$EUID = 1000 / 1000
$GID = 1000 4 24 27 30 46 121 131 132 134 135 1000
$EGID = 1000 4 24 27 30 46 121 131 132 134 135 1000
Perl module toolchain versions installed:
Module Have
------------------- --------
CPAN 2.28
CPAN::Meta 2.150010
Cwd 3.78
ExtUtils::CBuilder 0.280234
ExtUtils::Command 7.44
ExtUtils::Install 2.14
ExtUtils::MakeMaker 7.44
ExtUtils::Manifest 1.72
ExtUtils::ParseXS 3.40
File::Spec 3.78
JSON 4.03
JSON::PP 4.04
Module::Build 0.4231
Module::Signature n/a
Parse::CPAN::Meta 2.150010
Test::Harness 3.42
Test::More 1.302183
YAML 1.30
YAML::Syck 1.34
version 0.9924
--
Summary of my perl5 (revision 5 version 32 subversion 1) configuration:
Platform:
osname=linux
osvers=5.4.0-64-generic
archname=x86_64-linux
uname='linux w0dja 5.4.0-64-generic #72-ubuntu smp fri jan 15 10:27:54 utc 2021 x86_64 x86_64 x86_64 gnulinux '
config_args='-ds -e -Dprefix=/opt/perl-5.32.1 -Dcf_email=srezic@cpan.org'
hint=recommended
useposix=true
d_sigaction=define
useithreads=undef
usemultiplicity=undef
use64bitint=define
use64bitall=define
uselongdouble=undef
usemymalloc=n
default_inc_excludes_dot=define
bincompat5005=undef
Compiler:
cc='cc'
ccflags ='-fwrapv -fno-strict-aliasing -pipe -fstack-protector-strong -I/usr/local/include -D_LARGEFILE_SOURCE -D_FILE_OFFSET_BITS=64'
optimize='-O2'
cppflags='-fwrapv -fno-strict-aliasing -pipe -fstack-protector-strong -I/usr/local/include'
ccversion=''
gccversion='9.3.0'
gccosandvers=''
intsize=4
longsize=8
ptrsize=8
doublesize=8
byteorder=12345678
doublekind=3
d_longlong=define
longlongsize=8
d_longdbl=define
longdblsize=16
longdblkind=3
ivtype='long'
ivsize=8
nvtype='double'
nvsize=8
Off_t='off_t'
lseeksize=8
alignbytes=8
prototype=define
Linker and Libraries:
ld='cc'
ldflags =' -fstack-protector-strong -L/usr/local/lib'
libpth=/usr/local/lib /usr/include/x86_64-linux-gnu /usr/lib /lib/x86_64-linux-gnu /lib/../lib /usr/lib/x86_64-linux-gnu /usr/lib/../lib /lib /lib64 /usr/lib64
libs=-lpthread -lnsl -ldb -ldl -lm -lcrypt -lutil -lc
perllibs=-lpthread -lnsl -ldl -lm -lcrypt -lutil -lc
libc=libc-2.31.so
so=so
useshrplib=false
libperl=libperl.a
gnulibc_version='2.31'
Dynamic Linking:
dlsrc=dl_dlopen.xs
dlext=so
d_dlsymun=undef
ccdlflags='-Wl,-E'
cccdlflags='-fPIC'
lddlflags='-shared -O2 -L/usr/local/lib -fstack-protector-strong'
Characteristics of this binary (from libperl):
Compile-time options:
HAS_TIMES
PERLIO_LAYERS
PERL_COPY_ON_WRITE
PERL_DONT_CREATE_GVSV
PERL_MALLOC_WRAP
PERL_OP_PARENT
PERL_PRESERVE_IVUV
USE_64_BIT_ALL
USE_64_BIT_INT
USE_LARGE_FILES
USE_LOCALE
USE_LOCALE_COLLATE
USE_LOCALE_CTYPE
USE_LOCALE_NUMERIC
USE_LOCALE_TIME
USE_PERLIO
USE_PERL_ATOF
Built under linux
Compiled at Feb 1 2021 16:43:07
%ENV:
PERL5LIB=""
PERL5OPT=""
PERL5_CPANPLUS_IS_RUNNING="490113"
PERL5_CPAN_IS_RUNNING="490113"
PERL5_CPAN_IS_RUNNING_IN_RECURSION="490088,490113"
PERLDOC="-MPod::Perldoc::ToTextOverstrike"
PERL_BATCH="yes"
PERL_CANARY_STABILITY_NOPROMPT="1"
PERL_CPAN_REPORTER_CONFIG="/var/tmp/cpansmoker-1000/2021020210/cpanreporter_001_config.ini"
PERL_EXTUTILS_AUTOINSTALL="--defaultdeps"
PERL_MM_USE_DEFAULT="1"
PERL_USE_UNSAFE_INC="1"
@INC:
/opt/perl-5.32.1/lib/site_perl/5.32.1/x86_64-linux
/opt/perl-5.32.1/lib/site_perl/5.32.1
/opt/perl-5.32.1/lib/5.32.1/x86_64-linux
/opt/perl-5.32.1/lib/5.32.1
.