IO-Iron v0.14 Perl 5 v5.30.3 MSWin32-x64-multi-thread
- Status
- Pass
- From
- twata
- Dist
-
IO-Iron v0.14
- Platform
- Perl 5 v5.30.3 MSWin32-x64-multi-thread
- Date
- 2023-09-05 20:47:38
- ID
- 58c500c6-707b-1014-a6a0-a5f5efaa1848
This distribution has been tested as part of the CPAN Testers
project, supporting the Perl programming language. See
http://wiki.cpantesters.org/ for more information or email
questions to cpan-testers-discuss@perl.org
--
Dear Mikko Koivunalho,
This is a computer-generated report for IO-Iron-0.14
on perl 5.30.3, created by CPAN-Reporter-1.2019.
Thank you for uploading your work to CPAN. Congratulations!
All tests were successful.
Sections of this report:
* Tester comments
* Program output
* Prerequisites
* Environment and other context
------------------------------
TESTER COMMENTS
------------------------------
Additional comments from tester:
none provided
------------------------------
PROGRAM OUTPUT
------------------------------
Output from 'C:\Strawberry\c\bin\gmake.exe test':
"C:\Strawberry\perl\bin\perl.exe" "-MExtUtils::Command::MM" "-MTest::Harness" "-e" "undef *Test::Harness::Switches; test_harness(0, 'blib\lib', 'blib\arch')" t/Iron/*.t t/IronCache/*.t t/IronMQ/*.t t/IronWorker/*.t
# Testing IO::Iron::IronWorker::Client (0.14), Perl 5.030003, C:\Strawberry\perl\bin\perl.exe
# test ReadIronMQConfig
# Current dir config filename: iron.json
# Extra config filename: t\.IronMQTestConfig.json
t/Iron/client_readconfig.t ... ok
# Testing IO::Iron::Common (0.14), Perl 5.030003, C:\Strawberry\perl\bin\perl.exe
t/Iron/common.t .............. ok
# Testing IO::Iron (0.14), Perl 5.030003, C:\Strawberry\perl\bin\perl.exe
t/Iron/load.t ................ ok
# Testing IO::Iron::IronCache::Client (0.14) with policies, Perl 5.030003, C:\Strawberry\perl\bin\perl.exe
t/IronCache/cache_policy.t ... ok
# Testing IO::Iron::IronCache::Client (0.14), Perl 5.030003, C:\Strawberry\perl\bin\perl.exe
t/IronCache/cache_policy2.t .. ok
# Testing IO::Iron::IronCache::Client (0.14), Perl 5.030003, C:\Strawberry\perl\bin\perl.exe
t/IronCache/load.t ........... ok
# Testing IO::Iron::IronMQ::Client (0.14), Perl 5.030003, C:\Strawberry\perl\bin\perl.exe
t/IronMQ/load.t .............. ok
# Testing IO::Iron::IronCache::Client (0.14), Perl 5.030003, C:\Strawberry\perl\bin\perl.exe
t/IronWorker/load.t .......... ok
All tests successful.
Files=8, Tests=103, 6 wallclock secs ( 0.05 usr + 0.06 sys = 0.11 CPU)
Result: PASS
------------------------------
PREREQUISITES
------------------------------
Prerequisite modules loaded:
requires:
Module Need Have
------------------------- --------- --------
Carp 0 1.50
Carp::Assert 0 0.22
Carp::Assert::More 0 2.3.0
Const::Fast 0 0.014
Data::UUID 0 1.226
English 0 1.10
Exception::Class 0 1.45
Exporter 0 5.77
File::HomeDir 0 1.004
File::Spec 0 3.78
Hash::Util 0.06 0.22
JSON::MaybeXS 0 1.004005
Log::Any 0 1.716
Params::Validate 0 1.31
parent 0 0.241
Path::Tiny 0 0.144
perl 5.010 5.030003
REST::Client 0 281
Scalar::Util 0 1.63
strict 0 1.11
Try::Tiny 0 0.31
URI::Escape 0 5.21
warnings 0 1.44
build_requires:
Module Need Have
------------------------- --------- --------
Data::Dumper 0 2.183
ExtUtils::MakeMaker 0 7.70
File::Copy 0 2.34
File::Remove 0 1.61
FindBin 1.51 1.53
lib 0 0.65
Log::Any::Test 0 1.716
Test::Exception 0 0.43
Test::More 0 1.302195
configure_requires:
Module Need Have
------------------------- --------- --------
ExtUtils::MakeMaker 0 7.70
perl 5.010_000 5.030003
opt_build_requires:
Module Need Have
------------------------- --------- --------
DateTime 0 1.61
DateTime::Format::ISO8601 0 0.16
Test::CPAN::Meta 0 0.25
Test::Pod::Coverage 0 1.10
------------------------------
ENVIRONMENT AND OTHER CONTEXT
------------------------------
Environment variables:
COMSPEC = C:\WINDOWS\system32\cmd.exe
NONINTERACTIVE_TESTING = 1
NUMBER_OF_PROCESSORS = 4
PATH = C:\home\sunlight3\perl5\bin;C:\WINDOWS\system32;C:\WINDOWS;C:\WINDOWS\System32\Wbem;C:\WINDOWS\System32\WindowsPowerShell\v1.0\;C:\Strawberry\c\bin;C:\Strawberry\perl\site\bin;C:\Strawberry\perl\bin
PERL5LIB = C:\home\sunlight3\perl5\lib\perl5
PERL5OPT =
PERL5_CPANPLUS_IS_RUNNING = 6628
PERL5_CPAN_IS_RUNNING = 6628
PERL_LOCAL_LIB_ROOT = C:\home\sunlight3\perl5
PERL_MB_OPT = --install_base "C:\\home\\sunlight3\\perl5"
PERL_MM_OPT = INSTALL_BASE=C:\\home\\sunlight3\\perl5
PERL_MM_USE_DEFAULT = 1
PERL_USE_UNSAFE_INC = 1
PROCESSOR_IDENTIFIER = Intel64 Family 6 Model 58 Stepping 9, GenuineIntel
TEMP = C:\Users\USER\AppData\Local\Temp
TERM = dumb
Perl special variables (and OS-specific diagnostics, for MSWin32):
$^X = C:\Strawberry\perl\bin\perl.exe
$UID/$EUID = 0 / 0
$GID = 0
$EGID = 0
Win32::GetOSName = Win8.1
Win32::GetOSVersion = , 6, 3, 9600, 2, 0, 0, 256, 1
Win32::FsType = NTFS
Win32::IsAdminUser = 0
Perl module toolchain versions installed:
Module Have
------------------- --------
CPAN 2.34
CPAN::Meta 2.150010
Cwd 3.78
ExtUtils::CBuilder 0.280234
ExtUtils::Command 7.70
ExtUtils::Install 2.22
ExtUtils::MakeMaker 7.70
ExtUtils::Manifest 1.75
ExtUtils::ParseXS 3.51
File::Spec 3.78
JSON 4.10
JSON::PP 4.17_01
Module::Build 0.4234
Module::Signature 0.88
Parse::CPAN::Meta 2.150010
Test2 1.302195
Test::Harness 3.47
Test::More 1.302195
YAML 1.30
YAML::Syck 1.34
version 0.9924
--
Summary of my perl5 (revision 5 version 30 subversion 3) configuration:
Platform:
osname=MSWin32
osvers=10.0.19041.329
archname=MSWin32-x64-multi-thread
uname='Win32 strawberry-perl 5.30.3.1 #1 Mon Jul 13 02:10:43 2020 x64'
config_args='undef'
hint=recommended
useposix=true
d_sigaction=undef
useithreads=define
usemultiplicity=define
use64bitint=define
use64bitall=undef
uselongdouble=undef
usemymalloc=n
default_inc_excludes_dot=define
bincompat5005=undef
Compiler:
cc='gcc'
ccflags =' -s -O2 -DWIN32 -DWIN64 -DCONSERVATIVE -D__USE_MINGW_ANSI_STDIO -DPERL_TEXTMODE_SCRIPTS -DPERL_IMPLICIT_CONTEXT -DPERL_IMPLICIT_SYS -DUSE_PERLIO -fwrapv -fno-strict-aliasing -mms-bitfields'
optimize='-s -O2'
cppflags='-DWIN32'
ccversion=''
gccversion='8.3.0'
gccosandvers=''
intsize=4
longsize=4
ptrsize=8
doublesize=8
byteorder=12345678
doublekind=3
d_longlong=define
longlongsize=8
d_longdbl=define
longdblsize=16
longdblkind=3
ivtype='long long'
ivsize=8
nvtype='double'
nvsize=8
Off_t='long long'
lseeksize=8
alignbytes=8
prototype=define
Linker and Libraries:
ld='g++'
ldflags ='-s -L"C:\Strawberry\perl\lib\CORE" -L"C:\Strawberry\c\lib"'
libpth=C:\Strawberry\c\lib C:\Strawberry\c\x86_64-w64-mingw32\lib C:\Strawberry\c\lib\gcc\x86_64-w64-mingw32\8.3.0
libs= -lmoldname -lkernel32 -luser32 -lgdi32 -lwinspool -lcomdlg32 -ladvapi32 -lshell32 -lole32 -loleaut32 -lnetapi32 -luuid -lws2_32 -lmpr -lwinmm -lversion -lodbc32 -lodbccp32 -lcomctl32
perllibs= -lmoldname -lkernel32 -luser32 -lgdi32 -lwinspool -lcomdlg32 -ladvapi32 -lshell32 -lole32 -loleaut32 -lnetapi32 -luuid -lws2_32 -lmpr -lwinmm -lversion -lodbc32 -lodbccp32 -lcomctl32
libc=
so=dll
useshrplib=true
libperl=libperl530.a
gnulibc_version=''
Dynamic Linking:
dlsrc=dl_win32.xs
dlext=xs.dll
d_dlsymun=undef
ccdlflags=' '
cccdlflags=' '
lddlflags='-mdll -s -L"C:\Strawberry\perl\lib\CORE" -L"C:\Strawberry\c\lib"'
Characteristics of this binary (from libperl):
Compile-time options:
HAS_TIMES
HAVE_INTERP_INTERN
MULTIPLICITY
PERLIO_LAYERS
PERL_COPY_ON_WRITE
PERL_DONT_CREATE_GVSV
PERL_IMPLICIT_CONTEXT
PERL_IMPLICIT_SYS
PERL_MALLOC_WRAP
PERL_OP_PARENT
PERL_PRESERVE_IVUV
USE_64_BIT_INT
USE_ITHREADS
USE_LARGE_FILES
USE_LOCALE
USE_LOCALE_COLLATE
USE_LOCALE_CTYPE
USE_LOCALE_NUMERIC
USE_LOCALE_TIME
USE_PERLIO
USE_PERL_ATOF
Built under MSWin32
Compiled at Jul 13 2020 02:15:51
%ENV:
PERL5LIB="C:\home\sunlight3\perl5\lib\perl5"
PERL5_CPANPLUS_IS_RUNNING="6628"
PERL5_CPAN_IS_RUNNING="6628"
PERL_LOCAL_LIB_ROOT="C:\home\sunlight3\perl5"
PERL_MB_OPT="--install_base "C:\\home\\sunlight3\\perl5""
PERL_MM_OPT="INSTALL_BASE=C:\\home\\sunlight3\\perl5"
PERL_MM_USE_DEFAULT="1"
PERL_USE_UNSAFE_INC="1"
@INC:
C:\home\sunlight3\perl5\lib\perl5/MSWin32-x64-multi-thread
C:\home\sunlight3\perl5\lib\perl5
C:/Strawberry/perl/site/lib
C:/Strawberry/perl/vendor/lib
C:/Strawberry/perl/lib
.