Catalyst-View-Reproxy v0.05 Perl 5 v5.26.1 x86_64-linux

Status
Pass
From
Andreas J. König (ANDK)
Dist
Catalyst-View-Reproxy v0.05
Platform
Perl 5 v5.26.1 x86_64-linux
Date
2017-11-27 06:01:01
ID
589da9c0-d338-11e7-ab02-6be83d3a84c9
This distribution has been tested as part of the CPAN Testers
project, supporting the Perl programming language.  See
http://wiki.cpantesters.org/ for more information or email
questions to cpan-testers-discuss@perl.org


--
Dear Toru Yamaguchi,

This is a computer-generated report for Catalyst-View-Reproxy-0.05
on perl 5.26.1, created by CPAN-Reporter-1.2018.

Thank you for uploading your work to CPAN.  Congratulations!
All tests were successful.

Sections of this report:

    * Tester comments
    * Program output
    * Prerequisites
    * Environment and other context

------------------------------
TESTER COMMENTS
------------------------------

Additional comments from tester:

this report is from an automated smoke testing program
and was not reviewed by a human for accuracy

------------------------------
PROGRAM OUTPUT
------------------------------

Output from '/usr/bin/make test':

"/home/sand/src/perl/repoperls/installed-perls/host/k93msid/v5.26.1/d2d1/bin/perl" "-Iinc" Makefile.PL --config= --installdeps=HTTP::Server::Simple::Static,0,File::MMagic,0
PERL_DL_NONLAZY=1 TEST_HTTPD_PORT="3500" "/home/sand/src/perl/repoperls/installed-perls/host/k93msid/v5.26.1/d2d1/bin/perl" "-MExtUtils::Command::MM" "-MTest::Harness" "-e" "undef *Test::Harness::Switches; test_harness(0, 'inc', 'blib/lib', 'blib/arch')" t/00-load.t t/01-http-server-static.t t/02-perlbal-stash.t t/03-perlbal-forward.t t/04-perlbal-view.t t/05-lighttpd-stash.t t/06-lighttpd-forward.t t/07-lighttpd-view.t t/08-debug-stash.t t/09-debug-forward.t t/10-debug-view.t t/boilerplate.t t/pod-coverage.t t/pod.t
t/00-load.t ................ ok
Insecure dependency in exec while running with -T switch at /home/sand/src/perl/repoperls/installed-perls/host/k93msid/v5.26.1/d2d1/lib/site_perl/5.26.1/HTTP/Server/Simple.pm line 374.
t/01-http-server-static.t .. ok
Catalyst::Plugin::ConfigLoader uses NEXT, which is deprecated. Please see the Class::C3::Adopt::NEXT documentation for details. NEXT used  at inc/Catalyst/Plugin/ConfigLoader.pm line 72.
Catalyst::View::Reproxy uses NEXT, which is deprecated. Please see the Class::C3::Adopt::NEXT documentation for details. NEXT used  at /tmp/loop_over_bdir-28934-5fgqhy/Catalyst-View-Reproxy-0.05-0/blib/lib/Catalyst/View/Reproxy.pm line 104.
[debug] TestApp::View::ReproxyFile config parameters
t/02-perlbal-stash.t ....... ok
Catalyst::Plugin::ConfigLoader uses NEXT, which is deprecated. Please see the Class::C3::Adopt::NEXT documentation for details. NEXT used  at inc/Catalyst/Plugin/ConfigLoader.pm line 72.
Catalyst::View::Reproxy uses NEXT, which is deprecated. Please see the Class::C3::Adopt::NEXT documentation for details. NEXT used  at /tmp/loop_over_bdir-28934-5fgqhy/Catalyst-View-Reproxy-0.05-0/blib/lib/Catalyst/View/Reproxy.pm line 104.
[debug] TestApp::View::ReproxyFile config parameters
t/03-perlbal-forward.t ..... ok
Catalyst::Plugin::ConfigLoader uses NEXT, which is deprecated. Please see the Class::C3::Adopt::NEXT documentation for details. NEXT used  at inc/Catalyst/Plugin/ConfigLoader.pm line 72.
Catalyst::View::Reproxy uses NEXT, which is deprecated. Please see the Class::C3::Adopt::NEXT documentation for details. NEXT used  at /tmp/loop_over_bdir-28934-5fgqhy/Catalyst-View-Reproxy-0.05-0/blib/lib/Catalyst/View/Reproxy.pm line 104.
[debug] TestApp::View::ReproxyFile config parameters
t/04-perlbal-view.t ........ ok
Catalyst::Plugin::ConfigLoader uses NEXT, which is deprecated. Please see the Class::C3::Adopt::NEXT documentation for details. NEXT used  at inc/Catalyst/Plugin/ConfigLoader.pm line 72.
Catalyst::View::Reproxy uses NEXT, which is deprecated. Please see the Class::C3::Adopt::NEXT documentation for details. NEXT used  at /tmp/loop_over_bdir-28934-5fgqhy/Catalyst-View-Reproxy-0.05-0/blib/lib/Catalyst/View/Reproxy.pm line 104.
[debug] TestApp::View::ReproxyFile config parameters
Insecure $ENV{PATH} while running with -T switch at /home/sand/src/perl/repoperls/installed-perls/host/k93msid/v5.26.1/d2d1/lib/site_perl/5.26.1/HTTP/Server/Simple.pm line 374.
t/05-lighttpd-stash.t ...... ok
Catalyst::Plugin::ConfigLoader uses NEXT, which is deprecated. Please see the Class::C3::Adopt::NEXT documentation for details. NEXT used  at inc/Catalyst/Plugin/ConfigLoader.pm line 72.
Catalyst::View::Reproxy uses NEXT, which is deprecated. Please see the Class::C3::Adopt::NEXT documentation for details. NEXT used  at /tmp/loop_over_bdir-28934-5fgqhy/Catalyst-View-Reproxy-0.05-0/blib/lib/Catalyst/View/Reproxy.pm line 104.
[debug] TestApp::View::ReproxyFile config parameters
Insecure dependency in exec while running with -T switch at /home/sand/src/perl/repoperls/installed-perls/host/k93msid/v5.26.1/d2d1/lib/site_perl/5.26.1/HTTP/Server/Simple.pm line 374.
t/06-lighttpd-forward.t .... ok
Catalyst::Plugin::ConfigLoader uses NEXT, which is deprecated. Please see the Class::C3::Adopt::NEXT documentation for details. NEXT used  at inc/Catalyst/Plugin/ConfigLoader.pm line 72.
Catalyst::View::Reproxy uses NEXT, which is deprecated. Please see the Class::C3::Adopt::NEXT documentation for details. NEXT used  at /tmp/loop_over_bdir-28934-5fgqhy/Catalyst-View-Reproxy-0.05-0/blib/lib/Catalyst/View/Reproxy.pm line 104.
[debug] TestApp::View::ReproxyFile config parameters
Insecure dependency in exec while running with -T switch at /home/sand/src/perl/repoperls/installed-perls/host/k93msid/v5.26.1/d2d1/lib/site_perl/5.26.1/HTTP/Server/Simple.pm line 374.
t/07-lighttpd-view.t ....... ok
Catalyst::Plugin::ConfigLoader uses NEXT, which is deprecated. Please see the Class::C3::Adopt::NEXT documentation for details. NEXT used  at inc/Catalyst/Plugin/ConfigLoader.pm line 72.
Catalyst::View::Reproxy uses NEXT, which is deprecated. Please see the Class::C3::Adopt::NEXT documentation for details. NEXT used  at /tmp/loop_over_bdir-28934-5fgqhy/Catalyst-View-Reproxy-0.05-0/blib/lib/Catalyst/View/Reproxy.pm line 104.
[debug] TestApp::View::ReproxyFile config parameters
Insecure dependency in exec while running with -T switch at /home/sand/src/perl/repoperls/installed-perls/host/k93msid/v5.26.1/d2d1/lib/site_perl/5.26.1/HTTP/Server/Simple.pm line 374.
t/08-debug-stash.t ......... ok
Catalyst::Plugin::ConfigLoader uses NEXT, which is deprecated. Please see the Class::C3::Adopt::NEXT documentation for details. NEXT used  at inc/Catalyst/Plugin/ConfigLoader.pm line 72.
Catalyst::View::Reproxy uses NEXT, which is deprecated. Please see the Class::C3::Adopt::NEXT documentation for details. NEXT used  at /tmp/loop_over_bdir-28934-5fgqhy/Catalyst-View-Reproxy-0.05-0/blib/lib/Catalyst/View/Reproxy.pm line 104.
[debug] TestApp::View::ReproxyFile config parameters
Insecure dependency in exec while running with -T switch at /home/sand/src/perl/repoperls/installed-perls/host/k93msid/v5.26.1/d2d1/lib/site_perl/5.26.1/HTTP/Server/Simple.pm line 374.
t/09-debug-forward.t ....... ok
Catalyst::Plugin::ConfigLoader uses NEXT, which is deprecated. Please see the Class::C3::Adopt::NEXT documentation for details. NEXT used  at inc/Catalyst/Plugin/ConfigLoader.pm line 72.
Catalyst::View::Reproxy uses NEXT, which is deprecated. Please see the Class::C3::Adopt::NEXT documentation for details. NEXT used  at /tmp/loop_over_bdir-28934-5fgqhy/Catalyst-View-Reproxy-0.05-0/blib/lib/Catalyst/View/Reproxy.pm line 104.
[debug] TestApp::View::ReproxyFile config parameters
Insecure dependency in exec while running with -T switch at /home/sand/src/perl/repoperls/installed-perls/host/k93msid/v5.26.1/d2d1/lib/site_perl/5.26.1/HTTP/Server/Simple.pm line 374.
t/10-debug-view.t .......... ok
t/boilerplate.t ............ ok
t/pod-coverage.t ........... ok
t/pod.t .................... ok
All tests successful.
Files=14, Tests=80, 45 wallclock secs ( 0.05 usr  0.08 sys +  9.29 cusr  1.71 csys = 11.13 CPU)
Result: PASS

------------------------------
PREREQUISITES
------------------------------

Prerequisite modules loaded:

requires:

    Module                         Need Have   
    ------------------------------ ---- -------
    Catalyst                       0    5.90115
    Catalyst::Plugin::ConfigLoader 0    0.34   
    Catalyst::View                 0    0      
    Class::Accessor::Fast          0    0.34   
    Fcntl                          0    1.13   
    File::MimeInfo                 0    0.28   
    File::MMagic                   0    1.30   
    FindBin                        0    1.51   
    HTTP::Request                  0    6.13   
    HTTP::Response                 0    6.13   
    HTTP::Server::Simple::CGI      0    0      
    HTTP::Server::Simple::Static   0    0.14   
    LWP::Simple                    0    6.29   
    LWP::UserAgent                 0    6.29   
    NEXT                           0    0.67   
    Test::Pod                      0    1.51   
    Test::Pod::Coverage            0    1.10   
    Test::WWW::Mechanize::Catalyst 0    0.60   

build_requires:

    Module                         Need Have   
    ------------------------------ ---- -------
    ExtUtils::MakeMaker            0    7.31_04


------------------------------
ENVIRONMENT AND OTHER CONTEXT
------------------------------

Environment variables:

    AUTOMATED_TESTING = 1
    LANG = en_US.UTF-8
    PATH = /home/sand/bin:/usr/local/bin:/usr/bin:/bin:/usr/games:/usr/local/perl/bin:/usr/X11/bin:/sbin:/usr/sbin
    PERL5LIB = /tmp/loop_over_bdir-28934-5fgqhy/Test-WWW-Mechanize-Catalyst-0.60-0/blib/arch:/tmp/loop_over_bdir-28934-5fgqhy/Test-WWW-Mechanize-Catalyst-0.60-0/blib/lib:/tmp/loop_over_bdir-28934-5fgqhy/Test-utf8-1.01-0/blib/arch:/tmp/loop_over_bdir-28934-5fgqhy/Test-utf8-1.01-0/blib/lib:/tmp/loop_over_bdir-28934-5fgqhy/File-MMagic-1.30-0/blib/arch:/tmp/loop_over_bdir-28934-5fgqhy/File-MMagic-1.30-0/blib/lib
    PERL5OPT = 
    PERL5_CPANPLUS_IS_RUNNING = 28936
    PERL5_CPAN_IS_RUNNING = 28936
    PERL5_CPAN_IS_RUNNING_IN_RECURSION = 1978,28936
    PERL_CANARY_STABILITY_NOPROMPT = 1
    PERL_MM_USE_DEFAULT = 1
    PERL_USE_UNSAFE_INC = 1
    SHELL = /usr/bin/zsh
    TERM = screen

Perl special variables (and OS-specific diagnostics, for MSWin32):

    $^X = /home/sand/src/perl/repoperls/installed-perls/host/k93msid/v5.26.1/d2d1/bin/perl
    $UID/$EUID = 1005 / 1005
    $GID = 1005 1005
    $EGID = 1005 1005

Perl module toolchain versions installed:

    Module              Have    
    ------------------- --------
    CPAN                2.18    
    CPAN::Meta          2.150010
    Cwd                 3.67    
    ExtUtils::CBuilder  0.280229
    ExtUtils::Command   7.31_04 
    ExtUtils::Install   2.06    
    ExtUtils::MakeMaker 7.31_04 
    ExtUtils::Manifest  1.70    
    ExtUtils::ParseXS   3.34    
    File::Spec          3.67    
    JSON                2.94    
    JSON::PP            2.94    
    Module::Build       0.4224  
    Module::Signature   0.81    
    Parse::CPAN::Meta   2.150010
    Test::Harness       3.39    
    Test::More          1.302114
    YAML                1.23_003
    YAML::Syck          1.30    
    version             0.9917  


--

Summary of my perl5 (revision 5 version 26 subversion 1) configuration:
  Commit id: 714a461a2ab3017f19ea0f7bbb4934b2309d3aa8
  Platform:
    osname=linux
    osvers=4.12.0-2-amd64
    archname=x86_64-linux
    uname='linux k93msid 4.12.0-2-amd64 #1 smp debian 4.12.13-1 (2017-09-19) x86_64 gnulinux '
    config_args='-Dprefix=/home/sand/src/perl/repoperls/installed-perls/host/k93msid/v5.26.1/d2d1 -Dmyhostname=k93msid -Dinstallusrbinperl=n -Uversiononly -Dusedevel -des -Ui_db -Dlibswanted=cl pthread socket inet nsl gdbm dbm malloc dl ld sun m crypt sec util c cposix posix ucb BSD gdbm_compat -Uuseithreads -Uuselongdouble -DDEBUGGING=both'
    hint=recommended
    useposix=true
    d_sigaction=define
    useithreads=undef
    usemultiplicity=undef
    use64bitint=define
    use64bitall=define
    uselongdouble=undef
    usemymalloc=n
    default_inc_excludes_dot=define
    bincompat5005=undef
  Compiler:
    cc='cc'
    ccflags ='-fwrapv -DDEBUGGING -fno-strict-aliasing -pipe -fstack-protector-strong -I/usr/local/include -D_LARGEFILE_SOURCE -D_FILE_OFFSET_BITS=64 -D_FORTIFY_SOURCE=2'
    optimize='-O2 -g'
    cppflags='-fwrapv -DDEBUGGING -fno-strict-aliasing -pipe -fstack-protector-strong -I/usr/local/include'
    ccversion=''
    gccversion='7.2.0'
    gccosandvers=''
    intsize=4
    longsize=8
    ptrsize=8
    doublesize=8
    byteorder=12345678
    doublekind=3
    d_longlong=define
    longlongsize=8
    d_longdbl=define
    longdblsize=16
    longdblkind=3
    ivtype='long'
    ivsize=8
    nvtype='double'
    nvsize=8
    Off_t='off_t'
    lseeksize=8
    alignbytes=8
    prototype=define
  Linker and Libraries:
    ld='cc'
    ldflags =' -fstack-protector-strong -L/usr/local/lib'
    libpth=/usr/local/lib /usr/lib/gcc/x86_64-linux-gnu/7/include-fixed /usr/include/x86_64-linux-gnu /usr/lib /lib/x86_64-linux-gnu /lib/../lib /usr/lib/x86_64-linux-gnu /usr/lib/../lib /lib
    libs=-lpthread -lnsl -ldl -lm -lcrypt -lutil -lc
    perllibs=-lpthread -lnsl -ldl -lm -lcrypt -lutil -lc
    libc=libc-2.24.so
    so=so
    useshrplib=false
    libperl=libperl.a
    gnulibc_version='2.24'
  Dynamic Linking:
    dlsrc=dl_dlopen.xs
    dlext=so
    d_dlsymun=undef
    ccdlflags='-Wl,-E'
    cccdlflags='-fPIC'
    lddlflags='-shared -O2 -g -L/usr/local/lib -fstack-protector-strong'


Characteristics of this binary (from libperl): 
  Compile-time options:
    DEBUGGING
    HAS_TIMES
    PERLIO_LAYERS
    PERL_COPY_ON_WRITE
    PERL_DONT_CREATE_GVSV
    PERL_MALLOC_WRAP
    PERL_OP_PARENT
    PERL_PRESERVE_IVUV
    PERL_USE_DEVEL
    USE_64_BIT_ALL
    USE_64_BIT_INT
    USE_LARGE_FILES
    USE_LOCALE
    USE_LOCALE_COLLATE
    USE_LOCALE_CTYPE
    USE_LOCALE_NUMERIC
    USE_LOCALE_TIME
    USE_PERLIO
    USE_PERL_ATOF
  Built under linux
  Compiled at Oct  2 2017 14:20:02
  %ENV:
    PERL5LIB="/tmp/loop_over_bdir-28934-5fgqhy/Test-WWW-Mechanize-Catalyst-0.60-0/blib/arch:/tmp/loop_over_bdir-28934-5fgqhy/Test-WWW-Mechanize-Catalyst-0.60-0/blib/lib:/tmp/loop_over_bdir-28934-5fgqhy/Test-utf8-1.01-0/blib/arch:/tmp/loop_over_bdir-28934-5fgqhy/Test-utf8-1.01-0/blib/lib:/tmp/loop_over_bdir-28934-5fgqhy/File-MMagic-1.30-0/blib/arch:/tmp/loop_over_bdir-28934-5fgqhy/File-MMagic-1.30-0/blib/lib"
    PERL5OPT=""
    PERL5_CPANPLUS_IS_RUNNING="28936"
    PERL5_CPAN_IS_RUNNING="28936"
    PERL5_CPAN_IS_RUNNING_IN_RECURSION="1978,28936"
    PERL_CANARY_STABILITY_NOPROMPT="1"
    PERL_MM_USE_DEFAULT="1"
    PERL_USE_UNSAFE_INC="1"
  @INC:
    /tmp/loop_over_bdir-28934-5fgqhy/Test-WWW-Mechanize-Catalyst-0.60-0/blib/arch
    /tmp/loop_over_bdir-28934-5fgqhy/Test-WWW-Mechanize-Catalyst-0.60-0/blib/lib
    /tmp/loop_over_bdir-28934-5fgqhy/Test-utf8-1.01-0/blib/arch
    /tmp/loop_over_bdir-28934-5fgqhy/Test-utf8-1.01-0/blib/lib
    /tmp/loop_over_bdir-28934-5fgqhy/File-MMagic-1.30-0/blib/arch
    /tmp/loop_over_bdir-28934-5fgqhy/File-MMagic-1.30-0/blib/lib
    /home/sand/src/perl/repoperls/installed-perls/host/k93msid/v5.26.1/d2d1/lib/site_perl/5.26.1/x86_64-linux
    /home/sand/src/perl/repoperls/installed-perls/host/k93msid/v5.26.1/d2d1/lib/site_perl/5.26.1
    /home/sand/src/perl/repoperls/installed-perls/host/k93msid/v5.26.1/d2d1/lib/5.26.1/x86_64-linux
    /home/sand/src/perl/repoperls/installed-perls/host/k93msid/v5.26.1/d2d1/lib/5.26.1
    .