Report for Digest-JHash-0.08

Back
From: metabase:user:d49cdc72-1559-11e3-9efd-e82414baadac
Subject: PASS Digest-JHash-0.08 v5.19.11 GNU/Linux
Date: 2014-05-20T10:41:48Z

This distribution has been tested as part of the CPAN Testers
project, supporting the Perl programming language.  See
http://wiki.cpantesters.org/ for more information or email
questions to cpan-testers-discuss@perl.org


--
Dear SHLOMIF,

This is a computer-generated report for Digest-JHash-0.08
on perl 5.19.11, created by App::cpanminus::reporter 0.10 (1.7002).

Thank you for uploading your work to CPAN.  Congratulations!
All tests were successful.

Sections of this report:

    * Tester comments
    * Program output
    * Prerequisites
    * Environment and other context

------------------------------
TESTER COMMENTS
------------------------------

Additional comments from tester:

none provided

------------------------------
PROGRAM OUTPUT
------------------------------

Output from '':

Building and testing Digest-JHash-0.08
cp lib/Digest/JHash.pm blib/lib/Digest/JHash.pm
Running Mkbootstrap for Digest::JHash ()
chmod 644 JHash.bs
/home/kent/perl5/perlbrew/perls/perl-5.19.11/bin/perl5.19.11 /home/kent/perl5/perlbrew/perls/perl-5.19.11/lib/5.19.11/ExtUtils/xsubpp  -typemap /home/kent/perl5/perlbrew/perls/perl-5.19.11/lib/5.19.11/ExtUtils/typemap  JHash.xs > JHash.xsc && mv JHash.xsc JHash.c
cc -c   -fwrapv -fno-strict-aliasing -pipe -fstack-protector -D_LARGEFILE_SOURCE -D_FILE_OFFSET_BITS=64 -O3 -march=native -mtune=native   -DVERSION=\"0.08\" -DXS_VERSION=\"0.08\" -fPIC "-I/home/kent/perl5/perlbrew/perls/perl-5.19.11/lib/5.19.11/x86_64-linux/CORE"   JHash.c
rm -f blib/arch/auto/Digest/JHash/JHash.so
cc  -shared -O3 -march=native -mtune=native -fstack-protector JHash.o  -o blib/arch/auto/Digest/JHash/JHash.so 	\
     	\
  
chmod 755 blib/arch/auto/Digest/JHash/JHash.so
/home/kent/perl5/perlbrew/perls/perl-5.19.11/bin/perl5.19.11 -MExtUtils::Command::MM -e 'cp_nonempty' -- JHash.bs blib/arch/auto/Digest/JHash/JHash.bs 644
Manifying blib/man3/Digest::JHash.3
Running Mkbootstrap for Digest::JHash ()
chmod 644 JHash.bs
PERL_DL_NONLAZY=1 /home/kent/perl5/perlbrew/perls/perl-5.19.11/bin/perl5.19.11 "-MExtUtils::Command::MM" "-MTest::Harness" "-e" "undef *Test::Harness::Switches; test_harness(0, 'blib/lib', 'blib/arch')" t/*.t
t/cpan-changes.t .. ok
t/jhash.t ......... ok
t/pod.t ........... skipped: Author only pod tests not required
t/pod_coverage.t .. skipped: Author only pod coverage tests not required
All tests successful.
Files=4, Tests=9,  0 wallclock secs ( 0.02 usr  0.01 sys +  0.11 cusr  0.03 csys =  0.17 CPU)
Result: PASS

------------------------------
PREREQUISITES
------------------------------

Prerequisite modules loaded:

    No requirements found

------------------------------
ENVIRONMENT AND OTHER CONTEXT
------------------------------

Environment variables:

    LANGUAGE = 
    LC_CTYPE = en_NZ.UTF8
    PATH = /home/kent/perl5/perlbrew/bin:/home/kent/perl5/perlbrew/perls/perl-5.19.11/bin:/home/kent/.perl6/2013.04/bin:/home/kent/.gem/ruby/1.8/bin/:/usr/local/bin:/usr/bin:/bin:/opt/bin:/usr/x86_64-pc-linux-gnu/gcc-bin/4.8.2:/usr/games/bin
    PERLBREW_BASHRC_VERSION = 0.67
    PERLBREW_HOME = /home/kent/.perlbrew
    PERLBREW_MANPATH = /home/kent/perl5/perlbrew/perls/perl-5.19.11/man
    PERLBREW_PATH = /home/kent/perl5/perlbrew/bin:/home/kent/perl5/perlbrew/perls/perl-5.19.11/bin
    PERLBREW_PERL = perl-5.19.11
    PERLBREW_ROOT = /home/kent/perl5/perlbrew
    PERLBREW_VERSION = 0.67
    PERL_CPANM_OPT =  --prompt --reinstall --interactive --with-recommends --with-suggests --with-develop --verify
    SHELL = /bin/bash
    TERM = xterm

Perl special variables (and OS-specific diagnostics, for MSWin32):

    EGID = 1000 4 6 10 16 18 19 27 35 78 80 85 100 102 103 104 105 114 115 116 117 118 250 994 1000
    EUID = 1000
    EXECUTABLE_NAME = /home/kent/perl5/perlbrew/perls/perl-5.19.11/bin/perl5.19.11
    GID = 1000 4 6 10 16 18 19 27 35 78 80 85 100 102 103 104 105 114 115 116 117 118 250 994 1000
    UID = 1000

Perl module toolchain versions installed:

    Module              Have    
    ------------------- --------
    CPAN                2.05    
    CPAN::Meta          2.141170
    Cwd                 3.47    
    ExtUtils::CBuilder  0.280216
    ExtUtils::Command   1.18    
    ExtUtils::Install   1.67    
    ExtUtils::MakeMaker 6.98    
    ExtUtils::Manifest  1.63    
    ExtUtils::ParseXS   3.24    
    File::Spec          3.47    
    JSON                2.90    
    JSON::PP            2.27203 
    Module::Build       0.4205  
    Module::Signature   0.73    
    Parse::CPAN::Meta   1.4414  
    Test::Harness       3.30    
    Test::More          1.001003
    YAML                0.90    
    YAML::Syck          1.27    
    version             0.9908  


--

Summary of my perl5 (revision 5 version 19 subversion 11) configuration:
   
  Platform:
    osname=linux, osvers=3.14.0-gentoo, archname=x86_64-linux
    uname='linux katipo2 3.14.0-gentoo #2 smp preempt tue apr 8 20:47:34 nzst 2014 x86_64 intel(r) core(tm) i5-2410m cpu @ 2.30ghz genuineintel gnulinux '
    config_args='-de -Dprefix=/home/kent/perl5/perlbrew/perls/perl-5.19.11 -Doptimize=-O3 -march=native -mtune=native -Dusedevel -Aeval:scriptdir=/home/kent/perl5/perlbrew/perls/perl-5.19.11/bin'
    hint=recommended, useposix=true, d_sigaction=define
    useithreads=undef, usemultiplicity=undef
    use64bitint=define, use64bitall=define, uselongdouble=undef
    usemymalloc=n, bincompat5005=undef
  Compiler:
    cc='cc', ccflags ='-fwrapv -fno-strict-aliasing -pipe -fstack-protector -D_LARGEFILE_SOURCE -D_FILE_OFFSET_BITS=64',
    optimize='-O3 -march=native -mtune=native',
    cppflags='-fwrapv -fno-strict-aliasing -pipe -fstack-protector'
    ccversion='', gccversion='4.8.2', gccosandvers=''
    intsize=4, longsize=8, ptrsize=8, doublesize=8, byteorder=12345678
    d_longlong=define, longlongsize=8, d_longdbl=define, longdblsize=16
    ivtype='long', ivsize=8, nvtype='double', nvsize=8, Off_t='off_t', lseeksize=8
    alignbytes=8, prototype=define
  Linker and Libraries:
    ld='cc', ldflags =' -fstack-protector'
    libpth=/usr/lib/gcc/x86_64-pc-linux-gnu/4.8.2/include-fixed /usr/lib /lib/../lib64 /usr/lib/../lib64 /lib /lib64 /usr/lib64
    libs=-lnsl -lgdbm -ldb -ldl -lm -lcrypt -lutil -lc -lgdbm_compat
    perllibs=-lnsl -ldl -lm -lcrypt -lutil -lc
    libc=/lib/libc-2.19.so, so=so, useshrplib=false, libperl=libperl.a
    gnulibc_version='2.19'
  Dynamic Linking:
    dlsrc=dl_dlopen.xs, dlext=so, d_dlsymun=undef, ccdlflags='-Wl,-E'
    cccdlflags='-fPIC', lddlflags='-shared -O3 -march=native -mtune=native -fstack-protector'


Characteristics of this binary (from libperl): 
  Compile-time options: HAS_TIMES PERLIO_LAYERS PERL_DONT_CREATE_GVSV
                        PERL_HASH_FUNC_ONE_AT_A_TIME_HARD PERL_MALLOC_WRAP
                        PERL_NEW_COPY_ON_WRITE PERL_PRESERVE_IVUV
                        PERL_USE_DEVEL USE_64_BIT_ALL USE_64_BIT_INT
                        USE_LARGE_FILES USE_LOCALE USE_LOCALE_COLLATE
                        USE_LOCALE_CTYPE USE_LOCALE_NUMERIC USE_PERLIO
                        USE_PERL_ATOF
  Built under linux
  Compiled at Apr 22 2014 15:32:38
  %ENV:
    PERLBREW_BASHRC_VERSION="0.67"
    PERLBREW_HOME="/home/kent/.perlbrew"
    PERLBREW_MANPATH="/home/kent/perl5/perlbrew/perls/perl-5.19.11/man"
    PERLBREW_PATH="/home/kent/perl5/perlbrew/bin:/home/kent/perl5/perlbrew/perls/perl-5.19.11/bin"
    PERLBREW_PERL="perl-5.19.11"
    PERLBREW_ROOT="/home/kent/perl5/perlbrew"
    PERLBREW_VERSION="0.67"
    PERL_CPANM_OPT=" --prompt --reinstall --interactive --with-recommends --with-suggests --with-develop --verify"
  @INC:
    /home/kent/perl5/perlbrew/perls/perl-5.19.11/lib/site_perl/5.19.11/x86_64-linux
    /home/kent/perl5/perlbrew/perls/perl-5.19.11/lib/site_perl/5.19.11
    /home/kent/perl5/perlbrew/perls/perl-5.19.11/lib/5.19.11/x86_64-linux
    /home/kent/perl5/perlbrew/perls/perl-5.19.11/lib/5.19.11
    .