Report for Jedi-Plugin-Session-0.05

Back
From: metabase:user:314402c4-2aae-11df-837a-5e0a49663a4f
Subject: PASS Jedi-Plugin-Session-0.05 v5.24.2 RC1 GNU/Linux
Date: 2017-07-10T06:59:40Z

This distribution has been tested as part of the CPAN Testers
project, supporting the Perl programming language.  See
http://wiki.cpantesters.org/ for more information or email
questions to cpan-testers-discuss@perl.org


--
Dear celogeek,

This is a computer-generated report for Jedi-Plugin-Session-0.05
on perl 5.24.2, created by CPAN-Reporter-1.2018.

Thank you for uploading your work to CPAN.  Congratulations!
All tests were successful.

Sections of this report:

    * Tester comments
    * Program output
    * Prerequisites
    * Environment and other context

------------------------------
TESTER COMMENTS
------------------------------

Additional comments from tester:

none provided

------------------------------
PROGRAM OUTPUT
------------------------------

Output from './Build test':

t/00-compile.t ........... ok
# Testing with Perl 5.024002, /bbbike/perl-5.24.2-RC1/bin/perl
#     B::Hooks::EndOfScope version is 0.21
#     CGI::Cookie version is 4.36
#     Cache::LRU::WithExpires version is 0.03
#     Carp version is 1.38
#     DBIx::Class::Core version is undefined
#     DBIx::Class::Migration version is 0.058
#     DBIx::Class::Schema version is undefined
#     Digest::SHA1 version is 2.13
#     File::ShareDir version is 1.104
#     File::Spec version is 3.62
#     HTTP::Request::Common version is 6.13
#     IO::Handle version is 1.36
#     IPC::Open3 version is 1.20
#     Import::Into version is 1.002005
#     Jedi version is 1.008
#     Jedi::App version is 1.008
#     Module::Build version is 0.4224
#     Module::Runtime version is 0.014
#     Moo version is 2.003002
#     Moo::Role version is 2.003002
#     Path::Class version is 0.37
#     Plack::Test version is undefined
#     Redis version is 1.991
#     Scalar::Util version is 1.48
#     Sereal version is 3.015
#     Test::File::ShareDir version is 1.001002
#     Test::More version is 1.302086
#     Test::Most version is 0.35
#     Time::Duration::Parse version is 0.13
#     base version is 2.23
#     strict version is 1.11
#     warnings version is 1.36
t/000-report-versions.t .. ok
t/author-critic.t ........ skipped: these tests are for testing by the author
t/release-kwalitee.t ..... skipped: these tests are for release candidate testing
t/release-unused-vars.t .. skipped: these tests are for release candidate testing
# Expiration t::lib::session : Waiting 3 s ...
# Expiration t::lib::session_redis : Waiting 3 s ...
[DBICDH] [warn] no need to run upgrade
[DBICDH] [warn] no need to run upgrade
# Expiration t::lib::session_sqlite : Waiting 3 s ...
t/session.t .............. ok
All tests successful.
Files=6, Tests=90, 17 wallclock secs ( 0.02 usr  0.04 sys +  2.27 cusr  1.33 csys =  3.66 CPU)
Result: PASS

------------------------------
PREREQUISITES
------------------------------

Prerequisite modules loaded:

requires:

    Module                  Need   Have    
    ----------------------- ------ --------
    B::Hooks::EndOfScope    0      0.21    
    base                    0      2.23    
    Cache::LRU::WithExpires 0      0.03    
    Carp                    0      1.38    
    CGI::Cookie             0      4.36    
    DBIx::Class::Core       0      0       
    DBIx::Class::Migration  0      0.058   
    DBIx::Class::Schema     0      0       
    Digest::SHA1            0      2.13    
    File::ShareDir          1.00   1.104   
    Import::Into            0      1.002005
    Jedi                    1.002  1.008   
    Module::Runtime         0      0.014   
    Moo                     0      2.003002
    Moo::Role               0      2.003002
    Path::Class             0.33   0.37    
    perl                    5.010  5.024002
    Redis                   0      1.991   
    Sereal                  0      3.015   
    strict                  0      1.11    
    Time::Duration::Parse   0      0.13    
    warnings                0      1.36    

build_requires:

    Module                  Need   Have    
    ----------------------- ------ --------
    File::Spec              0      3.62    
    HTTP::Request::Common   0      6.13    
    IO::Handle              0      1.36    
    IPC::Open3              0      1.20    
    Jedi                    1.002  1.008   
    Jedi::App               0      1.008   
    Module::Build           0.3601 0.4224  
    Path::Class             0.33   0.37    
    perl                    5.010  5.024002
    Plack::Test             0      0       
    Scalar::Util            0      1.48    
    Test::File::ShareDir    0      1.001002
    Test::More              0.94   1.302086
    Test::Most              0      0.35    

configure_requires:

    Module                  Need   Have    
    ----------------------- ------ --------
    Module::Build           0.3601 0.4224  


------------------------------
ENVIRONMENT AND OTHER CONTEXT
------------------------------

Environment variables:

    LANG = C
    LC_ALL = de_DE.UTF-8
    PATH = /usr/local/bin:/usr/bin:/bin:/usr/local/sbin:/usr/sbin:/sbin:/home/cpansand/bin/linux-gnu:/home/cpansand/bin/sh:/home/cpansand/bin:/usr/games:/home/cpansand/devel:/home/eserte/src/srezic-misc/scripts
    PERL5LIB = 
    PERL5OPT = 
    PERL5_CPANPLUS_IS_RUNNING = 8308
    PERL5_CPAN_IS_RUNNING = 8308
    PERL5_CPAN_IS_RUNNING_IN_RECURSION = 26237,8308
    PERLDOC = -MPod::Perldoc::ToTextOverstrike
    PERL_BATCH = yes
    PERL_CANARY_STABILITY_NOPROMPT = 1
    PERL_CPAN_REPORTER_CONFIG = /var/tmp/cpansmoker-1023/2017070912/cpanreporter_003_config.ini
    PERL_EXTUTILS_AUTOINSTALL = --defaultdeps
    PERL_PARALLEL_SMOKER = yes
    PERL_USE_UNSAFE_INC = 1
    SHELL = /bin/zsh
    TERM = screen
    TMPDIR = /var/tmp/cpansmoker-1023/2017070912

Perl special variables (and OS-specific diagnostics, for MSWin32):

    $^X = /bbbike/perl-5.24.2-RC1/bin/perl
    $UID/$EUID = 1023 / 1023
    $GID = 1023 1023
    $EGID = 1023 1023

Perl module toolchain versions installed:

    Module              Have    
    ------------------- --------
    CPAN                2.11_01 
    CPAN::Meta          2.150010
    Cwd                 3.62    
    ExtUtils::CBuilder  0.280224
    ExtUtils::Command   7.30    
    ExtUtils::Install   2.14    
    ExtUtils::MakeMaker 7.30    
    ExtUtils::Manifest  1.70    
    ExtUtils::ParseXS   3.30    
    File::Spec          3.62    
    JSON                2.94    
    JSON::PP            2.94    
    Module::Build       0.4224  
    Module::Signature   0.81    
    Parse::CPAN::Meta   2.150010
    Test::Harness       3.39    
    Test::More          1.302086
    YAML                1.23    
    YAML::Syck          1.30    
    version             0.9918  


--

Summary of my perl5 (revision 5 version 24 subversion 2) configuration:
   
  Platform:
    osname=linux, osvers=3.16.0-4-amd64, archname=x86_64-linux
    uname='linux eserte 3.16.0-4-amd64 #1 smp debian 3.16.43-2+deb8u2 (2017-06-26) x86_64 gnulinux '
    config_args='-ds -e -Dprefix=/opt/perl-5.24.2-RC1 -Dcf_email=srezic@cpan.org'
    hint=recommended, useposix=true, d_sigaction=define
    useithreads=undef, usemultiplicity=undef
    use64bitint=define, use64bitall=define, uselongdouble=undef
    usemymalloc=n, bincompat5005=undef
  Compiler:
    cc='cc', ccflags ='-fwrapv -fno-strict-aliasing -pipe -fstack-protector-strong -I/usr/local/include -D_LARGEFILE_SOURCE -D_FILE_OFFSET_BITS=64 -D_FORTIFY_SOURCE=2',
    optimize='-O2',
    cppflags='-fwrapv -fno-strict-aliasing -pipe -fstack-protector-strong -I/usr/local/include'
    ccversion='', gccversion='4.9.2', gccosandvers=''
    intsize=4, longsize=8, ptrsize=8, doublesize=8, byteorder=12345678, doublekind=3
    d_longlong=define, longlongsize=8, d_longdbl=define, longdblsize=16, longdblkind=3
    ivtype='long', ivsize=8, nvtype='double', nvsize=8, Off_t='off_t', lseeksize=8
    alignbytes=8, prototype=define
  Linker and Libraries:
    ld='cc', ldflags =' -fstack-protector-strong -L/usr/local/lib'
    libpth=/usr/local/lib /usr/lib/gcc/x86_64-linux-gnu/4.9/include-fixed /usr/include/x86_64-linux-gnu /usr/lib /lib/x86_64-linux-gnu /lib/../lib /usr/lib/x86_64-linux-gnu /usr/lib/../lib /lib
    libs=-lpthread -lnsl -lgdbm -ldb -ldl -lm -lcrypt -lutil -lc -lgdbm_compat
    perllibs=-lpthread -lnsl -ldl -lm -lcrypt -lutil -lc
    libc=libc-2.19.so, so=so, useshrplib=false, libperl=libperl.a
    gnulibc_version='2.19'
  Dynamic Linking:
    dlsrc=dl_dlopen.xs, dlext=so, d_dlsymun=undef, ccdlflags='-Wl,-E'
    cccdlflags='-fPIC', lddlflags='-shared -O2 -L/usr/local/lib -fstack-protector-strong'


Characteristics of this binary (from libperl): 
  Compile-time options: HAS_TIMES PERLIO_LAYERS PERL_COPY_ON_WRITE
                        PERL_DONT_CREATE_GVSV
                        PERL_HASH_FUNC_ONE_AT_A_TIME_HARD PERL_MALLOC_WRAP
                        PERL_PRESERVE_IVUV USE_64_BIT_ALL USE_64_BIT_INT
                        USE_LARGE_FILES USE_LOCALE USE_LOCALE_COLLATE
                        USE_LOCALE_CTYPE USE_LOCALE_NUMERIC USE_LOCALE_TIME
                        USE_PERLIO USE_PERL_ATOF
  Locally applied patches:
	RC1
  Built under linux
  Compiled at Jul  2 2017 10:52:50
  %ENV:
    PERL5LIB=""
    PERL5OPT=""
    PERL5_CPANPLUS_IS_RUNNING="8308"
    PERL5_CPAN_IS_RUNNING="8308"
    PERL5_CPAN_IS_RUNNING_IN_RECURSION="26237,8308"
    PERLDOC="-MPod::Perldoc::ToTextOverstrike"
    PERL_BATCH="yes"
    PERL_CANARY_STABILITY_NOPROMPT="1"
    PERL_CPAN_REPORTER_CONFIG="/var/tmp/cpansmoker-1023/2017070912/cpanreporter_003_config.ini"
    PERL_EXTUTILS_AUTOINSTALL="--defaultdeps"
    PERL_PARALLEL_SMOKER="yes"
    PERL_USE_UNSAFE_INC="1"
  @INC:
    /opt/perl-5.24.2-RC1/lib/site_perl/5.24.2/x86_64-linux
    /opt/perl-5.24.2-RC1/lib/site_perl/5.24.2
    /opt/perl-5.24.2-RC1/lib/5.24.2/x86_64-linux
    /opt/perl-5.24.2-RC1/lib/5.24.2
    .