LINE-Bot-API v1.17 Perl 5 v5.22.1 MSWin32-x86-multi-thread-64int
- Status
- Pass
- From
- Alexandr Ciornii (CHORNY)
- Dist
-
LINE-Bot-API v1.17
- Platform
- Perl 5 v5.22.1 MSWin32-x86-multi-thread-64int
- Date
- 2020-07-01 21:16:22
- ID
- 582f1f43-6bfc-1014-8b3d-3e09e91101e6
This distribution has been tested as part of the CPAN Testers
project, supporting the Perl programming language. See
http://wiki.cpantesters.org/ for more information or email
questions to cpan-testers-discuss@perl.org
--
Dear Ned Hoy[?] [?] [?],
This is a computer-generated report for LINE-Bot-API-1.17
on perl 5.22.1, created by CPAN-Reporter-1.2018_01.
Thank you for uploading your work to CPAN. Congratulations!
All tests were successful.
Sections of this report:
* Tester comments
* Program output
* Prerequisites
* Environment and other context
------------------------------
TESTER COMMENTS
------------------------------
Additional comments from tester:
this report is from an automated smoke testing program
and was not reviewed by a human for accuracy
------------------------------
PROGRAM OUTPUT
------------------------------
Output from 'C:\STRAWB~1\c\bin\dmake.exe test':
"C:\Strawberry221\perl\bin\perl.exe" "-MExtUtils::Command::MM" "-MTest::Harness" "-e" "undef *Test::Harness::Switches; test_harness(0, 'blib\lib', 'blib\arch')" t/*.t
t/00_compile.t ........................................... ok
t/00_send_message_response.t ............................. ok
t/01_send_text-with-emoji.t .............................. ok
t/01_send_text.t ......................................... ok
t/02_send_image.t ........................................ ok
t/03_send_video.t ........................................ ok
t/04_send_audio.t ........................................ ok
t/05_send_location.t ..................................... ok
t/06_send_sticker.t ...................................... ok
t/07_send_imagemap.t ..................................... ok
t/08_send_template.t ..................................... ok
t/11_send_multiple.t ..................................... ok
t/12_get_number_of_send_messages.t ....................... ok
t/12_multicast.t ......................................... ok
t/13_broadcast.t ......................................... ok
t/14_get_friend_demographics.t ........................... ok
t/14_get_number_of_message_deliveries.t .................. ok
t/14_get_number_of_messages_sent_this_month.t ............ ok
t/14_get_user_interaction_statistics.t ................... ok
t/15_get_target_limit_for_additional_messages.t .......... ok
t/16_create_audience_for_click_based_retargeting.t ....... ok
t/16_create_audience_for_impression_based_retargeting.t .. ok
t/16_create_audience_for_uploading.t ..................... ok
t/16_delete_audience.t ................................... ok
t/16_get_audience_data.t ................................. ok
t/16_get_authority_level.t ............................... ok
t/16_get_data_for_multiple_audience.t .................... ok
t/16_rename_audience.t ................................... ok
t/16_update_authority_level.t ............................ ok
t/17_get_narrowcast_message_status.t ..................... ok
t/17_send_message.t ...................................... ok
t/21_get_profile.t ....................................... ok
t/22_get_group_member_profile.t .......................... ok
t/22_get_room_member_profile.t ........................... ok
t/41_event.t ............................................. ok
t/42_create_events_by_api.t .............................. ok
t/51_issue_link_token.t .................................. ok
t/52_download_rich_menu_image.t .......................... ok
t/52_rich_menu.t ......................................... ok
t/52_rich_menu_response.t ................................ ok
t/52_upload_rich_menu_image.t ............................ ok
t/author-critic.t ........................................ skipped: these tests are for testing by the author
t/author-pod-syntax.t .................................... skipped: these tests are for testing by the author
t/oauth.t ................................................ ok
# You named your test '0'. You shouldn't use numbers for your test names.
# Very confusing.
t/PR75-get-number-of-followers.t ......................... ok
t/types-validate-examples.t .............................. ok
All tests successful.
Files=46, Tests=551, 20 wallclock secs ( 0.31 usr + 0.15 sys = 0.46 CPU)
Result: PASS
------------------------------
PREREQUISITES
------------------------------
Prerequisite modules loaded:
requires:
Module Need Have
------------------- -------- --------
Digest::SHA 0 5.95
Furl 0 3.13
IO::Socket::SSL 0 2.024
JSON::XS 0 3.02
MIME::Base64 0 3.15
parent 0 0.234
perl 5.014000 5.022001
Type::Tiny 1.004000 1.010002
URI 0 1.71
URI::QueryParam 0 1.71
build_requires:
Module Need Have
------------------- -------- --------
ExtUtils::MakeMaker 0 7.10
Test::More 0 1.001014
configure_requires:
Module Need Have
------------------- -------- --------
ExtUtils::MakeMaker 0 7.10
------------------------------
ENVIRONMENT AND OTHER CONTEXT
------------------------------
Environment variables:
AUTOMATED_TESTING = 1
COMSPEC = C:\WINDOWS\system32\cmd.exe
NUMBER_OF_PROCESSORS = 1
PATH = C:\WINDOWS\system32;C:\WINDOWS;C:\WINDOWS\System32\Wbem;C:\Strawberry221\c\bin;C:\Strawberry221\perl\site\bin;C:\Strawberry221\perl\bin;C:\Git\cmd
PERL5LIB = C:\STRAWB~1\cpan\build\Furl-3.13-4hszj2/blib/arch;C:\STRAWB~1\cpan\build\Furl-3.13-4hszj2/blib/lib;C:\STRAWB~1\cpan\build\HTTP-Parser-XS-0.17-Bl_h_C/blib/arch;C:\STRAWB~1\cpan\build\HTTP-Parser-XS-0.17-Bl_h_C/blib/lib;C:\STRAWB~1\cpan\build\Type-Tiny-1.010002-pj70IK/blib/arch;C:\STRAWB~1\cpan\build\Type-Tiny-1.010002-pj70IK/blib/lib;C:\STRAWB~1\cpan\build\Exporter-Tiny-1.002002-iTYpiv/blib/arch;C:\STRAWB~1\cpan\build\Exporter-Tiny-1.002002-iTYpiv/blib/lib
PERL5OPT =
PERL5_CPANPLUS_IS_RUNNING = 112
PERL5_CPAN_IS_RUNNING = 112
PERL5_CPAN_IS_RUNNING_IN_RECURSION = 156,112
PERL_CR_SMOKER_CURRENT = LINE-Bot-API-1.17
PERL_CR_SMOKER_RUNONCE = 1
PERL_EXTUTILS_AUTOINSTALL = --defaultdeps
PERL_HASH_SEED = 0x11111111
PERL_MM_USE_DEFAULT = 1
PROCESSOR_IDENTIFIER = x86 Family 16 Model 5 Stepping 3, AuthenticAMD
TEMP = C:\DOCUME~1\c\LOCALS~1\Temp
Perl special variables (and OS-specific diagnostics, for MSWin32):
$^X = C:\Strawberry221\perl\bin\perl.exe
$UID/$EUID = 0 / 0
$GID = 0
$EGID = 0
Win32::GetOSName = WinXP/.Net
Win32::GetOSVersion = Service Pack 3, 5, 1, 2600, 2, 3, 0, 256, 1
Win32::FsType = NTFS
Win32::IsAdminUser = 1
Perl module toolchain versions installed:
Module Have
------------------- --------
CPAN 2.11
CPAN::Meta 2.150005
Cwd 3.62
ExtUtils::CBuilder 0.280224
ExtUtils::Command 7.10
ExtUtils::Install 2.04
ExtUtils::MakeMaker 7.10
ExtUtils::Manifest 1.70
ExtUtils::ParseXS 3.30
File::Spec 3.62
JSON 2.90
JSON::PP 2.27300
Module::Build 0.4216
Module::Signature 0.79
Parse::CPAN::Meta 1.4417
Test::Harness 3.36
Test::More 1.001014
YAML 1.15
YAML::Syck 1.29
version 0.9916
--
Summary of my perl5 (revision 5 version 22 subversion 1) configuration:
Platform:
osname=MSWin32, osvers=4.0, archname=MSWin32-x86-multi-thread-64int
uname='Win32 strawberry-perl 5.22.1.4 #1 Sat Mar 26 14:08:02 2016 i386'
config_args='undef'
hint=recommended, useposix=true, d_sigaction=undef
useithreads=define, usemultiplicity=define
use64bitint=define, use64bitall=undef, uselongdouble=undef
usemymalloc=n, bincompat5005=undef
Compiler:
cc='gcc', ccflags =' -s -O2 -DWIN32 -DPERL_TEXTMODE_SCRIPTS -DPERL_IMPLICIT_CONTEXT -DPERL_IMPLICIT_SYS -fwrapv -fno-strict-aliasing -mms-bitfields',
optimize='-s -O2',
cppflags='-DWIN32'
ccversion='', gccversion='4.9.2', gccosandvers=''
intsize=4, longsize=4, ptrsize=4, doublesize=8, byteorder=12345678, doublekind=3
d_longlong=define, longlongsize=8, d_longdbl=define, longdblsize=12, longdblkind=3
ivtype='long long', ivsize=8, nvtype='double', nvsize=8, Off_t='long long', lseeksize=8
alignbytes=8, prototype=define
Linker and Libraries:
ld='g++', ldflags ='-s -L"C:\STRAWB~1\perl\lib\CORE" -L"C:\STRAWB~1\c\lib"'
libpth=C:\STRAWB~1\c\lib C:\STRAWB~1\c\i686-w64-mingw32\lib C:\STRAWB~1\c\lib\gcc\i686-w64-mingw32\4.9.2
libs=-lmoldname -lkernel32 -luser32 -lgdi32 -lwinspool -lcomdlg32 -ladvapi32 -lshell32 -lole32 -loleaut32 -lnetapi32 -luuid -lws2_32 -lmpr -lwinmm -lversion -lodbc32 -lodbccp32 -lcomctl32
perllibs=-lmoldname -lkernel32 -luser32 -lgdi32 -lwinspool -lcomdlg32 -ladvapi32 -lshell32 -lole32 -loleaut32 -lnetapi32 -luuid -lws2_32 -lmpr -lwinmm -lversion -lodbc32 -lodbccp32 -lcomctl32
libc=, so=dll, useshrplib=true, libperl=libperl522.a
gnulibc_version=''
Dynamic Linking:
dlsrc=dl_win32.xs, dlext=xs.dll, d_dlsymun=undef, ccdlflags=' '
cccdlflags=' ', lddlflags='-mdll -s -L"C:\STRAWB~1\perl\lib\CORE" -L"C:\STRAWB~1\c\lib"'
Characteristics of this binary (from libperl):
Compile-time options: HAS_TIMES HAVE_INTERP_INTERN MULTIPLICITY
PERLIO_LAYERS PERL_DONT_CREATE_GVSV
PERL_HASH_FUNC_ONE_AT_A_TIME_HARD
PERL_IMPLICIT_CONTEXT PERL_IMPLICIT_SYS
PERL_MALLOC_WRAP PERL_NEW_COPY_ON_WRITE
PERL_PRESERVE_IVUV USE_64_BIT_INT USE_ITHREADS
USE_LARGE_FILES USE_LOCALE USE_LOCALE_COLLATE
USE_LOCALE_CTYPE USE_LOCALE_NUMERIC USE_LOCALE_TIME
USE_PERLIO USE_PERL_ATOF
Built under MSWin32
Compiled at Mar 26 2016 14:12:26
%ENV:
PERL5LIB="C:\STRAWB~1\cpan\build\Furl-3.13-4hszj2/blib/arch;C:\STRAWB~1\cpan\build\Furl-3.13-4hszj2/blib/lib;C:\STRAWB~1\cpan\build\HTTP-Parser-XS-0.17-Bl_h_C/blib/arch;C:\STRAWB~1\cpan\build\HTTP-Parser-XS-0.17-Bl_h_C/blib/lib;C:\STRAWB~1\cpan\build\Type-Tiny-1.010002-pj70IK/blib/arch;C:\STRAWB~1\cpan\build\Type-Tiny-1.010002-pj70IK/blib/lib;C:\STRAWB~1\cpan\build\Exporter-Tiny-1.002002-iTYpiv/blib/arch;C:\STRAWB~1\cpan\build\Exporter-Tiny-1.002002-iTYpiv/blib/lib"
PERL5_CPANPLUS_IS_RUNNING="112"
PERL5_CPAN_IS_RUNNING="112"
PERL5_CPAN_IS_RUNNING_IN_RECURSION="156,112"
PERL_CR_SMOKER_CURRENT="LINE-Bot-API-1.17"
PERL_CR_SMOKER_RUNONCE="1"
PERL_EXTUTILS_AUTOINSTALL="--defaultdeps"
PERL_HASH_SEED="0x11111111"
PERL_MM_USE_DEFAULT="1"
@INC:
C:\STRAWB~1\cpan\build\Furl-3.13-4hszj2/blib/arch
C:\STRAWB~1\cpan\build\Furl-3.13-4hszj2/blib/lib
C:\STRAWB~1\cpan\build\HTTP-Parser-XS-0.17-Bl_h_C/blib/arch
C:\STRAWB~1\cpan\build\HTTP-Parser-XS-0.17-Bl_h_C/blib/lib
C:\STRAWB~1\cpan\build\Type-Tiny-1.010002-pj70IK/blib/arch
C:\STRAWB~1\cpan\build\Type-Tiny-1.010002-pj70IK/blib/lib
C:\STRAWB~1\cpan\build\Exporter-Tiny-1.002002-iTYpiv/blib/arch
C:\STRAWB~1\cpan\build\Exporter-Tiny-1.002002-iTYpiv/blib/lib
C:/Strawberry221/perl/site/lib
C:/Strawberry221/perl/vendor/lib
C:/Strawberry221/perl/lib
.