Params-Validate-Array v0.03 Perl 5 v5.37.8 x86_64-linux-ld

Status
Pass
From
Andreas J. König (ANDK)
Dist
Params-Validate-Array v0.03
Platform
Perl 5 v5.37.8 x86_64-linux-ld
Date
2023-02-16 16:02:42
ID
58200e5a-ae13-11ed-bb5d-b851e4103958
This distribution has been tested as part of the CPAN Testers
project, supporting the Perl programming language.  See
http://wiki.cpantesters.org/ for more information or email
questions to cpan-testers-discuss@perl.org


--
Dear Sam Brain,

This is a computer-generated report for Params-Validate-Array-0.03
on perl 5.37.8, created by CPAN-Reporter-1.2018.

Thank you for uploading your work to CPAN.  Congratulations!
All tests were successful.

Sections of this report:

    * Tester comments
    * Program output
    * Prerequisites
    * Environment and other context

------------------------------
TESTER COMMENTS
------------------------------

Additional comments from tester:

this report is from an automated smoke testing program
and was not reviewed by a human for accuracy

------------------------------
PROGRAM OUTPUT
------------------------------

Output from './Build test':

t/01-validate-array.t ........ ok
t/01-validate.t .............. ok
t/02-noop-array.t ............ ok
t/02-noop.t .................. ok
t/04-defaults-array.t ........ ok
t/04-defaults.t .............. ok
t/05-noop_default-array.t .... ok
t/05-noop_default.t .......... ok
t/06-options.t ............... ok
t/09-regex-array.t ........... ok
t/09-regex.t ................. ok
t/10-noop_regex-array.t ...... ok
t/10-noop_regex.t ............ ok
t/11-cb.t .................... ok
t/11-cb_array.t .............. ok
t/12-noop_cb-array.t ......... ok
t/12-noop_cb.t ............... ok
t/13-taint.t ................. ok
t/14-no_validate.t ........... ok
t/14-no_validate_array.t ..... ok
t/17-callbacks-array.t ....... ok
t/17-callbacks.t ............. ok
t/18-depends-array.t ......... ok
t/18-depends.t ............... ok
t/19-untaint.t ............... ok
t/21-can.t ................... ok
t/22-overload-can-bug.t ...... ok
t/23-readonly.t .............. skipped: Need Readonly::XS and Readonly for this test
t/24-tied.t .................. ok
t/25-undef-regex.t ........... ok
t/26-isa.t ................... ok
t/27-string-as-type.t ........ ok
t/28-readonly-return.t ....... ok
t/29-taint-mode.t ............ skipped: This test is flaky
t/30-hashref-alteration.t .... ok
t/31-incorrect-spelling.t .... skipped: Spec validation is disabled for now
t/32-regex-as-value.t ........ ok
t/33-keep-errsv.t ............ ok
t/34-recursive-validation.t .. ok
t/35-default-xs-bug.t ........ ok
All tests successful.

Test Summary Report
-------------------
t/34-recursive-validation.t (Wstat: 0 Tests: 1 Failed: 0)
  TODO passed:   1
Files=40, Tests=645,  4 wallclock secs ( 0.13 usr  0.06 sys +  2.50 cusr  0.57 csys =  3.26 CPU)
Result: PASS

------------------------------
PREREQUISITES
------------------------------

Prerequisite modules loaded:

requires:

    Module           Need Have    
    ---------------- ---- --------
    Carp             0    1.54    
    Params::Validate 1.07 1.31    
    Test::More       0    1.302192
    version          0    0.9929  

configure_requires:

    Module           Need Have    
    ---------------- ---- --------
    Module::Build    0.38 0.4232  


------------------------------
ENVIRONMENT AND OTHER CONTEXT
------------------------------

Environment variables:

    AUTOMATED_TESTING = 1
    LANG = en_US.UTF-8
    LC_ADDRESS = de_DE.UTF-8
    LC_IDENTIFICATION = de_DE.UTF-8
    LC_MEASUREMENT = de_DE.UTF-8
    LC_MONETARY = de_DE.UTF-8
    LC_NAME = de_DE.UTF-8
    LC_NUMERIC = de_DE.UTF-8
    LC_PAPER = de_DE.UTF-8
    LC_TELEPHONE = de_DE.UTF-8
    LC_TIME = de_DE.UTF-8
    PATH = /home/sand/bin:/usr/local/bin:/usr/local/sbin:/usr/sbin:/usr/bin:/sbin:/bin:/usr/games:/usr/local/games:/snap/bin:/usr/local/perl/bin:/usr/X11/bin
    PERL = /tmp/basesmoker-reloperl-tuzn/bin/perl
    PERL5LIB = /tmp/loop_over_bdir-4917-eQb8YO/Net-OpenVPN-DDNS-0.1-0/blib/arch:/tmp/loop_over_bdir-4917-eQb8YO/Net-OpenVPN-DDNS-0.1-0/blib/lib:/tmp/loop_over_bdir-4917-eQb8YO/makepp-1.19-0/blib/arch:/tmp/loop_over_bdir-4917-eQb8YO/makepp-1.19-0/blib/lib:/tmp/loop_over_bdir-4917-eQb8YO/Dpkg-1.21.19-0/blib/arch:/tmp/loop_over_bdir-4917-eQb8YO/Dpkg-1.21.19-0/blib/lib:/tmp/loop_over_bdir-4917-eQb8YO/DBIx-Migration-Directories-0.12-0/blib/arch:/tmp/loop_over_bdir-4917-eQb8YO/DBIx-Migration-Directories-0.12-0/blib/lib:/tmp/loop_over_bdir-4917-eQb8YO/perl-Hardware-UPS-Perl-0.43-0/blib/arch:/tmp/loop_over_bdir-4917-eQb8YO/perl-Hardware-UPS-Perl-0.43-0/blib/lib:/tmp/loop_over_bdir-4917-eQb8YO/Devel-Required-0.16-0/blib/arch:/tmp/loop_over_bdir-4917-eQb8YO/Devel-Required-0.16-0/blib/lib:/tmp/loop_over_bdir-4917-eQb8YO/RackMan-1.19-0/blib/arch:/tmp/loop_over_bdir-4917-eQb8YO/RackMan-1.19-0/blib/lib:/tmp/loop_over_bdir-4917-eQb8YO/dta-tokwrap-0.98-0/blib/arch:/tmp/loop_over_bdir-4917-eQb8YO/dta-tokwrap-0.98-0/blib/lib:/tmp/loop_over_bdir-4917-eQb8YO/CGI-Application-NetNewsIface-0.0204-0/blib/arch:/tmp/loop_over_bdir-4917-eQb8YO/CGI-Application-NetNewsIface-0.0204-0/blib/lib
    PERL5OPT = 
    PERL5_CPANPLUS_IS_RUNNING = 4990
    PERL5_CPAN_IS_RUNNING = 4990
    PERL_CANARY_STABILITY_NOPROMPT = 1
    PERL_MM_USE_DEFAULT = 1
    PERL_USE_UNSAFE_INC = 1
    SHELL = /usr/bin/zsh
    TERM = screen

Perl special variables (and OS-specific diagnostics, for MSWin32):

    $^X = /tmp/basesmoker-reloperl-tuzn/bin/perl
    $UID/$EUID = 1005 / 1005
    $GID = 1005 1005
    $EGID = 1005 1005

Perl module toolchain versions installed:

    Module              Have    
    ------------------- --------
    CPAN                2.34    
    CPAN::Meta          2.150010
    Cwd                 3.88    
    ExtUtils::CBuilder  0.280238
    ExtUtils::Command   7.66    
    ExtUtils::Install   2.22    
    ExtUtils::MakeMaker 7.66    
    ExtUtils::Manifest  1.73    
    ExtUtils::ParseXS   3.49    
    File::Spec          3.88    
    JSON                4.10    
    JSON::PP            4.16    
    Module::Build       0.4232  
    Module::Signature   0.88    
    Parse::CPAN::Meta   2.150010
    Test::Harness       3.44    
    Test::More          1.302192
    YAML                1.30    
    YAML::Syck          1.34    
    version             0.9929  


--

Summary of my perl5 (revision 5 version 37 subversion 8) configuration:
  Commit id: aaff26e0f2e98dc425f7514531d35dfec6948f6d
  Platform:
    osname=linux
    osvers=5.15.0-58-generic
    archname=x86_64-linux-ld
    uname='linux k93jammy 5.15.0-58-generic #64-ubuntu smp thu jan 5 11:43:13 utc 2023 x86_64 x86_64 x86_64 gnulinux '
    config_args='-Dprefix=/home/sand/src/perl/repoperls/installed-perls/host/k93jammy/v5.37.8/5674 -Dmyhostname=k93jammy -Dinstallusrbinperl=n -Uversiononly -Dusedevel -des -Ui_db -Dlibswanted=cl pthread socket inet nsl gdbm dbm malloc dl ld sun m crypt sec util c cposix posix ucb BSD gdbm_compat -Uuseithreads -Duselongdouble -DEBUGGING=-g'
    hint=recommended
    useposix=true
    d_sigaction=define
    useithreads=undef
    usemultiplicity=undef
    use64bitint=define
    use64bitall=define
    uselongdouble=define
    usemymalloc=n
    default_inc_excludes_dot=define
  Compiler:
    cc='cc'
    ccflags ='-fwrapv -fno-strict-aliasing -pipe -fstack-protector-strong -I/usr/local/include -D_LARGEFILE_SOURCE -D_FILE_OFFSET_BITS=64'
    optimize='-O2 -g'
    cppflags='-fwrapv -fno-strict-aliasing -pipe -fstack-protector-strong -I/usr/local/include'
    ccversion=''
    gccversion='11.3.0'
    gccosandvers=''
    intsize=4
    longsize=8
    ptrsize=8
    doublesize=8
    byteorder=12345678
    doublekind=3
    d_longlong=define
    longlongsize=8
    d_longdbl=define
    longdblsize=16
    longdblkind=3
    ivtype='long'
    ivsize=8
    nvtype='long double'
    nvsize=16
    Off_t='off_t'
    lseeksize=8
    alignbytes=16
    prototype=define
  Linker and Libraries:
    ld='cc'
    ldflags =' -fstack-protector-strong -L/usr/local/lib'
    libpth=/usr/local/lib /usr/lib/x86_64-linux-gnu /usr/lib /usr/lib64
    libs=-lpthread -lnsl -ldl -lm -lcrypt -lutil -lc
    perllibs=-lpthread -lnsl -ldl -lm -lcrypt -lutil -lc
    libc=/lib/x86_64-linux-gnu/libc.so.6
    so=so
    useshrplib=false
    libperl=libperl.a
    gnulibc_version='2.35'
  Dynamic Linking:
    dlsrc=dl_dlopen.xs
    dlext=so
    d_dlsymun=undef
    ccdlflags='-Wl,-E'
    cccdlflags='-fPIC'
    lddlflags='-shared -O2 -g -L/usr/local/lib -fstack-protector-strong'


Characteristics of this binary (from libperl): 
  Compile-time options:
    HAS_TIMES
    PERLIO_LAYERS
    PERL_COPY_ON_WRITE
    PERL_DONT_CREATE_GVSV
    PERL_HASH_FUNC_SIPHASH13
    PERL_HASH_USE_SBOX32
    PERL_MALLOC_WRAP
    PERL_OP_PARENT
    PERL_PRESERVE_IVUV
    PERL_USE_DEVEL
    PERL_USE_SAFE_PUTENV
    USE_64_BIT_ALL
    USE_64_BIT_INT
    USE_LARGE_FILES
    USE_LOCALE
    USE_LOCALE_COLLATE
    USE_LOCALE_CTYPE
    USE_LOCALE_NUMERIC
    USE_LOCALE_TIME
    USE_LONG_DOUBLE
    USE_PERLIO
    USE_PERL_ATOF
  Built under linux
  Compiled at Feb 13 2023 12:16:14
  %ENV:
    PERL="/tmp/basesmoker-reloperl-tuzn/bin/perl"
    PERL5LIB="/tmp/loop_over_bdir-4917-eQb8YO/Net-OpenVPN-DDNS-0.1-0/blib/arch:/tmp/loop_over_bdir-4917-eQb8YO/Net-OpenVPN-DDNS-0.1-0/blib/lib:/tmp/loop_over_bdir-4917-eQb8YO/makepp-1.19-0/blib/arch:/tmp/loop_over_bdir-4917-eQb8YO/makepp-1.19-0/blib/lib:/tmp/loop_over_bdir-4917-eQb8YO/Dpkg-1.21.19-0/blib/arch:/tmp/loop_over_bdir-4917-eQb8YO/Dpkg-1.21.19-0/blib/lib:/tmp/loop_over_bdir-4917-eQb8YO/DBIx-Migration-Directories-0.12-0/blib/arch:/tmp/loop_over_bdir-4917-eQb8YO/DBIx-Migration-Directories-0.12-0/blib/lib:/tmp/loop_over_bdir-4917-eQb8YO/perl-Hardware-UPS-Perl-0.43-0/blib/arch:/tmp/loop_over_bdir-4917-eQb8YO/perl-Hardware-UPS-Perl-0.43-0/blib/lib:/tmp/loop_over_bdir-4917-eQb8YO/Devel-Required-0.16-0/blib/arch:/tmp/loop_over_bdir-4917-eQb8YO/Devel-Required-0.16-0/blib/lib:/tmp/loop_over_bdir-4917-eQb8YO/RackMan-1.19-0/blib/arch:/tmp/loop_over_bdir-4917-eQb8YO/RackMan-1.19-0/blib/lib:/tmp/loop_over_bdir-4917-eQb8YO/dta-tokwrap-0.98-0/blib/arch:/tmp/loop_over_bdir-4917-eQb8YO/dta-tokwrap-0.98-0/blib/lib:/tmp/loop_over_bdir-4917-eQb8YO/CGI-Application-NetNewsIface-0.0204-0/blib/arch:/tmp/loop_over_bdir-4917-eQb8YO/CGI-Application-NetNewsIface-0.0204-0/blib/lib"
    PERL5OPT=""
    PERL5_CPANPLUS_IS_RUNNING="4990"
    PERL5_CPAN_IS_RUNNING="4990"
    PERL_CANARY_STABILITY_NOPROMPT="1"
    PERL_MM_USE_DEFAULT="1"
    PERL_USE_UNSAFE_INC="1"
  @INC:
    /tmp/loop_over_bdir-4917-eQb8YO/Net-OpenVPN-DDNS-0.1-0/blib/arch
    /tmp/loop_over_bdir-4917-eQb8YO/Net-OpenVPN-DDNS-0.1-0/blib/lib
    /tmp/loop_over_bdir-4917-eQb8YO/makepp-1.19-0/blib/arch
    /tmp/loop_over_bdir-4917-eQb8YO/makepp-1.19-0/blib/lib
    /tmp/loop_over_bdir-4917-eQb8YO/Dpkg-1.21.19-0/blib/arch
    /tmp/loop_over_bdir-4917-eQb8YO/Dpkg-1.21.19-0/blib/lib
    /tmp/loop_over_bdir-4917-eQb8YO/DBIx-Migration-Directories-0.12-0/blib/arch
    /tmp/loop_over_bdir-4917-eQb8YO/DBIx-Migration-Directories-0.12-0/blib/lib
    /tmp/loop_over_bdir-4917-eQb8YO/perl-Hardware-UPS-Perl-0.43-0/blib/arch
    /tmp/loop_over_bdir-4917-eQb8YO/perl-Hardware-UPS-Perl-0.43-0/blib/lib
    /tmp/loop_over_bdir-4917-eQb8YO/Devel-Required-0.16-0/blib/arch
    /tmp/loop_over_bdir-4917-eQb8YO/Devel-Required-0.16-0/blib/lib
    /tmp/loop_over_bdir-4917-eQb8YO/RackMan-1.19-0/blib/arch
    /tmp/loop_over_bdir-4917-eQb8YO/RackMan-1.19-0/blib/lib
    /tmp/loop_over_bdir-4917-eQb8YO/dta-tokwrap-0.98-0/blib/arch
    /tmp/loop_over_bdir-4917-eQb8YO/dta-tokwrap-0.98-0/blib/lib
    /tmp/loop_over_bdir-4917-eQb8YO/CGI-Application-NetNewsIface-0.0204-0/blib/arch
    /tmp/loop_over_bdir-4917-eQb8YO/CGI-Application-NetNewsIface-0.0204-0/blib/lib
    /home/sand/src/perl/repoperls/installed-perls/host/k93jammy/v5.37.8/5674/lib/site_perl/5.37.8/x86_64-linux-ld
    /home/sand/src/perl/repoperls/installed-perls/host/k93jammy/v5.37.8/5674/lib/site_perl/5.37.8
    /home/sand/src/perl/repoperls/installed-perls/host/k93jammy/v5.37.8/5674/lib/5.37.8/x86_64-linux-ld
    /home/sand/src/perl/repoperls/installed-perls/host/k93jammy/v5.37.8/5674/lib/5.37.8
    .