Crypt-Perl v0.38 Perl 5 v5.34.1 amd64-freebsd-thread-multi

Status
Pass
From
Slaven Rezić
Dist
Crypt-Perl v0.38
Platform
Perl 5 v5.34.1 amd64-freebsd-thread-multi
Date
2023-08-21 01:02:04
ID
58014bcc-3fbe-11ee-b3db-a4066e8775ea
This distribution has been tested as part of the CPAN Testers
project, supporting the Perl programming language.  See
http://wiki.cpantesters.org/ for more information or email
questions to cpan-testers-discuss@perl.org


--
Dear Felipe Gasper,

This is a computer-generated report for Crypt-Perl-0.38
on perl 5.34.1, created by CPAN-Reporter-1.2018.

Thank you for uploading your work to CPAN.  Congratulations!
All tests were successful.

Sections of this report:

    * Tester comments
    * Program output
    * Prerequisites
    * Environment and other context

------------------------------
TESTER COMMENTS
------------------------------

Additional comments from tester:

none provided

------------------------------
PROGRAM OUTPUT
------------------------------

Output from '/usr/bin/make test':

PERL_DL_NONLAZY=1 "/usr/local/bin/perl" "-MExtUtils::Command::MM" "-MTest::Harness" "-e" "undef *Test::Harness::Switches; test_harness(0, 'blib/lib', 'blib/arch')" t/*.t
# Looking for OpenSSL binary …
# Found OpenSSL: /usr/bin/openssl
# OpenSSL 1.1.1v-freebsd  1 Aug 2023
# options:  bn(64,64) rc4(16x,int) des(int) idea(int) blowfish(ptr) 
# compiler: clang
t/Crypt-Perl-ASN1-BitString.t ..................... ok
# Math::BigInt 1.999818 (backend: Math::BigInt::LTM 0.078)
t/Crypt-Perl-BigInt.t ............................. ok
# Math::BigInt 1.999818 (backend: Math::BigInt::LTM 0.078)
# Math::BigInt::LTM 0.078
t/Crypt-Perl-ECDSA-Deterministic.t ................ ok
t/Crypt-Perl-ECDSA-EC-Point.t ..................... ok
# Looking for OpenSSL binary …
# Found OpenSSL: /usr/bin/openssl
# OpenSSL 1.1.1v-freebsd  1 Aug 2023
# options:  bn(64,64) rc4(16x,int) des(int) idea(int) blowfish(ptr) 
# compiler: clang
# Skipping “c2pnb163v1” (Crypt::Perl::X::ECDSA::NoCurveForOID) …
# Skipping “c2pnb163v2” (Crypt::Perl::X::ECDSA::NoCurveForOID) …
# Skipping “c2pnb163v3” (Crypt::Perl::X::ECDSA::NoCurveForOID) …
# Skipping “c2pnb176v1” (Crypt::Perl::X::ECDSA::NoCurveForOID) …
# Skipping “c2pnb208w1” (Crypt::Perl::X::ECDSA::NoCurveForOID) …
# Skipping “c2pnb272w1” (Crypt::Perl::X::ECDSA::NoCurveForOID) …
# Skipping “c2pnb304w1” (Crypt::Perl::X::ECDSA::NoCurveForOID) …
# Skipping “c2pnb368w1” (Crypt::Perl::X::ECDSA::NoCurveForOID) …
# Skipping “c2tnb191v1” (Crypt::Perl::X::ECDSA::NoCurveForOID) …
# Skipping “c2tnb191v2” (Crypt::Perl::X::ECDSA::NoCurveForOID) …
# Skipping “c2tnb191v3” (Crypt::Perl::X::ECDSA::NoCurveForOID) …
# Skipping “c2tnb239v1” (Crypt::Perl::X::ECDSA::NoCurveForOID) …
# Skipping “c2tnb239v2” (Crypt::Perl::X::ECDSA::NoCurveForOID) …
# Skipping “c2tnb239v3” (Crypt::Perl::X::ECDSA::NoCurveForOID) …
# Skipping “c2tnb359v1” (Crypt::Perl::X::ECDSA::NoCurveForOID) …
# Skipping “c2tnb431r1” (Crypt::Perl::X::ECDSA::NoCurveForOID) …
# Skipping “sect113r1” (Crypt::Perl::X::ECDSA::NoCurveForOID) …
# Skipping “sect113r2” (Crypt::Perl::X::ECDSA::NoCurveForOID) …
# Skipping “sect131r1” (Crypt::Perl::X::ECDSA::NoCurveForOID) …
# Skipping “sect131r2” (Crypt::Perl::X::ECDSA::NoCurveForOID) …
# Skipping “sect163k1” (Crypt::Perl::X::ECDSA::NoCurveForOID) …
# Skipping “sect163r1” (Crypt::Perl::X::ECDSA::NoCurveForOID) …
# Skipping “sect163r2” (Crypt::Perl::X::ECDSA::NoCurveForOID) …
# Skipping “sect193r1” (Crypt::Perl::X::ECDSA::NoCurveForOID) …
# Skipping “sect193r2” (Crypt::Perl::X::ECDSA::NoCurveForOID) …
# Skipping “sect233k1” (Crypt::Perl::X::ECDSA::NoCurveForOID) …
# Skipping “sect233r1” (Crypt::Perl::X::ECDSA::NoCurveForOID) …
# Skipping “sect239k1” (Crypt::Perl::X::ECDSA::NoCurveForOID) …
# Skipping “sect283k1” (Crypt::Perl::X::ECDSA::NoCurveForOID) …
# Skipping “sect283r1” (Crypt::Perl::X::ECDSA::NoCurveForOID) …
# Skipping “sect409k1” (Crypt::Perl::X::ECDSA::NoCurveForOID) …
# Skipping “sect409r1” (Crypt::Perl::X::ECDSA::NoCurveForOID) …
# Skipping “sect571k1” (Crypt::Perl::X::ECDSA::NoCurveForOID) …
# Skipping “sect571r1” (Crypt::Perl::X::ECDSA::NoCurveForOID) …
# Skipping “wap_wsg_idm_ecid_wtls1” (Crypt::Perl::X::ECDSA::NoCurveForOID) …
# Skipping “wap_wsg_idm_ecid_wtls10” (Crypt::Perl::X::ECDSA::NoCurveForOID) …
# Skipping “wap_wsg_idm_ecid_wtls11” (Crypt::Perl::X::ECDSA::NoCurveForOID) …
# Skipping “wap_wsg_idm_ecid_wtls3” (Crypt::Perl::X::ECDSA::NoCurveForOID) …
# Skipping “wap_wsg_idm_ecid_wtls4” (Crypt::Perl::X::ECDSA::NoCurveForOID) …
# Skipping “wap_wsg_idm_ecid_wtls5” (Crypt::Perl::X::ECDSA::NoCurveForOID) …
# Math::BigInt 1.999818 (backend: Math::BigInt::LTM 0.078)
# XXX NOTE: This test can take a while and/or spew a lot of text.
# Skipping “c2pnb163v1” (Crypt::Perl::X::ECDSA::NoCurveForOID) …
# Skipping “c2pnb163v2” (Crypt::Perl::X::ECDSA::NoCurveForOID) …
# Skipping “c2pnb163v3” (Crypt::Perl::X::ECDSA::NoCurveForOID) …
# Skipping “c2pnb176v1” (Crypt::Perl::X::ECDSA::NoCurveForOID) …
# Skipping “c2pnb208w1” (Crypt::Perl::X::ECDSA::NoCurveForOID) …
# Skipping “c2pnb272w1” (Crypt::Perl::X::ECDSA::NoCurveForOID) …
# Skipping “c2pnb304w1” (Crypt::Perl::X::ECDSA::NoCurveForOID) …
# Skipping “c2pnb368w1” (Crypt::Perl::X::ECDSA::NoCurveForOID) …
# Skipping “c2tnb191v1” (Crypt::Perl::X::ECDSA::NoCurveForOID) …
# Skipping “c2tnb191v2” (Crypt::Perl::X::ECDSA::NoCurveForOID) …
# Skipping “c2tnb191v3” (Crypt::Perl::X::ECDSA::NoCurveForOID) …
# Skipping “c2tnb239v1” (Crypt::Perl::X::ECDSA::NoCurveForOID) …
# Skipping “c2tnb239v2” (Crypt::Perl::X::ECDSA::NoCurveForOID) …
# Skipping “c2tnb239v3” (Crypt::Perl::X::ECDSA::NoCurveForOID) …
# Skipping “c2tnb359v1” (Crypt::Perl::X::ECDSA::NoCurveForOID) …
# Skipping “c2tnb431r1” (Crypt::Perl::X::ECDSA::NoCurveForOID) …
# Skipping “sect113r1” (Crypt::Perl::X::ECDSA::NoCurveForOID) …
# Skipping “sect113r2” (Crypt::Perl::X::ECDSA::NoCurveForOID) …
# Skipping “sect131r1” (Crypt::Perl::X::ECDSA::NoCurveForOID) …
# Skipping “sect131r2” (Crypt::Perl::X::ECDSA::NoCurveForOID) …
# Skipping “sect163k1” (Crypt::Perl::X::ECDSA::NoCurveForOID) …
# Skipping “sect163r1” (Crypt::Perl::X::ECDSA::NoCurveForOID) …
# Skipping “sect163r2” (Crypt::Perl::X::ECDSA::NoCurveForOID) …
# Skipping “sect193r1” (Crypt::Perl::X::ECDSA::NoCurveForOID) …
# Skipping “sect193r2” (Crypt::Perl::X::ECDSA::NoCurveForOID) …
# Skipping “sect233k1” (Crypt::Perl::X::ECDSA::NoCurveForOID) …
# Skipping “sect233r1” (Crypt::Perl::X::ECDSA::NoCurveForOID) …
# Skipping “sect239k1” (Crypt::Perl::X::ECDSA::NoCurveForOID) …
# Skipping “sect283k1” (Crypt::Perl::X::ECDSA::NoCurveForOID) …
# Skipping “sect283r1” (Crypt::Perl::X::ECDSA::NoCurveForOID) …
# Skipping “sect409k1” (Crypt::Perl::X::ECDSA::NoCurveForOID) …
# Skipping “sect409r1” (Crypt::Perl::X::ECDSA::NoCurveForOID) …
# Skipping “sect571k1” (Crypt::Perl::X::ECDSA::NoCurveForOID) …
# Skipping “sect571r1” (Crypt::Perl::X::ECDSA::NoCurveForOID) …
# Skipping “wap_wsg_idm_ecid_wtls1” (Crypt::Perl::X::ECDSA::NoCurveForOID) …
# Skipping “wap_wsg_idm_ecid_wtls10” (Crypt::Perl::X::ECDSA::NoCurveForOID) …
# Skipping “wap_wsg_idm_ecid_wtls11” (Crypt::Perl::X::ECDSA::NoCurveForOID) …
# Skipping “wap_wsg_idm_ecid_wtls3” (Crypt::Perl::X::ECDSA::NoCurveForOID) …
# Skipping “wap_wsg_idm_ecid_wtls4” (Crypt::Perl::X::ECDSA::NoCurveForOID) …
# Skipping “wap_wsg_idm_ecid_wtls5” (Crypt::Perl::X::ECDSA::NoCurveForOID) …
# curve: brainpoolP160r1
# curve: brainpoolP160t1
# curve: brainpoolP192r1
# curve: brainpoolP192t1
# curve: brainpoolP224r1
# curve: brainpoolP224t1
# curve: brainpoolP256r1
# curve: brainpoolP256t1
# curve: brainpoolP320r1
# curve: brainpoolP320t1
# curve: brainpoolP384r1
# curve: brainpoolP384t1
# curve: brainpoolP512r1
# curve: brainpoolP512t1
# curve: prime192v1
# curve: prime192v2
# curve: prime192v3
# curve: prime239v1
# curve: prime239v2
# curve: prime239v3
# curve: prime256v1
# curve: secp112r1
read EC key
writing EC key
# curve: secp112r2
# curve: secp128r1
# curve: secp128r2
# curve: secp160k1
# curve: secp160r1
# curve: secp160r2
# curve: secp192k1
# curve: secp224k1
# curve: secp224r1
# curve: secp256k1
# curve: secp384r1
# curve: secp521r1
# curve: wap_wsg_idm_ecid_wtls12
# curve: wap_wsg_idm_ecid_wtls6
# curve: wap_wsg_idm_ecid_wtls7
# curve: wap_wsg_idm_ecid_wtls8
# curve: wap_wsg_idm_ecid_wtls9
t/Crypt-Perl-ECDSA-Generate.t ..................... ok
# Math::BigInt 1.999818 (backend: Math::BigInt::LTM 0.078)
t/Crypt-Perl-ECDSA-Math.t ......................... ok
# Looking for OpenSSL binary …
# Found OpenSSL: /usr/bin/openssl
# OpenSSL 1.1.1v-freebsd  1 Aug 2023
# options:  bn(64,64) rc4(16x,int) des(int) idea(int) blowfish(ptr) 
# compiler: clang
# Math::BigInt 1.999818 (backend: Math::BigInt::LTM 0.078)
t/Crypt-Perl-ECDSA-Parse.t ........................ ok
# Looking for OpenSSL binary …
# Found OpenSSL: /usr/bin/openssl
# OpenSSL 1.1.1v-freebsd  1 Aug 2023
# options:  bn(64,64) rc4(16x,int) des(int) idea(int) blowfish(ptr) 
# compiler: clang
# Math::BigInt 1.999818 (backend: Math::BigInt::LTM 0.078)
# ---------- This test takes a while and spews a lot of text.
# Message: [Hello-0.437443378704252]
# brainpoolP160r1 (named_curve, compressed public point)
# Random Sig: 302d021500b5e3039a6f4b1a355b8b8edfef1d3c9ce948061002147a7507e87332b761ff860f5dd7c2ac6e88dd85b3
# Deterministic Sig: 302d02143c1e0181ad32c60735c739a3ae97231a9d71e85f0215009d7cc69f0a58971ab3d16c5a55ef88412bf2c875
# brainpoolP160t1 (named_curve, compressed public point)
# Random Sig: 302d021500ab11df82c8c262e86319d95c658ee7417e8f5abb021462491376999aacfb2a6f72a214d72f3b67a0f006
# Deterministic Sig: 302c021432f768d4e6faf9713e9700a7ba87f604313695c90214214db8ccdea278b2214f479f6507f904913d8e62
# brainpoolP192r1 (named_curve, compressed public point)
# Random Sig: 30350219008f183aa7facfaf44b680163447fc42e2b3b9aef71b4a1fd9021850fccbb0003dd38197d7426b9e9bdfc97ab6c25c7b3082db
# Deterministic Sig: 3034021815d6a58deaf49e0986929a4f9e9c31aa3f4b486f5a008a2302183807f83ca32858c17476a66a79e5add1481ac2f5b7c7e5a0
# brainpoolP192t1 (named_curve, compressed public point)
# Random Sig: 3035021859c64339da31a98a2d4986a2220010e55b80f25410ac33da02190092992a101039f2f2101db984bb231193e0e9539b22ead557
# Deterministic Sig: 303502190092aa13c09d806eecf2435e814fa7ff3188e8ed55b1b16eb402182ef1f66f60394d4292e245308e5e9fe7110a556554450f09
# brainpoolP224r1 (named_curve, compressed public point)
# Random Sig: 303d021d00bfbf7dc826ed491b8cbb8caa1d8da98fa92e7ac8fdf7e725fcb1fa3c021c491ef916454a3b2dfc6538e3b134fff526350f3d52ce213983a0d764
# Deterministic Sig: 303c021c71c48ff872ccf568cb5ba6323a00c35c9ee4eef55586dcdcd14da9fd021c1d36ef9b9107e564d48add885e2095abe5745781ed4dc64bf0b6a77b
# brainpoolP224t1 (named_curve, compressed public point)
# Random Sig: 303d021c5da4fb8fe465cb6a30bf221cd2bf41409d352d27729433854a4025d4021d00970f58a85bc86838e07acfc6712e762fd65eec9585621da218e061d6
# Deterministic Sig: 303c021c1088e330183c45c3a28d3eb4198c2599c1f6df0f66051638737cc5ac021c54451b6ef7881ffd33b776a515d1e2d17fbf02cc2a21d6f1f94fcfb7
# brainpoolP256r1 (named_curve, compressed public point)
# Random Sig: 3044022064280693ab71805a804f0215541a053fde5445f17f8b2d73b712719a0860e62502206216634a5dc1111e501e40d9bf7b242271955a09ecd4a7581dfc9a55bef5af9e
# Deterministic Sig: 3045022004ef16d765674b112224c878f96bdcf5a51c5d63c72e9187535bce63a11373bf022100a925b11587949f831369448176d523c5a6f88703d27779b13fae39161c55f7e6
# brainpoolP256t1 (named_curve, compressed public point)
# Random Sig: 30460221009cca9f8d75419ed96d4cc96cd33e75990c2467447aad1d5faf700746f6ef3d9402210084d2a154e79686c0df0fa68bfe0b2d7ab77e7464a020218720750baa8ee76fbc
# Deterministic Sig: 30450221009e6d250bf3813d7975758d8c408c75de1a2187a96b7de0fcd2051861a50e94dd022035cfebfc78b5603f7986fdce2744f2bc3125847a795b7671062269ef55f2a8f5
# brainpoolP320r1 (named_curve, compressed public point)
# Random Sig: 305402286243c0dbceb4e9690385d2ed68cfec31a0f556d0a1f3af0eecda4fa38c9930ce0fc08ab3a8b4e31f022806efca7ffa2c3e1157d23f3aafc9656583d1b423284b36cff153c9336c592486d545379b4436a78d
# Deterministic Sig: 305602290093d32755d935849aa24fc655b1a2218627762de8714506092cc8bbb9374d33cbd0d55707b5bf9e54022900c15fc734457d3ba4cc98797dfe567fc321fbd00aa885c0028a5d93217289eff7985b739c94c480de
# brainpoolP320t1 (named_curve, compressed public point)
# Random Sig: 3055022900ca5bf4afed68af95bfdaaf0b13a895b8042c9d5b1bf42c85746f8b90336e98ce7c0a73b6e7909d1c022879e576a3a8809b568757c29276f03a73d4ff14f6b4a922640749bda21d12f9b9f27b49ab8aa8fae6
# Deterministic Sig: 305602290094b7016a7c21a729e1cc945788d8ca5618a525bb7c0606e72604aafbaf1a5821af7a2506bdd9d9e8022900b9c20259c04d4d03caa7ada3cdb9b05ddae618da4298db18bb9d485a883ebe95e3503ab1d643f264
# brainpoolP384r1 (named_curve, compressed public point)
# Random Sig: 3064023030211548fa29dc50e88a8e805e4d8c8cda4dcea53468a398c59ace0f340f3334347b732028f677b1faef3860f8683fe102301876beb385078a022c3a0936604d65e20ad96048d6a14150efa0bb6b835507ca65c62de86a6e8ccb65b00f5a2ee5f8f0
# Deterministic Sig: 306402305533432671d16aa01c70ceab0e2b05ff2df5ccbf9321181a185f3f7b6b9ae02bb1996911b40dc43c95dc89f7ebdbd34502304096c9e2a3626d8b8bbef2e73d72bd8d66a8858df76c5ea1c89a672f80bb8f3aeda45757fa1ef55ff3fb1cdb300170fd
# brainpoolP384t1 (named_curve, compressed public point)
# Random Sig: 30640230511c6e9849bcdedf91e8ec9d53cb590e5377ce3047fd78dc906307bea7ee2cba4e3bde6fce8ce2e8114220d90108451c0230254331b7ab45b4e9846fc62b638e08ace6ea73153cfdfd908cf7188185bf6ac84da99b527c39ce0103024a4fa620407a
# Deterministic Sig: 3064023034aa5f7bb20ff96ad988debafff4fbe8c8baf0da89eaa77af24be377c686d9385d3745aecb16747d1571d7f89fb0bab50230078174759ac43611d479781846b008c3c71738da259510c9d9df9b9cb4885b5c837a17e6bf692213f2764d9da3405ab8
# brainpoolP512r1 (named_curve, compressed public point)
# Random Sig: 308184024020482d7871e1458f75f5a7cd0bdc8a0c0f3ff890353726ca85917708f32e79f49c29da1fe18c1afcada8f679c15d7aa5e4bbd621f5c48b26e47c8cc3927be1ee0240319bf74c7ebe58c1fad1abb6d8239e1277ae4e7bffcf1557d7c2aa3fa54b9822bf4f1be8b69149ff1fa4440851175dc2ce51e102698b26af82090b4601a0b804
# Deterministic Sig: 3081840240396c1e88b6db00a189009a8564606338704e83669c88f5294498a9265ed7558dc626f94074fe3f6e4495df096a5fdcf587d3bd4ffa265cb37b7ec4ced7ec3a00024051caee06ffc8048722b4a74bf42c3f7c84e67c30098e842441473769202b46358e2258388e4b3b31460feb1fb4a79481c23b409bb89c6e6ddc1ac43c50323e02
# brainpoolP512t1 (named_curve, compressed public point)
# Random Sig: 30818402406d56194c2befffe9098de4e587570487c9c65dd87b8a8ca22210df241f2a938186b9b3f5e24fbf369d77c502b20d24edd523e409a08a35a51ef54a0d33172c30024005ef0eaef9f6490cb4da4768c4557d35f5a58e2953e56c5d1d3a3278d4a87f44d233a89e22861511d8f4248ee2365203f2efae4fc1c501c75ffa4d8876dce8d8
# Deterministic Sig: 3081850241009bb4d92cf2653650c99072d858664edb5d3cdef3ad595e2626a2ae96e305ca6ba53144bae130117413135e8f65036d5a4dcfe0538201a45d7b26fff5617ca85f02405250da13175a1928f7bd90d424e0f993697eeded4182b62e80e46c7da55700241bc885ce182b35e851c7f60d7c4a1233381eb573a323a1378b058c28c86f1b7a
# c2pnb163v1 (named_curve, compressed public point)
# c2pnb163v2 (named_curve, compressed public point)
# c2pnb163v3 (named_curve, compressed public point)
# c2pnb176v1 (named_curve, compressed public point)
# c2pnb208w1 (named_curve, compressed public point)
# c2pnb272w1 (named_curve, compressed public point)
# c2pnb304w1 (named_curve, compressed public point)
# c2pnb368w1 (named_curve, compressed public point)
# c2tnb191v1 (named_curve, compressed public point)
# c2tnb191v2 (named_curve, compressed public point)
# c2tnb191v3 (named_curve, compressed public point)
# c2tnb239v1 (named_curve, compressed public point)
# c2tnb239v2 (named_curve, compressed public point)
# c2tnb239v3 (named_curve, compressed public point)
# c2tnb359v1 (named_curve, compressed public point)
# c2tnb431r1 (named_curve, compressed public point)
# prime192v1 (named_curve, compressed public point)
# Random Sig: 3035021900ed5cca9343c6cd6cfcf4ea3f693781ad3ac08c85935263f002184214d52dd57d697893d287b928b8e6e81f098b7222a93beb
# Deterministic Sig: 3036021900facb1fded28f0619bfd738fc3fa30223614268c96cbd5593021900eb3ed0ab66be0a2dd9c5965fae9ece3862e023f5c37cd826
# prime192v2 (named_curve, compressed public point)
# Random Sig: 30350219009a808e85ba2b72cd4f78883bdc3d6e1961be7181b80b9b0302185c3fffe9f3dc27169da90d420dd8d11e1f7085a0d958c3cf
# Deterministic Sig: 3034021807a3a3fdcf40ee30793ed5841694f5c470671a67be5b802502180c318b858667d9fed837bbbbbba6e7f6f7970d0f4abc3f1a
# prime192v3 (named_curve, compressed public point)
# Random Sig: 3036021900d281e9b7889ba1f224d3575328a62bb69c8680fc9e1c8127021900f1099a855f2187ebdcc4bc2a05151a64936923463bbf2ac0
# Deterministic Sig: 3035021900e2bae808a3647a65d0470e21f35c2a2a980f5115caf8d5fc02183bd40a9806c9169b8e7e586b2bbbd3d25a8c70aba5133e41
# prime239v1 (named_curve, compressed public point)
# Random Sig: 3040021e40a6c8ac437b17d0051d45d85f473f0aae982ac05b920e774882833a2ebe021e57c1e49220bb50425bf0bf20fb3049d55dd06ee50f26f295d7182bbc3f9b
# Deterministic Sig: 3040021e4ad58caf95a4d085a54da9e72555385fa687632523e90aba733d08dacd35021e78cdc535d02b6eb3b32555d97e0ed2d7130e85e49872f7ff0a85ee87f645
# prime239v2 (named_curve, compressed public point)
# Random Sig: 3040021e26af073073c1d00cbc760b73822d4a29a0b9d32b0a6f090fda0f9d3d6ca2021e3320f52194eecbcf35c398d57acff28b8e39e8aa0149f3625440bcdf7f52
# Deterministic Sig: 3040021e6acb520e5824372c4f0548d20d7355f34c4ff4287cd792e4a5a76b0ac92d021e38e5633df5aaa464713479b1638b581adaf50328c8f30b18fe14a85e48e2
# prime239v3 (named_curve, compressed public point)
# Random Sig: 3040021e14c7a198bf32925d64551fb3ee3dd64f357fef9da88f090d71da828dbf0f021e0ccbc71c100984dad3da42b81fe351fa0279c31ec22bf4d67b2fb3b9b281
# Deterministic Sig: 3040021e016f6fe315c4afee514e1c4846a124a71c05965db4a43b0f77df8a3e191f021e059df4fb511b9f5933b25945e9c441ece95fc7a1376a4362f7b71fe61579
# prime256v1 (named_curve, compressed public point)
# Random Sig: 304402200bb4e9e4a9a4fa393164c476d9258f7dc54fb6fb1f3698a15c97bd4e4ba7d8a2022019b4bb2d5812210a49f433584e6fee307629548d1acd39e783b394a12989bdcb
# Deterministic Sig: 3045022100c731603c07fc8d9597b1c360bc33e4b6e13d7edf86b5e91c7f541b87f7554941022067b921525b7705f25e967e25252fb09bc0e43b2ed3f9ec298df94916908ae94c
# secp112r1 (named_curve, compressed public point)
# secp112r2 (named_curve, compressed public point)
# secp128r1 (named_curve, compressed public point)
# secp128r2 (named_curve, compressed public point)
# secp160k1 (named_curve, compressed public point)
# Random Sig: 302e021500ae6f7b9c770c945abf79fbbc820357d8cca45cd3021500d144d79b89380812fec4e721bd972c2879e89379
# Deterministic Sig: 302c021449cbeefec099e71a29395cc666ec58bdbe6e716202146a7cd1fc8fcc6a63d9ba63f97a8b074cd2d35124
# secp160r1 (named_curve, compressed public point)
# Random Sig: 302d021500b97fa0adc22e53d80ea5ac7287f4183bf18b351a02142cebb1f193bc8cddbc60ca5af5d84b6f93250b39
# Deterministic Sig: 302d02146b3e0211bfa65eebcbe76bba2409bc85cd8c8af6021500f519ba52939e80f6add55a77d2346693f640f760
# secp160r2 (named_curve, compressed public point)
# Random Sig: 302e0215008984ba308a9b42c14932c7bbfd4dec37af563f21021500d309cf7575f26e496c3a385f649b6e3d65256658
# Deterministic Sig: 302d0214586f5409534c0258cfdaf80e5597e37ea0252f8a021500b9a4e4dbbf880219e0823f886bb28d866f05a03b
# secp192k1 (named_curve, compressed public point)
# Random Sig: 3035021843fa4a138df14640cad1e9b95c7418cfa6dd3b36d58bfc4f021900cc705f748bc7cfcbdcd40aa67f7cbd25a2fcd6c18b13b9f0
# Deterministic Sig: 30340218500778ef3701dcd8458ad3a7ff2582919264e3826d63c66602185193db8b4d5b58ed7993bb0077799982129a3317396112ac
# secp224k1 (named_curve, compressed public point)
# Random Sig: 303c021c37b2a6f8b4f77d47409bdc4abe75e7977ae96abb74b3a4ec6b11cbf1021c4bfc8cf6056a0cf8ccdbe7da0aa570a7595d3373972707c0e859ae27
# Deterministic Sig: 303e021d00aa27069120cc22a1046be002e818d655153ede08c08c9e000d170aaf021d00857c5bad89e9edcb2ffd8800d04c981cdcd20be1e1d0bce231945678
# secp224r1 (named_curve, compressed public point)
# Random Sig: 303d021c53d98ec8839325aaa130b1363bf384f5326daded50072128adae6c31021d00c7b9ccb9539f43785225414ff47d66753b8859b481a5149ab24b4cf4
# Deterministic Sig: 303c021c3f165fd4600b6f4faa17e5065c2ee1e66320690a0166983945e9212e021c171e019ec1494af3de0c87c6d5b9216df0f82c5e9f848adae1a9e20c
# secp256k1 (named_curve, compressed public point)
# Random Sig: 3045022100aab1236767a0e4a01520724abbbc110458abd552ed45f8a5b4d6ec3f8eb4bfbe02206fe24dd557c5b0c7774028010e4e77ccaa1f68dccb7a80d008a474327be81989
# Deterministic Sig: 304502201c74d77e17885a7d119411f3afb8b7313cc53d85e994c9d1324088dae3d8d0b80221009130301a876a2ce7120386fcad1679831980bc6c9c35cd2297832baf539f7da1
# secp384r1 (named_curve, compressed public point)
# Random Sig: 3065023061592ee8f462484f53519bf5e3105b31201720b76539259e4d575684c9d1970be6b2e1567bff45b162061e72cf94406e023100b220e3ba6becde7bca9528113bcc95ce139d7af07275996819b5d08f78122122667d96ad1f5cff9c2692092265826481
# Deterministic Sig: 3066023100d952b119b9efefb1315a21eec4a1b4cee1d78539572442ddb9c4da3d67c9939db449d8cab778e698953f27e1d981e07b023100f18e25a91c881ac207a439b7043f5bdd6466fbcde502215af8943b85b907a69c82ee199363359ffe1dbde71278e8ec34
# secp521r1 (named_curve, compressed public point)
# Random Sig: 3081870242014e46abe547edf9a825ab426ebf86832bc1b717a8907691da86bd20864e90e5362bd8530fa253dad735b291cca0f3a1eb052fed68fc03b5adffc788379ea187f22302412b32ea8a3678d4b6cc5034b9a2856549dd86c6d6d48e046288962ed15f6061278d180de00df3d8159695e35db7b02255605e3cbd33ce2ebe1f5557f971dbf27452
# Deterministic Sig: 308188024200a1b787fe6974c3005037285bc42e644cccdb2177ad3937855c276b5f01dcccf8f3b47773c5097c89dbc352db1962d49eea8e655642517a051009bf57c34e43673f024201aad241305daf9a7c671693b9b23bf1e55a9d27cdca643e32da1d5d6638182f8fbaaf8989a73b795bf25fec1e9c2718f552ecbd1c00a7d0750829aaf689c225622e
# sect113r1 (named_curve, compressed public point)
# sect113r2 (named_curve, compressed public point)
# sect131r1 (named_curve, compressed public point)
# sect131r2 (named_curve, compressed public point)
# sect163k1 (named_curve, compressed public point)
# sect163r1 (named_curve, compressed public point)
# sect163r2 (named_curve, compressed public point)
# sect193r1 (named_curve, compressed public point)
# sect193r2 (named_curve, compressed public point)
# sect233k1 (named_curve, compressed public point)
# sect233r1 (named_curve, compressed public point)
# sect239k1 (named_curve, compressed public point)
# sect283k1 (named_curve, compressed public point)
# sect283r1 (named_curve, compressed public point)
# sect409k1 (named_curve, compressed public point)
# sect409r1 (named_curve, compressed public point)
# sect571k1 (named_curve, compressed public point)
# sect571r1 (named_curve, compressed public point)
# wap-wsg-idm-ecid-wtls1 (named_curve, compressed public point)
# wap-wsg-idm-ecid-wtls10 (named_curve, compressed public point)
# wap-wsg-idm-ecid-wtls11 (named_curve, compressed public point)
# wap-wsg-idm-ecid-wtls12 (named_curve, compressed public point)
# Random Sig: 303d021c786d1bfdd7f708f91977c933670d8ebefd86d5fccf0cf233eb40ee9c021d00c8115bdac2c31d4cef5256f4829c9d75ec9bb50ee3e3167651f31a24
# Deterministic Sig: 303d021c121e9b9010a93575bbacd0e6f869ea5d67cb2bffafcfd392d7e6a578021d008f738ec2bfbefe128b0671087b9808da36bf739e238e6e0f8045d3ef
# wap-wsg-idm-ecid-wtls3 (named_curve, compressed public point)
# wap-wsg-idm-ecid-wtls4 (named_curve, compressed public point)
# wap-wsg-idm-ecid-wtls5 (named_curve, compressed public point)
# wap-wsg-idm-ecid-wtls6 (named_curve, compressed public point)
# wap-wsg-idm-ecid-wtls7 (named_curve, compressed public point)
# Random Sig: 302c0214699722bca8da4fb85bfe512b24f36e99e2b1a39702145e57530efb94d9d8bcee3743a500fe2b139c04e3
# Deterministic Sig: 302e021500c92686b52a8be8964d0a665bfee32c7df4424c14021500b84fc4f1b14a21e3954663eb86baaea95ce376f6
# wap-wsg-idm-ecid-wtls8 (named_curve, compressed public point)
# wap-wsg-idm-ecid-wtls9 (named_curve, compressed public point)
# Random Sig: 302c02143f206ce64204b17d23b818ae4ea8cca043107c680214097c0e73f3e9f5878c776be9da6cf613116f4a30
# Deterministic Sig: 302c02141b2dfe8df4c68d6896b7aec2d3738ea4e9f67785021403b37c6cbd0671fa3f6d76c15a5cda242df3737d
# brainpoolP160r1 (named_curve, uncompressed public point)
# Random Sig: 302c021459cf9957a7d12ffa45009230c9929a2f3d597b990214126e97189317994c7c89ade1a370c3cb34bcf939
# Deterministic Sig: 302c02145cafecf30f4301c0577f590dab876383edc94226021410f905b1c512a00f69ae425028469846cdda30b3
# brainpoolP160t1 (named_curve, uncompressed public point)
# Random Sig: 302e0215009acd0c452794cf44591c33a322aca83671e09626021500cc3fe8a0c80091e13d54521a8a6fdb7da7fa7ea1
# Deterministic Sig: 302d021500b01a68c4e961cf7d26ac1a5c9aa5003ead23d8f3021402ff1eea213a15fc66de5db7cf69a77acfe61f2a
# brainpoolP192r1 (named_curve, uncompressed public point)
# Random Sig: 3035021851c11ba35dbe65f4947d07f2437896e5a6c87feaccbfd147021900a2050bc5683480208ae2a854ff997abdd4f639a12ec0df08
# Deterministic Sig: 3035021807b0c56c178abe8c7129bb63c91beffe46b0c44a11789906021900aa654dc205436792c5f0869ca6406b9d3e6514319f9399d9
# brainpoolP192t1 (named_curve, uncompressed public point)
# Random Sig: 3034021827d1831deb8005dde3a94e17dfb40426d63cccd3a284e81e021856a47f3d3bbd4b95c5be45a47e2bb434969d8cfacd7bc4c0
# Deterministic Sig: 303502184b28b62200c7e326732737b69becf043d6ebf1246975c99e021900b8943eda448da9e1e08bdea8ca5492675c5e8c4f56cd2312
# brainpoolP224r1 (named_curve, uncompressed public point)
# Random Sig: 303d021d0080239f67d8d6dfb542a132832e80fa5d172e21034dbe454ac1868ece021c55effbe319c4da289919d6d2ea8d61c5cd5cb328bbc0dc34e89e4f71
# Deterministic Sig: 303d021c2f1c68fa93312d4327a03b2391067957f15fe2b300f4ff1d6830403b021d00c4a281b86491fab8cc818be406a64f94a453f4c75d013065d22a27d4
# brainpoolP224t1 (named_curve, uncompressed public point)
# Random Sig: 303e021d00c2398e388e5b9ee0fdf9062813c114da6e2e73f1bc86abfce9ce99e2021d00c8adf75796b837b6a252b4384021f633a4a81b226b01b873d139126b
# Deterministic Sig: 303c021c7ce85db05df1114e3d24ad261732169c91526300c1633eeebe075816021c131d22d053b4a0166baa256582f28a035db9d158f6108222b535210f
# brainpoolP256r1 (named_curve, uncompressed public point)
# Random Sig: 30440220180e89cabd9f267150da19a3308d628ba7ac833dd43aa5436d8ca7c61206a12802204a69882fe4ed14079646ba28947f09dc80ad323276bbe57d808aeecb11bc7c6a
# Deterministic Sig: 3045022032268b1765aa35940c3aa8b6fdef5fd34a59fc40fb0e31852b3689ddf6ad82ac02210090ac3d060e6958bb52376e3c77b76da0a3d68a9d0588bf2e448a1d4728115dff
# brainpoolP256t1 (named_curve, uncompressed public point)
# Random Sig: 3044022063166882ed851a250e566cd95aca2601c0fee6aba0822e8cc1f0d24e6d78806f0220293cd8c87f21bac835a9bae3159f34ac4186c1b0e0a3cb9331f231f7c918d83e
# Deterministic Sig: 304602210086343268caf8586eab456a90666211638224d1ae720e40872658221551a7a63d02210086f60230287d290222de9bb87988d07c2ca71b2fac5dd12bebdc3014c441f19d
# brainpoolP320r1 (named_curve, uncompressed public point)
# Random Sig: 3056022900d08521e37ce8f64eaeb2921b9eeb1d1991eb908376df6eeaf4ffe00578ffcfa912e1ead23e188b5d022900ace550b8df653206ab6c84968841ae8b877e7b69f8332d893067809a86ad7c306e77b39609193468
# Deterministic Sig: 30560229009092284023d2e6c515d75725bb47c0aaa77d45df5f2a87a15a54793d0fe4599c1f9bc76452889c7c022900d1492e70f65624948198559c24ff911c7e7fd15a84bbd2ec597be5a88b2c024f62d5314d82bc08a8
# brainpoolP320t1 (named_curve, uncompressed public point)
# Random Sig: 30550229009127d63beacd828a993baa61a18f91a088758ed2c3aeecb051a27b414b13c7d13582d02a0df9da6502281c5a500c982204eb9e690c71f823556a9aaa0eae8e7e558408345937b95489225e52e403aa2a8543
# Deterministic Sig: 3055022900bb6597f9727bb55cdb0c3526846a1604b19e27b4869775d00960e1a17d589bdc92aafc32937307060228222145f9a0e3b4159ed777bcad4771d404544c8cf4c9c4642d2ea0a1a62fcaae96df69d28b5139a4
# brainpoolP384r1 (named_curve, uncompressed public point)
# Random Sig: 306402304918f9af050c126af3461f5438f3cb4b63bdd022887692ec79627de80718e43336c498a6ac446bece8d2f6289ef7de09023048e415e99591a3ce27168a269c40ce4e24383926f20114d03f59e50338f3f74ee8cbcef9e10482501bd84890adfdfadb
# Deterministic Sig: 30640230568db4cdf7babacc10d564786e18a5ae32135ff55c03255fff7aef994c9ab3d4ae2da4f87cad5caec87b422b16f01917023051714dec559afdba97ca094ccce03e3e56a04b04857e58bf62bf5fae50bdb102193bebddadc59f33d7b21f4837b61e66
# brainpoolP384t1 (named_curve, uncompressed public point)
# Random Sig: 306402300c5ffdd8b44344e41bfaa96b2382a8a9cd02ee5332b76f20586ff036bf477c9f3428e46fb2c514108d7802fce5a1b2ab02301a9ffebc9754578e07b9a091f44568a28b9a60dcab034f098f6087e5b8a040d8a667c3a3e887e7d3548c2aae1c7f2e93
# Deterministic Sig: 3064023047c4262206c77390fb7fcc2edd0f4fe07277a27a1c934466be9d7b697a4c8258ff12d21b0dcaf4d9002dcda9c900aa630230068e96bb369ab04d5015c562e0de64b754e148dd6e77594936394e166213eed709c5ca854e571be324e353087c4977fd
# brainpoolP512r1 (named_curve, uncompressed public point)
# Random Sig: 3081840240274a9a884489ca965d8d11140fe74b0751223ca99bb90b92ba5fee74cf2817d1a3401944235e08a7c17f7897d2b0814d929c35b2f207287ebee17c24bd7b577302406d0748f885ae3a7955228619f40d705bb28d91cdd68e92c59c955d51215770e143a8de7e3a0728107fe330c057b5b2d65e38c1fec6ab7a5647a462a43a86fdab
# Deterministic Sig: 308184024043d25921e89fc6ecd19241560ec9303411e8b6f498a75b291afc32a9d4ee67436b0f0664995be88804f6a6d051dfec10604e8f66e04d9494c434d036a6e7c802024059e6685181453113ac0c84e879b5d06e446c709e4830f24c59bed23116f9397d1bcac79ae2e62d44edb842d0b4fcd1dc2fe1df36a4217cee0f332e3788fc9eb5
# brainpoolP512t1 (named_curve, uncompressed public point)
# Random Sig: 3081840240050ecd4361238fe10b9020fed5ee5eafc9e9dc0abff22d74c8db3d157144c6d05150b1f5ed370a062905a1d7ad56bbe6fcd0b82640589af6145c245f94bb4491024027c2abed53d4da5494dc71faf27a85c25f43cb7d4a5f5ef258dd6839651a0593fb194cf39a44d100f738378af542d4457e04ef15e096a240d4b14c59ae34e0db
# Deterministic Sig: 3081860241009a297662bf08f34d813bdf513e4d7967dc044550315b440753bac74e608465ad7d601a4b4ce28f0c534861297247c950c899640b4c6be32dfd9c59d9d03f6b27024100956cae15a0f12f6976a3fa92c9c64ce344180d5422965afce5f78d5c935395e43617aac902586e8cbe0b99cffec8395dbc58269f660f32810d54ac99b5b7b094
# c2pnb163v1 (named_curve, uncompressed public point)
# c2pnb163v2 (named_curve, uncompressed public point)
# c2pnb163v3 (named_curve, uncompressed public point)
# c2pnb176v1 (named_curve, uncompressed public point)
# c2pnb208w1 (named_curve, uncompressed public point)
# c2pnb272w1 (named_curve, uncompressed public point)
# c2pnb304w1 (named_curve, uncompressed public point)
# c2pnb368w1 (named_curve, uncompressed public point)
# c2tnb191v1 (named_curve, uncompressed public point)
# c2tnb191v2 (named_curve, uncompressed public point)
# c2tnb191v3 (named_curve, uncompressed public point)
# c2tnb239v1 (named_curve, uncompressed public point)
# c2tnb239v2 (named_curve, uncompressed public point)
# c2tnb239v3 (named_curve, uncompressed public point)
# c2tnb359v1 (named_curve, uncompressed public point)
# c2tnb431r1 (named_curve, uncompressed public point)
# prime192v1 (named_curve, uncompressed public point)
# Random Sig: 30350218317dd0a795880b56df9c7981d8b1f54a4a049e20bc3dbd890219009ea558c6d77105847c8549f8d29065ddb905950e19a24d35
# Deterministic Sig: 303502180a0a9afe979d6aed1fae99f99c4ee1a0b9a9ac066a31f6c8021900839392c534e3ab4bf155cd3a8304e7b65c80503b8833b754
# prime192v2 (named_curve, uncompressed public point)
# Random Sig: 3036021900f923e3b3ea5bc045f6bd7fe6981c663800e2158dfdcd4630021900aa3b95ef55adcd3e2caf6dd85c6f82a8b6ea4ed384ec7322
# Deterministic Sig: 3036021900f93997ba659251862346e0b611a8d199c20b70aa3135c1b102190089c2c9e12fd256d6bd06e25704fbdefd477bdd23eb4a1a8a
# prime192v3 (named_curve, uncompressed public point)
# Random Sig: 3035021900c5d052be7ac885cd15cfc4bf13c3a2a0c1c08393325ffbc3021842ce7b3068af221e0a7a05face829f33708b6a96dfbae8e2
# Deterministic Sig: 3036021900ec5f79219847c71eed637cad5193ce0086c13e0afb1baae90219008095e80c858f365b08863b5e11d5e2dd7d837170cedeae6f
# prime239v1 (named_curve, uncompressed public point)
# Random Sig: 3040021e50162200f1c306ced4b25b0dad1432521cf0434de686da2f811595f847e4021e2a7ec4edfe86d01993684a9598b6a29239179abc79b3fdf17a6813d9b0f4
# Deterministic Sig: 3040021e535b2b8318773cd22cad4e6f90e86760f5c6910ca198e15107712f9a5804021e54d671c2503876863fe968a4fd7b01781dbd89ba80abc96bbaa2e24edd15
# prime239v2 (named_curve, uncompressed public point)
# Random Sig: 3040021e29dce59068852e3b333648bb95c706a889ccf55f6c2f0b3f3c1c97cf25cc021e308e42c391433580d87193e31c026d8d0d549bede7622c26ea3b1d2888f0
# Deterministic Sig: 3040021e09069a8b9f7ddddefdb5b84d82df1dba4794b2c1a69102670da03c681632021e6b6f0af93aa92f11a83198bb96a42ffd7654d152bad6d15a1dcfec51c154
# prime239v3 (named_curve, uncompressed public point)
# Random Sig: 3040021e30d18cf01de68a846aa3b6035b856c4f0bfa7fa3739675b5fe40293b0060021e1603dedd1f933d635817a7a42f5e50aa88c65ecbfc9e53ad25c7043ab9f0
# Deterministic Sig: 3040021e66e23e8eebe63366d78ea43efb9a4cdc6f5861f4f8916d477c1863419505021e098ba755ba1df3000c4589479fb4d1a0b0448d358dd92a5c02aa099031a5
# prime256v1 (named_curve, uncompressed public point)
# Random Sig: 304502203a711fabf6d7dcbbeda42b9f35d866374618068842b1be8eff122c34bf73736d022100e1e3093288a0f88f5368e79f5c741a7fe953aff66d7961ce000ad759452db84f
# Deterministic Sig: 3045022021c6e03f24f383b4fb2d022088e9fc6738615421d8e225ab6c1b98ab108d44c6022100c985362f4149b51479751e3ae6bc9740e93e1971933cca31dddcb802621052d9
# secp112r1 (named_curve, uncompressed public point)
# secp112r2 (named_curve, uncompressed public point)
# secp128r1 (named_curve, uncompressed public point)
# secp128r2 (named_curve, uncompressed public point)
# secp160k1 (named_curve, uncompressed public point)
# Random Sig: 302d021437debd305e163f2755f68b7bff6e22c5cca4553f021500884f54302eb695f70cb7ae23c94aa501522600f8
# Deterministic Sig: 302d021500e7eb25962dca58ee9fe52b4ffd9e88119fc0f64a0214618d23afcae20f1641e3106daf6865cc8b36b02e
# secp160r1 (named_curve, uncompressed public point)
# Random Sig: 302e021500bc1157c13347dd541deaac32c22f139d986a6530021500829a4ea54f52b6ea3e37547c8c0954dcb50f45cf
# Deterministic Sig: 302d02142496e0098694da6753c6354956ea95ae5ad20f60021500dd70988143797d0052eeb1f23f640593e2964b40
# secp160r2 (named_curve, uncompressed public point)
# Random Sig: 302d02147a37aba829c079974e4620356a7d0c0f8838b214021500c448230c610a6ed33f5141971cd4bdb5be53f435
# Deterministic Sig: 302d021500875d76e85201ec70ef08938c82d27169442a54c8021452394514fa1e380fc012838c23331e5c604494a9
# secp192k1 (named_curve, uncompressed public point)
# Random Sig: 3036021900a517c0ffff92afc90141fa35d705bfa824a9b105920276440219008f76ee618d442159c3fb6878ec8efdbc01c4e07c99405e1d
# Deterministic Sig: 303402182bd940deec63ce94e708132b4f4a6f0cfbca206c77a771b90218188c36bdb28727567c54ef7444653eac7816ef3b01322c0a
# secp224k1 (named_curve, uncompressed public point)
# Random Sig: 303e021d00af197c4e318dc4754bcdde580b114d61120aa5ceb72e1b7c1cfe4174021d00e6ff29969fca3a3f9df11ab4546a3726ce85a43287637b3de1b0e810
# Deterministic Sig: 303d021d00a066f4082ba3de53f8e3f76311b513256ab8ac5313e71314acb2c660021c57d563b25d4d48d2b308fb943ab7f2c16f2715d2bc9939639d6ef983
# secp224r1 (named_curve, uncompressed public point)
# Random Sig: 303c021c193eee02eb8d288343a72fcf6af97e3be15cdbbcb258c8c9c2c1030e021c74fd5c7a39c0a555049c46bf0ab5b1c80ad4811b911207dad0aabae3
# Deterministic Sig: 303d021c7e35fc32498286f88830d2334a57943c8fc0208542fcd112270a6545021d00a593828ee1b611254702c77110b45d45141f3cec3100d37ed3ab34aa
# secp256k1 (named_curve, uncompressed public point)
# Random Sig: 3046022100f6e3125e53fd5088974cf01b72d8c6ea81eb2370793d50d70e8ece31d8eb04e5022100b8afc90de1fb45298a41a19bd6b491ceb927398ed451cd6c7ddb3c6a8b6642b0
# Deterministic Sig: 304502203cf5688cd5dc91a3b8629898a529836e6bda79ef280c7185a20c1d51e2ffb3980221009528d09b8b4266c03019cd477a76c586937f7a27ce4ad45264a12a2e72258825
# secp384r1 (named_curve, uncompressed public point)
# Random Sig: 3065023100b1b71a951f911f7f76cc7075f1afede695ff5a2c3d6a4b3a78fc0d86f69816cd27437b5fe121c005e4f917e224aa784c023075eaf815db07d66d2bae0506a4f8fa434ca176712f9d387bd198d2f19278467095094262c1c21affb8a92068e9c07aed
# Deterministic Sig: 3065023073202855d550b5a1c27c6173f3982a3eef5cae0dfe174610f763672f55cfac5550f319e80c13c5781b704c33660262c90231009fc790b3287fe0b14fea28dd33749dc7729a5d7e541093c33d582d0f8e3c8a9db28688428cb24dbdfd6a37fc4556beaf
# secp521r1 (named_curve, uncompressed public point)
# Random Sig: 308188024200f52069e8a21077c5d77f1b9a2f9bfcae17f8c38a2261a534670f9dbc15748216b0624637f02e609bd1c0023209500f02da66bf79bc54327018022897d0bb18a0e1024201ede6406c21bd4c2586085ce6f73de873760e64022b680efd7b94a73535ae6c25c02c43bcbd4783279ad71e6a8829756d21c22b2a66b4cd29e4a5c510d40a38e5f6
# Deterministic Sig: 30818802420136c01ed38c64830111878397585fb0698c0a67786788e480b5eeb59cc8401374e6c1298af06fee509a5035d68ff99dd3e858814777587a4f1a2ed91fc487185f72024201e275a7d656c9efb8facee9f896c527ab4245fa20c79efb6483aa27974594ca495a4cd39786b997296f27ed7ad83670695360fb6f1842f0fdc0e1ea0c29af476215
# sect113r1 (named_curve, uncompressed public point)
# sect113r2 (named_curve, uncompressed public point)
# sect131r1 (named_curve, uncompressed public point)
# sect131r2 (named_curve, uncompressed public point)
# sect163k1 (named_curve, uncompressed public point)
# sect163r1 (named_curve, uncompressed public point)
# sect163r2 (named_curve, uncompressed public point)
# sect193r1 (named_curve, uncompressed public point)
# sect193r2 (named_curve, uncompressed public point)
# sect233k1 (named_curve, uncompressed public point)
# sect233r1 (named_curve, uncompressed public point)
# sect239k1 (named_curve, uncompressed public point)
# sect283k1 (named_curve, uncompressed public point)
# sect283r1 (named_curve, uncompressed public point)
# sect409k1 (named_curve, uncompressed public point)
# sect409r1 (named_curve, uncompressed public point)
# sect571k1 (named_curve, uncompressed public point)
# sect571r1 (named_curve, uncompressed public point)
# wap-wsg-idm-ecid-wtls1 (named_curve, uncompressed public point)
# wap-wsg-idm-ecid-wtls10 (named_curve, uncompressed public point)
# wap-wsg-idm-ecid-wtls11 (named_curve, uncompressed public point)
# wap-wsg-idm-ecid-wtls12 (named_curve, uncompressed public point)
# Random Sig: 303e021d00a43a52998d1b7d99f3ac2bfbb96be9a20e39f3d88fb879c6f7c15efb021d00d08ee06612fb56a987d9836d16cdfd2e29dab47671c673728b2dffa9
# Deterministic Sig: 303e021d00a0527d6bf2db9a2396800b2bc0b68ab02a1824582158731aa4a2684e021d00f9e395f2453f7b79ed73e182be4f000cb3cdf0b3d7a502bd32df670c
# wap-wsg-idm-ecid-wtls3 (named_curve, uncompressed public point)
# wap-wsg-idm-ecid-wtls4 (named_curve, uncompressed public point)
# wap-wsg-idm-ecid-wtls5 (named_curve, uncompressed public point)
# wap-wsg-idm-ecid-wtls6 (named_curve, uncompressed public point)
# wap-wsg-idm-ecid-wtls7 (named_curve, uncompressed public point)
# Random Sig: 302c02147fda59b142547eb365e552d8f56f97ae0b0061f302145367f09098ff525f2407dc50af15c2cf608a5348
# Deterministic Sig: 302d021500e9d30b5e47e3b18590c0d5671e91d9b6832e8ac2021404cbbe108677bb85947129551869095112cab936
# wap-wsg-idm-ecid-wtls8 (named_curve, uncompressed public point)
# wap-wsg-idm-ecid-wtls9 (named_curve, uncompressed public point)
# Random Sig: 302d0214420f3c4eb77903cc75fe05d6a5c1bc24f4e84646021500c40ecd1e8942c2f99cca1a02a019f83846e0f92c
# Deterministic Sig: 302d021500e296ede1b0483b372a156c4e1d891d364a7c120e021463aa67dcefaeb5d4f165f87c8fbc9132f4177840
# brainpoolP160r1 (named_curve, hybrid public point)
# Random Sig: 302e02150093dd418a4196c5059b3732648d533fb0a1845cd9021500d1af0552e6da43e0d8d2d065f74927d791f5f8de
# Deterministic Sig: 302e021500b75c0b619a75a2bacf393da31ea0c086b0ea3536021500c0aa387fae7abc2e27b73ce5764eb454df8e5116
# brainpoolP160t1 (named_curve, hybrid public point)
# Random Sig: 302c02145638e0d2ca97601f7d387a1a3156aed3eb47da7602141fd51149059be2b5afba5f1511e4d46650a756bd
# Deterministic Sig: 302c021420aa9ec4cc37f2c2a29dd24f498b0f4bb73f865102144075f256809dad226efa9e0f6e08e6f2cea24b5f
# brainpoolP192r1 (named_curve, hybrid public point)
# Random Sig: 303502180b42f6f463cf6c236f88d952f70f2fb7b5b2bec0262de33102190089ff106139758554076540fb6c42d7b3ce0d931b4b7254c0
# Deterministic Sig: 303402184ba0725a8f053f9be90331da59b04b34e96914ae425fbc0d0218421c961f625f62914da5161ad1f468e90ae96b21e181c79e
# brainpoolP192t1 (named_curve, hybrid public point)
# Random Sig: 303502182efa6597eb95271b700ff6af6d47ceaa89d8ca4b69f78510021900ac8feca2d1913b617b0a6a0fdc4b853eb3666a66423a56fe
# Deterministic Sig: 303402180838cedee75d19b04b6803646821aee5112f179f105f8d5a021851af980f7d943f144370ae196832d772ce25f8d00bf4fc93
# brainpoolP224r1 (named_curve, hybrid public point)
# Random Sig: 303c021c49984492cc4eedcc574f17e9653e6bf602f9eec127f3752915c694c6021c49798dffaed3df4b7ca4effc204b1f48ac65f5daa9afdc18791c7444
# Deterministic Sig: 303c021c7962e5881859d88f4929e40176d2438f27d9d5f96b4b82d18aab397c021c7bf23e1ac2fd65e203197fe7e923f33278b7f858ebfa3f13a4b99ee1
# brainpoolP224t1 (named_curve, hybrid public point)
# Random Sig: 303e021d00bb8c887b8cb73fb82c88d486d208c7898614160c95ac3f2886f7ac82021d009e800521a3ef5c226b2c04b95b74626901da2135d67230154d1fcc45
# Deterministic Sig: 303d021c7afed82e1411d72962dedb8d24a24b31663d383497fb3691803f3ccc021d00d77c0278a7e3d4902dc4d55d6a4c758c78c961e1ccf0d56a41229292
# brainpoolP256r1 (named_curve, hybrid public point)
# Random Sig: 30450221009b129f791da2c65b2cc264b99f21a0fe1ee16e8b62bce1375977f2c8f97f308c02206ea48dd2c8ab00ddbea86a627fbdde15be81be68c1655386ef3c9a19b3f3baac
# Deterministic Sig: 304402207aaeb11c90851b377b552364c9542dc56503fb975892cb3156f6afdc56818fc6022066ee56ced869effd91cf553b23832296e9ac5bbd6565350a1b8d3323a17e402d
# brainpoolP256t1 (named_curve, hybrid public point)
# Random Sig: 304402206f9e3db06cc15146ed51e0cf6f61f07f1a5c59696cfebc57cb99f98bd0bcab050220549a160a1af8efaf5c05cfc337bf244dffa8f910aa7417a6988096cbcf832f9c
# Deterministic Sig: 304402206e2379df19f52b069adc846f9c37a4b40cc6d7fddb6d453d0ed5adb9eeeb670a02206174216f91c349380ac5997316560cc8071116e1c65a9ae8620756ea9d95cd9e
# brainpoolP320r1 (named_curve, hybrid public point)
# Random Sig: 305402287849976729392efb2d50ae4f150bd8954b3ba8a8c89bc592117e1999fe479fd3a16e4024a7c6b3c802285e9c6f7a94e8a7b4dd8115519a3a5f31394e139a30cadf94970c453f229a320777467d11d9d65b3f
# Deterministic Sig: 30550228067788fffcb22d83f3d258cbac0e8727efa67972a6bc3da31fe28dac62a105317e5940941d9c0c1802290095c006db8be302312d94de57540c5ae59e34dda2f62e252d0b5dc7ae58327dcf576ded657a804d72
# brainpoolP320t1 (named_curve, hybrid public point)
# Random Sig: 30550229009ed8cca7d8e0b2c1efab3364c98ab1ce5ac26b9d124b29f0ff9b29ecb59028d8cad94ec00ea4b48002282d7cc84023e044e90bd173fd4a54ecacf4fadd11207c77e2333f3bff3cf0ea4144077e2ca1997b34
# Deterministic Sig: 3055022900be43df0dbfe7ca93908f978363b2f8eec9358e7123d3967f5c91501a0518532f1d15393ff674cf3f022859d36b7f2927145b1d45a9be64b31207887f157b1c69ac5be3381a1e104548a74e45511610cf88d7
# brainpoolP384r1 (named_curve, hybrid public point)
# Random Sig: 30640230224841ab97f225a78f58e4d0d90b5282a569aa7e7c86a2ba51a023924bfd8c99d4af95fd736c8974872b69f616f30fa5023064c46050b515e85ef93a0b00dc6172aed1f92855d1d8379d889d413258853c5ae21e3187e3a27964c88f238b7a9080bf
# Deterministic Sig: 306402304bc92e4d440608f10c5971ae5f7c75b09d2ce886683d464e167ad4f110152ecb71c7e9fdf7742240817b85af195ffa3f023054efa336f058f949a01750a2988f593bce59bd0b5770ec6d47bf64a270e9f9322fc70cadc39798b23e7d0592cbfa1f9b
# brainpoolP384t1 (named_curve, hybrid public point)
# Random Sig: 30640230653e811930dac330827b77b51342e1a8c5a1e2ca75eb7051e3a6eff6ee5b08d46d2a6a5bc974665ec2571e4308994a0202307c9f65eda9d0deed65d9d4f628925126d83284ab45af671c595d0b13e61c4ef30ae3d2f4f0d8b89fbd47227f9ef949de
# Deterministic Sig: 306402305244604cc56e408dd60e780c1b8075e249a43bff2613fc14cbc047d1e51218669636c53c41b6c919104540025b2ad0d9023071b8f2a26db887d0a8bc3ba276e459a75e7bf3d9cb89cd93586f68ebf96bd6ab48ad034d081b5bd7c2d5351614310810
# brainpoolP512r1 (named_curve, hybrid public point)
# Random Sig: 308184024032e0e8daf4f2a9314dfe1d95fcb52619936d29ee50c186956c27ddaa76e8425fb2580586de9ec0572c1034e70071722c0722dcd42d9c0c734c92b0fa8303392802403c5057ef8c8967a24b31f407607593b90ccd88cc99384a39cc185ad2d74023b4b786cf1b91f63ac8862de7f581cf1572a618d0964d3b6133d0eb17794a4e35a8
# Deterministic Sig: 3081850240052789520a1b4ffcb5062bdc33ed5919fb907098c5329c7bd49f1093c9efae2f56cd5d4439d965092583dcaffd5981d9d76cbd11ba676e7a8b985c2332c7f7c10241009dc5171db3d08a1e545dc9367489e8b7f439e8b5404453657be981e909d35f39b8c2e85423b02bfca0beb3d54fab494d1a0555f81b4798b9e80a442422aa80bf
# brainpoolP512t1 (named_curve, hybrid public point)
# Random Sig: 3081850241008bb3007d7b3be8abae6a06879d5284368aec223f259e9c1248fe667e96c960520fcbb7912be5d026744d203ab65a5e9c9cbc5c8aa61ab3c264ef7c98923c6d54024031cc54ec0ff07df1859cc69cde6867c55da6157ee6fb705ab7a69299f0fdad281211c0689afac20488c1eb7239152dc23ec2bba0e76ddc0f5a1c8636aaa5de57
# Deterministic Sig: 30818502407cfe21812f3d30ea9f807640c5d3b655e9168996d72efe5bb95f36c492ac00184541cf6202cda609cd8829a9b19b3546a98dfe2885e71a135d8229f91db4e2ae024100a9fc66688167f85d578195b3af440ad73f5ec039bb255f51b06359b9791dd0ee31bb39fe076ca45ed9ed78ab39f2601c656f2b142c8d185f5df91248d201903d
# c2pnb163v1 (named_curve, hybrid public point)
# c2pnb163v2 (named_curve, hybrid public point)
# c2pnb163v3 (named_curve, hybrid public point)
# c2pnb176v1 (named_curve, hybrid public point)
# c2pnb208w1 (named_curve, hybrid public point)
# c2pnb272w1 (named_curve, hybrid public point)
# c2pnb304w1 (named_curve, hybrid public point)
# c2pnb368w1 (named_curve, hybrid public point)
# c2tnb191v1 (named_curve, hybrid public point)
# c2tnb191v2 (named_curve, hybrid public point)
# c2tnb191v3 (named_curve, hybrid public point)
# c2tnb239v1 (named_curve, hybrid public point)
# c2tnb239v2 (named_curve, hybrid public point)
# c2tnb239v3 (named_curve, hybrid public point)
# c2tnb359v1 (named_curve, hybrid public point)
# c2tnb431r1 (named_curve, hybrid public point)
# prime192v1 (named_curve, hybrid public point)
# Random Sig: 30350218168e3531501a4d4342d4e51b4024c9dc10941fc7a610889d021900d9f045a1928f91d7f7bfdc8767a694b058de7d4c010d030a
# Deterministic Sig: 303402180e90cb4bf561f5f4ac49b77516f58952a22835353377cdbd021858f247ece3913d0b237e7d552adcb999a0fea4f74977103b
# prime192v2 (named_curve, hybrid public point)
# Random Sig: 3035021900968ace7ce7a7ca9380f0d83eb48650ac3b53544c24cca5b0021855faa95215f7a19a727e6b95a6471f2d491665c2d5adf055
# Deterministic Sig: 3036021900bca3498d2081787a2b40751fd605099f9302a145259750a7021900d0eece020d9aa7b9717cf69efe0f248503ecdd80178edc20
# prime192v3 (named_curve, hybrid public point)
# Random Sig: 303402183db59f46da9faaf7cebb31acab65a61824a94790af76a0110218108b953add5264f5edf33211d80ed242f2ad4e4c124becbd
# Deterministic Sig: 303502180f0a1524f07358aac71c5a826e32619b706e7c2af3fd5aed021900a1399389057e2ad80ac51fc6bdd1ebe104c613a334ec5f9d
# prime239v1 (named_curve, hybrid public point)
# Random Sig: 3040021e58593b4d9687de18b3cef0e034643ecc37370f000531389cd09efc6a13f5021e08b043e52c5e75d5aabbd8cf02c1f5978e91e954b4310860ddbed5a60025
# Deterministic Sig: 3040021e7eeba0211e26b1f96f4fc4495f1f22f2c33b00ce275aecc8cebb0bf6bae2021e434dc58f35f4c2a3ea7e33d5929e302bdc1151eb80f7e3fe6fc17ecf9b42
# prime239v2 (named_curve, hybrid public point)
# Random Sig: 3040021e1c892281dc12f37207869f5bb8c21f0cc32055ca589471efa7c08cc5951e021e6309e7d0c5dfb963ec4304bec1717e691ad988ce5cab1ab6d929c60f3eda
# Deterministic Sig: 3040021e1d2c706bada30e9fb74b2b16838b1bfee50064f8d360fbf6dc52e15b00cf021e736ab6ea89213d82dc5411c045a8fe09d9c4be5ac85d147d19c36d25aae0
# prime239v3 (named_curve, hybrid public point)
# Random Sig: 3040021e42fcab09747086dc3a08319397d8c30376fd1b7ebdb914460d98a03f017f021e34253646cd601fa3b1b872ea73df78995fa899bbefb642aea0ffc538e85b
# Deterministic Sig: 3040021e1ce63e5bd8ff9c96fcfd750edfa1de3c8def44d22b7c3fdfe54644954fdc021e2e5d2e16aae1a5931f1440fe6db99cb8b7c14f7817137c9e6cce920e53c3
# prime256v1 (named_curve, hybrid public point)
# Random Sig: 30460221009352309e36216429ba92e3e790c88aa56e0c7a88db919c329c033a0fc04fd04802210084096542badd1154566b5859c5b62288f35bcc0a62adc7a18633c9fede46b86d
# Deterministic Sig: 3045022034d1c9be1a23031e40957f7f180784d4fbc7055437640eaf602864cb9a57adf5022100a482d98a5439787c9b71fbebfbe0226de03e2b8828d77fc1292e263ca46b5488
# secp112r1 (named_curve, hybrid public point)
# secp112r2 (named_curve, hybrid public point)
# secp128r1 (named_curve, hybrid public point)
# secp128r2 (named_curve, hybrid public point)
# secp160k1 (named_curve, hybrid public point)
# Random Sig: 302d02143c4fc0b6a66b7ae3407f7a64dfaee8e73afd75d4021500dddc931e374d9b63b92ebf578ddff0ee87775fa1
# Deterministic Sig: 302c021450ad42b65ce31bd1f026dde82024b9d3d4cc0d170214220557b034d0e823b4a3c2a6e9d381fa56088b9e
# secp160r1 (named_curve, hybrid public point)
# Random Sig: 302d021500a21cc5de24974d602829ea0f58f8937c2bf1f4fb02140e2141cd896961e66e1908d74d1bea328851c911
# Deterministic Sig: 302d021500c5378411f8c39b26dc5dd84900ebbb077b67ed36021466dbd08883c25e65f8f626a6bc345e427175d9e9
# secp160r2 (named_curve, hybrid public point)
# Random Sig: 302c021426c0daa91638290d14ac83a0d6f02925fb8d940102143274a7d701a35b2472ae24bda4208d7a10e339f0
# Deterministic Sig: 302c0214163509bb5bb864b20d81bff472c75f30449add4b0214092f1d9b3199a4bea9216b1eb0415f52fc3ee2c6
# secp192k1 (named_curve, hybrid public point)
# Random Sig: 3036021900cd6824986beabe53a2187e84e6f1a59281f31bec34ba8d8202190090b76dfe371336658cba572084fef249c0abd79fc58e7895
# Deterministic Sig: 3035021900cb32b7e084d64d72e0328aa49049086213990f08f0827435021833467b7ee874b21b87b5e476255bf51104e9cae9df33ba46
# secp224k1 (named_curve, hybrid public point)
# Random Sig: 303e021d00c65ba319c3573b2783c2883c6a384d49bdd75dfcc8972e8f0f588d29021d00a06a58b21727f9a94609cfc9be5ac961b7816c18a475b08f3cec512f
# Deterministic Sig: 303d021c6996832427a1f2855abf1a21933af979ec8e4bb5bbc416082e907d15021d00baf73916d76799dfc9c51ecc1ad38ba491167465e3f8230adfc995e5
# secp224r1 (named_curve, hybrid public point)
# Random Sig: 303c021c63d83fe46876eb0cfcf839aa735e9d9e5c84340c101258c054b1a44d021c77b640e2511584c0cc3fcf9f3d1723b34b9249aab20b4ec8c87f904e
# Deterministic Sig: 303d021c40557424c0d97de642d3f4250706672253fa2c00fdc8055277ea4959021d009e7eb99fd42082968467550d3c1324cf1169bba7a71c6018ad445149
# secp256k1 (named_curve, hybrid public point)
# Random Sig: 3046022100a52e3f85bc2760a220d6560a7d30c90f10b1df6eb3390c34b799a9a35e3dbcac0221008d4d2deed35f6c4b3811bbd0d519e2c5efc9476bf8149e0911c815dbb333f0c6
# Deterministic Sig: 3046022100843803bb6dc08e54975211b5bf9a05a953e549ddbb4a948a31908597bb7780e7022100f47061079606119c9959c4a1959329a6ac24cd7ac19ebbed8de8f2d50f76a891
# secp384r1 (named_curve, hybrid public point)
# Random Sig: 3065023100ca3dc95536c9875104a88cdd5360e403c7f18b6e420bde190ff7e026306fb7f45c2726b9ce18d9b7860730e8106af487023044ec6669743aad65e3c7c51dafe43256dd9cbe2f897ff6a84febae1083a0e0af8d0e6ba19552080d54f4bc6687aa0b0f
# Deterministic Sig: 30640230324c84c2f4e0cb0268d446a0db5bbb2e4b7dcbff93f09a55d823225095590a54e96af1b202fbac4ac65c48d7e87fc10002305853d71796d341a559a162d8f0d59efdd256e263ef2d7142cc2908f616ef600bed02e47cdef625badcec9f0ea1fdf1d8
# secp521r1 (named_curve, hybrid public point)
# Random Sig: 308188024201bbfef81a96197bff5d21faee3a0242776b10e00cf11480e4459c1c33e1290334e0b8264442d0368508930bf9b4b3971ce0936dffb28479e0ea94909751fe5da9cc024201132fe98e8fff2fa699167b8160e3e33e0bcb44db45f6625a584cfe4bd739d6fed2c996cc570b315dabf5ab2560995ff330612246a180bf529c11dc124fd5f34e8d
# Deterministic Sig: 30818702410142a7c982d95b1e10045c56e5584eea34ee49af05cec51c7563a20582cb7339bef6601e3e37a19f8846deef8e495e46de098740b571c88cb91ff2dd5bc346f22a024201bee2c2da2e8d46c70d7df4dee682ef64e3a4e29c777067b9146c48886a8385b4e2bdaf7ccd7099674acf295ddd1a261805236a422fb13b829bda52bd79762f7f1f
# sect113r1 (named_curve, hybrid public point)
# sect113r2 (named_curve, hybrid public point)
# sect131r1 (named_curve, hybrid public point)
# sect131r2 (named_curve, hybrid public point)
# sect163k1 (named_curve, hybrid public point)
# sect163r1 (named_curve, hybrid public point)
# sect163r2 (named_curve, hybrid public point)
# sect193r1 (named_curve, hybrid public point)
# sect193r2 (named_curve, hybrid public point)
# sect233k1 (named_curve, hybrid public point)
# sect233r1 (named_curve, hybrid public point)
# sect239k1 (named_curve, hybrid public point)
# sect283k1 (named_curve, hybrid public point)
# sect283r1 (named_curve, hybrid public point)
# sect409k1 (named_curve, hybrid public point)
# sect409r1 (named_curve, hybrid public point)
# sect571k1 (named_curve, hybrid public point)
# sect571r1 (named_curve, hybrid public point)
# wap-wsg-idm-ecid-wtls1 (named_curve, hybrid public point)
# wap-wsg-idm-ecid-wtls10 (named_curve, hybrid public point)
# wap-wsg-idm-ecid-wtls11 (named_curve, hybrid public point)
# wap-wsg-idm-ecid-wtls12 (named_curve, hybrid public point)
# Random Sig: 303d021d00e6c0a76a8b6371d7bede9c64330c4ff787599b4a51fdbf8a44f68e3e021c74601365a6872ee593b6ddcd4c441fe1090740a8137498cfc6567026
# Deterministic Sig: 303e021d00945cd29d1b22597ae1350c9ce001af2448b13b6bd2738e897672caeb021d00d891661840e5419f7b6524816bd0e592605e9eaafafe12844f58c703
# wap-wsg-idm-ecid-wtls3 (named_curve, hybrid public point)
# wap-wsg-idm-ecid-wtls4 (named_curve, hybrid public point)
# wap-wsg-idm-ecid-wtls5 (named_curve, hybrid public point)
# wap-wsg-idm-ecid-wtls6 (named_curve, hybrid public point)
# wap-wsg-idm-ecid-wtls7 (named_curve, hybrid public point)
# Random Sig: 302c021441ee7a0803138158638df732882105dde62ccc2402144913aaee3c2a3888182aa31a9e8a8376121a8ffc
# Deterministic Sig: 302d021500a1f72e47b32f29ff08eeb08c6faf9273b22dbb3302140ba73d157ac1b217f2f60d58ddd750ead33a64dc
# wap-wsg-idm-ecid-wtls8 (named_curve, hybrid public point)
# wap-wsg-idm-ecid-wtls9 (named_curve, hybrid public point)
# Random Sig: 302e02150085622f38ccf4ce90fd67bbf1e68c5e11bccb387d021500e377ea97eef5d5bf19455d7eb86642872bf15f93
# Deterministic Sig: 302c021411aad2aaafcbc678eb16353ae4c80d1c191fbefd021452c2038dc7a1b9397b6a17b911e58bb82294c437
# brainpoolP160r1 (explicit, compressed public point)
# Random Sig: 302c02140b0a045f827c9dd404d60c815f899b4a5bdf5329021440154ae344f5dc228250558c7139356784ded444
# Deterministic Sig: 302c02142013efae7d3b90511766d0aa8f5b038092a4fa38021403fef3e465448660613ca779727bf5ef485584ce
# brainpoolP160t1 (explicit, compressed public point)
# Random Sig: 302d02144f5ac51c1c9ec7035acb40d4dcb3b7b9efa5000402150091a6019b7097dd4562aca7ee2cccd8ca8605008d
# Deterministic Sig: 302d021464512f8dc9e2136ae8e698232266857ccffa5bad021500c0e7a4ea9b9742310baba53f0767606672ab1a4f
# brainpoolP192r1 (explicit, compressed public point)
# Random Sig: 30350219009ffbdd422b463adb27854832ae34a2289d70f931c5022e6c0218444a6afe021d61ff9119c9976fe220495b9d6c94c7428b61
# Deterministic Sig: 303502182d1ae3f53f9c10773106d3caea59c342be7739ea3c2293210219009704fa1cbe6dfe1a65a7a1beeca8e63ed21066c783f262a3
# brainpoolP192t1 (explicit, compressed public point)
# Random Sig: 30350218519090df960f893533425db13fc05b5a11c3e80ac2f6d157021900b2efc680801c19259b36615397cc8b49f50a706a77ae470f
# Deterministic Sig: 30350219009c6c4d45658f579152c5e416b30a41dfea69200609b5dc0b0218737a1f0cd238ce3c68ced7a49b594cdec65b13f5b0ec211e
# brainpoolP224r1 (explicit, compressed public point)
# Random Sig: 303d021d00a1f9336dca7ea14037923a833aa78ec60059e59294bc5860328e456f021c1989e33f24fb1206a7c7b9e2dff0b2382510894d8200ffd00b658822
# Deterministic Sig: 303c021c4ec4b26c4b9433453cb8b84511720b9714264276434cd5e66c766934021c10cda8ab2dd764d87727ae4630830d45ab8e79044d3e9e6e6e26842e
# brainpoolP224t1 (explicit, compressed public point)
# Random Sig: 303c021c6a6d960429067e1d81490f682094a67b447ddc295764b7c1c6241834021c69c80537046a3f3013c265b8b996aa21e4415cff189bb675b0bfb90b
# Deterministic Sig: 303e021d00a886c50ac4c7fa8cb4555a9e1951f87566c50ad165c035db9b512539021d00b22c37a1a51ca0822879534d0f0faf9fe44f1a42774bdbbb928a87ea
# brainpoolP256r1 (explicit, compressed public point)
# Random Sig: 3045022100962507b90f4c212259d6b79543e3b38f69a46650047cd0ecf1e05c6cd8ef8f2302201506df70cabc5193378ccd2ec725ac0fc13ee30f8a95422f42b2a5c469366e63
# Deterministic Sig: 30450220764e7fffa21b83fb19c969a56d3c198a8585ffe5ccfac7dc72c8be9fa7f0afcc022100982b20aca8b07187f1fd7b2598d9f6a21e3e9d3c9bfb3797690d242fafec14d7
# brainpoolP256t1 (explicit, compressed public point)
# Random Sig: 30440220639b7e199f6da352a39b6efd2e7311861e97af061a5ae90397cc4811d43cdfc20220455e1f1553c1b9ab20e4a1274f2aaacad72232382dbff4bba2f62ca32bf0f219
# Deterministic Sig: 304502204542777fa7a0fbba667933d1ff896e89dceb57b34ca74b1a7d9e715a2c01d3370221008203f15b13821ec6c1f433f474faf39de563af0bc140cea2dbf9e77ca7acc738
# brainpoolP320r1 (explicit, compressed public point)
# Random Sig: 305502281b491aeacc5bb63d28a0737f2b2fd94d15724c80c179c07a95d0e8f3a487eaf02943126de728b6bb022900a43699fcb9ff775d0ea440fb350fa6f2e4fc104f6de893145788f1fdbd2ff47bb60955adee494353
# Deterministic Sig: 30540228430a1ff12e5afc486414c719f43e86d1e3f7306952537bf5f0ae4357a49a25d9ca6e5810ab3a558c022828d0ee87effac413d657e9841556a9077b1d8dcc9ecf2ccfb8642f4a7cba1be89d61dae7b06618a9
# brainpoolP320t1 (explicit, compressed public point)
# Random Sig: 305402284798c4be8d467cfe38ad8c2379a4690cbaa0432cd057b5a03103f9cbaee3e5cd99ae2cb10dae4116022857c6b9e5ccc41bdbf5c71ff74d491b187b82f94ab5ab62c2ab5cd5fe0d829e91694223fd642bb04c
# Deterministic Sig: 30550229008c16384bf53c4e004a0af052a0ccd43c099706f93f7418781d7bbf46cb04e8f2e8ecfec8e4ad9f5302283b92952d22230a46420a61f92d4bf291b89c9ee613b5d43577e6fcf8e8ff8fc0568dec5e1e6e0828
# brainpoolP384r1 (explicit, compressed public point)
# Random Sig: 30640230704c4a5bae558aed642b00c5bd24ec5bc4a189df9f612b0fa4d81c6db110ebf0eb3e2b868d1fae177adf65b05eb4832602305b6f5472b7f0bf7c2cf09a58b6ac3e4a2bf6aba423ada2b3b24f8e9c931e49360a67efdb99a26f512d5e50cb0ecfe627
# Deterministic Sig: 3065023045d72f55aac3ad7f17cd9b6f4efc810f61e43011920a77cbaa6956ddf4ba7c1092fc670192398e4e33d31238ccaec80d023100811ab139b0eed668fea64c837071e351d46549a4df0fa5fa07ad1e8419395ad6ed255397e73a25406717bca21c6b29c0
# brainpoolP384t1 (explicit, compressed public point)
# Random Sig: 3064023062a9a1451d54c48e7f99345f5c75f46c8a8336e268e3bd03e3e40b9d1dbfe2403682a54532fd554d564f65b9af4d41e502302a219d99548c5a040a8439913b11c6a17c9e516f3ef7e31572b30de32b32b0eed9b923c22c164d365a089b4cd86f1f64
# Deterministic Sig: 3064023005ac03fcc172f94c63c89046266a3c52364ba2dd99ee027d65d5503584524aaa7ce0d0e5e79fdf37b348fb862bbc877d02302ca6994150b1c9eea7949307a276d7ba58ab34dc085650318b114f8d418fb1d2e41d1d0c9145ae8f933b91ababedf9a0
# brainpoolP512r1 (explicit, compressed public point)
# Random Sig: 30818402406fae35b724f8c4798494266de90d94e2263264bc4a376f51564588964836d17281ae29a379a9bf098808cd2119e23dbefb0d1f1e9c7a70f9de380bfe0c5d30520240619edc0874def66cd57a82fa25528fdc5d82c1932fba56a9393b4769ec496b0aa8f479609f960ad65ea825aa7474ca04f9b3add855a88b877d2844a3393fcca9
# Deterministic Sig: 30818502404ba61811e5340dc004a1173f36dc5cea1fbda207c6ee0b992d496830096760a958d91a11ded05d3a933e6736f596da45faaeebd99630f7e296870809907cc67f0241008a68be527ba1f30dde82c4acdbc682a7938fb8fb1b330c664562e27672a0ed25a1efaa9a30aac04c49682e5db34cacdb72641951f916dd2d1ad8393d43272af6
# brainpoolP512t1 (explicit, compressed public point)
# Random Sig: 30818402402f91f1f78808434af82d9e869d798b1eeeb733c5bdcc5399bde953dc1eb062bc9d38ab0a7eb39c032e9aea45ca76a778828adfdcc3ab70d632ae37322495a24102404ec3ddc1334c84937fce73f374398fa377f412b93462b5893d0253f796300ffda0a780083d788dd61660070d5e585e3a71e47d39794a8bdd98fccdc072dca62c
# Deterministic Sig: 308185024046d13c946b0cf6109a223a2b570a35a12880cf5bfd30b4d30a2312ac81621152c1c539b82ebdc0ec1018dd16d59e76c718f2b51d76caedd216695d00d518cf1002410098b6c9769c3e4d5f799656a351b41de50b3daaa5878136bdba1203763ef1e4f60def4d7bcab161d144ce8a5da2b80ec7cef81de3b92c1182288149fdb1d8bc1b
# c2pnb163v1 (explicit, compressed public point)
# c2pnb163v2 (explicit, compressed public point)
# c2pnb163v3 (explicit, compressed public point)
# c2pnb176v1 (explicit, compressed public point)
# c2pnb208w1 (explicit, compressed public point)
# c2pnb272w1 (explicit, compressed public point)
# c2pnb304w1 (explicit, compressed public point)
# c2pnb368w1 (explicit, compressed public point)
# c2tnb191v1 (explicit, compressed public point)
# c2tnb191v2 (explicit, compressed public point)
# c2tnb191v3 (explicit, compressed public point)
# c2tnb239v1 (explicit, compressed public point)
# c2tnb239v2 (explicit, compressed public point)
# c2tnb239v3 (explicit, compressed public point)
# c2tnb359v1 (explicit, compressed public point)
# c2tnb431r1 (explicit, compressed public point)
# prime192v1 (explicit, compressed public point)
# Random Sig: 3035021860c8ccf591168c39bbb3edc7ea94a51bf24bb8963d18ca640219008a813abf000309270f2b21fb54b5d206f47e00b1da27aa8a
# Deterministic Sig: 3034021867ef98b2ca7d11f8bcbffba4c1b9f0903437a99248cd399b02184b5005276691e5cbeabd65a2de562e6aa5c96a2b96836fa5
# prime192v2 (explicit, compressed public point)
# Random Sig: 3035021900a95cc89ff5a73007c8fd835edbb43d24760bf9b1c0e0f4aa02186cc388a9b40b8925674407407814d6a7c86714416795ee9e
# Deterministic Sig: 3034021847e71e29ccef6e58796e3a40693b66c056e74e104d0214f102183a8fb5c8657326fee9ce70db4903af076bca20e1d93f8200
# prime192v3 (explicit, compressed public point)
# Random Sig: 30340218496c6d3b7a40d3d025e013699ae783c74c162b554d687bf802185fab5f0cc9443c2b982ec8b4a0ba2b149ef3765261cc8e13
# Deterministic Sig: 30360219008fdbd45f7fb59833c3bead3f4e285c1fa5876cf287addd42021900d129ade31d01df530006d8eb1eddfdf1f811faf58fccd59e
# prime239v1 (explicit, compressed public point)
# Random Sig: 3040021e686a9d40949a41c598f40ae233d5f6767984fecbef1a08d9fe822474d32a021e3a1c29191e66956480e5fece3cdaed95c6bceda7716ff099e399b0225a51
# Deterministic Sig: 3040021e53886de56647d0e9427301338c3aa2f6f90c9d05d2cb8b6a24c98a927804021e65c473bc09d9970b2c6f6698a6d4a3c55a573fddc2d51e35288f03b86e9a
# prime239v2 (explicit, compressed public point)
# Random Sig: 3040021e36b260162aafa12dba8590988e36aa43c8609e4275750bda9fd48581c6fc021e394e37771b53fa151226774ac99b8d421f0b0b82fb980ffed4e2da4d3cdc
# Deterministic Sig: 3040021e01a3ac2caefcfb679b10ea1afe909156a3852f9c0621776b1401bab0a9b9021e3fe4c37662de597e4130a66136ac12e10ee54db3d522a3021bdd8438b5be
# prime239v3 (explicit, compressed public point)
# Random Sig: 3040021e4eacc35d2a27651959ca2d777310d0750e68dae74b73ea590f5aeee8baef021e613132743c55cc58fae069ad90282fa2d610f130abbdeb4a421d0859b494
# Deterministic Sig: 3040021e79e64623b00d776a3066f9787cf624462a52925eef45214bdfe688891ff6021e13d83e68a73304ac22443e4786d7d55c81fb4363dc4bc13036212e011f8c
# prime256v1 (explicit, compressed public point)
# Random Sig: 3046022100a0338b40be00c48a7f4cae241fdcdccb7df3c4522b46db6757a728ae4141fb1b022100d730904316447c70b7ab25f1072bf7bb2694815fa2693339770c30c82f50c8f2
# Deterministic Sig: 304402207b7349c0748b05f9042c2a0b85b702762283a2c04187d411231c8b7fc7d97e4d02203fb6bee44c864255e55094543c190eb5a2ec0a662681640610d7e01c534f9b9f
# secp112r1 (explicit, compressed public point)
# secp112r2 (explicit, compressed public point)
# secp128r1 (explicit, compressed public point)
# secp128r2 (explicit, compressed public point)
# secp160k1 (explicit, compressed public point)
# Random Sig: 302e0215008fa77b7e43945a9b0826caec29ed57609ed2a6a3021500f9ece6b521097bbae11b301069639225e2eb8284
# Deterministic Sig: 302d021408a4b1875722ebbcc8e521a37e950c0f88d77971021500d5789c1db7a1e726c225d933188926e64e62a57b
# secp160r1 (explicit, compressed public point)
# Random Sig: 302c02146f0d510f8133799bb31890fbdc53fd451a398daa02145dc9a2a5f57f00325ee205c65240bb42aea95818
# Deterministic Sig: 302e021500f00110a9a5236f179b4caf9137e55d080297318d021500a8f2287bcc20b419cfb8863cefe2b370076f28a1
# secp160r2 (explicit, compressed public point)
# Random Sig: 302d0215009b68f063fe41b3d319ff88ac6622fbdcbe15253a0214555900db6bf666381e0c072c662dbbcbf5677b0d
# Deterministic Sig: 302c0214282d3c3216f2d4b5a5cb5bd429a8289197e55d8a02147a1a71da2439b1a5e4edc667a7242d88ea80a00d
# secp192k1 (explicit, compressed public point)
# Random Sig: 3035021900c7d5bb1b4d06555d6ab47c025a69c68eab21eca2a12a371b021822395366a510cd9b49f72b17c896978472c0374dfbf3536e
# Deterministic Sig: 303502185b0e72692e22213e7147cbf2d47192dbc516655c35a1608e02190088d7ba0114226581e3917cd88e1f918a94d1b6c6e7a46df8
# secp224k1 (explicit, compressed public point)
# Random Sig: 303e021d0093bfbaa15e23b9ef905ff6dca31797c209feeb9656b86c1e85bb0d57021d00d07b20f08f7b4f406b8f40fcaa2d899476f922dc617045947bd34c17
# Deterministic Sig: 303c021c34247d6bcc638303e918a5d406d0b771ae90523d07ffdca766f6eae1021c106156c6ab91ad233aaf14615ca64e638b69b75618daa3b361a6191d
# secp224r1 (explicit, compressed public point)
# Random Sig: 303c021c238f31fb538dc33dc4ec7cf385236ac5a1752d9d34c3ee564f9e2e44021c3f0e1c88161ffc1b03e3bc843e432543b1782c5dc05a59048aa22f72
# Deterministic Sig: 303e021d00bbaa8d802c29e4a287e0b92272faa06670df8eefe90afde910627d33021d00f3b6cf56e3ddd0c06355dc5360f12c617238b985eac324d7eced528b
# secp256k1 (explicit, compressed public point)
# Random Sig: 30440220100f7f060cd83ffe25d711a8abd31df6767ad6e4eedb31972885ab3b9e25311502202d31d2b90b4c62263348cb6b5d247beb8839b4f62397e4a84b572b571252b4ce
# Deterministic Sig: 3044022053619fc8b4a40adc4749e6a4fb7344e1b78b05bd3b18743bf5f682299c19ff3c02201727be70c88b1737ad61ea844696e9dc069f35cb8ba564f26932d791b3868b3a
# secp384r1 (explicit, compressed public point)
# Random Sig: 3066023100edc5d0e8ab02164c844bf184f495c501c9c8d1b25ba4f75875e397d52e5f3808989c02ba89eb6fce1df28d8e5c667170023100fed80ecacbf50677df9f01f7b3d6ab400aa5bee1c4056d1b7d23a3073cc3e30ec6671818accb24e91d3c6c34a322acb0
# Deterministic Sig: 30650230693d08f38559fbe2cfd6e1f762858cfa85d6749db75a7cd8a94ec15b3304c3371efef28b81423b2470dad4159076795b023100d33c2d27d0a631dba6241d1c0bfe76d2dc0650b302145d39256fe7c36ed70d0a46c02bc6aeeb3310dfecce72b7f0d503
# secp521r1 (explicit, compressed public point)
# Random Sig: 30818702415e41e4262bee481ab744685905a8300bc02b13d9630696c4a5ddc0eeabdeca3d450780127391bb061b71446c8b9d9512cf21e6cfc230710cad404230956e54da5c0242008bed3a8e4cf467a70ccbd753f88a71194f585c447952ad8be6251bbfb0dc214dc4a6ffae2199e65e87e6555aa8d78a63054175242ea7e22f6b2bbb0c1853ea1956
# Deterministic Sig: 30818702417f38cdd623a0c89595ea2ca66b4e749a5de53e0e15e0399e7a39a433e1701fb026dc762d24a69669a36a546b6e87b1e72cbfd2c037cc432149c76b0338d924dbd5024200f5375d793028a925d5250de997e709213dcda5f6a921e4fb7654f267efb92ab25415d10f1c202cdabf6450cf24c3372478f1c0116336b34542ac9dbd7c0fa84cd1
# sect113r1 (explicit, compressed public point)
# sect113r2 (explicit, compressed public point)
# sect131r1 (explicit, compressed public point)
# sect131r2 (explicit, compressed public point)
# sect163k1 (explicit, compressed public point)
# sect163r1 (explicit, compressed public point)
# sect163r2 (explicit, compressed public point)
# sect193r1 (explicit, compressed public point)
# sect193r2 (explicit, compressed public point)
# sect233k1 (explicit, compressed public point)
# sect233r1 (explicit, compressed public point)
# sect239k1 (explicit, compressed public point)
# sect283k1 (explicit, compressed public point)
# sect283r1 (explicit, compressed public point)
# sect409k1 (explicit, compressed public point)
# sect409r1 (explicit, compressed public point)
# sect571k1 (explicit, compressed public point)
# sect571r1 (explicit, compressed public point)
# wap-wsg-idm-ecid-wtls1 (explicit, compressed public point)
# wap-wsg-idm-ecid-wtls10 (explicit, compressed public point)
# wap-wsg-idm-ecid-wtls11 (explicit, compressed public point)
# wap-wsg-idm-ecid-wtls12 (explicit, compressed public point)
# Random Sig: 303d021c486ca1c32a1e16f6fe345ff72c1bd88042c1fd6d8d5ad5f620a9716e021d00fdb7edb93a19db7d57d2e60d23a0ff5b2333ef63bb37b828717ef4bf
# Deterministic Sig: 303d021c233bb6bdbb80dbf9d9453d3819e3d602d9e796b14d0e68d07fc87a5b021d00edf5d74f117a3f4925e3ab3aee2d3e8ccf7f3c60ca4b825d1805de58
# wap-wsg-idm-ecid-wtls3 (explicit, compressed public point)
# wap-wsg-idm-ecid-wtls4 (explicit, compressed public point)
# wap-wsg-idm-ecid-wtls5 (explicit, compressed public point)
# wap-wsg-idm-ecid-wtls6 (explicit, compressed public point)
# wap-wsg-idm-ecid-wtls7 (explicit, compressed public point)
# Random Sig: 302e021500f3d4faa9d93209b015fded4f30a9a966d7021f41021500b99a55cbcf902376516e555994274e3db96dd6cd
# Deterministic Sig: 302c02147212a2bb28b19950b6e6e409758f3dc42c3b43b90214136bdc4146dc4ada330f49ccb8d1f59bda5754fb
# wap-wsg-idm-ecid-wtls8 (explicit, compressed public point)
# wap-wsg-idm-ecid-wtls9 (explicit, compressed public point)
# Random Sig: 302c021429ed9a743e75535857fa05b91dd682ea7c8edef502141cb7f67fec1a9c4790b491d5a54b610d49940de0
# Deterministic Sig: 302d021500d4608b3204f134be17a1d932fe8a8b41d7396b1a02141119a6aabbb6f21df9eafd2be97f72c38815369b
# brainpoolP160r1 (explicit, uncompressed public point)
# Random Sig: 302d0214345de35e422ae00b7f7c461c2d2970f77fdae098021500cf0c3d1551cb72534ed317f8947d0ac760a64c6f
# Deterministic Sig: 302c02143c29da3ff043a964228f41128bab00e0fe53cab002143c6dbc1bb8f66289d3ca06768e1941172f52a649
# brainpoolP160t1 (explicit, uncompressed public point)
# Random Sig: 302e0215008fb0c260500504654c6d3d47ebad36fe8b6b0688021500e4b146d76f3c53ff72695fcbf279dead63f64d55
# Deterministic Sig: 302e021500813713fa17975824ba7d3e7737b57e704d4bcaa1021500e4469297c52e6cbded20ca6de6b5f007cb1d2d5b
# brainpoolP192r1 (explicit, uncompressed public point)
# Random Sig: 303402186ed696019433acf059e564468402c25012529fddc4dedbe3021872cdc28f7329f4c67f782e3da54620e79e39580262fc21f7
# Deterministic Sig: 3034021812cfc77a8b4406eeda071ffba69ccabcd64cbf06ef782719021877d1d5093f878ecb32f894ea93097757c39b1b8d14326c1f
# brainpoolP192t1 (explicit, uncompressed public point)
# Random Sig: 3035021900a5303bc383ea89ae90689a333d3fe0cbf0c78803a4925aac02187dee65e3f18e93b472c440731be1abd45eee8dc9be59884d
# Deterministic Sig: 303502190086633143bf55f8d4a6e165d58211c3fab205c157fe6faef10218101c14bbda4abb85444a8aef5f1d3b73c42a7c9c9e94688d
# brainpoolP224r1 (explicit, uncompressed public point)
# Random Sig: 303d021d009efafadb8575590ca43460d2d1e5388c82d1bc9720bc5d84c9107c96021c21e90a555c93c7e3b96a5c2639aa26823a5c037b6a356075564cafdb
# Deterministic Sig: 303d021c31bb234cb5255c7edc13085d4bf472010551a70370a7a49310f4db2e021d0084861d09738bf6756a7e1dc54e84472cf1ba82c4a8d2d39ea1bdef13
# brainpoolP224t1 (explicit, uncompressed public point)
# Random Sig: 303c021c32b4e4b16c26a7d26c1353cabb2a28cfbeb8fd7c4553a38db1edaca0021c0856413d0ec9690ecdb57ab7ac12ee18e9d26612080e95c82e5398da
# Deterministic Sig: 303e021d008107d75a1e55dba52c3a38220dfd07aa2a81bc1c64cc79ed46119cef021d00a0149ed6723f7a40ef57cea1798ab97dc497bc81f8baa77e63d97511
# brainpoolP256r1 (explicit, uncompressed public point)
# Random Sig: 304502201edc841960fa9f4a5d7ee4aa017b64f2496e0586b125f4bbbe79b8fc10c269d50221008addee9cf9aeac4c9a5231baad959a415544613258b2f021814cefb26d073a4b
# Deterministic Sig: 304402207105133c50fcbdfd8ecdc630728fc9aae29a8f7c476d93e12b21f93294a874ed02204bef1945af383281726a92255ddc44c05b0f5dbbe94209df41223301023ba0c7
# brainpoolP256t1 (explicit, uncompressed public point)
# Random Sig: 304502201dc7027677c48fd5ec8acdaf095254399c09caea56e3a7a1183ddb9afb58c0f402210097c75a6ddc957018aabe90a5b16331ee4250c1c868128ba17dc38bfc31b05b0b
# Deterministic Sig: 304402204b5d8c46a9e9b151cde7fbe775ab496dd5dac9e0c402ab245f6818fb2cd009e502203b6ce33fc032803464102ec6adbbbcf68eed3554b788a1b2a2b5c2c6f03fbf93
# brainpoolP320r1 (explicit, uncompressed public point)
# Random Sig: 3056022900aa733fc5ef32e785581400ce3896bec8784d9e82202cc1e59e51f636dd85942ce2f8f238cd1bfd800229009056ca04b8892c6742c9bdc0545036013f8cd65d75f5acc63c83286ccf07483844252ebef02937e1
# Deterministic Sig: 3055022836a6f0706b17c21113caffcbc1672b9070ff4d5e96ea6bd53bbb331f76a2a5b4e38280ab6ceb665a0229009db390f7b75773f1b418654f1a3a3225ef4c4f0f912f30c60696382e2204e2d102440939503e6e17
# brainpoolP320t1 (explicit, uncompressed public point)
# Random Sig: 30540228258a2f42fc3c087c2f44768c63536e19b4ddb23f68047022d602dc0609928abc784c0d43cf72586e02282b08f000dce675041e6089107fb05383bf590dc79f94d7a71d2273267d6e77ee39881d841c904237
# Deterministic Sig: 30550228768387cd7458cfb00200cfd720b4872e66499853b97a62575e66f90c2e22dfc8dee17ad0aa60cf40022900ce2082e93bf0ac803990650da30814c70d2c59a552cb4c1920068a45c6699960454516b76ef174ff
# brainpoolP384r1 (explicit, uncompressed public point)
# Random Sig: 306402303ee029ea8e6cf13c0846b7b2dfad0f06e45eddfed243e95d134655e8acdb1085259f147200ad9a62a34731c5c4ec0d570230611211151c00cc478a12fdba16030ea24f5163eb3ffee89937ad74e66ef64d63e21cba99d341aa3476b5f1af8de9ab63
# Deterministic Sig: 306402305bb648e5f30691d3882961e7ac385c294bc9ba033c1708031f7ec4321c9e62194429d9593a9d4f1de5f1bb57d3351a7e0230102c77842583a71a0761f5ff7ac433d2398bce55acbfa6fa2befd468c0412c38f57f67bfa68c280a00b8d73d75e6b70b
# brainpoolP384t1 (explicit, uncompressed public point)
# Random Sig: 306402303b8d9b33cb1974b47063bbde945a3be21f759a1323b7c6bbd772f532f46b9d0d164d3be30deef08c5f4f49f7d4a11a2b023037074d649091a93240d52f1cf34f6bc6676da0397f95641144e60fdd13c6759e9d76a5923d0e2bc7aaa4b5c13fb70997
# Deterministic Sig: 306402301c5eb91078bb068b754da6263efa2e0e0b66231dcd1040329b7ac7e2dfd666866f5c4e7062f100a31030a72bf1e82a89023025cb4113a5a7b5674756f8a0bbae1003ee7d0917a43b23719ff51b3075fae702172f5cba6e3e177dda85e0f908dd4f58
# brainpoolP512r1 (explicit, uncompressed public point)
# Random Sig: 308184024021192374514bd2584e1b49bcf8cf6c395b7655de859222da339ffe91edc2b84cabd0a33a65659a382af2da5c13742fd78205e0398c969abedcce2d0fb6a380240240291124c604e9889156842cc091c6ee88b49b8695f1a2c14ae00ffa03651e3e4e069b82d38d8c638aeea8c683ec0d379e96715f726296559fce802c6184b65cd0
# Deterministic Sig: 308185024100a8f35ca7ddf81136f9e09b8dba8121894e44dbd1650b50d113ca3f40116e1ab38d352ecad77b672fd3de1c4ab09c39dcbbd818e048bcd3bf38d674c74ab603260240260fee40451542a5d6a1b9bad749db12ad4284dd026167642e589a386c67d995c1791774b165796c2c0bb9c0bbd65160513d23f7c6816fe5b81a1d4671cc5874
# brainpoolP512t1 (explicit, uncompressed public point)
# Random Sig: 30818402403be652b947623c9b5736850905001ff20c42ec5bc8268f9247fc5423e59b959c9870daddfa45de5d7a9e4fc5aa357488f3ebae20cef4fd762ac684c2551a14540240744508a2f8ff1134b86a019060d345223389d650c6bc8d9b7817933e5083784ffadadc48f034de7204c2279aa5bd99a9742933d83c440e69af38d69d1c92adc7
# Deterministic Sig: 308184024023454e11b57b218ef447dac4ba94859805f1f2951a505b46fb3a69c36ab448d928642ecdc830969d9cc4c26e4de1c5184a60039697711ab2413da8728dbef84e024079898b20bfc43ca62725395261735d9742ac53b7481a914db563b9e3fc58e8136615019e43abc314a42f6733202c244281524652688b07cfdbee87f63cc24a49
# c2pnb163v1 (explicit, uncompressed public point)
# c2pnb163v2 (explicit, uncompressed public point)
# c2pnb163v3 (explicit, uncompressed public point)
# c2pnb176v1 (explicit, uncompressed public point)
# c2pnb208w1 (explicit, uncompressed public point)
# c2pnb272w1 (explicit, uncompressed public point)
# c2pnb304w1 (explicit, uncompressed public point)
# c2pnb368w1 (explicit, uncompressed public point)
# c2tnb191v1 (explicit, uncompressed public point)
# c2tnb191v2 (explicit, uncompressed public point)
# c2tnb191v3 (explicit, uncompressed public point)
# c2tnb239v1 (explicit, uncompressed public point)
# c2tnb239v2 (explicit, uncompressed public point)
# c2tnb239v3 (explicit, uncompressed public point)
# c2tnb359v1 (explicit, uncompressed public point)
# c2tnb431r1 (explicit, uncompressed public point)
# prime192v1 (explicit, uncompressed public point)
# Random Sig: 3035021866aaa9d49ce417ba78a931e4c8b6e63dba8febae3e7d352c0219008a0ddbb45f523f1a2dff3bd5dc7af1ab266ce76a7b249ca0
# Deterministic Sig: 3035021900c380e3da8f7d6d7e9c2f9a2e70bdb3178f80da7629b44edf021853c411366cec3216c3a818ce44a40fe6a60db54f8a075e08
# prime192v2 (explicit, uncompressed public point)
# Random Sig: 303502186ae1ca6cc7e5da3abc397779f7463642b3d44d28fd539994021900a4ef9e453fde495ad2f15907f836f353ebed006b88ff04a1
# Deterministic Sig: 30350218619d76b0b715e2d12909ddcaf16f9003039c59e8805f9d11021900c57455beca945d3c05eb65d8824deec3704c9f7fee98d1ba
# prime192v3 (explicit, uncompressed public point)
# Random Sig: 30360219009b8a42f370b9f418d28b01b9d4e2346913f44039a7f8f20a021900865090a4b22f2c4c0c1c519f03a159df85e6909f26eba3e3
# Deterministic Sig: 3035021855628c004e6c031efb3ce28dbbde656db19402a1ca75e2e30219009b1dbf75cd6ea26814f83c92b5c5fea6df18cd5739a02791
# prime239v1 (explicit, uncompressed public point)
# Random Sig: 3040021e26dec4e8200d710ba62163f67263cd69e388acc1ffd9923e04aa8e565540021e31ccda1755125f389df1d91144b48c935f5e3a1c33f9960f291e986e7cce
# Deterministic Sig: 3040021e616c309d1a49b9685e3d89d1a9f48b391fb6b43f3aba0a4e5e2f6ae4cd93021e230557e7f05bf7f1d1b56ec114270ec9dd2591737f98306d70bc65c9826c
# prime239v2 (explicit, uncompressed public point)
# Random Sig: 3040021e385608f75840e391c8c8bd0af0cd5aeb32058dc6f9aa75076cdb15a87fc3021e2ec34738386e638eccbdb7faa47a5906da430f59499b22b80cc70cf80292
# Deterministic Sig: 3040021e09017c8214b6d527d7257c5555e4730fa80bf3bb6fedf7fc2a99738b23f0021e6cb86f8857a640214be091d6c23df1e774219993485c259ddf3c0801cf84
# prime239v3 (explicit, uncompressed public point)
# Random Sig: 3040021e1078f8f8eafddfc5404353d7d139fc1c04832bfeaca494cdae9d096f0b99021e2b2e5facbcb5bd67591d7fcda889c6e014bb093484d28834c586e845bf56
# Deterministic Sig: 3040021e15c1237b7eb3a0ff870445957438b0fccb1838b5aa933e6bcf1c778a5766021e01f8960f0a60d7a79f2c92411005d2473b97948f51f49d0299b856e81f96
# prime256v1 (explicit, uncompressed public point)
# Random Sig: 3045022100d4754836f82cdd223872efaadd74135f3c1f451171c5a880fe5fc74535d48aa8022049d30b2153ab79b1deb65fd39e7f222b481201d7e425721066838adbb93e6742
# Deterministic Sig: 304502205129623acefd2a7eb3b120715b6266a83ca92e13ced69433e191c0eccd1bf5a1022100c1f653bdbf9c30a183e544917e5083f6f1e5ba1b517fb5261586a6f7d03bd62c
# secp112r1 (explicit, uncompressed public point)
# secp112r2 (explicit, uncompressed public point)
# secp128r1 (explicit, uncompressed public point)
# secp128r2 (explicit, uncompressed public point)
# secp160k1 (explicit, uncompressed public point)
# Random Sig: 302c0214130a9efbb03a797d47aada6920364c709e370c97021465d45f4549f9f5de3aadd9815b22085a2796d66c
# Deterministic Sig: 302d02150081cbfce1ecaedbce58d180469757dfbc3763545b021451211d8fe96f8aafdd0cf110d6a13551d5eed121
# secp160r1 (explicit, uncompressed public point)
# Random Sig: 302e021500e3939b0be77be35657266d83587992fca2924e3b021500daf681317684afdd7245f5dd3dd5c8b304b1ec3e
# Deterministic Sig: 302d02147de4ba07f2e4739df8f8fd844135b3697d3b8aaa021500dbdca6fbc6d926fc47f6661b010b0baec602336c
# secp160r2 (explicit, uncompressed public point)
# Random Sig: 302d02144efbc1971d80825a491e2b3d2f670de147ad7e53021500dba89a25039e681f334e1f8442e885a08a6d8ad5
# Deterministic Sig: 302e021500c1ec28abc4bc4f1fb2f07eda55661f51107e4536021500f842731cbe00b2a33caa986209ff69a4427b6cd7
# secp192k1 (explicit, uncompressed public point)
# Random Sig: 303402181cdfec4b78c520db1dd03929bf108a87428ffc2a1f637c950218336feff220c26ee3a170f34807700a15758fd623ae35ce01
# Deterministic Sig: 303502187624b34f03db29cbae26bb8b613e422fea105322991d99e9021900babe21a2743250a8f4af6904bee0f03064eb5029e90a1f59
# secp224k1 (explicit, uncompressed public point)
# Random Sig: 303d021d00d93fa64b274b3b31975de974f880a4707f8b60d433dc089ef91f5e4e021c5f0a66f1d7649b3b65c155c224db1763a9388836c91a74405efbf692
# Deterministic Sig: 303d021d00c48c49c77caa11cf35f7f1ab8c4ab6cc02241072c7cb040d58e39fa5021c0c13cd8c0a11763011a0a6b6c9382bcf69f73f68ccfdae0eeb9d35a1
# secp224r1 (explicit, uncompressed public point)
# Random Sig: 303d021c2419d578387c9c4db25abae10fef90b631d2d19817f2fd1640688b2c021d00fce2df8d7b7c93222c584d75487adf5cddbb59a58bd400ed45ef0394
# Deterministic Sig: 303d021d00c187ddfb8d159983e17ff3d20f2e1280182fb18ba446123f63e8461b021c73f0b2f42bb25f624c0d64b0942d752eafbb7e31b7b8c48f3e4b1c6e
# secp256k1 (explicit, uncompressed public point)
# Random Sig: 304502201d67be8c1a4b624d5e7ff7b2a6db942cb91baeab0cbaeabb3d0974a6974ec4fb022100cad34542f7b8f9cddc808676e4231b474d360d05dad4c10b59a31f46a1aadeaa
# Deterministic Sig: 30440220219e139e29dce17a5c1442910f4ec69f2816af6539de5c6c93684b348dd75e8602204eec70c39a8ee41df35a8af6a34a1e711e694f5ca341d244895e45699d15180c
# secp384r1 (explicit, uncompressed public point)
# Random Sig: 3066023100a1b15dc67821740a5f8d691bc465abfeffa82933c2964adab41cc45f9b130909795ad1930fef665d27cf5c20c9711a86023100c8bb1fdcca97dade1035746a0c47090ee88f0a6d0070f9e79568a9bbb6cefd29c1297f0272ae2ab7dadc00e28ddc3168
# Deterministic Sig: 3066023100a2025b7bbac83d1826a1c2ff10f1b6c7b774b443edcb77e9c7049289cfa38e208bfcfa5d4cad0e5f41b1e16f8483a6ef02310094877453af5531cc7ed0508e37e2b0113ca31eaaf3d7317eb42bb6ab82163e7b2dd8b494698704e8dc42db7d65a261b4
# secp521r1 (explicit, uncompressed public point)
# Random Sig: 30818702412cd3019da8c7adb0819d727716ea44c9b62f7a6652b0d16078c8c0bde6e5d93119efdb00bf76936a7b455e27c6c3f0aaa651fba6ce647b5c8b540cb30d05e16c88024201a49c8a2b615a2e8c53c31d9b2b675417a4af204328a6586f4b347608b7104b82fd928151cca0a9617e609a0c4772f18b2d96ba989a859fc6a1d838446197333078
# Deterministic Sig: 30818602414e2813adddb4506a092ccbe4718dd93e9805665d76259eca083b15f852b88ddb8edf92f9f26cec3ceeb742c99940de70cba6f49231839192d26e7bf6de90dacf0502411cf442272a449051d13037a82745c37368138e17ad7520a31ff1689012663a10a1419478601006a944f007746705bc236fb4797be39affee813ce0716b6d515333
# sect113r1 (explicit, uncompressed public point)
# sect113r2 (explicit, uncompressed public point)
# sect131r1 (explicit, uncompressed public point)
# sect131r2 (explicit, uncompressed public point)
# sect163k1 (explicit, uncompressed public point)
# sect163r1 (explicit, uncompressed public point)
# sect163r2 (explicit, uncompressed public point)
# sect193r1 (explicit, uncompressed public point)
# sect193r2 (explicit, uncompressed public point)
# sect233k1 (explicit, uncompressed public point)
# sect233r1 (explicit, uncompressed public point)
# sect239k1 (explicit, uncompressed public point)
# sect283k1 (explicit, uncompressed public point)
# sect283r1 (explicit, uncompressed public point)
# sect409k1 (explicit, uncompressed public point)
# sect409r1 (explicit, uncompressed public point)
# sect571k1 (explicit, uncompressed public point)
# sect571r1 (explicit, uncompressed public point)
# wap-wsg-idm-ecid-wtls1 (explicit, uncompressed public point)
# wap-wsg-idm-ecid-wtls10 (explicit, uncompressed public point)
# wap-wsg-idm-ecid-wtls11 (explicit, uncompressed public point)
# wap-wsg-idm-ecid-wtls12 (explicit, uncompressed public point)
# Random Sig: 303c021c4a77954536bda49697f257094a640d0aa4ad634a0570e91a50a9e589021c1dea0d4084d2ed1df281c1ea60d502ce64c3cf0116a08d6d9936f232
# Deterministic Sig: 303d021d00f525b672e2ac3a695e01a198d2d7e3c7fe483c2632ae16eb793fff21021c7d133539e7be356ffa18c88d935d469ee92a164564c8fea43d957a6c
# wap-wsg-idm-ecid-wtls3 (explicit, uncompressed public point)
# wap-wsg-idm-ecid-wtls4 (explicit, uncompressed public point)
# wap-wsg-idm-ecid-wtls5 (explicit, uncompressed public point)
# wap-wsg-idm-ecid-wtls6 (explicit, uncompressed public point)
# wap-wsg-idm-ecid-wtls7 (explicit, uncompressed public point)
# Random Sig: 302d021500a2a1ebcfa6684467a86e45f3c9bfef6cd343e2a102147a6e53fec0a85fe53195e6308bb1f6c7818f0234
# Deterministic Sig: 302d02141ceb722b60feacda7e34e0cf26218dff6a4c28f20215009757721f16b2fea384b8ae59240b70893908cf42
# wap-wsg-idm-ecid-wtls8 (explicit, uncompressed public point)
# wap-wsg-idm-ecid-wtls9 (explicit, uncompressed public point)
# Random Sig: 302e021500b4dffd0d510fb4ce3f102a33c213cfaf1d93a436021500e04c6cc400a5fe0b16b0c11c749dfbb7718040a9
# Deterministic Sig: 302c0214144e769cfea0eb5994b2dfa30f85d70fad03e6890214158c71a89ecca85ba027f1ffc36ca9b26c201bbb
# brainpoolP160r1 (explicit, hybrid public point)
# Random Sig: 302d0214369ad940aecb09220a737f37d754932890ffa300021500cdf336fe05e3b7bc3a504ff3a44a078356614b45
# Deterministic Sig: 302d021465ccb3e27b365ccfc207ffbce52d947af7b1a4bf02150088de426d78a714c1de203b2677782c3e26e2f7b3
# brainpoolP160t1 (explicit, hybrid public point)
# Random Sig: 302d0214717afd40a253ef8b9137f9393a36d28fea87ad6202150093b4c9959e1c224a03c40414b4badbf47e6a7fd0
# Deterministic Sig: 302e02150089669f36d82e5ccbfd4a708312410adf079809a1021500aef38482a1c21aea177300e89a3559f402cd3adb
# brainpoolP192r1 (explicit, hybrid public point)
# Random Sig: 3034021826d5a916c9926c3846d5430e2917d5fe67a117630d426e0602184e0947bfd4ea50a36d6fca0659c2c7bc832ae4bc4ad1428e
# Deterministic Sig: 3036021900a083b863eb93c8fea2afe1ba53ae861939de3eb68b50f3db02190089d7df367f5acb00072d64db69f194e872ceeacb763884d2
# brainpoolP192t1 (explicit, hybrid public point)
# Random Sig: 303502182f109501f8eff2d3a27e53dcbe6b0a0907bf3f1c928d66ee02190081876ef390e4fa5321f3030a6b3ba3576017aa86270547a4
# Deterministic Sig: 3034021821bff051eb0d9934112fa00dfd873e37cd7e04d79dc2fe93021857ae4483f0b1748f525008ba9b351675e7d0b64680e8b5e2
# brainpoolP224r1 (explicit, hybrid public point)
# Random Sig: 303e021d0084f401b33a4f07fa15dd75a530e27b39e6e975f9431c048f9389c153021d00c9c9dd2861bb7f77949a3e327f37e8eb0a50540cfd14b1bb9b9006e2
# Deterministic Sig: 303d021d00cc05d3fe8a73c34f0ff9b8677e1aadff18425fb0f14e90ffbb420875021c5ddf3a5dab8538a721a02f0b5ece214cfebdf954213498f3be966450
# brainpoolP224t1 (explicit, hybrid public point)
# Random Sig: 303d021d00a1793ce9a10a4a72345265482c28bd5e733483151a2d2879fe18d5ab021c0b0b35e8d6b6ed14d1edb241e171ff0824d75e134221b22b07f9a718
# Deterministic Sig: 303c021c2557298dcedc6ddd5130f1d98c603bbd8ed1e707495d0c7a559b4840021c1926e6a9c042a1e5c59dec61bbd94efecb22e4249835849b0bac4885
# brainpoolP256r1 (explicit, hybrid public point)
# Random Sig: 304502206d5d35f5bb50f2ec5868faa3686f6b84dbecee4b38de17342b98ffc7e5842c570221008c8a8af42fbc183795be009ec88ef9e39cf8ff4f92a5fc7b302850313d51a448
# Deterministic Sig: 3045022100a323f65168fb137b5bdb5c5748f82ff8cac34872f3bcaf2214932afb94c87fd702200a3fbf40b17dd86e09dffb850bec5fddcf1318ecf9bc231356acf41cbdf64db3
# brainpoolP256t1 (explicit, hybrid public point)
# Random Sig: 30440220427390b499252794d319b551c8e0510dfb0f8a6d96f3555059b6f5beabcd181f022020d5b1919228c68d108e91446a194a670c2465c26723d8fd8944757a09ddc082
# Deterministic Sig: 30450221008c6fe053c1194492d29a3329749fea6acd2b88a59df8ace5da353359d306aa510220613c8fb79f829ebbfe32a7d2064672d14c97024ae9db5469c19f1e6e0d85a376
# brainpoolP320r1 (explicit, hybrid public point)
# Random Sig: 3055022846400eaffdb2594b5819dbcd83663605494e7e60c5022f725ceb32ca30d363f5857ebd4dcd2af5470229009d54149def59ff8c5b4f57a6a2b36cfcad7191aaaf1669ab9051ef4f3a4a3c451839d57656146b54
# Deterministic Sig: 305502283ee7c0b996edfbc9b830921a1a91a5cef80a7a1acf9a9851c056641358113b4fe252154122e7a111022900a255f9e0c6eb0870f407b95c4382976ce09374521fc55e565217ff386088e6f278d6ceb09132a82a
# brainpoolP320t1 (explicit, hybrid public point)
# Random Sig: 30540228335340e712972d2046b2805e0a13ae063f0a310dc3ce26dcac3a0391327de01b198a9bb67b17a31c02286ab303fc2ef15037e05e922cde3282536691bf52b04028f21cf79f173283fe7c08510f518cfc5821
# Deterministic Sig: 305502284a1d16454c9ace6b7832426540ce369b6d37a0b59eac35e4b75a9cc25807dc4a7ba4eb8b20879111022900abedc6626415e09cad9e09ebe1e69759c027955a5e5f2bb0f89d439e1e0dbb4379218cc540d8a9f6
# brainpoolP384r1 (explicit, hybrid public point)
# Random Sig: 3064023039f9be26a30331fee90c1a3747f91d4865a9defff137c64742560e39655f11a0fa70eddb202cc301b55c59726e1a007402307e50436c546f71c7b5f602fbfa33a87c0e725dd48d60e96b8af34d5439212e8f7250d7827453aa1a69134f1b413d439f
# Deterministic Sig: 3065023061ffefc636fdb378280ee3fcd451010b3916c11f96a292dc17456de4582240fe91c4a81cf2baa181d4ce766d8ba166bd0231008020b12c9b17b07a4ee2a3415f2bdbd233efa2799a218abf228ed147e550c7468ff33e47cbaff6f474e7ead2f94bcc54
# brainpoolP384t1 (explicit, hybrid public point)
# Random Sig: 306402305d20494a4591102c0d80f4ccb54fdfcfe23944bf57f608756a84707fd38ebd2458f12fa7f41ef2e0eed394c79b1c39f802301acc9b212eb355c390d9801dccda48dc0f59fb6986274637af051fac95ba422cabc1b75cc72619a3c5bedc5866fe175d
# Deterministic Sig: 30640230241a13e5de62b3ced6808d47699e2703d3b5a1e626e58109f3c7e097817dbc445011683c1c9f2e2e3ec05b06df2a6d7502304cd3bb485d9223ab16ad318cbe825a17cd0e2738b0ddc6eade063db74d95fa3f7b7bccc16a8a2961f3761f32a4eb4f44
# brainpoolP512r1 (explicit, hybrid public point)
# Random Sig: 30818402407ed6e89c51363c679c185bce1465ab0a32727269c0a37fed13276e9e6e733e7d962e030a9bf33c090f71dac1b517232b5494726813e42f1e85dd6f48cae0091e0240729d45454a2a24fa5f46448da300f331b2dc6ad4f7ea45a55d651c9874dbb5230c71d4138f55f26a764a6f6023f632b3072e5a6495fd7d78710a4170d4971f6a
# Deterministic Sig: 30818402400d6a8e55cdd2dcba2eb896c8b7611c770d09ccf6891b3a0b9b6067b3d33572428a52fd1164a963ccd4882c83e2368549db4422cc6a80377112b0afd5254d1fcf0240509c20a37400291cd8c9c2112731e75e2ee90ce231b7eba339fac83c859b55b051344644e30e08107c4baf06853bc460e191ea1aba78aa902a1d40f58dd5a8a0
# brainpoolP512t1 (explicit, hybrid public point)
# Random Sig: 30818402403203be6986a6be5c34ae764bb5805e441c2e1ba389bb9cfb9fa03b4a5086781fb0df206738dba63796c65b33c8711344b278430714e1927af6494590829649f702405c29aa3feeef422eca0e1bef5f47c3c0242217f1977a9464b9d514805766f0e9aa4549a2eaecbef208700f2a9335620086cafa9e0fade4d4a3325ea23ef3f2e0
# Deterministic Sig: 30818402404684b7df393eafb17c44f289efa4906f4c93364c5501960ca5ba0a82f24a6cfd28dc827ee3d702e0d7c7a52773a9599ccc6049d0b6b14594b6aac435524d14df0240261d56a80edc4ec06b222128ab00e9bc1ba1646f8cbc28648021215ca28557110ff988e895a50755158c83dc64e01b13151d89cdd1102876a3d2e0f07677cbe0
# c2pnb163v1 (explicit, hybrid public point)
# c2pnb163v2 (explicit, hybrid public point)
# c2pnb163v3 (explicit, hybrid public point)
# c2pnb176v1 (explicit, hybrid public point)
# c2pnb208w1 (explicit, hybrid public point)
# c2pnb272w1 (explicit, hybrid public point)
# c2pnb304w1 (explicit, hybrid public point)
# c2pnb368w1 (explicit, hybrid public point)
# c2tnb191v1 (explicit, hybrid public point)
# c2tnb191v2 (explicit, hybrid public point)
# c2tnb191v3 (explicit, hybrid public point)
# c2tnb239v1 (explicit, hybrid public point)
# c2tnb239v2 (explicit, hybrid public point)
# c2tnb239v3 (explicit, hybrid public point)
# c2tnb359v1 (explicit, hybrid public point)
# c2tnb431r1 (explicit, hybrid public point)
# prime192v1 (explicit, hybrid public point)
# Random Sig: 3036021900b8d154ea3d4dc9afd6a6c2d7c4813175ca83afaeb4167ae7021900a2decca0c862142d1d0a02f5b8e491f9c137fb57ad7de7b5
# Deterministic Sig: 303502181d66336abc3eaacb45defab1980817e55502f0e92656072c021900881046dea7dfa3f588e5c5825a859990b23c23a6b8dd70fc
# prime192v2 (explicit, hybrid public point)
# Random Sig: 3036021900d5f6fb98d10032fbbe9f83311070db7419d00157ec6c99620219009d4cfc52f73992e84cae95c31efeb966ea48ef15b5812996
# Deterministic Sig: 303502181f43c66f5a592feeda6fbb94cd3343da3bb36eaca982ca5b0219009dad5484724fed1677b2e0203bcd05a68f4c54ce36e93560
# prime192v3 (explicit, hybrid public point)
# Random Sig: 303502186fca5e850ef162ecb71fcc2c019f649c382e375238c3df93021900b512c28f914de1372cd463f826b65f69da0711ecded049f6
# Deterministic Sig: 3035021900e054ad058b128142a33aaa8b4d274d6adf105cdcf99829b8021868dfb24adb5039ee21ace5b46989db55f5cfd87120ca06e8
# prime239v1 (explicit, hybrid public point)
# Random Sig: 3040021e3420ff70f688484dbd70c4d341118c4328ebd6705bdc10a8672cbe0e78c6021e6190a057dec928a25a7595d0acbc1becae52810bf4b36e671817c0c9a562
# Deterministic Sig: 3040021e531f365c1b868dcc6eade86ff6cc6f3e95b7b0b890338577e9338d273e57021e189583766de831670c3287bcac7506c92d786cb9c94781a781b2f5eef66d
# prime239v2 (explicit, hybrid public point)
# Random Sig: 3040021e2770bfe3e8c8c845bdd19b9a9a1187da9a75bad749943ef70e51cb38571c021e26df2afcfbf857dd4b0229ad87b636dfdf270acf6e3a52287c7b94dd18fb
# Deterministic Sig: 3040021e23e56c4939bfdfeaaceece50d016c54634b6df890f56e9a6df50ac44660c021e64aa80be7f1eb5b484a5f2fa0b650f83f119a8b2ea6b0bd1ebd99956726d
# prime239v3 (explicit, hybrid public point)
# Random Sig: 3040021e10529fef956efd5e515ac2b0fec83e70cd0701ce98ccf11f4a1978924f2f021e334a442142923384739204c43d9bc6d4d495abf746eed69cf06d1fb80332
# Deterministic Sig: 3040021e3feb2c0536007286656c6ce24911472fe75e4e2caa2836124df24e18ccae021e6a89655667d34d5e32d495debcd78e591db4df7b2ccb4a46ca5b3f57d5fa
# prime256v1 (explicit, hybrid public point)
# Random Sig: 3045022100ce50b34e9cf03542f0e9fa4bb4f12266698c88a3bd2b6fe7291ae2c0955bd38702200eefa9e70801649df970b64d7393b7fb1feaf8685aa5c461553ca2f3059452df
# Deterministic Sig: 3046022100bb1a167d3c0bfba3f714c00e34af5ad455779b09848658e5f04910344e474c00022100ea4278bc4c67f9bb2adf70d46dabab75b67bb112e04b02a28c8fda125b323429
# secp112r1 (explicit, hybrid public point)
# secp112r2 (explicit, hybrid public point)
# secp128r1 (explicit, hybrid public point)
# secp128r2 (explicit, hybrid public point)
# secp160k1 (explicit, hybrid public point)
# Random Sig: 302c021410e3d7b4bd14180b23d0a4389fc19d4b5298fa8e02145b974ff923875da6da675daea9d8a1a632e0edd8
# Deterministic Sig: 302e021500b884814646afc9eb8a7a763f1ad5d7d7c6a71137021500826962b1c321eb6a6333c365380bd93c56fdeeca
# secp160r1 (explicit, hybrid public point)
# Random Sig: 302e02150091dec46bcc58c7dc70e795be4198cf517d40331b021500a1585da202f91285cf33bac279e11b0192150b6f
# Deterministic Sig: 302c02146e0cd45617e40bf00f8db9ad809abd7d776955e5021449ee276d21024216ecebc70ecc6e2d829debf233
# secp160r2 (explicit, hybrid public point)
# Random Sig: 302d02140c17df7a636bdd12cff2960602f6c3082506c628021500a2cf5606cad87d9222c3637973c50133e9b3cfa0
# Deterministic Sig: 302d021500f75a9fb800a49398fe3ac377f41412ec1a51e83702141a330e8cef8f1c2b8b4b40896c7d52b57d42d947
# secp192k1 (explicit, hybrid public point)
# Random Sig: 3036021900f7e4ec1cbe296bbc530e9de9da492366e8a47a67c8d027a1021900f9261cf7f3fd56030e31cb3a7486ef8945675e0c27d99357
# Deterministic Sig: 3035021900e0fede787db808b37c43816e517fe7efc23da1538c6426cf02182a295c4856ae2ee12b19358ec60c4d502cd8f9d18cd03a7a
# secp224k1 (explicit, hybrid public point)
# Random Sig: 303c021c2945ae4dc9613bc95da90ecb4ba1c44f9c1d2c681f291870cea5cb83021c63d53f7457e4b7597bb71937bc004b7e8a51a42e4f505cccdb882e0a
# Deterministic Sig: 303d021d00e2fb2881e42dd646a535c055fd598c52dbdd56aa1c82ae1d81bc3942021c2266ee858a98d21b676f20140b9a67669b01c99415ca906de8292abe
# secp224r1 (explicit, hybrid public point)
# Random Sig: 303c021c618fcfec44c4212137103955b0d715836b1e8d4f75b2739ad1350b64021c3e5cc23aff299966e8a8b3a18fe99c7be34cdb531e8715bd2f159254
# Deterministic Sig: 303d021d00daad9e3e49055dd877e9590496045579020650ccd2e84fa470a73ca6021c17afab9202459552eaa3585fa99fe553b3631256e0b5472a96482164
# secp256k1 (explicit, hybrid public point)
# Random Sig: 3044022045ce139c2abcd6f1c9a10660484048a432c0c15fc688e29465f0ef029c42369a02206c8417c3a6ae5230258f602e66e5796979dc9f1c9cc8ec4f9948b1bbf98d4b28
# Deterministic Sig: 3045022067514943f6d8c59d7804d371288bec84d620ced361c8a0c06b811daf077fa669022100a8b86bb21cc014da91cc7d520ba50870bfdf9794988935b30409c4e9c36a8963
# secp384r1 (explicit, hybrid public point)
# Random Sig: 3064023014468da83a18885ea7d4f9203f8902412ddcf4f092b4bd23e2a8370d5209c7f3787635399901a9dee7722c57139aa60702306cd5b597646f03cf53a7aa56f721525643013e683098c651dbc1c94546cf2ef0670c8e45603fc2dcbbfae2f624b18ea9
# Deterministic Sig: 3065023100bcd5b65722db456f684ea7ed45db5088ce5e4b78919aa75e2244560b5477f6c84d0cd287cf18c22812adb0bdeb6b5c00023057e64ec67e3edddf04b31e147eeee1400b7627ae9a40026f67dad0e7c1c277811dda099a72e9df13fd3ae619de886c96
# secp521r1 (explicit, hybrid public point)
# Random Sig: 3081880242015ee7097cda9a6d4d11396fb581226a95280ca776e3a3bd562435d1662a555ada4d157a617e11cd2618ca30bf54c14b59d72d9ba2f2aad724b6f6f64cce9cbbaba3024200c358bd042ad726349f270d0126bda8224edfeebbcc42614d15bee9bb62e4542f38e96ec7ada7aacabc5d7c9a5bb64818fbfc5c61516587fa7e9d0ff7398c8ee05f
# Deterministic Sig: 30818802420167e93a3b67fb7e1028b0e45cee2214e8900d9c610825cb4524455b47b81f936cde53e3da6061e571636c2251088b08053149ec7e3bc8c9b8a5af5377900593ad38024201f2465b699e54819a03420ffebcf7a4d2ddad87398f8f0113252334a7bb17f12d4fe77a6b8f515baafcaf282acc8f54402d21fa9a63145b0d068aca122fd6cd9d99
# sect113r1 (explicit, hybrid public point)
# sect113r2 (explicit, hybrid public point)
# sect131r1 (explicit, hybrid public point)
# sect131r2 (explicit, hybrid public point)
# sect163k1 (explicit, hybrid public point)
# sect163r1 (explicit, hybrid public point)
# sect163r2 (explicit, hybrid public point)
# sect193r1 (explicit, hybrid public point)
# sect193r2 (explicit, hybrid public point)
# sect233k1 (explicit, hybrid public point)
# sect233r1 (explicit, hybrid public point)
# sect239k1 (explicit, hybrid public point)
# sect283k1 (explicit, hybrid public point)
# sect283r1 (explicit, hybrid public point)
# sect409k1 (explicit, hybrid public point)
# sect409r1 (explicit, hybrid public point)
# sect571k1 (explicit, hybrid public point)
# sect571r1 (explicit, hybrid public point)
# wap-wsg-idm-ecid-wtls1 (explicit, hybrid public point)
# wap-wsg-idm-ecid-wtls10 (explicit, hybrid public point)
# wap-wsg-idm-ecid-wtls11 (explicit, hybrid public point)
# wap-wsg-idm-ecid-wtls12 (explicit, hybrid public point)
# Random Sig: 303c021c187416951634c38ebedf00904d95678afb134271d39d37f2da3b9487021c0741a9e0aed817f5bc45ede78c21c23aa75c1aaff897211656814fd8
# Deterministic Sig: 303c021c4031f2813034eed3b5d6f7aeb5ea76b775e55a1d52164268b0045aa9021c0d84d7088725ea3684ac37ac1fa1da429d621142ce74bf326ff705d5
# wap-wsg-idm-ecid-wtls3 (explicit, hybrid public point)
# wap-wsg-idm-ecid-wtls4 (explicit, hybrid public point)
# wap-wsg-idm-ecid-wtls5 (explicit, hybrid public point)
# wap-wsg-idm-ecid-wtls6 (explicit, hybrid public point)
# wap-wsg-idm-ecid-wtls7 (explicit, hybrid public point)
# Random Sig: 302d021500a5f2c7a3281a9fa8cf202834562a3adcfd96aeab0214561798da00f5483993a845a9d0c23d50a0af9232
# Deterministic Sig: 302d02141e649dda2dc9563723b1ebf9f86fb9366b0b325b021500f12f84cadbc393e3074d3b1ba5ef5ec02eb4fe3a
# wap-wsg-idm-ecid-wtls8 (explicit, hybrid public point)
# wap-wsg-idm-ecid-wtls9 (explicit, hybrid public point)
# Random Sig: 302c02146a03ab4e6338f014e63b644881c1120f885c27a1021469827355c2982a867b756da99834e3670ae1d843
# Deterministic Sig: 302d021462c8f42106fa18a0dbf409005bad26aec989b049021500aefabb2efa2610d0607fa241e5c1961b050dfcdb
# {
#   'c2pnb163v1 (explicit, compressed public point)' => 'Crypt::Perl::X::ECDSA::CharacteristicTwoUnsupported',
#   'c2pnb163v1 (explicit, hybrid public point)' => 'Crypt::Perl::X::ECDSA::CharacteristicTwoUnsupported',
#   'c2pnb163v1 (explicit, uncompressed public point)' => 'Crypt::Perl::X::ECDSA::CharacteristicTwoUnsupported',
#   'c2pnb163v1 (named_curve, compressed public point)' => 'Crypt::Perl::X::ECDSA::NoCurveForOID',
#   'c2pnb163v1 (named_curve, hybrid public point)' => 'Crypt::Perl::X::ECDSA::NoCurveForOID',
#   'c2pnb163v1 (named_curve, uncompressed public point)' => 'Crypt::Perl::X::ECDSA::NoCurveForOID',
#   'c2pnb163v2 (explicit, compressed public point)' => 'Crypt::Perl::X::ECDSA::CharacteristicTwoUnsupported',
#   'c2pnb163v2 (explicit, hybrid public point)' => 'Crypt::Perl::X::ECDSA::CharacteristicTwoUnsupported',
#   'c2pnb163v2 (explicit, uncompressed public point)' => 'Crypt::Perl::X::ECDSA::CharacteristicTwoUnsupported',
#   'c2pnb163v2 (named_curve, compressed public point)' => 'Crypt::Perl::X::ECDSA::NoCurveForOID',
#   'c2pnb163v2 (named_curve, hybrid public point)' => 'Crypt::Perl::X::ECDSA::NoCurveForOID',
#   'c2pnb163v2 (named_curve, uncompressed public point)' => 'Crypt::Perl::X::ECDSA::NoCurveForOID',
#   'c2pnb163v3 (explicit, compressed public point)' => 'Crypt::Perl::X::ECDSA::CharacteristicTwoUnsupported',
#   'c2pnb163v3 (explicit, hybrid public point)' => 'Crypt::Perl::X::ECDSA::CharacteristicTwoUnsupported',
#   'c2pnb163v3 (explicit, uncompressed public point)' => 'Crypt::Perl::X::ECDSA::CharacteristicTwoUnsupported',
#   'c2pnb163v3 (named_curve, compressed public point)' => 'Crypt::Perl::X::ECDSA::NoCurveForOID',
#   'c2pnb163v3 (named_curve, hybrid public point)' => 'Crypt::Perl::X::ECDSA::NoCurveForOID',
#   'c2pnb163v3 (named_curve, uncompressed public point)' => 'Crypt::Perl::X::ECDSA::NoCurveForOID',
#   'c2pnb176v1 (explicit, compressed public point)' => 'Crypt::Perl::X::ECDSA::CharacteristicTwoUnsupported',
#   'c2pnb176v1 (explicit, hybrid public point)' => 'Crypt::Perl::X::ECDSA::CharacteristicTwoUnsupported',
#   'c2pnb176v1 (explicit, uncompressed public point)' => 'Crypt::Perl::X::ECDSA::CharacteristicTwoUnsupported',
#   'c2pnb176v1 (named_curve, compressed public point)' => 'Crypt::Perl::X::ECDSA::NoCurveForOID',
#   'c2pnb176v1 (named_curve, hybrid public point)' => 'Crypt::Perl::X::ECDSA::NoCurveForOID',
#   'c2pnb176v1 (named_curve, uncompressed public point)' => 'Crypt::Perl::X::ECDSA::NoCurveForOID',
#   'c2pnb208w1 (explicit, compressed public point)' => 'Crypt::Perl::X::ECDSA::CharacteristicTwoUnsupported',
#   'c2pnb208w1 (explicit, hybrid public point)' => 'Crypt::Perl::X::ECDSA::CharacteristicTwoUnsupported',
#   'c2pnb208w1 (explicit, uncompressed public point)' => 'Crypt::Perl::X::ECDSA::CharacteristicTwoUnsupported',
#   'c2pnb208w1 (named_curve, compressed public point)' => 'Crypt::Perl::X::ECDSA::NoCurveForOID',
#   'c2pnb208w1 (named_curve, hybrid public point)' => 'Crypt::Perl::X::ECDSA::NoCurveForOID',
#   'c2pnb208w1 (named_curve, uncompressed public point)' => 'Crypt::Perl::X::ECDSA::NoCurveForOID',
#   'c2pnb272w1 (explicit, compressed public point)' => 'Crypt::Perl::X::ECDSA::CharacteristicTwoUnsupported',
#   'c2pnb272w1 (explicit, hybrid public point)' => 'Crypt::Perl::X::ECDSA::CharacteristicTwoUnsupported',
#   'c2pnb272w1 (explicit, uncompressed public point)' => 'Crypt::Perl::X::ECDSA::CharacteristicTwoUnsupported',
#   'c2pnb272w1 (named_curve, compressed public point)' => 'Crypt::Perl::X::ECDSA::NoCurveForOID',
#   'c2pnb272w1 (named_curve, hybrid public point)' => 'Crypt::Perl::X::ECDSA::NoCurveForOID',
#   'c2pnb272w1 (named_curve, uncompressed public point)' => 'Crypt::Perl::X::ECDSA::NoCurveForOID',
#   'c2pnb304w1 (explicit, compressed public point)' => 'Crypt::Perl::X::ECDSA::CharacteristicTwoUnsupported',
#   'c2pnb304w1 (explicit, hybrid public point)' => 'Crypt::Perl::X::ECDSA::CharacteristicTwoUnsupported',
#   'c2pnb304w1 (explicit, uncompressed public point)' => 'Crypt::Perl::X::ECDSA::CharacteristicTwoUnsupported',
#   'c2pnb304w1 (named_curve, compressed public point)' => 'Crypt::Perl::X::ECDSA::NoCurveForOID',
#   'c2pnb304w1 (named_curve, hybrid public point)' => 'Crypt::Perl::X::ECDSA::NoCurveForOID',
#   'c2pnb304w1 (named_curve, uncompressed public point)' => 'Crypt::Perl::X::ECDSA::NoCurveForOID',
#   'c2pnb368w1 (explicit, compressed public point)' => 'Crypt::Perl::X::ECDSA::CharacteristicTwoUnsupported',
#   'c2pnb368w1 (explicit, hybrid public point)' => 'Crypt::Perl::X::ECDSA::CharacteristicTwoUnsupported',
#   'c2pnb368w1 (explicit, uncompressed public point)' => 'Crypt::Perl::X::ECDSA::CharacteristicTwoUnsupported',
#   'c2pnb368w1 (named_curve, compressed public point)' => 'Crypt::Perl::X::ECDSA::NoCurveForOID',
#   'c2pnb368w1 (named_curve, hybrid public point)' => 'Crypt::Perl::X::ECDSA::NoCurveForOID',
#   'c2pnb368w1 (named_curve, uncompressed public point)' => 'Crypt::Perl::X::ECDSA::NoCurveForOID',
#   'c2tnb191v1 (explicit, compressed public point)' => 'Crypt::Perl::X::ECDSA::CharacteristicTwoUnsupported',
#   'c2tnb191v1 (explicit, hybrid public point)' => 'Crypt::Perl::X::ECDSA::CharacteristicTwoUnsupported',
#   'c2tnb191v1 (explicit, uncompressed public point)' => 'Crypt::Perl::X::ECDSA::CharacteristicTwoUnsupported',
#   'c2tnb191v1 (named_curve, compressed public point)' => 'Crypt::Perl::X::ECDSA::NoCurveForOID',
#   'c2tnb191v1 (named_curve, hybrid public point)' => 'Crypt::Perl::X::ECDSA::NoCurveForOID',
#   'c2tnb191v1 (named_curve, uncompressed public point)' => 'Crypt::Perl::X::ECDSA::NoCurveForOID',
#   'c2tnb191v2 (explicit, compressed public point)' => 'Crypt::Perl::X::ECDSA::CharacteristicTwoUnsupported',
#   'c2tnb191v2 (explicit, hybrid public point)' => 'Crypt::Perl::X::ECDSA::CharacteristicTwoUnsupported',
#   'c2tnb191v2 (explicit, uncompressed public point)' => 'Crypt::Perl::X::ECDSA::CharacteristicTwoUnsupported',
#   'c2tnb191v2 (named_curve, compressed public point)' => 'Crypt::Perl::X::ECDSA::NoCurveForOID',
#   'c2tnb191v2 (named_curve, hybrid public point)' => 'Crypt::Perl::X::ECDSA::NoCurveForOID',
#   'c2tnb191v2 (named_curve, uncompressed public point)' => 'Crypt::Perl::X::ECDSA::NoCurveForOID',
#   'c2tnb191v3 (explicit, compressed public point)' => 'Crypt::Perl::X::ECDSA::CharacteristicTwoUnsupported',
#   'c2tnb191v3 (explicit, hybrid public point)' => 'Crypt::Perl::X::ECDSA::CharacteristicTwoUnsupported',
#   'c2tnb191v3 (explicit, uncompressed public point)' => 'Crypt::Perl::X::ECDSA::CharacteristicTwoUnsupported',
#   'c2tnb191v3 (named_curve, compressed public point)' => 'Crypt::Perl::X::ECDSA::NoCurveForOID',
#   'c2tnb191v3 (named_curve, hybrid public point)' => 'Crypt::Perl::X::ECDSA::NoCurveForOID',
#   'c2tnb191v3 (named_curve, uncompressed public point)' => 'Crypt::Perl::X::ECDSA::NoCurveForOID',
#   'c2tnb239v1 (explicit, compressed public point)' => 'Crypt::Perl::X::ECDSA::CharacteristicTwoUnsupported',
#   'c2tnb239v1 (explicit, hybrid public point)' => 'Crypt::Perl::X::ECDSA::CharacteristicTwoUnsupported',
#   'c2tnb239v1 (explicit, uncompressed public point)' => 'Crypt::Perl::X::ECDSA::CharacteristicTwoUnsupported',
#   'c2tnb239v1 (named_curve, compressed public point)' => 'Crypt::Perl::X::ECDSA::NoCurveForOID',
#   'c2tnb239v1 (named_curve, hybrid public point)' => 'Crypt::Perl::X::ECDSA::NoCurveForOID',
#   'c2tnb239v1 (named_curve, uncompressed public point)' => 'Crypt::Perl::X::ECDSA::NoCurveForOID',
#   'c2tnb239v2 (explicit, compressed public point)' => 'Crypt::Perl::X::ECDSA::CharacteristicTwoUnsupported',
#   'c2tnb239v2 (explicit, hybrid public point)' => 'Crypt::Perl::X::ECDSA::CharacteristicTwoUnsupported',
#   'c2tnb239v2 (explicit, uncompressed public point)' => 'Crypt::Perl::X::ECDSA::CharacteristicTwoUnsupported',
#   'c2tnb239v2 (named_curve, compressed public point)' => 'Crypt::Perl::X::ECDSA::NoCurveForOID',
#   'c2tnb239v2 (named_curve, hybrid public point)' => 'Crypt::Perl::X::ECDSA::NoCurveForOID',
#   'c2tnb239v2 (named_curve, uncompressed public point)' => 'Crypt::Perl::X::ECDSA::NoCurveForOID',
#   'c2tnb239v3 (explicit, compressed public point)' => 'Crypt::Perl::X::ECDSA::CharacteristicTwoUnsupported',
#   'c2tnb239v3 (explicit, hybrid public point)' => 'Crypt::Perl::X::ECDSA::CharacteristicTwoUnsupported',
#   'c2tnb239v3 (explicit, uncompressed public point)' => 'Crypt::Perl::X::ECDSA::CharacteristicTwoUnsupported',
#   'c2tnb239v3 (named_curve, compressed public point)' => 'Crypt::Perl::X::ECDSA::NoCurveForOID',
#   'c2tnb239v3 (named_curve, hybrid public point)' => 'Crypt::Perl::X::ECDSA::NoCurveForOID',
#   'c2tnb239v3 (named_curve, uncompressed public point)' => 'Crypt::Perl::X::ECDSA::NoCurveForOID',
#   'c2tnb359v1 (explicit, compressed public point)' => 'Crypt::Perl::X::ECDSA::CharacteristicTwoUnsupported',
#   'c2tnb359v1 (explicit, hybrid public point)' => 'Crypt::Perl::X::ECDSA::CharacteristicTwoUnsupported',
#   'c2tnb359v1 (explicit, uncompressed public point)' => 'Crypt::Perl::X::ECDSA::CharacteristicTwoUnsupported',
#   'c2tnb359v1 (named_curve, compressed public point)' => 'Crypt::Perl::X::ECDSA::NoCurveForOID',
#   'c2tnb359v1 (named_curve, hybrid public point)' => 'Crypt::Perl::X::ECDSA::NoCurveForOID',
#   'c2tnb359v1 (named_curve, uncompressed public point)' => 'Crypt::Perl::X::ECDSA::NoCurveForOID',
#   'c2tnb431r1 (explicit, compressed public point)' => 'Crypt::Perl::X::ECDSA::CharacteristicTwoUnsupported',
#   'c2tnb431r1 (explicit, hybrid public point)' => 'Crypt::Perl::X::ECDSA::CharacteristicTwoUnsupported',
#   'c2tnb431r1 (explicit, uncompressed public point)' => 'Crypt::Perl::X::ECDSA::CharacteristicTwoUnsupported',
#   'c2tnb431r1 (named_curve, compressed public point)' => 'Crypt::Perl::X::ECDSA::NoCurveForOID',
#   'c2tnb431r1 (named_curve, hybrid public point)' => 'Crypt::Perl::X::ECDSA::NoCurveForOID',
#   'c2tnb431r1 (named_curve, uncompressed public point)' => 'Crypt::Perl::X::ECDSA::NoCurveForOID',
#   'secp112r1 (explicit, compressed public point)' => 'Crypt::Perl::X::TooLongToSign',
#   'secp112r1 (explicit, hybrid public point)' => 'Crypt::Perl::X::TooLongToSign',
#   'secp112r1 (explicit, uncompressed public point)' => 'Crypt::Perl::X::TooLongToSign',
#   'secp112r1 (named_curve, compressed public point)' => 'Crypt::Perl::X::TooLongToSign',
#   'secp112r1 (named_curve, hybrid public point)' => 'Crypt::Perl::X::TooLongToSign',
#   'secp112r1 (named_curve, uncompressed public point)' => 'Crypt::Perl::X::TooLongToSign',
#   'secp112r2 (explicit, compressed public point)' => 'Crypt::Perl::X::TooLongToSign',
#   'secp112r2 (explicit, hybrid public point)' => 'Crypt::Perl::X::TooLongToSign',
#   'secp112r2 (explicit, uncompressed public point)' => 'Crypt::Perl::X::TooLongToSign',
#   'secp112r2 (named_curve, compressed public point)' => 'Crypt::Perl::X::TooLongToSign',
#   'secp112r2 (named_curve, hybrid public point)' => 'Crypt::Perl::X::TooLongToSign',
#   'secp112r2 (named_curve, uncompressed public point)' => 'Crypt::Perl::X::TooLongToSign',
#   'secp128r1 (explicit, compressed public point)' => 'Crypt::Perl::X::TooLongToSign',
#   'secp128r1 (explicit, hybrid public point)' => 'Crypt::Perl::X::TooLongToSign',
#   'secp128r1 (explicit, uncompressed public point)' => 'Crypt::Perl::X::TooLongToSign',
#   'secp128r1 (named_curve, compressed public point)' => 'Crypt::Perl::X::TooLongToSign',
#   'secp128r1 (named_curve, hybrid public point)' => 'Crypt::Perl::X::TooLongToSign',
#   'secp128r1 (named_curve, uncompressed public point)' => 'Crypt::Perl::X::TooLongToSign',
#   'secp128r2 (explicit, compressed public point)' => 'Crypt::Perl::X::TooLongToSign',
#   'secp128r2 (explicit, hybrid public point)' => 'Crypt::Perl::X::TooLongToSign',
#   'secp128r2 (explicit, uncompressed public point)' => 'Crypt::Perl::X::TooLongToSign',
#   'secp128r2 (named_curve, compressed public point)' => 'Crypt::Perl::X::TooLongToSign',
#   'secp128r2 (named_curve, hybrid public point)' => 'Crypt::Perl::X::TooLongToSign',
#   'secp128r2 (named_curve, uncompressed public point)' => 'Crypt::Perl::X::TooLongToSign',
#   'sect113r1 (explicit, compressed public point)' => 'Crypt::Perl::X::ECDSA::CharacteristicTwoUnsupported',
#   'sect113r1 (explicit, hybrid public point)' => 'Crypt::Perl::X::ECDSA::CharacteristicTwoUnsupported',
#   'sect113r1 (explicit, uncompressed public point)' => 'Crypt::Perl::X::ECDSA::CharacteristicTwoUnsupported',
#   'sect113r1 (named_curve, compressed public point)' => 'Crypt::Perl::X::ECDSA::NoCurveForOID',
#   'sect113r1 (named_curve, hybrid public point)' => 'Crypt::Perl::X::ECDSA::NoCurveForOID',
#   'sect113r1 (named_curve, uncompressed public point)' => 'Crypt::Perl::X::ECDSA::NoCurveForOID',
#   'sect113r2 (explicit, compressed public point)' => 'Crypt::Perl::X::ECDSA::CharacteristicTwoUnsupported',
#   'sect113r2 (explicit, hybrid public point)' => 'Crypt::Perl::X::ECDSA::CharacteristicTwoUnsupported',
#   'sect113r2 (explicit, uncompressed public point)' => 'Crypt::Perl::X::ECDSA::CharacteristicTwoUnsupported',
#   'sect113r2 (named_curve, compressed public point)' => 'Crypt::Perl::X::ECDSA::NoCurveForOID',
#   'sect113r2 (named_curve, hybrid public point)' => 'Crypt::Perl::X::ECDSA::NoCurveForOID',
#   'sect113r2 (named_curve, uncompressed public point)' => 'Crypt::Perl::X::ECDSA::NoCurveForOID',
#   'sect131r1 (explicit, compressed public point)' => 'Crypt::Perl::X::ECDSA::CharacteristicTwoUnsupported',
#   'sect131r1 (explicit, hybrid public point)' => 'Crypt::Perl::X::ECDSA::CharacteristicTwoUnsupported',
#   'sect131r1 (explicit, uncompressed public point)' => 'Crypt::Perl::X::ECDSA::CharacteristicTwoUnsupported',
#   'sect131r1 (named_curve, compressed public point)' => 'Crypt::Perl::X::ECDSA::NoCurveForOID',
#   'sect131r1 (named_curve, hybrid public point)' => 'Crypt::Perl::X::ECDSA::NoCurveForOID',
#   'sect131r1 (named_curve, uncompressed public point)' => 'Crypt::Perl::X::ECDSA::NoCurveForOID',
#   'sect131r2 (explicit, compressed public point)' => 'Crypt::Perl::X::ECDSA::CharacteristicTwoUnsupported',
#   'sect131r2 (explicit, hybrid public point)' => 'Crypt::Perl::X::ECDSA::CharacteristicTwoUnsupported',
#   'sect131r2 (explicit, uncompressed public point)' => 'Crypt::Perl::X::ECDSA::CharacteristicTwoUnsupported',
#   'sect131r2 (named_curve, compressed public point)' => 'Crypt::Perl::X::ECDSA::NoCurveForOID',
#   'sect131r2 (named_curve, hybrid public point)' => 'Crypt::Perl::X::ECDSA::NoCurveForOID',
#   'sect131r2 (named_curve, uncompressed public point)' => 'Crypt::Perl::X::ECDSA::NoCurveForOID',
#   'sect163k1 (explicit, compressed public point)' => 'Crypt::Perl::X::ECDSA::CharacteristicTwoUnsupported',
#   'sect163k1 (explicit, hybrid public point)' => 'Crypt::Perl::X::ECDSA::CharacteristicTwoUnsupported',
#   'sect163k1 (explicit, uncompressed public point)' => 'Crypt::Perl::X::ECDSA::CharacteristicTwoUnsupported',
#   'sect163k1 (named_curve, compressed public point)' => 'Crypt::Perl::X::ECDSA::NoCurveForOID',
#   'sect163k1 (named_curve, hybrid public point)' => 'Crypt::Perl::X::ECDSA::NoCurveForOID',
#   'sect163k1 (named_curve, uncompressed public point)' => 'Crypt::Perl::X::ECDSA::NoCurveForOID',
#   'sect163r1 (explicit, compressed public point)' => 'Crypt::Perl::X::ECDSA::CharacteristicTwoUnsupported',
#   'sect163r1 (explicit, hybrid public point)' => 'Crypt::Perl::X::ECDSA::CharacteristicTwoUnsupported',
#   'sect163r1 (explicit, uncompressed public point)' => 'Crypt::Perl::X::ECDSA::CharacteristicTwoUnsupported',
#   'sect163r1 (named_curve, compressed public point)' => 'Crypt::Perl::X::ECDSA::NoCurveForOID',
#   'sect163r1 (named_curve, hybrid public point)' => 'Crypt::Perl::X::ECDSA::NoCurveForOID',
#   'sect163r1 (named_curve, uncompressed public point)' => 'Crypt::Perl::X::ECDSA::NoCurveForOID',
#   'sect163r2 (explicit, compressed public point)' => 'Crypt::Perl::X::ECDSA::CharacteristicTwoUnsupported',
#   'sect163r2 (explicit, hybrid public point)' => 'Crypt::Perl::X::ECDSA::CharacteristicTwoUnsupported',
#   'sect163r2 (explicit, uncompressed public point)' => 'Crypt::Perl::X::ECDSA::CharacteristicTwoUnsupported',
#   'sect163r2 (named_curve, compressed public point)' => 'Crypt::Perl::X::ECDSA::NoCurveForOID',
#   'sect163r2 (named_curve, hybrid public point)' => 'Crypt::Perl::X::ECDSA::NoCurveForOID',
#   'sect163r2 (named_curve, uncompressed public point)' => 'Crypt::Perl::X::ECDSA::NoCurveForOID',
#   'sect193r1 (explicit, compressed public point)' => 'Crypt::Perl::X::ECDSA::CharacteristicTwoUnsupported',
#   'sect193r1 (explicit, hybrid public point)' => 'Crypt::Perl::X::ECDSA::CharacteristicTwoUnsupported',
#   'sect193r1 (explicit, uncompressed public point)' => 'Crypt::Perl::X::ECDSA::CharacteristicTwoUnsupported',
#   'sect193r1 (named_curve, compressed public point)' => 'Crypt::Perl::X::ECDSA::NoCurveForOID',
#   'sect193r1 (named_curve, hybrid public point)' => 'Crypt::Perl::X::ECDSA::NoCurveForOID',
#   'sect193r1 (named_curve, uncompressed public point)' => 'Crypt::Perl::X::ECDSA::NoCurveForOID',
#   'sect193r2 (explicit, compressed public point)' => 'Crypt::Perl::X::ECDSA::CharacteristicTwoUnsupported',
#   'sect193r2 (explicit, hybrid public point)' => 'Crypt::Perl::X::ECDSA::CharacteristicTwoUnsupported',
#   'sect193r2 (explicit, uncompressed public point)' => 'Crypt::Perl::X::ECDSA::CharacteristicTwoUnsupported',
#   'sect193r2 (named_curve, compressed public point)' => 'Crypt::Perl::X::ECDSA::NoCurveForOID',
#   'sect193r2 (named_curve, hybrid public point)' => 'Crypt::Perl::X::ECDSA::NoCurveForOID',
#   'sect193r2 (named_curve, uncompressed public point)' => 'Crypt::Perl::X::ECDSA::NoCurveForOID',
#   'sect233k1 (explicit, compressed public point)' => 'Crypt::Perl::X::ECDSA::CharacteristicTwoUnsupported',
#   'sect233k1 (explicit, hybrid public point)' => 'Crypt::Perl::X::ECDSA::CharacteristicTwoUnsupported',
#   'sect233k1 (explicit, uncompressed public point)' => 'Crypt::Perl::X::ECDSA::CharacteristicTwoUnsupported',
#   'sect233k1 (named_curve, compressed public point)' => 'Crypt::Perl::X::ECDSA::NoCurveForOID',
#   'sect233k1 (named_curve, hybrid public point)' => 'Crypt::Perl::X::ECDSA::NoCurveForOID',
#   'sect233k1 (named_curve, uncompressed public point)' => 'Crypt::Perl::X::ECDSA::NoCurveForOID',
#   'sect233r1 (explicit, compressed public point)' => 'Crypt::Perl::X::ECDSA::CharacteristicTwoUnsupported',
#   'sect233r1 (explicit, hybrid public point)' => 'Crypt::Perl::X::ECDSA::CharacteristicTwoUnsupported',
#   'sect233r1 (explicit, uncompressed public point)' => 'Crypt::Perl::X::ECDSA::CharacteristicTwoUnsupported',
#   'sect233r1 (named_curve, compressed public point)' => 'Crypt::Perl::X::ECDSA::NoCurveForOID',
#   'sect233r1 (named_curve, hybrid public point)' => 'Crypt::Perl::X::ECDSA::NoCurveForOID',
#   'sect233r1 (named_curve, uncompressed public point)' => 'Crypt::Perl::X::ECDSA::NoCurveForOID',
#   'sect239k1 (explicit, compressed public point)' => 'Crypt::Perl::X::ECDSA::CharacteristicTwoUnsupported',
#   'sect239k1 (explicit, hybrid public point)' => 'Crypt::Perl::X::ECDSA::CharacteristicTwoUnsupported',
#   'sect239k1 (explicit, uncompressed public point)' => 'Crypt::Perl::X::ECDSA::CharacteristicTwoUnsupported',
#   'sect239k1 (named_curve, compressed public point)' => 'Crypt::Perl::X::ECDSA::NoCurveForOID',
#   'sect239k1 (named_curve, hybrid public point)' => 'Crypt::Perl::X::ECDSA::NoCurveForOID',
#   'sect239k1 (named_curve, uncompressed public point)' => 'Crypt::Perl::X::ECDSA::NoCurveForOID',
#   'sect283k1 (explicit, compressed public point)' => 'Crypt::Perl::X::ECDSA::CharacteristicTwoUnsupported',
#   'sect283k1 (explicit, hybrid public point)' => 'Crypt::Perl::X::ECDSA::CharacteristicTwoUnsupported',
#   'sect283k1 (explicit, uncompressed public point)' => 'Crypt::Perl::X::ECDSA::CharacteristicTwoUnsupported',
#   'sect283k1 (named_curve, compressed public point)' => 'Crypt::Perl::X::ECDSA::NoCurveForOID',
#   'sect283k1 (named_curve, hybrid public point)' => 'Crypt::Perl::X::ECDSA::NoCurveForOID',
#   'sect283k1 (named_curve, uncompressed public point)' => 'Crypt::Perl::X::ECDSA::NoCurveForOID',
#   'sect283r1 (explicit, compressed public point)' => 'Crypt::Perl::X::ECDSA::CharacteristicTwoUnsupported',
#   'sect283r1 (explicit, hybrid public point)' => 'Crypt::Perl::X::ECDSA::CharacteristicTwoUnsupported',
#   'sect283r1 (explicit, uncompressed public point)' => 'Crypt::Perl::X::ECDSA::CharacteristicTwoUnsupported',
#   'sect283r1 (named_curve, compressed public point)' => 'Crypt::Perl::X::ECDSA::NoCurveForOID',
#   'sect283r1 (named_curve, hybrid public point)' => 'Crypt::Perl::X::ECDSA::NoCurveForOID',
#   'sect283r1 (named_curve, uncompressed public point)' => 'Crypt::Perl::X::ECDSA::NoCurveForOID',
#   'sect409k1 (explicit, compressed public point)' => 'Crypt::Perl::X::ECDSA::CharacteristicTwoUnsupported',
#   'sect409k1 (explicit, hybrid public point)' => 'Crypt::Perl::X::ECDSA::CharacteristicTwoUnsupported',
#   'sect409k1 (explicit, uncompressed public point)' => 'Crypt::Perl::X::ECDSA::CharacteristicTwoUnsupported',
#   'sect409k1 (named_curve, compressed public point)' => 'Crypt::Perl::X::ECDSA::NoCurveForOID',
#   'sect409k1 (named_curve, hybrid public point)' => 'Crypt::Perl::X::ECDSA::NoCurveForOID',
#   'sect409k1 (named_curve, uncompressed public point)' => 'Crypt::Perl::X::ECDSA::NoCurveForOID',
#   'sect409r1 (explicit, compressed public point)' => 'Crypt::Perl::X::ECDSA::CharacteristicTwoUnsupported',
#   'sect409r1 (explicit, hybrid public point)' => 'Crypt::Perl::X::ECDSA::CharacteristicTwoUnsupported',
#   'sect409r1 (explicit, uncompressed public point)' => 'Crypt::Perl::X::ECDSA::CharacteristicTwoUnsupported',
#   'sect409r1 (named_curve, compressed public point)' => 'Crypt::Perl::X::ECDSA::NoCurveForOID',
#   'sect409r1 (named_curve, hybrid public point)' => 'Crypt::Perl::X::ECDSA::NoCurveForOID',
#   'sect409r1 (named_curve, uncompressed public point)' => 'Crypt::Perl::X::ECDSA::NoCurveForOID',
#   'sect571k1 (explicit, compressed public point)' => 'Crypt::Perl::X::ECDSA::CharacteristicTwoUnsupported',
#   'sect571k1 (explicit, hybrid public point)' => 'Crypt::Perl::X::ECDSA::CharacteristicTwoUnsupported',
#   'sect571k1 (explicit, uncompressed public point)' => 'Crypt::Perl::X::ECDSA::CharacteristicTwoUnsupported',
#   'sect571k1 (named_curve, compressed public point)' => 'Crypt::Perl::X::ECDSA::NoCurveForOID',
#   'sect571k1 (named_curve, hybrid public point)' => 'Crypt::Perl::X::ECDSA::NoCurveForOID',
#   'sect571k1 (named_curve, uncompressed public point)' => 'Crypt::Perl::X::ECDSA::NoCurveForOID',
#   'sect571r1 (explicit, compressed public point)' => 'Crypt::Perl::X::ECDSA::CharacteristicTwoUnsupported',
#   'sect571r1 (explicit, hybrid public point)' => 'Crypt::Perl::X::ECDSA::CharacteristicTwoUnsupported',
#   'sect571r1 (explicit, uncompressed public point)' => 'Crypt::Perl::X::ECDSA::CharacteristicTwoUnsupported',
#   'sect571r1 (named_curve, compressed public point)' => 'Crypt::Perl::X::ECDSA::NoCurveForOID',
#   'sect571r1 (named_curve, hybrid public point)' => 'Crypt::Perl::X::ECDSA::NoCurveForOID',
#   'sect571r1 (named_curve, uncompressed public point)' => 'Crypt::Perl::X::ECDSA::NoCurveForOID',
#   'wap-wsg-idm-ecid-wtls1 (explicit, compressed public point)' => 'Crypt::Perl::X::ECDSA::CharacteristicTwoUnsupported',
#   'wap-wsg-idm-ecid-wtls1 (explicit, hybrid public point)' => 'Crypt::Perl::X::ECDSA::CharacteristicTwoUnsupported',
#   'wap-wsg-idm-ecid-wtls1 (explicit, uncompressed public point)' => 'Crypt::Perl::X::ECDSA::CharacteristicTwoUnsupported',
#   'wap-wsg-idm-ecid-wtls1 (named_curve, compressed public point)' => 'Crypt::Perl::X::ECDSA::NoCurveForOID',
#   'wap-wsg-idm-ecid-wtls1 (named_curve, hybrid public point)' => 'Crypt::Perl::X::ECDSA::NoCurveForOID',
#   'wap-wsg-idm-ecid-wtls1 (named_curve, uncompressed public point)' => 'Crypt::Perl::X::ECDSA::NoCurveForOID',
#   'wap-wsg-idm-ecid-wtls10 (explicit, compressed public point)' => 'Crypt::Perl::X::ECDSA::CharacteristicTwoUnsupported',
#   'wap-wsg-idm-ecid-wtls10 (explicit, hybrid public point)' => 'Crypt::Perl::X::ECDSA::CharacteristicTwoUnsupported',
#   'wap-wsg-idm-ecid-wtls10 (explicit, uncompressed public point)' => 'Crypt::Perl::X::ECDSA::CharacteristicTwoUnsupported',
#   'wap-wsg-idm-ecid-wtls10 (named_curve, compressed public point)' => 'Crypt::Perl::X::ECDSA::NoCurveForOID',
#   'wap-wsg-idm-ecid-wtls10 (named_curve, hybrid public point)' => 'Crypt::Perl::X::ECDSA::NoCurveForOID',
#   'wap-wsg-idm-ecid-wtls10 (named_curve, uncompressed public point)' => 'Crypt::Perl::X::ECDSA::NoCurveForOID',
#   'wap-wsg-idm-ecid-wtls11 (explicit, compressed public point)' => 'Crypt::Perl::X::ECDSA::CharacteristicTwoUnsupported',
#   'wap-wsg-idm-ecid-wtls11 (explicit, hybrid public point)' => 'Crypt::Perl::X::ECDSA::CharacteristicTwoUnsupported',
#   'wap-wsg-idm-ecid-wtls11 (explicit, uncompressed public point)' => 'Crypt::Perl::X::ECDSA::CharacteristicTwoUnsupported',
#   'wap-wsg-idm-ecid-wtls11 (named_curve, compressed public point)' => 'Crypt::Perl::X::ECDSA::NoCurveForOID',
#   'wap-wsg-idm-ecid-wtls11 (named_curve, hybrid public point)' => 'Crypt::Perl::X::ECDSA::NoCurveForOID',
#   'wap-wsg-idm-ecid-wtls11 (named_curve, uncompressed public point)' => 'Crypt::Perl::X::ECDSA::NoCurveForOID',
#   'wap-wsg-idm-ecid-wtls3 (explicit, compressed public point)' => 'Crypt::Perl::X::ECDSA::CharacteristicTwoUnsupported',
#   'wap-wsg-idm-ecid-wtls3 (explicit, hybrid public point)' => 'Crypt::Perl::X::ECDSA::CharacteristicTwoUnsupported',
#   'wap-wsg-idm-ecid-wtls3 (explicit, uncompressed public point)' => 'Crypt::Perl::X::ECDSA::CharacteristicTwoUnsupported',
#   'wap-wsg-idm-ecid-wtls3 (named_curve, compressed public point)' => 'Crypt::Perl::X::ECDSA::NoCurveForOID',
#   'wap-wsg-idm-ecid-wtls3 (named_curve, hybrid public point)' => 'Crypt::Perl::X::ECDSA::NoCurveForOID',
#   'wap-wsg-idm-ecid-wtls3 (named_curve, uncompressed public point)' => 'Crypt::Perl::X::ECDSA::NoCurveForOID',
#   'wap-wsg-idm-ecid-wtls4 (explicit, compressed public point)' => 'Crypt::Perl::X::ECDSA::CharacteristicTwoUnsupported',
#   'wap-wsg-idm-ecid-wtls4 (explicit, hybrid public point)' => 'Crypt::Perl::X::ECDSA::CharacteristicTwoUnsupported',
#   'wap-wsg-idm-ecid-wtls4 (explicit, uncompressed public point)' => 'Crypt::Perl::X::ECDSA::CharacteristicTwoUnsupported',
#   'wap-wsg-idm-ecid-wtls4 (named_curve, compressed public point)' => 'Crypt::Perl::X::ECDSA::NoCurveForOID',
#   'wap-wsg-idm-ecid-wtls4 (named_curve, hybrid public point)' => 'Crypt::Perl::X::ECDSA::NoCurveForOID',
#   'wap-wsg-idm-ecid-wtls4 (named_curve, uncompressed public point)' => 'Crypt::Perl::X::ECDSA::NoCurveForOID',
#   'wap-wsg-idm-ecid-wtls5 (explicit, compressed public point)' => 'Crypt::Perl::X::ECDSA::CharacteristicTwoUnsupported',
#   'wap-wsg-idm-ecid-wtls5 (explicit, hybrid public point)' => 'Crypt::Perl::X::ECDSA::CharacteristicTwoUnsupported',
#   'wap-wsg-idm-ecid-wtls5 (explicit, uncompressed public point)' => 'Crypt::Perl::X::ECDSA::CharacteristicTwoUnsupported',
#   'wap-wsg-idm-ecid-wtls5 (named_curve, compressed public point)' => 'Crypt::Perl::X::ECDSA::NoCurveForOID',
#   'wap-wsg-idm-ecid-wtls5 (named_curve, hybrid public point)' => 'Crypt::Perl::X::ECDSA::NoCurveForOID',
#   'wap-wsg-idm-ecid-wtls5 (named_curve, uncompressed public point)' => 'Crypt::Perl::X::ECDSA::NoCurveForOID',
#   'wap-wsg-idm-ecid-wtls6 (explicit, compressed public point)' => 'Crypt::Perl::X::TooLongToSign',
#   'wap-wsg-idm-ecid-wtls6 (explicit, hybrid public point)' => 'Crypt::Perl::X::TooLongToSign',
#   'wap-wsg-idm-ecid-wtls6 (explicit, uncompressed public point)' => 'Crypt::Perl::X::TooLongToSign',
#   'wap-wsg-idm-ecid-wtls6 (named_curve, compressed public point)' => 'Crypt::Perl::X::TooLongToSign',
#   'wap-wsg-idm-ecid-wtls6 (named_curve, hybrid public point)' => 'Crypt::Perl::X::TooLongToSign',
#   'wap-wsg-idm-ecid-wtls6 (named_curve, uncompressed public point)' => 'Crypt::Perl::X::TooLongToSign',
#   'wap-wsg-idm-ecid-wtls8 (explicit, compressed public point)' => 'Crypt::Perl::X::TooLongToSign',
#   'wap-wsg-idm-ecid-wtls8 (explicit, hybrid public point)' => 'Crypt::Perl::X::TooLongToSign',
#   'wap-wsg-idm-ecid-wtls8 (explicit, uncompressed public point)' => 'Crypt::Perl::X::TooLongToSign',
#   'wap-wsg-idm-ecid-wtls8 (named_curve, compressed public point)' => 'Crypt::Perl::X::TooLongToSign',
#   'wap-wsg-idm-ecid-wtls8 (named_curve, hybrid public point)' => 'Crypt::Perl::X::TooLongToSign',
#   'wap-wsg-idm-ecid-wtls8 (named_curve, uncompressed public point)' => 'Crypt::Perl::X::TooLongToSign'
# }
t/Crypt-Perl-ECDSA-PrivateKey.t ................... ok
# Looking for OpenSSL binary …
# Found OpenSSL: /usr/bin/openssl
# OpenSSL 1.1.1v-freebsd  1 Aug 2023
# options:  bn(64,64) rc4(16x,int) des(int) idea(int) blowfish(ptr) 
# compiler: clang
# Math::BigInt 1.999818 (backend: Math::BigInt::LTM 0.078)
read EC key
writing EC key
t/Crypt-Perl-ECDSA-PublicKey.t .................... ok
t/Crypt-Perl-Ed25519-Math.t ....................... ok
t/Crypt-Perl-Ed25519-Parse.t ...................... ok
t/Crypt-Perl-Ed25519-PrivateKey.t ................. ok
# Math::BigInt 1.999818 (backend: Math::BigInt::LTM 0.078)
t/Crypt-Perl-Math.t ............................... ok
# Math::BigInt 1.999818 (backend: Math::BigInt::LTM 0.078)
t/Crypt-Perl-PK.t ................................. ok
# Math::BigInt 1.999818 (backend: Math::BigInt::LTM 0.078)
t/Crypt-Perl-PKCS10-Attribute-extensionRequest.t .. ok
# Looking for OpenSSL binary …
# Found OpenSSL: /usr/bin/openssl
# OpenSSL 1.1.1v-freebsd  1 Aug 2023
# options:  bn(64,64) rc4(16x,int) des(int) idea(int) blowfish(ptr) 
# compiler: clang
# Checking /usr/bin/openssl for ed25519 support …
Algorithm ed25519" not found
# /usr/bin/openssl does not support ed25519.
# Math::BigInt 1.999818 (backend: Math::BigInt::LTM 0.078)
Generating RSA private key, 1024 bit long modulus (2 primes)
.........................+++++
......+++++
e is 65537 (0x010001)
Generating RSA private key, 2048 bit long modulus (2 primes)
...................................+++++
..+++++
e is 65537 (0x010001)
read EC key
writing EC key
read EC key
writing EC key
read EC key
writing EC key
read EC key
writing EC key
read EC key
writing EC key
read EC key
writing EC key
read EC key
writing EC key
t/Crypt-Perl-PKCS10.t ............................. ok
# Looking for OpenSSL binary …
# Found OpenSSL: /usr/bin/openssl
# OpenSSL 1.1.1v-freebsd  1 Aug 2023
# options:  bn(64,64) rc4(16x,int) des(int) idea(int) blowfish(ptr) 
# compiler: clang
# Math::BigInt 1.999818 (backend: Math::BigInt::LTM 0.078)
# Your Crypt::Perl::BigInt backend is “Math::BigInt::LTM”.
# Key generation 1 (exponent=3) …
writing RSA key
# Key generation 2 (exponent=65537) …
writing RSA key
# Key generation 3 (exponent=3) …
writing RSA key
# Key generation 4 (exponent=3) …
writing RSA key
# Key generation 5 (exponent=65537) …
writing RSA key
# Key generation 6 (exponent=3) …
writing RSA key
# Key generation 7 (exponent=65537) …
writing RSA key
# Key generation 8 (exponent=3) …
writing RSA key
# Key generation 9 (exponent=65537) …
writing RSA key
# Key generation 10 (exponent=65537) …
writing RSA key
# Key generation 11 (exponent=65537) …
writing RSA key
# Key generation 12 (exponent=65537) …
writing RSA key
# Key generation 13 (exponent=3) …
writing RSA key
# Key generation 14 (exponent=65537) …
writing RSA key
# Key generation 15 (exponent=65537) …
writing RSA key
# Key generation 16 (exponent=3) …
writing RSA key
# Key generation 17 (exponent=3) …
writing RSA key
# Key generation 18 (exponent=3) …
writing RSA key
# Key generation 19 (exponent=3) …
writing RSA key
# Key generation 20 (exponent=3) …
writing RSA key
# Key generation 21 (exponent=65537) …
writing RSA key
# Key generation 22 (exponent=3) …
writing RSA key
# Key generation 23 (exponent=65537) …
writing RSA key
# Key generation 24 (exponent=3) …
writing RSA key
# Key generation 25 (exponent=3) …
writing RSA key
# Key generation 26 (exponent=3) …
writing RSA key
# Key generation 27 (exponent=65537) …
writing RSA key
# Key generation 28 (exponent=3) …
writing RSA key
# Key generation 29 (exponent=65537) …
writing RSA key
# Key generation 30 (exponent=65537) …
writing RSA key
# Key generation 31 (exponent=3) …
writing RSA key
# Key generation 32 (exponent=65537) …
writing RSA key
# Key generation 33 (exponent=65537) …
writing RSA key
# Key generation 34 (exponent=3) …
writing RSA key
# Key generation 35 (exponent=3) …
writing RSA key
# Key generation 36 (exponent=65537) …
writing RSA key
# Key generation 37 (exponent=65537) …
writing RSA key
# Key generation 38 (exponent=3) …
writing RSA key
# Key generation 39 (exponent=65537) …
writing RSA key
# Key generation 40 (exponent=3) …
writing RSA key
# Key generation 41 (exponent=3) …
writing RSA key
# Key generation 42 (exponent=65537) …
writing RSA key
# Key generation 43 (exponent=3) …
writing RSA key
# Key generation 44 (exponent=3) …
writing RSA key
# Key generation 45 (exponent=3) …
writing RSA key
# Key generation 46 (exponent=65537) …
writing RSA key
# Key generation 47 (exponent=65537) …
writing RSA key
# Key generation 48 (exponent=65537) …
writing RSA key
# Key generation 49 (exponent=65537) …
writing RSA key
# Key generation 50 (exponent=65537) …
writing RSA key
t/Crypt-Perl-RSA-Generate.t ....................... ok
# Math::BigInt 1.999818 (backend: Math::BigInt::LTM 0.078)
t/Crypt-Perl-RSA-Parse.t .......................... ok
t/Crypt-Perl-RSA-PKCS1_v1_5.t ..................... ok
# Math::BigInt 1.999818 (backend: Math::BigInt::LTM 0.078)
t/Crypt-Perl-RSA-PrivateKey.t ..................... ok
# Math::BigInt 1.999818 (backend: Math::BigInt::LTM 0.078)
t/Crypt-Perl-RSA-PublicKey.t ...................... ok
# Math::BigInt 1.999818 (backend: Math::BigInt::LTM 0.078)
t/Crypt-Perl-X509-Extension-subjectAltName.t ...... ok
t/Crypt-Perl-X509-SCT.t ........................... ok
# Looking for OpenSSL binary …
# Found OpenSSL: /usr/bin/openssl
# OpenSSL 1.1.1v-freebsd  1 Aug 2023
# options:  bn(64,64) rc4(16x,int) des(int) idea(int) blowfish(ptr) 
# compiler: clang
# Checking /usr/bin/openssl for ed25519 support …
Algorithm ed25519" not found
# /usr/bin/openssl does not support ed25519.
# Math::BigInt 1.999818 (backend: Math::BigInt::LTM 0.078)
# self-sign - RSA
# two RSAs
# self-sign - ECC
# two ECCs
# subject RSA, signer ECC
# subject ECC, signer RSA
t/Crypt-Perl-X509v3.t ............................. ok
# Looking for OpenSSL binary …
# Found OpenSSL: /usr/bin/openssl
# OpenSSL 1.1.1v-freebsd  1 Aug 2023
# options:  bn(64,64) rc4(16x,int) des(int) idea(int) blowfish(ptr) 
# compiler: clang
# Checking /usr/bin/openssl for ed25519 support …
Algorithm ed25519" not found
# /usr/bin/openssl does not support ed25519.
t/Crypt-Perl-X509v3_ed25519.t ..................... ok
# Parsing...
t/ecdsa_verify_small_r_and_s.t .................... ok
All tests successful.
Files=26, Tests=3921, 394 wallclock secs ( 1.13 usr  0.16 sys + 381.07 cusr 10.36 csys = 392.73 CPU)
Result: PASS

------------------------------
PREREQUISITES
------------------------------

Prerequisite modules loaded:

requires:

    Module                        Need     Have    
    ----------------------------- -------- --------
    autodie                       0        2.34    
    Bytes::Random::Secure::Tiny   1.008    1.011   
    Class::Accessor::Fast         0.34     0.51    
    Convert::ASN1                 0.27     0.34    
    Crypt::Format                 0.12     0.12    
    Digest::SHA                   0        6.02    
    Math::BigInt                  1.999818 1.999818
    Math::ProvablePrime           0.51     0.51    
    MIME::Base64                  3.11     3.16    
    parent                        0.225    0.238   
    perl                          5.008000 5.034001
    Symbol::Get                   0.02     0.10    
    Try::Tiny                     0        0.31    

build_requires:

    Module                        Need     Have    
    ----------------------------- -------- --------
    Call::Context                 0        0.03    
    ExtUtils::MakeMaker           0        7.62    
    File::Slurp                   0        9999.32 
    File::Which                   0        1.27    
    Test::Class                   0.4      0.52    
    Test::Deep                    0        1.204   
    Test::Exception               0.40     0.43    
    Test::FailWarnings            0        0.008   
    Test::More                    0        1.302183

configure_requires:

    Module                        Need     Have    
    ----------------------------- -------- --------
    ExtUtils::MakeMaker::CPANfile 0.09     0.09    


------------------------------
ENVIRONMENT AND OTHER CONTEXT
------------------------------

Environment variables:

    PATH = /usr/local/bin:/usr/bin:/bin:/usr/local/sbin:/usr/sbin:/sbin:/home/cpansand/bin/sh:/home/cpansand/bin:/usr/games:/home/cpansand/devel:/usr/home/eserte/src/srezic-misc/scripts
    PERL5LIB = /home/cpansand/.cpan/build/2023082100/Symbol-Get-0.10-0/blib/arch:/home/cpansand/.cpan/build/2023082100/Symbol-Get-0.10-0/blib/lib:/home/cpansand/.cpan/build/2023082100/Math-ProvablePrime-0.51-0/blib/arch:/home/cpansand/.cpan/build/2023082100/Math-ProvablePrime-0.51-0/blib/lib:/home/cpansand/.cpan/build/2023082100/Test-Deep-1.204-0/blib/arch:/home/cpansand/.cpan/build/2023082100/Test-Deep-1.204-0/blib/lib:/home/cpansand/.cpan/build/2023082100/Test-Class-0.52-0/blib/arch:/home/cpansand/.cpan/build/2023082100/Test-Class-0.52-0/blib/lib:/home/cpansand/.cpan/build/2023082100/File-Slurp-9999.32-0/blib/arch:/home/cpansand/.cpan/build/2023082100/File-Slurp-9999.32-0/blib/lib:/home/cpansand/.cpan/build/2023082100/Crypt-Format-0.12-0/blib/arch:/home/cpansand/.cpan/build/2023082100/Crypt-Format-0.12-0/blib/lib:/home/cpansand/.cpan/build/2023082100/Test-FailWarnings-0.008-0/blib/arch:/home/cpansand/.cpan/build/2023082100/Test-FailWarnings-0.008-0/blib/lib:/home/cpansand/.cpan/build/2023082100/Convert-ASN1-0.34-0/blib/arch:/home/cpansand/.cpan/build/2023082100/Convert-ASN1-0.34-0/blib/lib:/home/cpansand/.cpan/build/2023082100/Class-Accessor-0.51-0/blib/arch:/home/cpansand/.cpan/build/2023082100/Class-Accessor-0.51-0/blib/lib:/home/cpansand/.cpan/build/2023082100/Call-Context-0.03-0/blib/arch:/home/cpansand/.cpan/build/2023082100/Call-Context-0.03-0/blib/lib:/home/cpansand/.cpan/build/2023082100/Bytes-Random-Secure-Tiny-1.011-0/blib/arch:/home/cpansand/.cpan/build/2023082100/Bytes-Random-Secure-Tiny-1.011-0/blib/lib:/home/cpansand/.cpan/build/2023082100/ExtUtils-MakeMaker-CPANfile-0.09-0/blib/arch:/home/cpansand/.cpan/build/2023082100/ExtUtils-MakeMaker-CPANfile-0.09-0/blib/lib:/home/cpansand/.cpan/build/2023082100/Module-CPANfile-1.1004-0/blib/arch:/home/cpansand/.cpan/build/2023082100/Module-CPANfile-1.1004-0/blib/lib:/home/cpansand/.cpan/build/2023082100/File-pushd-1.016-0/blib/arch:/home/cpansand/.cpan/build/2023082100/File-pushd-1.016-0/blib/lib:/home/cpansand/.cpan/build/2023082100/Bitcoin-Crypto-1.008-0/blib/arch:/home/cpansand/.cpan/build/2023082100/Bitcoin-Crypto-1.008-0/blib/lib:/home/cpansand/.cpan/build/2023082100/Bitcoin-BIP39-0.003-0/blib/arch:/home/cpansand/.cpan/build/2023082100/Bitcoin-BIP39-0.003-0/blib/lib:/home/cpansand/.cpan/build/2023082100/alias-module-0.002-0/blib/arch:/home/cpansand/.cpan/build/2023082100/alias-module-0.002-0/blib/lib:/home/cpansand/.cpan/build/2023082100/WordList-EN-BIP39-0.002-0/blib/arch:/home/cpansand/.cpan/build/2023082100/WordList-EN-BIP39-0.002-0/blib/lib:/home/cpansand/.cpan/build/2023082100/WordList-0.7.11-0/blib/arch:/home/cpansand/.cpan/build/2023082100/WordList-0.7.11-0/blib/lib:/home/cpansand/.cpan/build/2023082100/Test-Exception-0.43-1/blib/arch:/home/cpansand/.cpan/build/2023082100/Test-Exception-0.43-1/blib/lib:/home/cpansand/.cpan/build/2023082100/Sub-Uplevel-0.2800-1/blib/arch:/home/cpansand/.cpan/build/2023082100/Sub-Uplevel-0.2800-1/blib/lib:/home/cpansand/.cpan/build/2023082100/Bytes-Random-Secure-0.29-0/blib/arch:/home/cpansand/.cpan/build/2023082100/Bytes-Random-Secure-0.29-0/blib/lib:/home/cpansand/.cpan/build/2023082100/Math-Random-ISAAC-1.004-0/blib/arch:/home/cpansand/.cpan/build/2023082100/Math-Random-ISAAC-1.004-0/blib/lib:/home/cpansand/.cpan/build/2023082100/Test-NoWarnings-1.06-0/blib/arch:/home/cpansand/.cpan/build/2023082100/Test-NoWarnings-1.06-0/blib/lib:/home/cpansand/.cpan/build/2023082100/Crypt-Random-Seed-0.03-0/blib/arch:/home/cpansand/.cpan/build/2023082100/Crypt-Random-Seed-0.03-0/blib/lib:/home/cpansand/.cpan/build/2023082100/Crypt-Random-TESHA2-0.01-0/blib/arch:/home/cpansand/.cpan/build/2023082100/Crypt-Random-TESHA2-0.01-0/blib/lib
    PERL5OPT = 
    PERL5_CPANPLUS_IS_RUNNING = 54921
    PERL5_CPAN_IS_RUNNING = 54921
    PERL5_CPAN_IS_RUNNING_IN_RECURSION = 54868,54921
    PERL_BATCH = yes
    PERL_CANARY_STABILITY_NOPROMPT = 1
    PERL_CPAN_REPORTER_CONFIG = /var/tmp/cpansmoker-1023/2023082100/cpanreporter_000_config.ini
    PERL_EXTUTILS_AUTOINSTALL = --defaultdeps
    PERL_USE_UNSAFE_INC = 1
    SHELL = /bin/sh
    TMPDIR = /var/tmp/cpansmoker-1023/2023082100

Perl special variables (and OS-specific diagnostics, for MSWin32):

    $^X = /usr/local/bin/perl
    $UID/$EUID = 1023 / 1023
    $GID = 1023 1023
    $EGID = 1023 1023

Perl module toolchain versions installed:

    Module              Have    
    ------------------- --------
    CPAN                2.28    
    CPAN::Meta          2.150010
    Cwd                 3.80    
    ExtUtils::CBuilder  0.280236
    ExtUtils::Command   7.62    
    ExtUtils::Install   2.20    
    ExtUtils::MakeMaker 7.62    
    ExtUtils::Manifest  1.73    
    ExtUtils::ParseXS   3.43    
    File::Spec          3.80    
    JSON                n/a     
    JSON::PP            4.06    
    Module::Build       n/a     
    Module::Signature   n/a     
    Parse::CPAN::Meta   2.150010
    Test::Harness       3.43    
    Test::More          1.302183
    YAML                n/a     
    YAML::Syck          1.34    
    version             0.9928  


--

Summary of my perl5 (revision 5 version 34 subversion 1) configuration:
   
  Platform:
    osname=freebsd
    osvers=12.4-release-p3
    archname=amd64-freebsd-thread-multi
    uname='freebsd 124amd64-default-job-01 12.4-release-p3 freebsd 12.4-release-p3 amd64 '
    config_args='-Darchlib=/usr/local/lib/perl5/5.34/mach -Dcc=cc -Dcf_by=mat -Dcf_email=mat@FreeBSD.org -Dcf_time=Sun Mar 13 08:40:32 UTC 2022 -Dinc_version_list=none -Dlibperl=libperl.so.5.34.1 -Dman1dir=/usr/local/lib/perl5/5.34/perl/man/man1 -Dman3dir=/usr/local/lib/perl5/5.34/perl/man/man3 -Dprefix=/usr/local -Dprivlib=/usr/local/lib/perl5/5.34 -Dscriptdir=/usr/local/bin -Dsitearch=/usr/local/lib/perl5/site_perl/mach/5.34 -Dsitelib=/usr/local/lib/perl5/site_perl -Dsiteman1dir=/usr/local/lib/perl5/site_perl/man/man1 -Dsiteman3dir=/usr/local/lib/perl5/site_perl/man/man3 -Dusenm=n -Duseshrplib -sde -Ui_iconv -Ui_malloc -Uinstallusrbinperl -Accflags=-DUSE_THREAD_SAFE_LOCALE -Alddlflags=-L/wrkdirs/usr/ports/lang/perl5.34/work/perl-5.34.1 -L/usr/local/lib/perl5/5.34/mach/CORE -lperl -Dshrpldflags=$(LDDLFLAGS:N-L/wrkdirs/usr/ports/lang/perl5.34/work/perl-5.34.1:N-L/usr/local/lib/perl5/5.34/mach/CORE:N-lperl) -Wl,-soname,$(LIBPERL:R) -Doptimize=-O2 -pipe  -fstack-protector-strong -fno-strict-aliasing  -Dusedtrace -Ui_gdbm -Dusemultiplicity=y -Duse64bitint -Dusemymalloc=n -Dusethreads=y'
    hint=recommended
    useposix=true
    d_sigaction=define
    useithreads=define
    usemultiplicity=define
    use64bitint=define
    use64bitall=define
    uselongdouble=undef
    usemymalloc=n
    default_inc_excludes_dot=define
  Compiler:
    cc='cc'
    ccflags ='-DHAS_FPSETMASK -DHAS_FLOATINGPOINT_H -DUSE_THREAD_SAFE_LOCALE -fno-strict-aliasing -pipe -fstack-protector-strong -I/usr/local/include'
    optimize='-O2 -pipe -fstack-protector-strong -fno-strict-aliasing '
    cppflags='-DHAS_FPSETMASK -DHAS_FLOATINGPOINT_H -DUSE_THREAD_SAFE_LOCALE -fno-strict-aliasing -pipe -fstack-protector-strong -I/usr/local/include'
    ccversion=''
    gccversion='FreeBSD Clang 13.0.0 (git@github.com:llvm/llvm-project.git llvmorg-13.0.0-0-gd7b669b3a303)'
    gccosandvers=''
    intsize=4
    longsize=8
    ptrsize=8
    doublesize=8
    byteorder=12345678
    doublekind=3
    d_longlong=define
    longlongsize=8
    d_longdbl=define
    longdblsize=16
    longdblkind=3
    ivtype='long'
    ivsize=8
    nvtype='double'
    nvsize=8
    Off_t='off_t'
    lseeksize=8
    alignbytes=8
    prototype=define
  Linker and Libraries:
    ld='cc'
    ldflags ='-pthread -Wl,-E  -fstack-protector-strong -L/usr/local/lib'
    libpth=/usr/lib /usr/local/lib /usr/lib/clang/13.0.0/lib
    libs=-ldl -lm -lcrypt -lutil
    perllibs=-ldl -lm -lcrypt -lutil
    libc=
    so=so
    useshrplib=true
    libperl=libperl.so.5.34.1
    gnulibc_version=''
  Dynamic Linking:
    dlsrc=dl_dlopen.xs
    dlext=so
    d_dlsymun=undef
    ccdlflags='  -Wl,-R/usr/local/lib/perl5/5.34/mach/CORE'
    cccdlflags='-DPIC -fPIC'
    lddlflags='-shared  -L/usr/local/lib/perl5/5.34/mach/CORE -lperl -L/usr/local/lib -fstack-protector-strong'


Characteristics of this binary (from libperl): 
  Compile-time options:
    HAS_TIMES
    MULTIPLICITY
    PERLIO_LAYERS
    PERL_COPY_ON_WRITE
    PERL_DONT_CREATE_GVSV
    PERL_IMPLICIT_CONTEXT
    PERL_MALLOC_WRAP
    PERL_OP_PARENT
    PERL_PRESERVE_IVUV
    USE_64_BIT_ALL
    USE_64_BIT_INT
    USE_ITHREADS
    USE_LARGE_FILES
    USE_LOCALE
    USE_LOCALE_COLLATE
    USE_LOCALE_CTYPE
    USE_LOCALE_NUMERIC
    USE_LOCALE_TIME
    USE_PERLIO
    USE_PERL_ATOF
    USE_REENTRANT_API
    USE_THREAD_SAFE_LOCALE
  Built under freebsd
  %ENV:
    PERL5LIB="/home/cpansand/.cpan/build/2023082100/Symbol-Get-0.10-0/blib/arch:/home/cpansand/.cpan/build/2023082100/Symbol-Get-0.10-0/blib/lib:/home/cpansand/.cpan/build/2023082100/Math-ProvablePrime-0.51-0/blib/arch:/home/cpansand/.cpan/build/2023082100/Math-ProvablePrime-0.51-0/blib/lib:/home/cpansand/.cpan/build/2023082100/Test-Deep-1.204-0/blib/arch:/home/cpansand/.cpan/build/2023082100/Test-Deep-1.204-0/blib/lib:/home/cpansand/.cpan/build/2023082100/Test-Class-0.52-0/blib/arch:/home/cpansand/.cpan/build/2023082100/Test-Class-0.52-0/blib/lib:/home/cpansand/.cpan/build/2023082100/File-Slurp-9999.32-0/blib/arch:/home/cpansand/.cpan/build/2023082100/File-Slurp-9999.32-0/blib/lib:/home/cpansand/.cpan/build/2023082100/Crypt-Format-0.12-0/blib/arch:/home/cpansand/.cpan/build/2023082100/Crypt-Format-0.12-0/blib/lib:/home/cpansand/.cpan/build/2023082100/Test-FailWarnings-0.008-0/blib/arch:/home/cpansand/.cpan/build/2023082100/Test-FailWarnings-0.008-0/blib/lib:/home/cpansand/.cpan/build/2023082100/Convert-ASN1-0.34-0/blib/arch:/home/cpansand/.cpan/build/2023082100/Convert-ASN1-0.34-0/blib/lib:/home/cpansand/.cpan/build/2023082100/Class-Accessor-0.51-0/blib/arch:/home/cpansand/.cpan/build/2023082100/Class-Accessor-0.51-0/blib/lib:/home/cpansand/.cpan/build/2023082100/Call-Context-0.03-0/blib/arch:/home/cpansand/.cpan/build/2023082100/Call-Context-0.03-0/blib/lib:/home/cpansand/.cpan/build/2023082100/Bytes-Random-Secure-Tiny-1.011-0/blib/arch:/home/cpansand/.cpan/build/2023082100/Bytes-Random-Secure-Tiny-1.011-0/blib/lib:/home/cpansand/.cpan/build/2023082100/ExtUtils-MakeMaker-CPANfile-0.09-0/blib/arch:/home/cpansand/.cpan/build/2023082100/ExtUtils-MakeMaker-CPANfile-0.09-0/blib/lib:/home/cpansand/.cpan/build/2023082100/Module-CPANfile-1.1004-0/blib/arch:/home/cpansand/.cpan/build/2023082100/Module-CPANfile-1.1004-0/blib/lib:/home/cpansand/.cpan/build/2023082100/File-pushd-1.016-0/blib/arch:/home/cpansand/.cpan/build/2023082100/File-pushd-1.016-0/blib/lib:/home/cpansand/.cpan/build/2023082100/Bitcoin-Crypto-1.008-0/blib/arch:/home/cpansand/.cpan/build/2023082100/Bitcoin-Crypto-1.008-0/blib/lib:/home/cpansand/.cpan/build/2023082100/Bitcoin-BIP39-0.003-0/blib/arch:/home/cpansand/.cpan/build/2023082100/Bitcoin-BIP39-0.003-0/blib/lib:/home/cpansand/.cpan/build/2023082100/alias-module-0.002-0/blib/arch:/home/cpansand/.cpan/build/2023082100/alias-module-0.002-0/blib/lib:/home/cpansand/.cpan/build/2023082100/WordList-EN-BIP39-0.002-0/blib/arch:/home/cpansand/.cpan/build/2023082100/WordList-EN-BIP39-0.002-0/blib/lib:/home/cpansand/.cpan/build/2023082100/WordList-0.7.11-0/blib/arch:/home/cpansand/.cpan/build/2023082100/WordList-0.7.11-0/blib/lib:/home/cpansand/.cpan/build/2023082100/Test-Exception-0.43-1/blib/arch:/home/cpansand/.cpan/build/2023082100/Test-Exception-0.43-1/blib/lib:/home/cpansand/.cpan/build/2023082100/Sub-Uplevel-0.2800-1/blib/arch:/home/cpansand/.cpan/build/2023082100/Sub-Uplevel-0.2800-1/blib/lib:/home/cpansand/.cpan/build/2023082100/Bytes-Random-Secure-0.29-0/blib/arch:/home/cpansand/.cpan/build/2023082100/Bytes-Random-Secure-0.29-0/blib/lib:/home/cpansand/.cpan/build/2023082100/Math-Random-ISAAC-1.004-0/blib/arch:/home/cpansand/.cpan/build/2023082100/Math-Random-ISAAC-1.004-0/blib/lib:/home/cpansand/.cpan/build/2023082100/Test-NoWarnings-1.06-0/blib/arch:/home/cpansand/.cpan/build/2023082100/Test-NoWarnings-1.06-0/blib/lib:/home/cpansand/.cpan/build/2023082100/Crypt-Random-Seed-0.03-0/blib/arch:/home/cpansand/.cpan/build/2023082100/Crypt-Random-Seed-0.03-0/blib/lib:/home/cpansand/.cpan/build/2023082100/Crypt-Random-TESHA2-0.01-0/blib/arch:/home/cpansand/.cpan/build/2023082100/Crypt-Random-TESHA2-0.01-0/blib/lib"
    PERL5OPT=""
    PERL5_CPANPLUS_IS_RUNNING="54921"
    PERL5_CPAN_IS_RUNNING="54921"
    PERL5_CPAN_IS_RUNNING_IN_RECURSION="54868,54921"
    PERL_BATCH="yes"
    PERL_CANARY_STABILITY_NOPROMPT="1"
    PERL_CPAN_REPORTER_CONFIG="/var/tmp/cpansmoker-1023/2023082100/cpanreporter_000_config.ini"
    PERL_EXTUTILS_AUTOINSTALL="--defaultdeps"
    PERL_USE_UNSAFE_INC="1"
  @INC:
    /home/cpansand/.cpan/build/2023082100/Symbol-Get-0.10-0/blib/arch
    /home/cpansand/.cpan/build/2023082100/Symbol-Get-0.10-0/blib/lib
    /home/cpansand/.cpan/build/2023082100/Math-ProvablePrime-0.51-0/blib/arch
    /home/cpansand/.cpan/build/2023082100/Math-ProvablePrime-0.51-0/blib/lib
    /home/cpansand/.cpan/build/2023082100/Test-Deep-1.204-0/blib/arch
    /home/cpansand/.cpan/build/2023082100/Test-Deep-1.204-0/blib/lib
    /home/cpansand/.cpan/build/2023082100/Test-Class-0.52-0/blib/arch
    /home/cpansand/.cpan/build/2023082100/Test-Class-0.52-0/blib/lib
    /home/cpansand/.cpan/build/2023082100/File-Slurp-9999.32-0/blib/arch
    /home/cpansand/.cpan/build/2023082100/File-Slurp-9999.32-0/blib/lib
    /home/cpansand/.cpan/build/2023082100/Crypt-Format-0.12-0/blib/arch
    /home/cpansand/.cpan/build/2023082100/Crypt-Format-0.12-0/blib/lib
    /home/cpansand/.cpan/build/2023082100/Test-FailWarnings-0.008-0/blib/arch
    /home/cpansand/.cpan/build/2023082100/Test-FailWarnings-0.008-0/blib/lib
    /home/cpansand/.cpan/build/2023082100/Convert-ASN1-0.34-0/blib/arch
    /home/cpansand/.cpan/build/2023082100/Convert-ASN1-0.34-0/blib/lib
    /home/cpansand/.cpan/build/2023082100/Class-Accessor-0.51-0/blib/arch
    /home/cpansand/.cpan/build/2023082100/Class-Accessor-0.51-0/blib/lib
    /home/cpansand/.cpan/build/2023082100/Call-Context-0.03-0/blib/arch
    /home/cpansand/.cpan/build/2023082100/Call-Context-0.03-0/blib/lib
    /home/cpansand/.cpan/build/2023082100/Bytes-Random-Secure-Tiny-1.011-0/blib/arch
    /home/cpansand/.cpan/build/2023082100/Bytes-Random-Secure-Tiny-1.011-0/blib/lib
    /home/cpansand/.cpan/build/2023082100/ExtUtils-MakeMaker-CPANfile-0.09-0/blib/arch
    /home/cpansand/.cpan/build/2023082100/ExtUtils-MakeMaker-CPANfile-0.09-0/blib/lib
    /home/cpansand/.cpan/build/2023082100/Module-CPANfile-1.1004-0/blib/arch
    /home/cpansand/.cpan/build/2023082100/Module-CPANfile-1.1004-0/blib/lib
    /home/cpansand/.cpan/build/2023082100/File-pushd-1.016-0/blib/arch
    /home/cpansand/.cpan/build/2023082100/File-pushd-1.016-0/blib/lib
    /home/cpansand/.cpan/build/2023082100/Bitcoin-Crypto-1.008-0/blib/arch
    /home/cpansand/.cpan/build/2023082100/Bitcoin-Crypto-1.008-0/blib/lib
    /home/cpansand/.cpan/build/2023082100/Bitcoin-BIP39-0.003-0/blib/arch
    /home/cpansand/.cpan/build/2023082100/Bitcoin-BIP39-0.003-0/blib/lib
    /home/cpansand/.cpan/build/2023082100/alias-module-0.002-0/blib/arch
    /home/cpansand/.cpan/build/2023082100/alias-module-0.002-0/blib/lib
    /home/cpansand/.cpan/build/2023082100/WordList-EN-BIP39-0.002-0/blib/arch
    /home/cpansand/.cpan/build/2023082100/WordList-EN-BIP39-0.002-0/blib/lib
    /home/cpansand/.cpan/build/2023082100/WordList-0.7.11-0/blib/arch
    /home/cpansand/.cpan/build/2023082100/WordList-0.7.11-0/blib/lib
    /home/cpansand/.cpan/build/2023082100/Test-Exception-0.43-1/blib/arch
    /home/cpansand/.cpan/build/2023082100/Test-Exception-0.43-1/blib/lib
    /home/cpansand/.cpan/build/2023082100/Sub-Uplevel-0.2800-1/blib/arch
    /home/cpansand/.cpan/build/2023082100/Sub-Uplevel-0.2800-1/blib/lib
    /home/cpansand/.cpan/build/2023082100/Bytes-Random-Secure-0.29-0/blib/arch
    /home/cpansand/.cpan/build/2023082100/Bytes-Random-Secure-0.29-0/blib/lib
    /home/cpansand/.cpan/build/2023082100/Math-Random-ISAAC-1.004-0/blib/arch
    /home/cpansand/.cpan/build/2023082100/Math-Random-ISAAC-1.004-0/blib/lib
    /home/cpansand/.cpan/build/2023082100/Test-NoWarnings-1.06-0/blib/arch
    /home/cpansand/.cpan/build/2023082100/Test-NoWarnings-1.06-0/blib/lib
    /home/cpansand/.cpan/build/2023082100/Crypt-Random-Seed-0.03-0/blib/arch
    /home/cpansand/.cpan/build/2023082100/Crypt-Random-Seed-0.03-0/blib/lib
    /home/cpansand/.cpan/build/2023082100/Crypt-Random-TESHA2-0.01-0/blib/arch
    /home/cpansand/.cpan/build/2023082100/Crypt-Random-TESHA2-0.01-0/blib/lib
    /usr/local/lib/perl5/site_perl/mach/5.34
    /usr/local/lib/perl5/site_perl
    /usr/local/lib/perl5/5.34/mach
    /usr/local/lib/perl5/5.34
    .