Data-Transform v1.00 Perl 5 v5.36.0 amd64-freebsd-ld

Status
Pass
From
Slaven Rezić
Dist
Data-Transform v1.00
Platform
Perl 5 v5.36.0 amd64-freebsd-ld
Date
2024-02-19 16:38:43
ID
57ffa0f8-cf45-11ee-a14e-8bdb6d8775ea
This distribution has been tested as part of the CPAN Testers
project, supporting the Perl programming language.  See
http://wiki.cpantesters.org/ for more information or email
questions to cpan-testers-discuss@perl.org


--
Dear Mark Tyrrell,

This is a computer-generated report for Data-Transform-1.00
on perl 5.36.0, created by CPAN-Reporter-1.2018.

Thank you for uploading your work to CPAN.  Congratulations!
All tests were successful.

Sections of this report:

    * Tester comments
    * Program output
    * Prerequisites
    * Environment and other context

------------------------------
TESTER COMMENTS
------------------------------

Additional comments from tester:

none provided

------------------------------
PROGRAM OUTPUT
------------------------------

Output from '/usr/bin/make test':

PERL_DL_NONLAZY=1 "/usr/perl5.36.0Dp/bin/perl" "-MExtUtils::Command::MM" "-MTest::Harness" "-e" "undef *Test::Harness::Switches; test_harness(0, 'blib/lib', 'blib/arch')" t/*.t
# 
# Versions for all modules listed in MYMETA.json (including optional ones):
# 
# === Configure Requires ===
# 
#     Module              Want Have
#     ------------------- ---- ----
#     ExtUtils::MakeMaker  any 7.70
# 
# === Build Requires ===
# 
#     Module              Want Have
#     ------------------- ---- ----
#     ExtUtils::MakeMaker  any 7.70
# 
# === Test Requires ===
# 
#     Module                                   Want     Have
#     ------------------------------------ -------- --------
#     DBIx::Class                               any 0.082843
#     DBIx::Class::InflateColumn::Time       v0.0.1    0.0.1
#     DBIx::Class::Relationship::Predicate     0.07     0.07
#     DateTime                                  any     1.59
#     DateTime::Duration                        any     1.59
#     ExtUtils::MakeMaker                       any     7.70
#     File::Spec                                any     3.84
#     JSON::Validator                        v5.1.4     5.14
#     Test2::Suite                         0.000155 0.000159
#     Test::More                                any 1.302198
# 
# === Test Recommends ===
# 
#     Module         Want     Have
#     ---------- -------- --------
#     CPAN::Meta 2.120900 2.150010
# 
# === Runtime Requires ===
# 
#     Module                               Want  Have
#     ----------------------------------- ----- -----
#     Data::Compare                        1.29  1.29
#     DateTime::Format::Duration::ISO8601 0.008 0.008
#     Module::Util                         1.09  1.09
#     Object::Pad                         0.802 0.808
#     Readonly                             2.05  2.05
#     String::CamelSnakeKebab              0.06  0.06
# 
t/00-report-prereqs.t .......... ok
t/01-load_module.t ............. ok
t/02-construct.t ............... ok
t/03-hash_key_rewriting.t ...... ok
t/04-concat_position.t ......... ok
t/10-default.t ................. ok
t/11-undef.t ................... ok
t/12-schema.t .................. ok
t/14-type.t .................... ok
t/15-value.t ................... ok
t/16-position.t ................ ok
t/17-predicate.t ............... ok
t/21-type-datetime.t ........... ok
t/22-type-datetime-duration.t .. ok
t/23-type-dbix.t ............... ok
t/24-type-dbix-recursive.t ..... ok
t/40-tree.t .................... ok
t/41-tree-id.t ................. ok
t/42-tree-compound.t ........... ok
t/43-tree-lowercamel.t ......... ok
t/50-transform.t ............... ok
t/51-transform-predicate.t ..... ok
All tests successful.
Files=22, Tests=130,  4 wallclock secs ( 0.06 usr  0.03 sys +  3.13 cusr  0.41 csys =  3.64 CPU)
Result: PASS

------------------------------
PREREQUISITES
------------------------------

Prerequisite modules loaded:

requires:

    Module                               Need     Have    
    ------------------------------------ -------- --------
    Data::Compare                        1.29     1.29    
    DateTime::Format::Duration::ISO8601  0.008    0.008   
    Module::Util                         1.09     1.09    
    Object::Pad                          0.802    0.808   
    perl                                 5.026000 5.036000
    Readonly                             2.05     2.05    
    String::CamelSnakeKebab              0.06     0.06    

build_requires:

    Module                               Need     Have    
    ------------------------------------ -------- --------
    DateTime                             0        1.59    
    DateTime::Duration                   0        1.59    
    DBIx::Class                          0        0.082843
    DBIx::Class::InflateColumn::Time     v0.0.1   0.0.1   
    DBIx::Class::Relationship::Predicate 0.07     0.07    
    ExtUtils::MakeMaker                  0        7.70    
    File::Spec                           0        3.84    
    JSON::Validator                      v5.1.4   5.14    
    Test2::Suite                         0.000155 0.000159
    Test::More                           0        1.302198

configure_requires:

    Module                               Need     Have    
    ------------------------------------ -------- --------
    ExtUtils::MakeMaker                  0        7.70    


------------------------------
ENVIRONMENT AND OTHER CONTEXT
------------------------------

Environment variables:

    PATH = /usr/local/bin:/usr/bin:/bin:/usr/local/sbin:/usr/sbin:/sbin:/home/cpansand/bin/sh:/home/cpansand/bin:/usr/games:/home/cpansand/devel:/usr/home/eserte/src/srezic-misc/scripts
    PERL5LIB = /home/cpansand/.cpan/build/2024021916/DateTime-Format-Duration-ISO8601-0.008-2/blib/arch:/home/cpansand/.cpan/build/2024021916/DateTime-Format-Duration-ISO8601-0.008-2/blib/lib:/home/cpansand/.cpan/build/2024021916/DBIx-Class-Relationship-Predicate-0.07-2/blib/arch:/home/cpansand/.cpan/build/2024021916/DBIx-Class-Relationship-Predicate-0.07-2/blib/lib:/home/cpansand/.cpan/build/2024021916/DBIx-Class-InflateColumn-Time-0.0.1-2/blib/arch:/home/cpansand/.cpan/build/2024021916/DBIx-Class-InflateColumn-Time-0.0.1-2/blib/lib
    PERL5OPT = 
    PERL5_CPANPLUS_IS_RUNNING = 61114
    PERL5_CPAN_IS_RUNNING = 61114
    PERL5_CPAN_IS_RUNNING_IN_RECURSION = 60379,61114
    PERL_BATCH = yes
    PERL_CANARY_STABILITY_NOPROMPT = 1
    PERL_CPAN_REPORTER_CONFIG = /var/tmp/cpansmoker-1023/2024021916/cpanreporter_000_config.ini
    PERL_EXTUTILS_AUTOINSTALL = --defaultdeps
    PERL_USE_UNSAFE_INC = 1
    SHELL = /bin/sh
    TMPDIR = /var/tmp/cpansmoker-1023/2024021916

Perl special variables (and OS-specific diagnostics, for MSWin32):

    $^X = /usr/perl5.36.0Dp/bin/perl
    $UID/$EUID = 1023 / 1023
    $GID = 1023 1023
    $EGID = 1023 1023

Perl module toolchain versions installed:

    Module              Have    
    ------------------- --------
    CPAN                2.36    
    CPAN::Meta          2.150010
    Cwd                 3.84    
    ExtUtils::CBuilder  0.280236
    ExtUtils::Command   7.70    
    ExtUtils::Install   2.20    
    ExtUtils::MakeMaker 7.70    
    ExtUtils::Manifest  1.75    
    ExtUtils::ParseXS   3.51    
    File::Spec          3.84    
    JSON                4.10    
    JSON::PP            4.15    
    Module::Build       0.4234  
    Module::Signature   0.88    
    Parse::CPAN::Meta   2.150010
    Test::Harness       3.47    
    Test::More          1.302198
    YAML                1.31    
    YAML::Syck          1.34    
    version             0.9929  


--

Summary of my perl5 (revision 5 version 36 subversion 0) configuration:
   
  Platform:
    osname=freebsd
    osvers=13.1-stable
    archname=amd64-freebsd-ld
    uname='freebsd cloud10.bbbike.org 13.1-stable freebsd 13.1-stable #1 stable13-249d205cb: thu may 5 07:39:11 utc 2022 root@cloud10.bbbike.org:usrobjusrhomeprojectsfreebsd-srcamd64.amd64sysgeneric amd64 '
    config_args='-ds -e -Dprefix=/usr/perl5.36.0Dp -Duselongdouble -Dcf_email=srezic@cpan.org -Doptimize=-O2 -pipe'
    hint=recommended
    useposix=true
    d_sigaction=define
    useithreads=undef
    usemultiplicity=undef
    use64bitint=define
    use64bitall=define
    uselongdouble=define
    usemymalloc=n
    default_inc_excludes_dot=define
  Compiler:
    cc='cc'
    ccflags ='-DHAS_FPSETMASK -DHAS_FLOATINGPOINT_H -fno-strict-aliasing -pipe -fstack-protector-strong -I/usr/local/include'
    optimize='-O2 -pipe'
    cppflags='-DHAS_FPSETMASK -DHAS_FLOATINGPOINT_H -fno-strict-aliasing -pipe -fstack-protector-strong -I/usr/local/include'
    ccversion=''
    gccversion='FreeBSD Clang 13.0.0 (git@github.com:llvm/llvm-project.git llvmorg-13.0.0-0-gd7b669b3a303)'
    gccosandvers=''
    intsize=4
    longsize=8
    ptrsize=8
    doublesize=8
    byteorder=12345678
    doublekind=3
    d_longlong=define
    longlongsize=8
    d_longdbl=define
    longdblsize=16
    longdblkind=3
    ivtype='long'
    ivsize=8
    nvtype='long double'
    nvsize=16
    Off_t='off_t'
    lseeksize=8
    alignbytes=16
    prototype=define
  Linker and Libraries:
    ld='cc'
    ldflags ='-pthread -Wl,-E  -fstack-protector-strong -L/usr/local/lib'
    libpth=/usr/lib /usr/local/lib /usr/lib/clang/13.0.0/lib
    libs=-lpthread -lgdbm -ldl -lm -lcrypt -lutil -lc
    perllibs=-lpthread -ldl -lm -lcrypt -lutil -lc
    libc=
    so=so
    useshrplib=false
    libperl=libperl.a
    gnulibc_version=''
  Dynamic Linking:
    dlsrc=dl_dlopen.xs
    dlext=so
    d_dlsymun=undef
    ccdlflags=' '
    cccdlflags='-DPIC -fPIC'
    lddlflags='-shared  -L/usr/local/lib -fstack-protector-strong'


Characteristics of this binary (from libperl): 
  Compile-time options:
    HAS_TIMES
    PERLIO_LAYERS
    PERL_COPY_ON_WRITE
    PERL_DONT_CREATE_GVSV
    PERL_MALLOC_WRAP
    PERL_OP_PARENT
    PERL_PRESERVE_IVUV
    USE_64_BIT_ALL
    USE_64_BIT_INT
    USE_LARGE_FILES
    USE_LOCALE
    USE_LOCALE_COLLATE
    USE_LOCALE_CTYPE
    USE_LOCALE_NUMERIC
    USE_LOCALE_TIME
    USE_LONG_DOUBLE
    USE_PERLIO
    USE_PERL_ATOF
  Built under freebsd
  Compiled at May 31 2022 04:58:10
  %ENV:
    PERL5LIB="/home/cpansand/.cpan/build/2024021916/DateTime-Format-Duration-ISO8601-0.008-2/blib/arch:/home/cpansand/.cpan/build/2024021916/DateTime-Format-Duration-ISO8601-0.008-2/blib/lib:/home/cpansand/.cpan/build/2024021916/DBIx-Class-Relationship-Predicate-0.07-2/blib/arch:/home/cpansand/.cpan/build/2024021916/DBIx-Class-Relationship-Predicate-0.07-2/blib/lib:/home/cpansand/.cpan/build/2024021916/DBIx-Class-InflateColumn-Time-0.0.1-2/blib/arch:/home/cpansand/.cpan/build/2024021916/DBIx-Class-InflateColumn-Time-0.0.1-2/blib/lib"
    PERL5OPT=""
    PERL5_CPANPLUS_IS_RUNNING="61114"
    PERL5_CPAN_IS_RUNNING="61114"
    PERL5_CPAN_IS_RUNNING_IN_RECURSION="60379,61114"
    PERL_BATCH="yes"
    PERL_CANARY_STABILITY_NOPROMPT="1"
    PERL_CPAN_REPORTER_CONFIG="/var/tmp/cpansmoker-1023/2024021916/cpanreporter_000_config.ini"
    PERL_EXTUTILS_AUTOINSTALL="--defaultdeps"
    PERL_USE_UNSAFE_INC="1"
  @INC:
    /home/cpansand/.cpan/build/2024021916/DateTime-Format-Duration-ISO8601-0.008-2/blib/arch
    /home/cpansand/.cpan/build/2024021916/DateTime-Format-Duration-ISO8601-0.008-2/blib/lib
    /home/cpansand/.cpan/build/2024021916/DBIx-Class-Relationship-Predicate-0.07-2/blib/arch
    /home/cpansand/.cpan/build/2024021916/DBIx-Class-Relationship-Predicate-0.07-2/blib/lib
    /home/cpansand/.cpan/build/2024021916/DBIx-Class-InflateColumn-Time-0.0.1-2/blib/arch
    /home/cpansand/.cpan/build/2024021916/DBIx-Class-InflateColumn-Time-0.0.1-2/blib/lib
    /usr/perl5.36.0Dp/lib/site_perl/5.36.0/amd64-freebsd-ld
    /usr/perl5.36.0Dp/lib/site_perl/5.36.0
    /usr/perl5.36.0Dp/lib/5.36.0/amd64-freebsd-ld
    /usr/perl5.36.0Dp/lib/5.36.0
    .