Tapper-CLI v5.0.8 Perl 5 v5.22.4 x86_64-linux-thread-multi-ld

Status
Pass
From
Andreas J. König (ANDK)
Dist
Tapper-CLI v5.0.8
Platform
Perl 5 v5.22.4 x86_64-linux-thread-multi-ld
Date
2024-11-19 09:47:51
ID
57d303a2-a65b-11ef-812c-b55f09c8dbdd
This distribution has been tested as part of the CPAN Testers
project, supporting the Perl programming language.  See
http://wiki.cpantesters.org/ for more information or email
questions to cpan-testers-discuss@perl.org


--
Dear Tapper Team,

This is a computer-generated report for Tapper-CLI-5.0.8
on perl 5.22.4, created by CPAN-Reporter-1.2019.

Thank you for uploading your work to CPAN.  Congratulations!
All tests were successful.

Sections of this report:

    * Tester comments
    * Program output
    * Prerequisites
    * Environment and other context

------------------------------
TESTER COMMENTS
------------------------------

Additional comments from tester:

this report is from an automated smoke testing program
and was not reviewed by a human for accuracy

------------------------------
PROGRAM OUTPUT
------------------------------

Output from '/usr/bin/make test':

PERL_DL_NONLAZY=1 "/home/sand/src/perl/repoperls/installed-perls/host/k93msid/v5.22.4/ac75/bin/perl" "-MExtUtils::Command::MM" "-MTest::Harness" "-e" "undef *Test::Harness::Switches; test_harness(0, 'blib/lib', 'blib/arch')" t/*.t
t/00-compile.t ................ ok
t/00-load.t ................... ok
t/author-eol.t ................ skipped: these tests are for testing by the author
t/author-no-tabs.t ............ skipped: these tests are for testing by the author
t/author-pod-syntax.t ......... skipped: these tests are for testing by the author
Unknown option: pool_count
error: missing required parameter 'id' or 'selectbyname'
Unknown option: pool_count
error: missing required parameter 'id' or 'selectbyname'
t/tapper-cli-host.t ........... ok
t/tapper-cli-hostfeature.t .... ok
# 1
t/tapper-cli-notification.t ... ok
t/tapper-cli-precondition.t ... ok
t/tapper-cli-queue.t .......... ok
# 2
t/tapper-cli-scenario.t ....... ok
# answer:   1: 3003 3004 3005 3006
# testplan: 1
# testrun:  3003
# testrun:  3004
# testrun:  3005
# testrun:  3006
t/tapper-cli-testplan.t ....... ok
t/tapper-cli-testrun-small.t .. ok
t/tapper-cli-testrun.t ........ ok
t/tapper-cli-utils.t .......... ok
All tests successful.

Test Summary Report
-------------------
t/tapper-cli-host.t         (Wstat: 0 Tests: 38 Failed: 0)
  TODO passed:   37
Files=15, Tests=193, 184 wallclock secs ( 0.09 usr  0.05 sys + 74.99 cusr 13.18 csys = 88.31 CPU)
Result: PASS

------------------------------
PREREQUISITES
------------------------------

Prerequisite modules loaded:

requires:

    Module                                      Need    Have    
    ------------------------------------------- ------- --------
    App::Cmd                                    0       0.336   
    App::Cmd::Command                           0       0.336   
    App::Rad                                    0       1.05    
    BenchmarkAnything::Storage::Frontend::Tools 0       0.022   
    Compress::Bzip2                             0       2.28    
    Data::Dumper                                0       2.183   
    DateTime                                    0       1.65    
    DateTime::Format::Natural                   0       1.18    
    DBIx::Class::QueryLog                       0       1.005001
    DBIx::Class::QueryLog::Analyzer             0       1.005001
    English                                     0       1.09    
    Exporter                                    0       5.72    
    feature                                     0       1.40    
    File::ShareDir                              0       1.118   
    File::Slurp                                 0       9999.32 
    if                                          0       0.0604  
    IO::Socket                                  0       1.55    
    JSON                                        0       4.10    
    JSON::XS                                    0       4.03    
    Module::Load                                0       0.36    
    Moose                                       0       2.2206  
    parent                                      0       0.241   
    perl                                        5.010   5.022004
    Perl6::Junction                             0       1.60000 
    strict                                      0       1.09    
    Tapper::Cmd                                 v5.0.11 5.0.12  
    Tapper::Cmd::Cobbler                        0       5.0.12  
    Tapper::Cmd::DbDeploy                       0       5.0.12  
    Tapper::Cmd::Init                           0       5.0.12  
    Tapper::Cmd::Notification                   0       5.0.12  
    Tapper::Cmd::Precondition                   0       5.0.12  
    Tapper::Cmd::Queue                          0       5.0.12  
    Tapper::Cmd::Requested                      0       5.0.12  
    Tapper::Cmd::Scenario                       0       5.0.12  
    Tapper::Cmd::Testplan                       0       5.0.12  
    Tapper::Cmd::Testrun                        0       5.0.12  
    Tapper::Cmd::User                           0       5.0.12  
    Tapper::Config                              v5.0.2  5.0.4   
    Tapper::Model                               v5.0.1  5.0.2   
    Tapper::Schema                              v5.0.6  5.0.11  
    Tapper::Schema::TestrunDB                   0       4.001043
    Template                                    0       3.102   
    Text::Table                                 0       1.135   
    Try::Tiny                                   0       0.31    
    UNIVERSAL                                   0       1.12    
    warnings                                    0       1.34    
    YAML::Syck                                  0       1.34    
    YAML::XS                                    0       0.89    

build_requires:

    Module                                      Need    Have    
    ------------------------------------------- ------- --------
    Class::C3                                   0       0.35    
    ExtUtils::MakeMaker                         0       7.70    
    File::Spec                                  0       3.75    
    IO::Handle                                  0       1.55    
    IPC::Open3                                  0       1.18    
    MRO::Compat                                 0       0.15    
    Tapper::Schema::TestTools                   0       5.0.11  
    Test::Deep                                  0       1.204   
    Test::Fixture::DBIC::Schema                 0       0.04    
    Test::More                                  0       1.302204

configure_requires:

    Module                                      Need    Have    
    ------------------------------------------- ------- --------
    ExtUtils::MakeMaker                         0       7.70    


------------------------------
ENVIRONMENT AND OTHER CONTEXT
------------------------------

Environment variables:

    AUTOMATED_TESTING = 1
    LANG = en_US.UTF-8
    LANGUAGE = en_US:en
    PATH = /home/sand/bin:/usr/local/bin:/usr/bin:/bin:/usr/games:/usr/local/perl/bin:/usr/X11/bin:/sbin:/usr/sbin
    PERL5LIB = 
    PERL5OPT = 
    PERL5_CPANPLUS_IS_RUNNING = 2854856
    PERL5_CPAN_IS_RUNNING = 2854856
    PERL_CANARY_STABILITY_NOPROMPT = 1
    PERL_MM_USE_DEFAULT = 1
    PERL_USE_UNSAFE_INC = 1
    SHELL = /usr/bin/zsh
    TERM = screen

Perl special variables (and OS-specific diagnostics, for MSWin32):

    $^X = /home/sand/src/perl/repoperls/installed-perls/host/k93msid/v5.22.4/ac75/bin/perl
    $UID/$EUID = 1005 / 1005
    $GID = 1005 1005
    $EGID = 1005 1005

Perl module toolchain versions installed:

    Module              Have    
    ------------------- --------
    CPAN                2.37    
    CPAN::Meta          2.150010
    Cwd                 3.75    
    ExtUtils::CBuilder  0.280236
    ExtUtils::Command   7.70    
    ExtUtils::Install   2.22    
    ExtUtils::MakeMaker 7.70    
    ExtUtils::Manifest  1.70    
    ExtUtils::ParseXS   3.51    
    File::Spec          3.75    
    JSON                4.10    
    JSON::PP            4.16    
    Module::Build       0.4234  
    Module::Signature   0.88    
    Parse::CPAN::Meta   2.150010
    Test2               1.302204
    Test::Harness       3.50    
    Test::More          1.302204
    YAML                1.30    
    YAML::Syck          1.34    
    version             0.9930  


--

Summary of my perl5 (revision 5 version 22 subversion 4) configuration:
  Derived from: a26666a1317770d8a2228ac3657ba58020c3511f
  Platform:
    osname=linux, osvers=6.5.0-5-amd64, archname=x86_64-linux-thread-multi-ld
    uname='linux k93msid 6.5.0-5-amd64 #1 smp preempt_dynamic debian 6.5.13-1 (2023-11-29) x86_64 gnulinux '
    config_args='-Dprefix=/home/sand/src/perl/repoperls/installed-perls/host/k93msid/v5.22.4/ac75 -Dmyhostname=k93msid -Dinstallusrbinperl=n -Uversiononly -Dusedevel -des -Ui_db -Dlibswanted=cl pthread socket inet nsl gdbm dbm malloc dl ld sun m crypt sec util c cposix posix ucb BSD gdbm_compat -Duseithreads -Duselongdouble -DEBUGGING=both'
    hint=recommended, useposix=true, d_sigaction=define
    useithreads=define, usemultiplicity=define
    use64bitint=define, use64bitall=define, uselongdouble=define
    usemymalloc=n, bincompat5005=undef
  Compiler:
    cc='cc', ccflags ='-D_REENTRANT -D_GNU_SOURCE -fwrapv -DDEBUGGING -fno-strict-aliasing -pipe -fstack-protector-strong -I/usr/local/include -D_LARGEFILE_SOURCE -D_FILE_OFFSET_BITS=64 -D_FORTIFY_SOURCE=2',
    optimize='-O2 -g',
    cppflags='-D_REENTRANT -D_GNU_SOURCE -fwrapv -DDEBUGGING -fno-strict-aliasing -pipe -fstack-protector-strong -I/usr/local/include'
    ccversion='', gccversion='13.2.0', gccosandvers=''
    intsize=4, longsize=8, ptrsize=8, doublesize=8, byteorder=12345678, doublekind=3
    d_longlong=define, longlongsize=8, d_longdbl=define, longdblsize=16, longdblkind=3
    ivtype='long', ivsize=8, nvtype='long double', nvsize=16, Off_t='off_t', lseeksize=8
    alignbytes=16, prototype=define
  Linker and Libraries:
    ld='cc', ldflags =' -fstack-protector-strong -L/usr/local/lib'
    libpth=/usr/local/lib /usr/include/x86_64-linux-gnu /usr/lib /lib/x86_64-linux-gnu /lib/../lib /usr/lib/x86_64-linux-gnu /usr/lib/../lib /lib /lib64 /usr/lib64
    libs=-lpthread -lnsl -ldl -lm -lcrypt -lutil -lc
    perllibs=-lpthread -lnsl -ldl -lm -lcrypt -lutil -lc
    libc=/lib/x86_64-linux-gnu/libc.so.6, so=so, useshrplib=false, libperl=libperl.a
    gnulibc_version='2.37'
  Dynamic Linking:
    dlsrc=dl_dlopen.xs, dlext=so, d_dlsymun=undef, ccdlflags='-Wl,-E'
    cccdlflags='-fPIC', lddlflags='-shared -O2 -g -L/usr/local/lib -fstack-protector-strong'


Characteristics of this binary (from libperl): 
  Compile-time options: DEBUGGING HAS_TIMES MULTIPLICITY PERLIO_LAYERS
                        PERL_DONT_CREATE_GVSV
                        PERL_HASH_FUNC_ONE_AT_A_TIME_HARD
                        PERL_IMPLICIT_CONTEXT PERL_MALLOC_WRAP
                        PERL_NEW_COPY_ON_WRITE PERL_PRESERVE_IVUV
                        PERL_TRACK_MEMPOOL PERL_USE_DEVEL USE_64_BIT_ALL
                        USE_64_BIT_INT USE_ITHREADS USE_LARGE_FILES
                        USE_LOCALE USE_LOCALE_COLLATE USE_LOCALE_CTYPE
                        USE_LOCALE_NUMERIC USE_LOCALE_TIME USE_LONG_DOUBLE
                        USE_PERLIO USE_PERL_ATOF USE_REENTRANT_API
  Locally applied patches:
	uncommitted-changes
  Built under linux
  Compiled at Dec 22 2023 16:14:07
  %ENV:
    PERL5LIB=""
    PERL5OPT=""
    PERL5_CPANPLUS_IS_RUNNING="2854856"
    PERL5_CPAN_IS_RUNNING="2854856"
    PERL_CANARY_STABILITY_NOPROMPT="1"
    PERL_MM_USE_DEFAULT="1"
    PERL_USE_UNSAFE_INC="1"
  @INC:
    /home/sand/src/perl/repoperls/installed-perls/host/k93msid/v5.22.4/ac75/lib/site_perl/5.22.4/x86_64-linux-thread-multi-ld
    /home/sand/src/perl/repoperls/installed-perls/host/k93msid/v5.22.4/ac75/lib/site_perl/5.22.4
    /home/sand/src/perl/repoperls/installed-perls/host/k93msid/v5.22.4/ac75/lib/5.22.4/x86_64-linux-thread-multi-ld
    /home/sand/src/perl/repoperls/installed-perls/host/k93msid/v5.22.4/ac75/lib/5.22.4
    .