Report for Text-VimColor-0.23

Back
From: metabase:user:d49cdc72-1559-11e3-9efd-e82414baadac
Subject: PASS Text-VimColor-0.23 v5.19.10 GNU/Linux
Date: 2014-03-22T15:55:08Z

This distribution has been tested as part of the CPAN Testers
project, supporting the Perl programming language.  See
http://wiki.cpantesters.org/ for more information or email
questions to cpan-testers-discuss@perl.org


--
Dear RWSTAUNER,

This is a computer-generated report for Text-VimColor-0.23
on perl 5.19.10, created by App::cpanminus::reporter 0.10 (1.7001).

Thank you for uploading your work to CPAN.  Congratulations!
All tests were successful.

Sections of this report:

    * Tester comments
    * Program output
    * Prerequisites
    * Environment and other context

------------------------------
TESTER COMMENTS
------------------------------

Additional comments from tester:

none provided

------------------------------
PROGRAM OUTPUT
------------------------------

Output from '':

Building and testing Text-VimColor-0.23
cp share/light.css blib/lib/auto/share/dist/Text-VimColor/light.css
cp share/mark.vim blib/lib/auto/share/dist/Text-VimColor/mark.vim
cp share/light.xsl blib/lib/auto/share/dist/Text-VimColor/light.xsl
cp lib/Text/VimColor.pm blib/lib/Text/VimColor.pm
cp bin/text-vimcolor blib/script/text-vimcolor
/home/kent/perl5/perlbrew/perls/perl-5.19.10/bin/perl5.19.10 -MExtUtils::MY -e 'MY->fixin(shift)' -- blib/script/text-vimcolor
Manifying blib/man1/text-vimcolor.1
Manifying blib/man3/Text::VimColor.3
Skip blib/lib/auto/share/dist/Text-VimColor/light.xsl (unchanged)
Skip blib/lib/auto/share/dist/Text-VimColor/mark.vim (unchanged)
Skip blib/lib/auto/share/dist/Text-VimColor/light.css (unchanged)
PERL_DL_NONLAZY=1 /home/kent/perl5/perlbrew/perls/perl-5.19.10/bin/perl5.19.10 "-MExtUtils::Command::MM" "-MTest::Harness" "-e" "undef *Test::Harness::Switches; test_harness(0, 'blib/lib', 'blib/arch')" t/*.t
t/00-compile.t ......... ok
t/00-report-prereqs.t .. skipped: $ENV{AUTOMATED_TESTING} not set
# vim --version
# 
# VIM - Vi IMproved 7.4 (2013 Aug 10, compiled Mar 18 2014 05:08:08)
# Included patches: 1-193
# Modified by Gentoo-7.4.193
# Compiled by kent@katipo2
# Huge version without GUI.  Features included (+) or not (-):
# +acl             +farsi           +mouse_netterm   +syntax
# +arabic          +file_in_path    +mouse_sgr       +tag_binary
# +autocmd         +find_in_path    -mouse_sysmouse  +tag_old_static
# -balloon_eval    +float           +mouse_urxvt     -tag_any_white
# -browse          +folding         +mouse_xterm     -tcl
# ++builtin_terms  -footer          +multi_byte      +terminfo
# +byte_offset     +fork()          +multi_lang      +termresponse
# +cindent         +gettext         -mzscheme        +textobjects
# +clientserver    -hangul_input    +netbeans_intg   +title
# +clipboard       +iconv           +path_extra      -toolbar
# +cmdline_compl   +insert_expand   +perl            +user_commands
# +cmdline_hist    +jumplist        +persistent_undo +vertsplit
# +cmdline_info    +keymap          +postscript      +virtualedit
# +comments        +langmap         +printer         +visual
# +conceal         +libcall         +profile         +visualextra
# +cryptv          +linebreak       -python          +viminfo
# +cscope          +lispindent      -python3         +vreplace
# +cursorbind      +listcmds        +quickfix        +wildignore
# +cursorshape     +localmap        +reltime         +wildmenu
# +dialog_con      -lua             +rightleft       +windows
# +diff            +menu            -ruby            +writebackup
# +digraphs        +mksession       +scrollbind      +X11
# -dnd             +modify_fname    +signs           +xfontset
# -ebcdic          +mouse           +smartindent     -xim
# +emacs_tags      -mouseshape      -sniff           +xsmp_interact
# +eval            +mouse_dec       +startuptime     +xterm_clipboard
# +ex_extra        -mouse_gpm       +statusline      -xterm_save
# +extra_search    -mouse_jsbterm   -sun_workshop    -xpm
#    system vimrc file: "/etc/vim/vimrc"
#      user vimrc file: "$HOME/.vimrc"
#  2nd user vimrc file: "~/.vim/vimrc"
#       user exrc file: "$HOME/.exrc"
#   fall-back for $VIM: "/usr/share/vim"
# Compilation: x86_64-pc-linux-gnu-gcc -c -I. -Iproto -DHAVE_CONFIG_H     -O2 -pipe -U_FORTIFY_SOURCE -D_FORTIFY_SOURCE=1      
# Linking: x86_64-pc-linux-gnu-gcc   -Wl,-E  -Wl,-O1 -Wl,--as-needed -o vim    -lSM -lICE -lXpm -lXt -lX11 -lXdmcp -lSM -lICE  -lm -ltinfo -lelf -lnsl  -lacl -lattr -ldl   -Wl,-E -Wl,-O1 -Wl,--as-needed  -L/usr/lib64/perl5/5.16.3/x86_64-linux/CORE -lperl -lnsl -ldl -lm -lcrypt -lutil -lc       
# 
t/000-vim-version.t .... ok
t/ansi.t ............... ok
t/bin.t ................ ok
t/compare-formats.t .... ok
t/encoding.t ........... ok
t/html.t ............... ok
t/input_filename.t ..... ok
t/new.t ................ ok
t/override-options.t ... ok
t/share-dir.t .......... ok
t/tvctestsyn.t ......... ok
t/untie-std-handles.t .. ok
t/vim_let.t ............ ok
t/vim_options.t ........ ok
t/xml.t ................ ok
All tests successful.
Files=17, Tests=146,  8 wallclock secs ( 0.12 usr  0.04 sys +  4.29 cusr  0.93 csys =  5.38 CPU)
Result: PASS

------------------------------
PREREQUISITES
------------------------------

Prerequisite modules loaded:

    No requirements found

------------------------------
ENVIRONMENT AND OTHER CONTEXT
------------------------------

Environment variables:

    LC_CTYPE = en_NZ.UTF8
    PATH = /home/kent/perl5/perlbrew/bin:/home/kent/perl5/perlbrew/perls/perl-5.19.10/bin:/home/kent/.perl6/2013.04/bin:/home/kent/.gem/ruby/1.8/bin/:/usr/local/bin:/usr/bin:/bin:/opt/bin:/usr/x86_64-pc-linux-gnu/gcc-bin/4.8.2:/usr/games/bin
    PERLBREW_BASHRC_VERSION = 0.67
    PERLBREW_HOME = /home/kent/.perlbrew
    PERLBREW_MANPATH = /home/kent/perl5/perlbrew/perls/perl-5.19.10/man
    PERLBREW_PATH = /home/kent/perl5/perlbrew/bin:/home/kent/perl5/perlbrew/perls/perl-5.19.10/bin
    PERLBREW_PERL = perl-5.19.10
    PERLBREW_ROOT = /home/kent/perl5/perlbrew
    PERLBREW_VERSION = 0.67
    PERL_CPANM_OPT =  --prompt --interactive --with-recommends --with-suggests --verify
    SHELL = /bin/bash
    TERM = rxvt-unicode-256color

Perl special variables (and OS-specific diagnostics, for MSWin32):

    EGID = 1000 4 6 10 16 18 19 27 35 78 80 85 100 102 103 104 105 114 115 116 117 118 250 994 1000
    EUID = 1000
    EXECUTABLE_NAME = /home/kent/perl5/perlbrew/perls/perl-5.19.10/bin/perl5.19.10
    GID = 1000 4 6 10 16 18 19 27 35 78 80 85 100 102 103 104 105 114 115 116 117 118 250 994 1000
    UID = 1000

Perl module toolchain versions installed:

    Module              Have    
    ------------------- --------
    CPAN                2.04    
    CPAN::Meta          2.140640
    Cwd                 3.47    
    ExtUtils::CBuilder  0.280216
    ExtUtils::Command   1.18    
    ExtUtils::Install   1.63    
    ExtUtils::MakeMaker 6.92    
    ExtUtils::Manifest  1.63    
    ExtUtils::ParseXS   3.24    
    File::Spec          3.47    
    JSON                2.90    
    JSON::PP            2.27203 
    Module::Build       0.4205  
    Module::Signature   0.73    
    Parse::CPAN::Meta   1.4414  
    Test::Harness       3.30    
    Test::More          1.001002
    YAML                0.90    
    YAML::Syck          1.27    
    version             0.9908  


--

Summary of my perl5 (revision 5 version 19 subversion 10) configuration:
   
  Platform:
    osname=linux, osvers=3.13.5-gentoo, archname=x86_64-linux
    uname='linux katipo2 3.13.5-gentoo #59 smp wed mar 19 16:06:17 nzdt 2014 x86_64 intel(r) core(tm) i5-2410m cpu @ 2.30ghz genuineintel gnulinux '
    config_args='-de -Dprefix=/home/kent/perl5/perlbrew/perls/perl-5.19.10 -Doptimize=-march=native -mtune=native -O3 -pipe -msse -msse2 -mssse3 -msse4.1 -msse4.2 -mavx -mfxsr -mxsave -mxsaveopt -Dusedevel -Aeval:scriptdir=/home/kent/perl5/perlbrew/perls/perl-5.19.10/bin'
    hint=recommended, useposix=true, d_sigaction=define
    useithreads=undef, usemultiplicity=undef
    use64bitint=define, use64bitall=define, uselongdouble=undef
    usemymalloc=n, bincompat5005=undef
  Compiler:
    cc='cc', ccflags ='-fno-strict-aliasing -pipe -fstack-protector -D_LARGEFILE_SOURCE -D_FILE_OFFSET_BITS=64',
    optimize='-march=native -mtune=native -O3 -pipe -msse -msse2 -mssse3 -msse4.1 -msse4.2 -mavx -mfxsr -mxsave -mxsaveopt',
    cppflags='-fno-strict-aliasing -pipe -fstack-protector'
    ccversion='', gccversion='4.8.2', gccosandvers=''
    intsize=4, longsize=8, ptrsize=8, doublesize=8, byteorder=12345678
    d_longlong=define, longlongsize=8, d_longdbl=define, longdblsize=16
    ivtype='long', ivsize=8, nvtype='double', nvsize=8, Off_t='off_t', lseeksize=8
    alignbytes=8, prototype=define
  Linker and Libraries:
    ld='cc', ldflags =' -fstack-protector'
    libpth=/usr/lib/gcc/x86_64-pc-linux-gnu/4.8.2/include-fixed /usr/lib /lib/../lib64 /usr/lib/../lib64 /lib /lib64 /usr/lib64
    libs=-lnsl -lgdbm -ldb -ldl -lm -lcrypt -lutil -lc -lgdbm_compat
    perllibs=-lnsl -ldl -lm -lcrypt -lutil -lc
    libc=/lib/libc-2.17.so, so=so, useshrplib=false, libperl=libperl.a
    gnulibc_version='2.17'
  Dynamic Linking:
    dlsrc=dl_dlopen.xs, dlext=so, d_dlsymun=undef, ccdlflags='-Wl,-E'
    cccdlflags='-fPIC', lddlflags='-shared -march=native -mtune=native -O3 -pipe -msse -msse2 -mssse3 -msse4.1 -msse4.2 -mavx -mfxsr -mxsave -mxsaveopt -fstack-protector'


Characteristics of this binary (from libperl): 
  Compile-time options: HAS_TIMES PERLIO_LAYERS PERL_DONT_CREATE_GVSV
                        PERL_HASH_FUNC_ONE_AT_A_TIME_HARD PERL_MALLOC_WRAP
                        PERL_NEW_COPY_ON_WRITE PERL_PRESERVE_IVUV
                        PERL_USE_DEVEL USE_64_BIT_ALL USE_64_BIT_INT
                        USE_LARGE_FILES USE_LOCALE USE_LOCALE_COLLATE
                        USE_LOCALE_CTYPE USE_LOCALE_NUMERIC USE_PERLIO
                        USE_PERL_ATOF
  Built under linux
  Compiled at Mar 21 2014 15:15:27
  %ENV:
    PERLBREW_BASHRC_VERSION="0.67"
    PERLBREW_HOME="/home/kent/.perlbrew"
    PERLBREW_MANPATH="/home/kent/perl5/perlbrew/perls/perl-5.19.10/man"
    PERLBREW_PATH="/home/kent/perl5/perlbrew/bin:/home/kent/perl5/perlbrew/perls/perl-5.19.10/bin"
    PERLBREW_PERL="perl-5.19.10"
    PERLBREW_ROOT="/home/kent/perl5/perlbrew"
    PERLBREW_VERSION="0.67"
    PERL_CPANM_OPT=" --prompt --interactive --with-recommends --with-suggests --verify"
  @INC:
    /home/kent/perl5/perlbrew/perls/perl-5.19.10/lib/site_perl/5.19.10/x86_64-linux
    /home/kent/perl5/perlbrew/perls/perl-5.19.10/lib/site_perl/5.19.10
    /home/kent/perl5/perlbrew/perls/perl-5.19.10/lib/5.19.10/x86_64-linux
    /home/kent/perl5/perlbrew/perls/perl-5.19.10/lib/5.19.10
    .