XML-Rules v1.16 Perl 5 v5.14.4 amd64-freebsd

Status
Pass
From
Slaven Rezić (SREZIC)
Dist
XML-Rules v1.16
Platform
Perl 5 v5.14.4 amd64-freebsd
Date
2018-01-03 02:18:09
ID
574d39f8-f02c-11e7-a84b-e301a75308b0
This distribution has been tested as part of the CPAN Testers
project, supporting the Perl programming language.  See
http://wiki.cpantesters.org/ for more information or email
questions to cpan-testers-discuss@perl.org


--
Dear Jan Krynicky,

This is a computer-generated report for XML-Rules-1.16
on perl 5.14.4, created by CPAN-Reporter-1.2018.

Thank you for uploading your work to CPAN.  Congratulations!
All tests were successful.

Sections of this report:

    * Tester comments
    * Program output
    * Prerequisites
    * Environment and other context

------------------------------
TESTER COMMENTS
------------------------------

Additional comments from tester:

none provided

------------------------------
PROGRAM OUTPUT
------------------------------

Output from './Build test':

# Testing XML::Rules 1.16, Perl 5.014004, /usr/local/bin/perl5.14.4
t/00-load.t ................ ok
t/01-simple_xml.t .......... ok
t/02-encoding.t ............ ok
t/03-output.t .............. ok
t/04-filter.t .............. ok
t/05-namespaces.t .......... ok
t/06-whitespace.t .......... ok
t/07-content_whitespace.t .. ok
t/08-whitespace_more.t ..... ok
t/09-whitespace_one.t ...... ok
t/10-infer.t ............... ok
t/11-namespaces-other.t .... ok
t/12-infer_from_DTD.t ...... ok
t/13-filter_attributes.t ... ok
t/boilerplate.t ............ ok
t/pod-coverage.t ........... ok
t/pod.t .................... ok
All tests successful.
Files=17, Tests=185, 11 wallclock secs ( 0.05 usr  0.09 sys +  1.74 cusr  0.73 csys =  2.60 CPU)
Result: PASS

------------------------------
PREREQUISITES
------------------------------

Prerequisite modules loaded:

requires:

    Module             Need     Have    
    ------------------ -------- --------
    perl               5.008    5.014004
    XML::Parser        2.00     2.44    
    XML::Parser::Expat 2.00     2.44    

build_requires:

    Module             Need     Have    
    ------------------ -------- --------
    Test::More         0        1.302120

configure_requires:

    Module             Need     Have    
    ------------------ -------- --------
    Module::Build      0.340201 0.4224  


------------------------------
ENVIRONMENT AND OTHER CONTEXT
------------------------------

Environment variables:

    PATH = /usr/local/bin:/usr/bin:/bin:/usr/local/sbin:/usr/sbin:/sbin:/home/cpansand/bin/freebsd12.0:/home/cpansand/bin/sh:/home/cpansand/bin:/usr/games:/home/cpansand/devel:/home/eserte/src/srezic-misc/scripts
    PERL5LIB = /home/cpansand/.cpan/build/2018010203/XML-Compare-0.05-0BueoT/blib/arch:/home/cpansand/.cpan/build/2018010203/XML-Compare-0.05-0BueoT/blib/lib:/home/cpansand/.cpan/build/2018010203/InterMine-Model-0.9901-ZzSP0N/blib/arch:/home/cpansand/.cpan/build/2018010203/InterMine-Model-0.9901-ZzSP0N/blib/lib:/home/cpansand/.cpan/build/2018010203/Set-CrossProduct-2.002-OedtV8/blib/arch:/home/cpansand/.cpan/build/2018010203/Set-CrossProduct-2.002-OedtV8/blib/lib:/home/cpansand/.cpan/build/2018010203/Perl6-Junction-1.60000-_tr6R9/blib/arch:/home/cpansand/.cpan/build/2018010203/Perl6-Junction-1.60000-_tr6R9/blib/lib:/home/cpansand/.cpan/build/2018010203/Class-InsideOut-1.14-3Nft2m/blib/arch:/home/cpansand/.cpan/build/2018010203/Class-InsideOut-1.14-3Nft2m/blib/lib
    PERL5OPT = 
    PERL5_CPANPLUS_IS_RUNNING = 19729
    PERL5_CPAN_IS_RUNNING = 19729
    PERL5_CPAN_IS_RUNNING_IN_RECURSION = 19674,19729
    PERLDOC = -MPod::Perldoc::ToTextOverstrike
    PERL_BATCH = yes
    PERL_CANARY_STABILITY_NOPROMPT = 1
    PERL_CPAN_REPORTER_CONFIG = /var/tmp/cpansmoker-1023/2018010203/cpanreporter_001_config.ini
    PERL_EXTUTILS_AUTOINSTALL = --defaultdeps
    SHELL = /usr/local/bin/zsh
    TERM = screen
    TMPDIR = /var/tmp/cpansmoker-1023/2018010203

Perl special variables (and OS-specific diagnostics, for MSWin32):

    $^X = /usr/local/bin/perl5.14.4
    $UID/$EUID = 1023 / 1023
    $GID = 1023 1023
    $EGID = 1023 1023

Perl module toolchain versions installed:

    Module              Have     
    ------------------- ---------
    CPAN                1.9600_01
    CPAN::Meta          2.150010 
    Cwd                 3.62     
    ExtUtils::CBuilder  0.280230 
    ExtUtils::Command   7.30     
    ExtUtils::Install   2.06     
    ExtUtils::MakeMaker 7.30     
    ExtUtils::Manifest  1.70     
    ExtUtils::ParseXS   3.35     
    File::Spec          3.62     
    JSON                2.97001  
    JSON::PP            2.97001  
    Module::Build       0.4224   
    Module::Signature   n/a      
    Parse::CPAN::Meta   2.150010 
    Test::Harness       3.39     
    Test::More          1.302120 
    YAML                1.24     
    YAML::Syck          1.30     
    version             0.9918   


--

Summary of my perl5 (revision 5 version 14 subversion 4) configuration:
   
  Platform:
    osname=freebsd, osvers=12.0-current, archname=amd64-freebsd
    uname='freebsd ali1.bbbike.org 12.0-current freebsd 12.0-current #0 bd8385a990e(master)-dirty: fri nov 17 03:13:11 utc 2017 root@ali1.bbbike.org:usrobjhomeprojectsfreebsdamd64.amd64sysgeneric-nodebug amd64 '
    config_args='-ds -e -Dprefix=/usr/perl5.14.4p -Dcf_email=srezic@cpan.org -Doptimize=-O2 -pipe'
    hint=recommended, useposix=true, d_sigaction=define
    useithreads=undef, usemultiplicity=undef
    useperlio=define, d_sfio=undef, uselargefiles=define, usesocks=undef
    use64bitint=define, use64bitall=define, uselongdouble=undef
    usemymalloc=n, bincompat5005=undef
  Compiler:
    cc='cc', ccflags ='-DHAS_FPSETMASK -DHAS_FLOATINGPOINT_H -fno-strict-aliasing -pipe -fstack-protector -I/usr/local/include',
    optimize='-O2 -pipe',
    cppflags='-DHAS_FPSETMASK -DHAS_FLOATINGPOINT_H -fno-strict-aliasing -pipe -fstack-protector -I/usr/local/include'
    ccversion='', gccversion='4.2.1 Compatible FreeBSD Clang 5.0.0 (tags/RELEASE_500/final 312559)', gccosandvers=''
    intsize=4, longsize=8, ptrsize=8, doublesize=8, byteorder=12345678
    d_longlong=define, longlongsize=8, d_longdbl=define, longdblsize=16
    ivtype='long', ivsize=8, nvtype='double', nvsize=8, Off_t='off_t', lseeksize=8
    alignbytes=8, prototype=define
  Linker and Libraries:
    ld='cc', ldflags ='-pthread -Wl,-E  -fstack-protector -L/usr/local/lib'
    libpth=/usr/lib /usr/local/lib
    libs=-lgdbm -lm -lcrypt -lutil -lc
    perllibs=-lm -lcrypt -lutil -lc
    libc=, so=so, useshrplib=false, libperl=libperl.a
    gnulibc_version=''
  Dynamic Linking:
    dlsrc=dl_dlopen.xs, dlext=so, d_dlsymun=undef, ccdlflags=' '
    cccdlflags='-DPIC -fPIC', lddlflags='-shared  -L/usr/local/lib -fstack-protector'


Characteristics of this binary (from libperl): 
  Compile-time options: PERL_DONT_CREATE_GVSV PERL_MALLOC_WRAP
                        PERL_PRESERVE_IVUV USE_64_BIT_ALL USE_64_BIT_INT
                        USE_LARGE_FILES USE_PERLIO USE_PERL_ATOF
  Built under freebsd
  Compiled at Nov 17 2017 07:31:56
  %ENV:
    PERL5LIB="/home/cpansand/.cpan/build/2018010203/XML-Compare-0.05-0BueoT/blib/arch:/home/cpansand/.cpan/build/2018010203/XML-Compare-0.05-0BueoT/blib/lib:/home/cpansand/.cpan/build/2018010203/InterMine-Model-0.9901-ZzSP0N/blib/arch:/home/cpansand/.cpan/build/2018010203/InterMine-Model-0.9901-ZzSP0N/blib/lib:/home/cpansand/.cpan/build/2018010203/Set-CrossProduct-2.002-OedtV8/blib/arch:/home/cpansand/.cpan/build/2018010203/Set-CrossProduct-2.002-OedtV8/blib/lib:/home/cpansand/.cpan/build/2018010203/Perl6-Junction-1.60000-_tr6R9/blib/arch:/home/cpansand/.cpan/build/2018010203/Perl6-Junction-1.60000-_tr6R9/blib/lib:/home/cpansand/.cpan/build/2018010203/Class-InsideOut-1.14-3Nft2m/blib/arch:/home/cpansand/.cpan/build/2018010203/Class-InsideOut-1.14-3Nft2m/blib/lib"
    PERL5OPT=""
    PERL5_CPANPLUS_IS_RUNNING="19729"
    PERL5_CPAN_IS_RUNNING="19729"
    PERL5_CPAN_IS_RUNNING_IN_RECURSION="19674,19729"
    PERLDOC="-MPod::Perldoc::ToTextOverstrike"
    PERL_BATCH="yes"
    PERL_CANARY_STABILITY_NOPROMPT="1"
    PERL_CPAN_REPORTER_CONFIG="/var/tmp/cpansmoker-1023/2018010203/cpanreporter_001_config.ini"
    PERL_EXTUTILS_AUTOINSTALL="--defaultdeps"
  @INC:
    /home/cpansand/.cpan/build/2018010203/XML-Compare-0.05-0BueoT/blib/arch
    /home/cpansand/.cpan/build/2018010203/XML-Compare-0.05-0BueoT/blib/lib
    /home/cpansand/.cpan/build/2018010203/InterMine-Model-0.9901-ZzSP0N/blib/arch
    /home/cpansand/.cpan/build/2018010203/InterMine-Model-0.9901-ZzSP0N/blib/lib
    /home/cpansand/.cpan/build/2018010203/Set-CrossProduct-2.002-OedtV8/blib/arch
    /home/cpansand/.cpan/build/2018010203/Set-CrossProduct-2.002-OedtV8/blib/lib
    /home/cpansand/.cpan/build/2018010203/Perl6-Junction-1.60000-_tr6R9/blib/arch
    /home/cpansand/.cpan/build/2018010203/Perl6-Junction-1.60000-_tr6R9/blib/lib
    /home/cpansand/.cpan/build/2018010203/Class-InsideOut-1.14-3Nft2m/blib/arch
    /home/cpansand/.cpan/build/2018010203/Class-InsideOut-1.14-3Nft2m/blib/lib
    /usr/perl5.14.4p/lib/site_perl/5.14.4/amd64-freebsd
    /usr/perl5.14.4p/lib/site_perl/5.14.4
    /usr/perl5.14.4p/lib/5.14.4/amd64-freebsd
    /usr/perl5.14.4p/lib/5.14.4
    .