Mail-Mbox-MessageParser v1.5111 Perl 5 v5.39.10 x86_64-linux-thread-multi-ld

Status
Pass
From
Andreas J. König (ANDK)
Dist
Mail-Mbox-MessageParser v1.5111
Platform
Perl 5 v5.39.10 x86_64-linux-thread-multi-ld
Date
2024-04-30 10:35:19
ID
5733f618-06dd-11ef-9ffc-4213e6b0da24
This distribution has been tested as part of the CPAN Testers
project, supporting the Perl programming language.  See
http://wiki.cpantesters.org/ for more information or email
questions to cpan-testers-discuss@perl.org


--
Dear David Coppit,

This is a computer-generated report for Mail-Mbox-MessageParser-1.5111
on perl 5.39.10, created by CPAN-Reporter-1.2019.

Thank you for uploading your work to CPAN.  Congratulations!
All tests were successful.

Sections of this report:

    * Tester comments
    * Program output
    * Prerequisites
    * Environment and other context

------------------------------
TESTER COMMENTS
------------------------------

Additional comments from tester:

this report is from an automated smoke testing program
and was not reviewed by a human for accuracy

------------------------------
PROGRAM OUTPUT
------------------------------

Output from '/usr/bin/make test':

PERL_DL_NONLAZY=1 "/tmp/basesmoker-reloperl-_Pz6/bin/perl" "-MExtUtils::Command::MM" "-MTest::Harness" "-e" "undef *Test::Harness::Switches; test_harness(1, 'blib/lib', 'blib/arch')" t/*.t
t/000_standard__compile.t ....... 
1..6
ok 1 - blib/lib/Mail/Mbox/MessageParser.pm compiles
ok 2 - blib/lib/Mail/Mbox/MessageParser/Cache.pm compiles
ok 3 - blib/lib/Mail/Mbox/MessageParser/Config.pm compiles
ok 4 - blib/lib/Mail/Mbox/MessageParser/Grep.pm compiles
ok 5 - blib/lib/Mail/Mbox/MessageParser/MetaInfo.pm compiles
ok 6 - blib/lib/Mail/Mbox/MessageParser/Perl.pm compiles
ok
t/000_standard__perl_critic.t ... skipped: Author test. Set $ENV{TEST_AUTHOR} to a true value to run.
t/000_standard__pod.t ........... 
1..6
ok 1 - POD test for blib/lib/Mail/Mbox/MessageParser.pm
ok 2 - POD test for blib/lib/Mail/Mbox/MessageParser/Grep.pm
ok 3 - POD test for blib/lib/Mail/Mbox/MessageParser/Cache.pm
ok 4 - POD test for blib/lib/Mail/Mbox/MessageParser/Config.pm
ok 5 - POD test for blib/lib/Mail/Mbox/MessageParser/MetaInfo.pm
ok 6 - POD test for blib/lib/Mail/Mbox/MessageParser/Perl.pm
ok
t/000_standard__pod_coverage.t .. 
1..6
ok 1 - Pod coverage on Mail::Mbox::MessageParser
ok 2 - Pod coverage on Mail::Mbox::MessageParser::Grep
ok 3 - Pod coverage on Mail::Mbox::MessageParser::Cache
ok 4 - Pod coverage on Mail::Mbox::MessageParser::Config
ok 5 - Pod coverage on Mail::Mbox::MessageParser::MetaInfo
ok 6 - Pod coverage on Mail::Mbox::MessageParser::Perl
ok
t/appended_mailbox.t ............ 
1..6
Testing modified mailbox with Perl implementation
Comparing /tmp/GGM6SeRUHX to t/mailboxes/mailarc-1.txt
Output /tmp/GGM6SeRUHX looks good.
ok 1 - Computing differences
Testing modified mailbox with Cache implementation
Comparing /tmp/nKrBTiIZdq to t/mailboxes/mailarc-1.txt
Output /tmp/nKrBTiIZdq looks good.
ok 2 - Computing differences
Testing modified mailbox with Grep implementation
ok 3 # skip GNU grep not available
Testing modified mailbox with Perl implementation
Comparing /tmp/WSBj38GaP2 to t/mailboxes/mailarc-1.txt
Output /tmp/WSBj38GaP2 looks good.
ok 4 - Computing differences
Testing modified mailbox with Cache implementation
Comparing /tmp/om949Ym4Tj to t/mailboxes/mailarc-1.txt
Output /tmp/om949Ym4Tj looks good.
ok 5 - Computing differences
Testing modified mailbox with Grep implementation
ok 6 # skip GNU grep not available
ok
t/bzip2.t ....................... 
1..1
Running test:
  "/usr/bin/cat" "t/mailboxes/mailarc-2.txt.bz2" | "/usr/bin/bzip2" -cd
Comparing /tmp/qhgFGHMNIm to t/results/mailarc-2.txt
Output /tmp/qhgFGHMNIm looks good.
Comparing /tmp/_4OwLv6EQI to t/results/none
Output /tmp/_4OwLv6EQI looks good.
ok 1 - Computing differences
ok
t/endline.t ..................... 
1..8
Testing filename: t/mailboxes/mailarc-1-dos.txt
ok 1 - Dos endline expected
ok 2 - Dos endline expected
ok 3 - Dos endline expected
ok 4 # skip GNU grep not available
Testing filename: t/mailboxes/mailarc-1.txt
ok 5 - Unix endline expected
ok 6 - Unix endline expected
ok 7 - Unix endline expected
ok 8 # skip GNU grep not available
ok
t/filehandle_compressed.t ....... 
1..16
Testing filename: t/mailboxes/mailarc-2.txt.bz2
Comparing /tmp/nSa7rcElJH to t/mailboxes/mailarc-2.txt
Output /tmp/nSa7rcElJH looks good.
ok 1 - Computing differences
Comparing /tmp/vH2fs7MFAV to t/mailboxes/mailarc-2.txt
Output /tmp/vH2fs7MFAV looks good.
ok 2 - Computing differences
Comparing /tmp/dcThVUg_GJ to t/mailboxes/mailarc-2.txt
Output /tmp/dcThVUg_GJ looks good.
ok 3 - Computing differences
ok 4 # skip GNU grep not available
Testing filename: t/mailboxes/mailarc-2.txt.gz
Comparing /tmp/QVYRzWMLjh to t/mailboxes/mailarc-2.txt
Output /tmp/QVYRzWMLjh looks good.
ok 5 - Computing differences
Comparing /tmp/S3huCKSmVk to t/mailboxes/mailarc-2.txt
Output /tmp/S3huCKSmVk looks good.
ok 6 - Computing differences
Comparing /tmp/GJtOA7Wvok to t/mailboxes/mailarc-2.txt
Output /tmp/GJtOA7Wvok looks good.
ok 7 - Computing differences
ok 8 # skip GNU grep not available
Testing filename: t/mailboxes/mailarc-2.txt.lz
ok 9 # skip lzip not available
ok 10 # skip lzip not available
ok 11 # skip lzip not available
ok 12 # skip lzip not available
Testing filename: t/mailboxes/mailarc-2.txt.xz
Comparing /tmp/Fv38zQzN_y to t/mailboxes/mailarc-2.txt
Output /tmp/Fv38zQzN_y looks good.
ok 13 - Computing differences
Comparing /tmp/FchzFRU2ZD to t/mailboxes/mailarc-2.txt
Output /tmp/FchzFRU2ZD looks good.
ok 14 - Computing differences
Comparing /tmp/DleaafnQXt to t/mailboxes/mailarc-2.txt
Output /tmp/DleaafnQXt looks good.
ok 15 - Computing differences
ok 16 # skip GNU grep not available
ok
t/filehandle_noncompressed.t .... 
1..44
Testing filename: t/mailboxes/binary_body.txt
Comparing /tmp/Aav9HN2dpQ to t/mailboxes/binary_body.txt
Output /tmp/Aav9HN2dpQ looks good.
ok 1 - Computing differences
Comparing /tmp/oICeDwTI1f to t/mailboxes/binary_body.txt
Output /tmp/oICeDwTI1f looks good.
ok 2 - Computing differences
Comparing /tmp/IxfLXTUzMM to t/mailboxes/binary_body.txt
Output /tmp/IxfLXTUzMM looks good.
ok 3 - Computing differences
ok 4 # skip GNU grep not available
Testing filename: t/mailboxes/hessbug.txt
Comparing /tmp/DyEWSVgI94 to t/mailboxes/hessbug.txt
Output /tmp/DyEWSVgI94 looks good.
ok 5 - Computing differences
Comparing /tmp/cLPCrkEVPr to t/mailboxes/hessbug.txt
Output /tmp/cLPCrkEVPr looks good.
ok 6 - Computing differences
Comparing /tmp/cnS9y1Kq5Q to t/mailboxes/hessbug.txt
Output /tmp/cnS9y1Kq5Q looks good.
ok 7 - Computing differences
ok 8 # skip GNU grep not available
Testing filename: t/mailboxes/invalid-boundaries.txt
Comparing /tmp/QeQxwZweMJ to t/mailboxes/invalid-boundaries.txt
Output /tmp/QeQxwZweMJ looks good.
ok 9 - Computing differences
Comparing /tmp/h6sbBaEBY2 to t/mailboxes/invalid-boundaries.txt
Output /tmp/h6sbBaEBY2 looks good.
ok 10 - Computing differences
Comparing /tmp/IGMsPep41i to t/mailboxes/invalid-boundaries.txt
Output /tmp/IGMsPep41i looks good.
ok 11 - Computing differences
ok 12 # skip GNU grep not available
Testing filename: t/mailboxes/mailarc-1-dos.txt
Comparing /tmp/1SjRQ9DstQ to t/mailboxes/mailarc-1-dos.txt
Output /tmp/1SjRQ9DstQ looks good.
ok 13 - Computing differences
Comparing /tmp/l8vKbJOy7H to t/mailboxes/mailarc-1-dos.txt
Output /tmp/l8vKbJOy7H looks good.
ok 14 - Computing differences
Comparing /tmp/eskKsmJiiN to t/mailboxes/mailarc-1-dos.txt
Output /tmp/eskKsmJiiN looks good.
ok 15 - Computing differences
ok 16 # skip GNU grep not available
Testing filename: t/mailboxes/mailarc-1.txt
Comparing /tmp/iQchip0WH3 to t/mailboxes/mailarc-1.txt
Output /tmp/iQchip0WH3 looks good.
ok 17 - Computing differences
Comparing /tmp/Rs0WJEiWfK to t/mailboxes/mailarc-1.txt
Output /tmp/Rs0WJEiWfK looks good.
ok 18 - Computing differences
Comparing /tmp/R3IgyWNg3h to t/mailboxes/mailarc-1.txt
Output /tmp/R3IgyWNg3h looks good.
ok 19 - Computing differences
ok 20 # skip GNU grep not available
Testing filename: t/mailboxes/mailarc-2.txt
Comparing /tmp/31O_ZumC85 to t/mailboxes/mailarc-2.txt
Output /tmp/31O_ZumC85 looks good.
ok 21 - Computing differences
Comparing /tmp/I7vzCo47yq to t/mailboxes/mailarc-2.txt
Output /tmp/I7vzCo47yq looks good.
ok 22 - Computing differences
Comparing /tmp/r7TTDR2NvG to t/mailboxes/mailarc-2.txt
Output /tmp/r7TTDR2NvG looks good.
ok 23 - Computing differences
ok 24 # skip GNU grep not available
Testing filename: t/mailboxes/mailarc-3.txt
Comparing /tmp/zzssC1QNxi to t/mailboxes/mailarc-3.txt
Output /tmp/zzssC1QNxi looks good.
ok 25 - Computing differences
Comparing /tmp/lOOUwUJDIK to t/mailboxes/mailarc-3.txt
Output /tmp/lOOUwUJDIK looks good.
ok 26 - Computing differences
Comparing /tmp/zFS_0k27ug to t/mailboxes/mailarc-3.txt
Output /tmp/zFS_0k27ug looks good.
ok 27 - Computing differences
ok 28 # skip GNU grep not available
Testing filename: t/mailboxes/mailseparators.txt
Comparing /tmp/uE7RVKQxL8 to t/mailboxes/mailseparators.txt
Output /tmp/uE7RVKQxL8 looks good.
ok 29 - Computing differences
Comparing /tmp/R7BnaCiT6Z to t/mailboxes/mailseparators.txt
Output /tmp/R7BnaCiT6Z looks good.
ok 30 - Computing differences
Comparing /tmp/AlLcnSJtHx to t/mailboxes/mailseparators.txt
Output /tmp/AlLcnSJtHx looks good.
ok 31 - Computing differences
ok 32 # skip GNU grep not available
Testing filename: t/mailboxes/malformed.txt
Comparing /tmp/xFxqodCGie to t/mailboxes/malformed.txt
Output /tmp/xFxqodCGie looks good.
ok 33 - Computing differences
Comparing /tmp/o81XfmDUY8 to t/mailboxes/malformed.txt
Output /tmp/o81XfmDUY8 looks good.
ok 34 - Computing differences
Comparing /tmp/RR4HDZoMQf to t/mailboxes/malformed.txt
Output /tmp/RR4HDZoMQf looks good.
ok 35 - Computing differences
ok 36 # skip GNU grep not available
Testing filename: t/mailboxes/newlines_at_beginning.txt
Comparing /tmp/thnvPHU940 to t/mailboxes/newlines_at_beginning.txt
Output /tmp/thnvPHU940 looks good.
ok 37 - Computing differences
Comparing /tmp/v7_FPuKInW to t/mailboxes/newlines_at_beginning.txt
Output /tmp/v7_FPuKInW looks good.
ok 38 - Computing differences
Comparing /tmp/O0UwMAZuSC to t/mailboxes/newlines_at_beginning.txt
Output /tmp/O0UwMAZuSC looks good.
ok 39 - Computing differences
ok 40 # skip GNU grep not available
Testing filename: t/mailboxes/vm-emacs.txt
Comparing /tmp/kU3A1Khx0c to t/mailboxes/vm-emacs.txt
Output /tmp/kU3A1Khx0c looks good.
ok 41 - Computing differences
Comparing /tmp/buu1i1rD3D to t/mailboxes/vm-emacs.txt
Output /tmp/buu1i1rD3D looks good.
ok 42 - Computing differences
Comparing /tmp/vdSjsBBl8Q to t/mailboxes/vm-emacs.txt
Output /tmp/vdSjsBBl8Q looks good.
ok 43 - Computing differences
ok 44 # skip GNU grep not available
ok
t/filename_compressed.t ......... 
1..4
Testing filename: t/mailboxes/mailarc-2.txt.bz2
Comparing /tmp/q1yxkmK0fU to t/mailboxes/mailarc-2.txt
Output /tmp/q1yxkmK0fU looks good.
ok 1 - Computing differences
Testing filename: t/mailboxes/mailarc-2.txt.gz
Comparing /tmp/S4dpJLJEvH to t/mailboxes/mailarc-2.txt
Output /tmp/S4dpJLJEvH looks good.
ok 2 - Computing differences
Testing filename: t/mailboxes/mailarc-2.txt.lz
ok 3 # skip lzip not available
Testing filename: t/mailboxes/mailarc-2.txt.xz
Comparing /tmp/HyH3pklpEt to t/mailboxes/mailarc-2.txt
Output /tmp/HyH3pklpEt looks good.
ok 4 - Computing differences
ok
t/filename_noncompressed.t ...... 
1..11
Testing filename: t/mailboxes/binary_body.txt
Comparing /tmp/ez1CFeH0NS to t/mailboxes/binary_body.txt
Output /tmp/ez1CFeH0NS looks good.
ok 1 - Computing differences
Testing filename: t/mailboxes/hessbug.txt
Comparing /tmp/0Je6m2SITM to t/mailboxes/hessbug.txt
Output /tmp/0Je6m2SITM looks good.
ok 2 - Computing differences
Testing filename: t/mailboxes/invalid-boundaries.txt
Comparing /tmp/o7d43QwlFp to t/mailboxes/invalid-boundaries.txt
Output /tmp/o7d43QwlFp looks good.
ok 3 - Computing differences
Testing filename: t/mailboxes/mailarc-1-dos.txt
Comparing /tmp/AS8IMZRzR2 to t/mailboxes/mailarc-1-dos.txt
Output /tmp/AS8IMZRzR2 looks good.
ok 4 - Computing differences
Testing filename: t/mailboxes/mailarc-1.txt
Comparing /tmp/w4Ml9ihqKp to t/mailboxes/mailarc-1.txt
Output /tmp/w4Ml9ihqKp looks good.
ok 5 - Computing differences
Testing filename: t/mailboxes/mailarc-2.txt
Comparing /tmp/yjVFzfrCbi to t/mailboxes/mailarc-2.txt
Output /tmp/yjVFzfrCbi looks good.
ok 6 - Computing differences
Testing filename: t/mailboxes/mailarc-3.txt
Comparing /tmp/HMlnfpmIXf to t/mailboxes/mailarc-3.txt
Output /tmp/HMlnfpmIXf looks good.
ok 7 - Computing differences
Testing filename: t/mailboxes/mailseparators.txt
Comparing /tmp/W8dNbzWzmR to t/mailboxes/mailseparators.txt
Output /tmp/W8dNbzWzmR looks good.
ok 8 - Computing differences
Testing filename: t/mailboxes/malformed.txt
Comparing /tmp/3GE7rLCY0G to t/mailboxes/malformed.txt
Output /tmp/3GE7rLCY0G looks good.
ok 9 - Computing differences
Testing filename: t/mailboxes/newlines_at_beginning.txt
Comparing /tmp/uSfTbKWrXL to t/mailboxes/newlines_at_beginning.txt
Output /tmp/uSfTbKWrXL looks good.
ok 10 - Computing differences
Testing filename: t/mailboxes/vm-emacs.txt
Comparing /tmp/U_4f7OjOuD to t/mailboxes/vm-emacs.txt
Output /tmp/U_4f7OjOuD looks good.
ok 11 - Computing differences
ok
t/grep.t ........................ 
1..4
Running test:
  unset LC_ALL LC_COLLATE LANG LC_CTYPE LC_MESSAGES; grep --extended-regexp --line-number --byte-offset --binary-files=text "^From [^:]+(:[0-9][0-9]){1,2}(  *([A-Z]{2,6}|[+-]?[0-9]{4})){1,3}( remote from .*)?
?$" t/mailboxes/mailarc-1.txt
ok 1 # skip 1
Running test:
  unset LC_ALL LC_COLLATE LANG LC_CTYPE LC_MESSAGES; grep --extended-regexp --line-number --byte-offset --binary-files=text "^From [^:]+(:[0-9][0-9]){1,2}(  *([A-Z]{2,6}|[+-]?[0-9]{4})){1,3}( remote from .*)?
?$" t/mailboxes/mailarc-2.txt
ok 2 # skip 1
Running test:
  unset LC_ALL LC_COLLATE LANG LC_CTYPE LC_MESSAGES; grep --extended-regexp --line-number --byte-offset --binary-files=text "^From [^:]+(:[0-9][0-9]){1,2}(  *([A-Z]{2,6}|[+-]?[0-9]{4})){1,3}( remote from .*)?
?$" t/mailboxes/mailarc-3.txt
ok 3 # skip 1
Running test:
  unset LC_ALL LC_COLLATE LANG LC_CTYPE LC_MESSAGES; grep --extended-regexp --line-number --byte-offset --binary-files=text "^From [^:]+(:[0-9][0-9]){1,2}(  *([A-Z]{2,6}|[+-]?[0-9]{4})){1,3}( remote from .*)?
?$" t/mailboxes/mailseparators.txt
ok 4 # skip 1
ok
t/gzip.t ........................ 
1..1
Running test:
  "/usr/bin/cat" "t/mailboxes/mailarc-2.txt.gz" | "/usr/bin/gzip" -cd
Comparing /tmp/pkZ7FXVQmQ to t/results/mailarc-2.txt
Output /tmp/pkZ7FXVQmQ looks good.
Comparing /tmp/c6Kqq8f2DC to t/results/none
Output /tmp/c6Kqq8f2DC looks good.
ok 1 - Computing differences
ok
t/length.t ...................... 
1..30
Testing filename: t/mailboxes/binary_body.txt
Comparing /tmp/YObn3YSZLn to t/results/length_binary_body.stdout
Output /tmp/YObn3YSZLn looks good.
ok 1 - Computing differences
Comparing /tmp/vqk0fn3YbU to t/results/length_binary_body.stdout
Output /tmp/vqk0fn3YbU looks good.
ok 2 - Computing differences
ok 3 # skip GNU grep not available
Testing filename: t/mailboxes/hessbug.txt
Comparing /tmp/JE_iJscp5z to t/results/length_hessbug.stdout
Output /tmp/JE_iJscp5z looks good.
ok 4 - Computing differences
Comparing /tmp/YZMIxnYugW to t/results/length_hessbug.stdout
Output /tmp/YZMIxnYugW looks good.
ok 5 - Computing differences
ok 6 # skip GNU grep not available
Testing filename: t/mailboxes/invalid-boundaries.txt
Comparing /tmp/65M2h_1jrd to t/results/length_invalid-boundaries.stdout
Output /tmp/65M2h_1jrd looks good.
ok 7 - Computing differences
Comparing /tmp/qMKDxyiQZ2 to t/results/length_invalid-boundaries.stdout
Output /tmp/qMKDxyiQZ2 looks good.
ok 8 - Computing differences
ok 9 # skip GNU grep not available
Testing filename: t/mailboxes/mailarc-1-dos.txt
Comparing /tmp/TfD5WB9wAx to t/results/length_mailarc-1-dos.stdout
Output /tmp/TfD5WB9wAx looks good.
ok 10 - Computing differences
Comparing /tmp/BJ4TvtvJ4C to t/results/length_mailarc-1-dos.stdout
Output /tmp/BJ4TvtvJ4C looks good.
ok 11 - Computing differences
ok 12 # skip GNU grep not available
Testing filename: t/mailboxes/mailarc-1.txt
Comparing /tmp/nNGhQHh0ro to t/results/length_mailarc-1.stdout
Output /tmp/nNGhQHh0ro looks good.
ok 13 - Computing differences
Comparing /tmp/mkCnBRxvnl to t/results/length_mailarc-1.stdout
Output /tmp/mkCnBRxvnl looks good.
ok 14 - Computing differences
ok 15 # skip GNU grep not available
Testing filename: t/mailboxes/mailarc-2.txt
Comparing /tmp/pzeX0lPBS4 to t/results/length_mailarc-2.stdout
Output /tmp/pzeX0lPBS4 looks good.
ok 16 - Computing differences
Comparing /tmp/ifaoaGjKEF to t/results/length_mailarc-2.stdout
Output /tmp/ifaoaGjKEF looks good.
ok 17 - Computing differences
ok 18 # skip GNU grep not available
Testing filename: t/mailboxes/mailarc-3.txt
Comparing /tmp/7zvsr2WHtK to t/results/length_mailarc-3.stdout
Output /tmp/7zvsr2WHtK looks good.
ok 19 - Computing differences
Comparing /tmp/OYWBGxUGRh to t/results/length_mailarc-3.stdout
Output /tmp/OYWBGxUGRh looks good.
ok 20 - Computing differences
ok 21 # skip GNU grep not available
Testing filename: t/mailboxes/mailseparators.txt
Comparing /tmp/cCKh8WCVgv to t/results/length_mailseparators.stdout
Output /tmp/cCKh8WCVgv looks good.
ok 22 - Computing differences
Comparing /tmp/juWgycx4M4 to t/results/length_mailseparators.stdout
Output /tmp/juWgycx4M4 looks good.
ok 23 - Computing differences
ok 24 # skip GNU grep not available
Testing filename: t/mailboxes/malformed.txt
Comparing /tmp/mVAmNx7ELn to t/results/length_malformed.stdout
Output /tmp/mVAmNx7ELn looks good.
ok 25 - Computing differences
Comparing /tmp/bIxXOo66DZ to t/results/length_malformed.stdout
Output /tmp/bIxXOo66DZ looks good.
ok 26 - Computing differences
ok 27 # skip GNU grep not available
Testing filename: t/mailboxes/newlines_at_beginning.txt
Comparing /tmp/oPTVuOpqVs to t/results/length_newlines_at_beginning.stdout
Output /tmp/oPTVuOpqVs looks good.
ok 28 - Computing differences
Comparing /tmp/LJkLxAn4at to t/results/length_newlines_at_beginning.stdout
Output /tmp/LJkLxAn4at looks good.
ok 29 - Computing differences
ok 30 # skip GNU grep not available
ok
t/line_number.t ................. 
1..30
Testing filename: t/mailboxes/binary_body.txt
Comparing /tmp/bZ2Y2OHLf4 to t/results/line_number_binary_body.stdout
Output /tmp/bZ2Y2OHLf4 looks good.
ok 1 - Computing differences
Comparing /tmp/wy55hcDh8Y to t/results/line_number_binary_body.stdout
Output /tmp/wy55hcDh8Y looks good.
ok 2 - Computing differences
ok 3 # skip GNU grep not available
Testing filename: t/mailboxes/hessbug.txt
Comparing /tmp/EPK1A_J2aW to t/results/line_number_hessbug.stdout
Output /tmp/EPK1A_J2aW looks good.
ok 4 - Computing differences
Comparing /tmp/WUOC6uXozo to t/results/line_number_hessbug.stdout
Output /tmp/WUOC6uXozo looks good.
ok 5 - Computing differences
ok 6 # skip GNU grep not available
Testing filename: t/mailboxes/invalid-boundaries.txt
Comparing /tmp/odD95YuxjD to t/results/line_number_invalid-boundaries.stdout
Output /tmp/odD95YuxjD looks good.
ok 7 - Computing differences
Comparing /tmp/93Uf5pvNLP to t/results/line_number_invalid-boundaries.stdout
Output /tmp/93Uf5pvNLP looks good.
ok 8 - Computing differences
ok 9 # skip GNU grep not available
Testing filename: t/mailboxes/mailarc-1-dos.txt
Comparing /tmp/Xpb_vg7zER to t/results/line_number_mailarc-1-dos.stdout
Output /tmp/Xpb_vg7zER looks good.
ok 10 - Computing differences
Comparing /tmp/0iLgx5kmSk to t/results/line_number_mailarc-1-dos.stdout
Output /tmp/0iLgx5kmSk looks good.
ok 11 - Computing differences
ok 12 # skip GNU grep not available
Testing filename: t/mailboxes/mailarc-1.txt
Comparing /tmp/SfM2AjLsdf to t/results/line_number_mailarc-1.stdout
Output /tmp/SfM2AjLsdf looks good.
ok 13 - Computing differences
Comparing /tmp/mUKwNtDuMn to t/results/line_number_mailarc-1.stdout
Output /tmp/mUKwNtDuMn looks good.
ok 14 - Computing differences
ok 15 # skip GNU grep not available
Testing filename: t/mailboxes/mailarc-2.txt
Comparing /tmp/fzym0E2L6k to t/results/line_number_mailarc-2.stdout
Output /tmp/fzym0E2L6k looks good.
ok 16 - Computing differences
Comparing /tmp/da0hlGDC4f to t/results/line_number_mailarc-2.stdout
Output /tmp/da0hlGDC4f looks good.
ok 17 - Computing differences
ok 18 # skip GNU grep not available
Testing filename: t/mailboxes/mailarc-3.txt
Comparing /tmp/W8PjUGKld9 to t/results/line_number_mailarc-3.stdout
Output /tmp/W8PjUGKld9 looks good.
ok 19 - Computing differences
Comparing /tmp/kFifZd9bxu to t/results/line_number_mailarc-3.stdout
Output /tmp/kFifZd9bxu looks good.
ok 20 - Computing differences
ok 21 # skip GNU grep not available
Testing filename: t/mailboxes/mailseparators.txt
Comparing /tmp/po0jrxS5Eb to t/results/line_number_mailseparators.stdout
Output /tmp/po0jrxS5Eb looks good.
ok 22 - Computing differences
Comparing /tmp/607MRFy3N0 to t/results/line_number_mailseparators.stdout
Output /tmp/607MRFy3N0 looks good.
ok 23 - Computing differences
ok 24 # skip GNU grep not available
Testing filename: t/mailboxes/malformed.txt
Comparing /tmp/kmtgbxYZgc to t/results/line_number_malformed.stdout
Output /tmp/kmtgbxYZgc looks good.
ok 25 - Computing differences
Comparing /tmp/NnAHCXntkS to t/results/line_number_malformed.stdout
Output /tmp/NnAHCXntkS looks good.
ok 26 - Computing differences
ok 27 # skip GNU grep not available
Testing filename: t/mailboxes/newlines_at_beginning.txt
Comparing /tmp/frBNQ9xqee to t/results/line_number_newlines_at_beginning.stdout
Output /tmp/frBNQ9xqee looks good.
ok 28 - Computing differences
Comparing /tmp/vbnzKfUhf0 to t/results/line_number_newlines_at_beginning.stdout
Output /tmp/vbnzKfUhf0 looks good.
ok 29 - Computing differences
ok 30 # skip GNU grep not available
ok
t/lzip.t ........................ 
1..1
Running test:
  "/usr/bin/cat" "t/mailboxes/mailarc-2.txt.lz" | "lzip" -cd
ok 1 # skip lzip not available
ok
t/number.t ...................... 
1..30
Testing filename: t/mailboxes/binary_body.txt
Comparing /tmp/C824X8FDSE to t/results/number_binary_body.stdout
Output /tmp/C824X8FDSE looks good.
ok 1 - Computing differences
Comparing /tmp/mpQREULzfa to t/results/number_binary_body.stdout
Output /tmp/mpQREULzfa looks good.
ok 2 - Computing differences
ok 3 # skip GNU grep not available
Testing filename: t/mailboxes/hessbug.txt
Comparing /tmp/9uJOrqgNMR to t/results/number_hessbug.stdout
Output /tmp/9uJOrqgNMR looks good.
ok 4 - Computing differences
Comparing /tmp/zqWe4Uh9So to t/results/number_hessbug.stdout
Output /tmp/zqWe4Uh9So looks good.
ok 5 - Computing differences
ok 6 # skip GNU grep not available
Testing filename: t/mailboxes/invalid-boundaries.txt
Comparing /tmp/u_MNHQk0j6 to t/results/number_invalid-boundaries.stdout
Output /tmp/u_MNHQk0j6 looks good.
ok 7 - Computing differences
Comparing /tmp/dO1iggLJTb to t/results/number_invalid-boundaries.stdout
Output /tmp/dO1iggLJTb looks good.
ok 8 - Computing differences
ok 9 # skip GNU grep not available
Testing filename: t/mailboxes/mailarc-1-dos.txt
Comparing /tmp/92Z7kCT9Kk to t/results/number_mailarc-1-dos.stdout
Output /tmp/92Z7kCT9Kk looks good.
ok 10 - Computing differences
Comparing /tmp/d92a5dBYGm to t/results/number_mailarc-1-dos.stdout
Output /tmp/d92a5dBYGm looks good.
ok 11 - Computing differences
ok 12 # skip GNU grep not available
Testing filename: t/mailboxes/mailarc-1.txt
Comparing /tmp/i7Mf3I5agd to t/results/number_mailarc-1.stdout
Output /tmp/i7Mf3I5agd looks good.
ok 13 - Computing differences
Comparing /tmp/PIi4rBzZRJ to t/results/number_mailarc-1.stdout
Output /tmp/PIi4rBzZRJ looks good.
ok 14 - Computing differences
ok 15 # skip GNU grep not available
Testing filename: t/mailboxes/mailarc-2.txt
Comparing /tmp/a6lJt5sJMx to t/results/number_mailarc-2.stdout
Output /tmp/a6lJt5sJMx looks good.
ok 16 - Computing differences
Comparing /tmp/Focy4I2XMv to t/results/number_mailarc-2.stdout
Output /tmp/Focy4I2XMv looks good.
ok 17 - Computing differences
ok 18 # skip GNU grep not available
Testing filename: t/mailboxes/mailarc-3.txt
Comparing /tmp/3IYuJ_KuHF to t/results/number_mailarc-3.stdout
Output /tmp/3IYuJ_KuHF looks good.
ok 19 - Computing differences
Comparing /tmp/QIGB8OxnPn to t/results/number_mailarc-3.stdout
Output /tmp/QIGB8OxnPn looks good.
ok 20 - Computing differences
ok 21 # skip GNU grep not available
Testing filename: t/mailboxes/mailseparators.txt
Comparing /tmp/ymhMDr2aLo to t/results/number_mailseparators.stdout
Output /tmp/ymhMDr2aLo looks good.
ok 22 - Computing differences
Comparing /tmp/mogT2v4Vbq to t/results/number_mailseparators.stdout
Output /tmp/mogT2v4Vbq looks good.
ok 23 - Computing differences
ok 24 # skip GNU grep not available
Testing filename: t/mailboxes/malformed.txt
Comparing /tmp/HUUs0gN2ym to t/results/number_malformed.stdout
Output /tmp/HUUs0gN2ym looks good.
ok 25 - Computing differences
Comparing /tmp/gZuWPtOOxb to t/results/number_malformed.stdout
Output /tmp/gZuWPtOOxb looks good.
ok 26 - Computing differences
ok 27 # skip GNU grep not available
Testing filename: t/mailboxes/newlines_at_beginning.txt
Comparing /tmp/UBkZLZ8u3S to t/results/number_newlines_at_beginning.stdout
Output /tmp/UBkZLZ8u3S looks good.
ok 28 - Computing differences
Comparing /tmp/LU8lay58Nh to t/results/number_newlines_at_beginning.stdout
Output /tmp/LU8lay58Nh looks good.
ok 29 - Computing differences
ok 30 # skip GNU grep not available
ok
t/offset.t ...................... 
1..30
Testing filename: t/mailboxes/binary_body.txt
Comparing /tmp/KY4FUtiAyD to t/results/offset_binary_body.stdout
Output /tmp/KY4FUtiAyD looks good.
ok 1 - Computing differences
Comparing /tmp/0cb3bvvSuJ to t/results/offset_binary_body.stdout
Output /tmp/0cb3bvvSuJ looks good.
ok 2 - Computing differences
ok 3 # skip GNU grep not available
Testing filename: t/mailboxes/hessbug.txt
Comparing /tmp/s3kmgSuIec to t/results/offset_hessbug.stdout
Output /tmp/s3kmgSuIec looks good.
ok 4 - Computing differences
Comparing /tmp/O7bwrjCNTT to t/results/offset_hessbug.stdout
Output /tmp/O7bwrjCNTT looks good.
ok 5 - Computing differences
ok 6 # skip GNU grep not available
Testing filename: t/mailboxes/invalid-boundaries.txt
Comparing /tmp/LRual4ZnsB to t/results/offset_invalid-boundaries.stdout
Output /tmp/LRual4ZnsB looks good.
ok 7 - Computing differences
Comparing /tmp/TeT8iRdSka to t/results/offset_invalid-boundaries.stdout
Output /tmp/TeT8iRdSka looks good.
ok 8 - Computing differences
ok 9 # skip GNU grep not available
Testing filename: t/mailboxes/mailarc-1-dos.txt
Comparing /tmp/Mo4FR_X8zs to t/results/offset_mailarc-1-dos.stdout
Output /tmp/Mo4FR_X8zs looks good.
ok 10 - Computing differences
Comparing /tmp/FOhbfzIMUP to t/results/offset_mailarc-1-dos.stdout
Output /tmp/FOhbfzIMUP looks good.
ok 11 - Computing differences
ok 12 # skip GNU grep not available
Testing filename: t/mailboxes/mailarc-1.txt
Comparing /tmp/tWSl1RZfUD to t/results/offset_mailarc-1.stdout
Output /tmp/tWSl1RZfUD looks good.
ok 13 - Computing differences
Comparing /tmp/8qHtdvYSKg to t/results/offset_mailarc-1.stdout
Output /tmp/8qHtdvYSKg looks good.
ok 14 - Computing differences
ok 15 # skip GNU grep not available
Testing filename: t/mailboxes/mailarc-2.txt
Comparing /tmp/B7I2_YXmkj to t/results/offset_mailarc-2.stdout
Output /tmp/B7I2_YXmkj looks good.
ok 16 - Computing differences
Comparing /tmp/Sey9e_4mwb to t/results/offset_mailarc-2.stdout
Output /tmp/Sey9e_4mwb looks good.
ok 17 - Computing differences
ok 18 # skip GNU grep not available
Testing filename: t/mailboxes/mailarc-3.txt
Comparing /tmp/MvxxKP9sp4 to t/results/offset_mailarc-3.stdout
Output /tmp/MvxxKP9sp4 looks good.
ok 19 - Computing differences
Comparing /tmp/_flbtOE71r to t/results/offset_mailarc-3.stdout
Output /tmp/_flbtOE71r looks good.
ok 20 - Computing differences
ok 21 # skip GNU grep not available
Testing filename: t/mailboxes/mailseparators.txt
Comparing /tmp/LxHoSQUT04 to t/results/offset_mailseparators.stdout
Output /tmp/LxHoSQUT04 looks good.
ok 22 - Computing differences
Comparing /tmp/3esoEubFvD to t/results/offset_mailseparators.stdout
Output /tmp/3esoEubFvD looks good.
ok 23 - Computing differences
ok 24 # skip GNU grep not available
Testing filename: t/mailboxes/malformed.txt
Comparing /tmp/4lUVByyMQ8 to t/results/offset_malformed.stdout
Output /tmp/4lUVByyMQ8 looks good.
ok 25 - Computing differences
Comparing /tmp/khhLuftgEC to t/results/offset_malformed.stdout
Output /tmp/khhLuftgEC looks good.
ok 26 - Computing differences
ok 27 # skip GNU grep not available
Testing filename: t/mailboxes/newlines_at_beginning.txt
Comparing /tmp/9TokHizWOd to t/results/offset_newlines_at_beginning.stdout
Output /tmp/9TokHizWOd looks good.
ok 28 - Computing differences
Comparing /tmp/AHksOQt3_R to t/results/offset_newlines_at_beginning.stdout
Output /tmp/AHksOQt3_R looks good.
ok 29 - Computing differences
ok 30 # skip GNU grep not available
ok
t/prologue.t .................... 
1..33
Testing filename: t/mailboxes/binary_body.txt
Comparing /tmp/Tu9QAd81RJ to t/mailboxes/binary_body.txt
Output /tmp/Tu9QAd81RJ looks good.
ok 1 - Computing differences
Comparing /tmp/OE1YiMSlM5 to t/mailboxes/binary_body.txt
Output /tmp/OE1YiMSlM5 looks good.
ok 2 - Computing differences
ok 3 # skip GNU grep not available
Testing filename: t/mailboxes/hessbug.txt
Comparing /tmp/XNGI5DJ1ns to t/mailboxes/hessbug.txt
Output /tmp/XNGI5DJ1ns looks good.
ok 4 - Computing differences
Comparing /tmp/Pl87neGs7p to t/mailboxes/hessbug.txt
Output /tmp/Pl87neGs7p looks good.
ok 5 - Computing differences
ok 6 # skip GNU grep not available
Testing filename: t/mailboxes/invalid-boundaries.txt
Comparing /tmp/AyziCtB75j to t/mailboxes/invalid-boundaries.txt
Output /tmp/AyziCtB75j looks good.
ok 7 - Computing differences
Comparing /tmp/BcCQL6wQRo to t/mailboxes/invalid-boundaries.txt
Output /tmp/BcCQL6wQRo looks good.
ok 8 - Computing differences
ok 9 # skip GNU grep not available
Testing filename: t/mailboxes/mailarc-1-dos.txt
Comparing /tmp/2c_0Ny9TOD to t/mailboxes/mailarc-1-dos.txt
Output /tmp/2c_0Ny9TOD looks good.
ok 10 - Computing differences
Comparing /tmp/zZUSFVr_Lr to t/mailboxes/mailarc-1-dos.txt
Output /tmp/zZUSFVr_Lr looks good.
ok 11 - Computing differences
ok 12 # skip GNU grep not available
Testing filename: t/mailboxes/mailarc-1.txt
Comparing /tmp/UmHKR0Peoq to t/mailboxes/mailarc-1.txt
Output /tmp/UmHKR0Peoq looks good.
ok 13 - Computing differences
Comparing /tmp/TLwaf9aila to t/mailboxes/mailarc-1.txt
Output /tmp/TLwaf9aila looks good.
ok 14 - Computing differences
ok 15 # skip GNU grep not available
Testing filename: t/mailboxes/mailarc-2.txt
Comparing /tmp/D4c1Gxhvuu to t/mailboxes/mailarc-2.txt
Output /tmp/D4c1Gxhvuu looks good.
ok 16 - Computing differences
Comparing /tmp/YAyAhhGlSv to t/mailboxes/mailarc-2.txt
Output /tmp/YAyAhhGlSv looks good.
ok 17 - Computing differences
ok 18 # skip GNU grep not available
Testing filename: t/mailboxes/mailarc-3.txt
Comparing /tmp/gGagrh1RFb to t/mailboxes/mailarc-3.txt
Output /tmp/gGagrh1RFb looks good.
ok 19 - Computing differences
Comparing /tmp/bd8suXwlEf to t/mailboxes/mailarc-3.txt
Output /tmp/bd8suXwlEf looks good.
ok 20 - Computing differences
ok 21 # skip GNU grep not available
Testing filename: t/mailboxes/mailseparators.txt
Comparing /tmp/TwDGOeweqF to t/mailboxes/mailseparators.txt
Output /tmp/TwDGOeweqF looks good.
ok 22 - Computing differences
Comparing /tmp/__cEsoANM9 to t/mailboxes/mailseparators.txt
Output /tmp/__cEsoANM9 looks good.
ok 23 - Computing differences
ok 24 # skip GNU grep not available
Testing filename: t/mailboxes/malformed.txt
Comparing /tmp/ha5d2LXJAU to t/mailboxes/malformed.txt
Output /tmp/ha5d2LXJAU looks good.
ok 25 - Computing differences
Comparing /tmp/WIPXJO_rKP to t/mailboxes/malformed.txt
Output /tmp/WIPXJO_rKP looks good.
ok 26 - Computing differences
ok 27 # skip GNU grep not available
Testing filename: t/mailboxes/newlines_at_beginning.txt
Comparing /tmp/yU3_iNkzd2 to t/mailboxes/newlines_at_beginning.txt
Output /tmp/yU3_iNkzd2 looks good.
ok 28 - Computing differences
Comparing /tmp/TTi2w9odte to t/mailboxes/newlines_at_beginning.txt
Output /tmp/TTi2w9odte looks good.
ok 29 - Computing differences
ok 30 # skip GNU grep not available
Testing filename: t/mailboxes/vm-emacs.txt
Comparing /tmp/6lPDFulXWT to t/mailboxes/vm-emacs.txt
Output /tmp/6lPDFulXWT looks good.
ok 31 - Computing differences
Comparing /tmp/HLzWONw4_u to t/mailboxes/vm-emacs.txt
Output /tmp/HLzWONw4_u looks good.
ok 32 - Computing differences
ok 33 # skip GNU grep not available
ok
t/reset.t ....................... 
1..60
Testing filename: t/mailboxes/binary_body.txt
Testing partial mailbox reset with Perl implementation
Comparing /tmp/kTwdDTuOQR to t/results/reset_binary_body.stdout
Output /tmp/kTwdDTuOQR looks good.
ok 1 - Computing differences
Testing partial mailbox reset with Cache implementation
Comparing /tmp/i2ZXMzD5_X to t/results/reset_binary_body.stdout
Output /tmp/i2ZXMzD5_X looks good.
ok 2 - Computing differences
Testing partial mailbox reset with Grep implementation
ok 3 # skip GNU grep not available
Testing full mailbox reset with Perl implementation
Comparing /tmp/Ja75L_TRbJ to t/results/reset_binary_body.stdout
Output /tmp/Ja75L_TRbJ looks good.
ok 4 - Computing differences
Testing full mailbox reset with Cache implementation
Comparing /tmp/RI6b7UK6v8 to t/results/reset_binary_body.stdout
Output /tmp/RI6b7UK6v8 looks good.
ok 5 - Computing differences
Testing full mailbox reset with Grep implementation
ok 6 # skip GNU grep not available
Testing filename: t/mailboxes/hessbug.txt
Testing partial mailbox reset with Perl implementation
Comparing /tmp/wbsdqvtj4x to t/results/reset_hessbug.stdout
Output /tmp/wbsdqvtj4x looks good.
ok 7 - Computing differences
Testing partial mailbox reset with Cache implementation
Comparing /tmp/gZELxwVQ7L to t/results/reset_hessbug.stdout
Output /tmp/gZELxwVQ7L looks good.
ok 8 - Computing differences
Testing partial mailbox reset with Grep implementation
ok 9 # skip GNU grep not available
Testing full mailbox reset with Perl implementation
Comparing /tmp/tjELpAMjRu to t/results/reset_hessbug.stdout
Output /tmp/tjELpAMjRu looks good.
ok 10 - Computing differences
Testing full mailbox reset with Cache implementation
Comparing /tmp/uj_zf3ITL8 to t/results/reset_hessbug.stdout
Output /tmp/uj_zf3ITL8 looks good.
ok 11 - Computing differences
Testing full mailbox reset with Grep implementation
ok 12 # skip GNU grep not available
Testing filename: t/mailboxes/invalid-boundaries.txt
Testing partial mailbox reset with Perl implementation
Comparing /tmp/ukZ2losh8W to t/results/reset_invalid-boundaries.stdout
Output /tmp/ukZ2losh8W looks good.
ok 13 - Computing differences
Testing partial mailbox reset with Cache implementation
Comparing /tmp/cyAqk3FQ4D to t/results/reset_invalid-boundaries.stdout
Output /tmp/cyAqk3FQ4D looks good.
ok 14 - Computing differences
Testing partial mailbox reset with Grep implementation
ok 15 # skip GNU grep not available
Testing full mailbox reset with Perl implementation
Comparing /tmp/4GkDHFE4jf to t/results/reset_invalid-boundaries.stdout
Output /tmp/4GkDHFE4jf looks good.
ok 16 - Computing differences
Testing full mailbox reset with Cache implementation
Comparing /tmp/j3js1tsVc8 to t/results/reset_invalid-boundaries.stdout
Output /tmp/j3js1tsVc8 looks good.
ok 17 - Computing differences
Testing full mailbox reset with Grep implementation
ok 18 # skip GNU grep not available
Testing filename: t/mailboxes/mailarc-1-dos.txt
Testing partial mailbox reset with Perl implementation
Comparing /tmp/Go7dPEcssH to t/results/reset_mailarc-1-dos.stdout
Output /tmp/Go7dPEcssH looks good.
ok 19 - Computing differences
Testing partial mailbox reset with Cache implementation
Comparing /tmp/4ctSRwyR8P to t/results/reset_mailarc-1-dos.stdout
Output /tmp/4ctSRwyR8P looks good.
ok 20 - Computing differences
Testing partial mailbox reset with Grep implementation
ok 21 # skip GNU grep not available
Testing full mailbox reset with Perl implementation
Comparing /tmp/vwso6L5IZq to t/results/reset_mailarc-1-dos.stdout
Output /tmp/vwso6L5IZq looks good.
ok 22 - Computing differences
Testing full mailbox reset with Cache implementation
Comparing /tmp/aO6vdDmBxk to t/results/reset_mailarc-1-dos.stdout
Output /tmp/aO6vdDmBxk looks good.
ok 23 - Computing differences
Testing full mailbox reset with Grep implementation
ok 24 # skip GNU grep not available
Testing filename: t/mailboxes/mailarc-1.txt
Testing partial mailbox reset with Perl implementation
Comparing /tmp/EecvJqH6kz to t/results/reset_mailarc-1.stdout
Output /tmp/EecvJqH6kz looks good.
ok 25 - Computing differences
Testing partial mailbox reset with Cache implementation
Comparing /tmp/8u6pIu3rBv to t/results/reset_mailarc-1.stdout
Output /tmp/8u6pIu3rBv looks good.
ok 26 - Computing differences
Testing partial mailbox reset with Grep implementation
ok 27 # skip GNU grep not available
Testing full mailbox reset with Perl implementation
Comparing /tmp/Xb26VU6tMT to t/results/reset_mailarc-1.stdout
Output /tmp/Xb26VU6tMT looks good.
ok 28 - Computing differences
Testing full mailbox reset with Cache implementation
Comparing /tmp/vxdB8ihesZ to t/results/reset_mailarc-1.stdout
Output /tmp/vxdB8ihesZ looks good.
ok 29 - Computing differences
Testing full mailbox reset with Grep implementation
ok 30 # skip GNU grep not available
Testing filename: t/mailboxes/mailarc-2.txt
Testing partial mailbox reset with Perl implementation
Comparing /tmp/wNa5jLoN0R to t/results/reset_mailarc-2.stdout
Output /tmp/wNa5jLoN0R looks good.
ok 31 - Computing differences
Testing partial mailbox reset with Cache implementation
Comparing /tmp/UOBWxt0DZj to t/results/reset_mailarc-2.stdout
Output /tmp/UOBWxt0DZj looks good.
ok 32 - Computing differences
Testing partial mailbox reset with Grep implementation
ok 33 # skip GNU grep not available
Testing full mailbox reset with Perl implementation
Comparing /tmp/nfg8wH7WaV to t/results/reset_mailarc-2.stdout
Output /tmp/nfg8wH7WaV looks good.
ok 34 - Computing differences
Testing full mailbox reset with Cache implementation
Comparing /tmp/TSNpnzuFYK to t/results/reset_mailarc-2.stdout
Output /tmp/TSNpnzuFYK looks good.
ok 35 - Computing differences
Testing full mailbox reset with Grep implementation
ok 36 # skip GNU grep not available
Testing filename: t/mailboxes/mailarc-3.txt
Testing partial mailbox reset with Perl implementation
Comparing /tmp/0tb1MbF5G6 to t/results/reset_mailarc-3.stdout
Output /tmp/0tb1MbF5G6 looks good.
ok 37 - Computing differences
Testing partial mailbox reset with Cache implementation
Comparing /tmp/zYGfTz7tTz to t/results/reset_mailarc-3.stdout
Output /tmp/zYGfTz7tTz looks good.
ok 38 - Computing differences
Testing partial mailbox reset with Grep implementation
ok 39 # skip GNU grep not available
Testing full mailbox reset with Perl implementation
Comparing /tmp/_4yhKv0Avb to t/results/reset_mailarc-3.stdout
Output /tmp/_4yhKv0Avb looks good.
ok 40 - Computing differences
Testing full mailbox reset with Cache implementation
Comparing /tmp/impzXYcazB to t/results/reset_mailarc-3.stdout
Output /tmp/impzXYcazB looks good.
ok 41 - Computing differences
Testing full mailbox reset with Grep implementation
ok 42 # skip GNU grep not available
Testing filename: t/mailboxes/mailseparators.txt
Testing partial mailbox reset with Perl implementation
Comparing /tmp/KflFbsf2G2 to t/results/reset_mailseparators.stdout
Output /tmp/KflFbsf2G2 looks good.
ok 43 - Computing differences
Testing partial mailbox reset with Cache implementation
Comparing /tmp/Qssj7Z3f_9 to t/results/reset_mailseparators.stdout
Output /tmp/Qssj7Z3f_9 looks good.
ok 44 - Computing differences
Testing partial mailbox reset with Grep implementation
ok 45 # skip GNU grep not available
Testing full mailbox reset with Perl implementation
Comparing /tmp/3c88ukUCCv to t/results/reset_mailseparators.stdout
Output /tmp/3c88ukUCCv looks good.
ok 46 - Computing differences
Testing full mailbox reset with Cache implementation
Comparing /tmp/O6CskVmfA2 to t/results/reset_mailseparators.stdout
Output /tmp/O6CskVmfA2 looks good.
ok 47 - Computing differences
Testing full mailbox reset with Grep implementation
ok 48 # skip GNU grep not available
Testing filename: t/mailboxes/malformed.txt
Testing partial mailbox reset with Perl implementation
Comparing /tmp/0uqPVNUKGN to t/results/reset_malformed.stdout
Output /tmp/0uqPVNUKGN looks good.
ok 49 - Computing differences
Testing partial mailbox reset with Cache implementation
Comparing /tmp/LtdwrUA2KX to t/results/reset_malformed.stdout
Output /tmp/LtdwrUA2KX looks good.
ok 50 - Computing differences
Testing partial mailbox reset with Grep implementation
ok 51 # skip GNU grep not available
Testing full mailbox reset with Perl implementation
Comparing /tmp/7DEKAEw9w0 to t/results/reset_malformed.stdout
Output /tmp/7DEKAEw9w0 looks good.
ok 52 - Computing differences
Testing full mailbox reset with Cache implementation
Comparing /tmp/eRCsQw8IxS to t/results/reset_malformed.stdout
Output /tmp/eRCsQw8IxS looks good.
ok 53 - Computing differences
Testing full mailbox reset with Grep implementation
ok 54 # skip GNU grep not available
Testing filename: t/mailboxes/newlines_at_beginning.txt
Testing partial mailbox reset with Perl implementation
Comparing /tmp/HH8mO5YoEv to t/results/reset_newlines_at_beginning.stdout
Output /tmp/HH8mO5YoEv looks good.
ok 55 - Computing differences
Testing partial mailbox reset with Cache implementation
Comparing /tmp/cFzrZCQHKf to t/results/reset_newlines_at_beginning.stdout
Output /tmp/cFzrZCQHKf looks good.
ok 56 - Computing differences
Testing partial mailbox reset with Grep implementation
ok 57 # skip GNU grep not available
Testing full mailbox reset with Perl implementation
Comparing /tmp/H_qPhlegFf to t/results/reset_newlines_at_beginning.stdout
Output /tmp/H_qPhlegFf looks good.
ok 58 - Computing differences
Testing full mailbox reset with Cache implementation
Comparing /tmp/Kh28GFRz7p to t/results/reset_newlines_at_beginning.stdout
Output /tmp/Kh28GFRz7p looks good.
ok 59 - Computing differences
Testing full mailbox reset with Grep implementation
ok 60 # skip GNU grep not available
ok
t/separators.t .................. 
1..6
Testing filename: t/mailboxes/separators1.sep
ok 1 - Number of emails in t/mailboxes/separators1.sep
ok 2 - Number of emails in t/mailboxes/separators1.sep
ok 3 # skip GNU grep not available
Testing filename: t/mailboxes/separators2.sep
ok 4 - Number of emails in t/mailboxes/separators2.sep
ok 5 - Number of emails in t/mailboxes/separators2.sep
ok 6 # skip GNU grep not available
ok
t/stdin_compressed.t ............ 
1..4
Testing filename: t/mailboxes/mailarc-2.txt.bz2
Comparing /tmp/sTMZqsZM9i to t/mailboxes/mailarc-2.txt
Output /tmp/sTMZqsZM9i looks good.
ok 1 - Computing differences
Testing filename: t/mailboxes/mailarc-2.txt.gz
Comparing /tmp/qUKNfLEvhI to t/mailboxes/mailarc-2.txt
Output /tmp/qUKNfLEvhI looks good.
ok 2 - Computing differences
Testing filename: t/mailboxes/mailarc-2.txt.lz
ok 3 # skip lzip not available
Testing filename: t/mailboxes/mailarc-2.txt.xz
Comparing /tmp/yASN4hLKw5 to t/mailboxes/mailarc-2.txt
Output /tmp/yASN4hLKw5 looks good.
ok 4 - Computing differences
ok
t/stdin_uncompressed.t .......... 
1..11
Testing filename: t/mailboxes/binary_body.txt
Comparing /tmp/dklzJBnZzz to t/mailboxes/binary_body.txt
Output /tmp/dklzJBnZzz looks good.
ok 1 - Computing differences
Testing filename: t/mailboxes/hessbug.txt
Comparing /tmp/1vDzqkbi_l to t/mailboxes/hessbug.txt
Output /tmp/1vDzqkbi_l looks good.
ok 2 - Computing differences
Testing filename: t/mailboxes/invalid-boundaries.txt
Comparing /tmp/tgNJ4S48st to t/mailboxes/invalid-boundaries.txt
Output /tmp/tgNJ4S48st looks good.
ok 3 - Computing differences
Testing filename: t/mailboxes/mailarc-1-dos.txt
Comparing /tmp/xSriRWnO6p to t/mailboxes/mailarc-1-dos.txt
Output /tmp/xSriRWnO6p looks good.
ok 4 - Computing differences
Testing filename: t/mailboxes/mailarc-1.txt
Comparing /tmp/Fyr1NOVBfL to t/mailboxes/mailarc-1.txt
Output /tmp/Fyr1NOVBfL looks good.
ok 5 - Computing differences
Testing filename: t/mailboxes/mailarc-2.txt
Comparing /tmp/cgjc7P7DYO to t/mailboxes/mailarc-2.txt
Output /tmp/cgjc7P7DYO looks good.
ok 6 - Computing differences
Testing filename: t/mailboxes/mailarc-3.txt
Comparing /tmp/dYbbL3Rfzh to t/mailboxes/mailarc-3.txt
Output /tmp/dYbbL3Rfzh looks good.
ok 7 - Computing differences
Testing filename: t/mailboxes/mailseparators.txt
Comparing /tmp/LB29Kbl9oA to t/mailboxes/mailseparators.txt
Output /tmp/LB29Kbl9oA looks good.
ok 8 - Computing differences
Testing filename: t/mailboxes/malformed.txt
Comparing /tmp/Q7gOQAOjcR to t/mailboxes/malformed.txt
Output /tmp/Q7gOQAOjcR looks good.
ok 9 - Computing differences
Testing filename: t/mailboxes/newlines_at_beginning.txt
Comparing /tmp/mMqB9ipZf0 to t/mailboxes/newlines_at_beginning.txt
Output /tmp/mMqB9ipZf0 looks good.
ok 10 - Computing differences
Testing filename: t/mailboxes/vm-emacs.txt
Comparing /tmp/hM4_i5BYRW to t/mailboxes/vm-emacs.txt
Output /tmp/hM4_i5BYRW looks good.
ok 11 - Computing differences
ok
t/undef_return_value.t .......... 
1..33
Testing Perl 
Comparing /tmp/we5q0At1Ve to t/mailboxes/binary_body.txt
Output /tmp/we5q0At1Ve looks good.
ok 1 - Computing differences
Testing Cache implementation
Comparing /tmp/PRzIgsTZA1 to t/mailboxes/binary_body.txt
Output /tmp/PRzIgsTZA1 looks good.
ok 2 - Computing differences
ok 3 # skip GNU grep not available
Testing Perl 
Comparing /tmp/1lC5pbfcdI to t/mailboxes/hessbug.txt
Output /tmp/1lC5pbfcdI looks good.
ok 4 - Computing differences
Testing Cache implementation
Comparing /tmp/dsMf7t3_IQ to t/mailboxes/hessbug.txt
Output /tmp/dsMf7t3_IQ looks good.
ok 5 - Computing differences
ok 6 # skip GNU grep not available
Testing Perl 
Comparing /tmp/m5t8JJmFX_ to t/mailboxes/invalid-boundaries.txt
Output /tmp/m5t8JJmFX_ looks good.
ok 7 - Computing differences
Testing Cache implementation
Comparing /tmp/CFNQcBSYbL to t/mailboxes/invalid-boundaries.txt
Output /tmp/CFNQcBSYbL looks good.
ok 8 - Computing differences
ok 9 # skip GNU grep not available
Testing Perl 
Comparing /tmp/hq9jUe19sd to t/mailboxes/mailarc-1-dos.txt
Output /tmp/hq9jUe19sd looks good.
ok 10 - Computing differences
Testing Cache implementation
Comparing /tmp/G7hOS7_DVl to t/mailboxes/mailarc-1-dos.txt
Output /tmp/G7hOS7_DVl looks good.
ok 11 - Computing differences
ok 12 # skip GNU grep not available
Testing Perl 
Comparing /tmp/tw_n0px8kV to t/mailboxes/mailarc-1.txt
Output /tmp/tw_n0px8kV looks good.
ok 13 - Computing differences
Testing Cache implementation
Comparing /tmp/HvsRurM9sO to t/mailboxes/mailarc-1.txt
Output /tmp/HvsRurM9sO looks good.
ok 14 - Computing differences
ok 15 # skip GNU grep not available
Testing Perl 
Comparing /tmp/g8jBQkjpPI to t/mailboxes/mailarc-2.txt
Output /tmp/g8jBQkjpPI looks good.
ok 16 - Computing differences
Testing Cache implementation
Comparing /tmp/16HV4ETd93 to t/mailboxes/mailarc-2.txt
Output /tmp/16HV4ETd93 looks good.
ok 17 - Computing differences
ok 18 # skip GNU grep not available
Testing Perl 
Comparing /tmp/KggdL81Arm to t/mailboxes/mailarc-3.txt
Output /tmp/KggdL81Arm looks good.
ok 19 - Computing differences
Testing Cache implementation
Comparing /tmp/resjSMZcZZ to t/mailboxes/mailarc-3.txt
Output /tmp/resjSMZcZZ looks good.
ok 20 - Computing differences
ok 21 # skip GNU grep not available
Testing Perl 
Comparing /tmp/VaTIYmLiH2 to t/mailboxes/mailseparators.txt
Output /tmp/VaTIYmLiH2 looks good.
ok 22 - Computing differences
Testing Cache implementation
Comparing /tmp/iApXkYBmkK to t/mailboxes/mailseparators.txt
Output /tmp/iApXkYBmkK looks good.
ok 23 - Computing differences
ok 24 # skip GNU grep not available
Testing Perl 
Comparing /tmp/gRG01mF2U7 to t/mailboxes/malformed.txt
Output /tmp/gRG01mF2U7 looks good.
ok 25 - Computing differences
Testing Cache implementation
Comparing /tmp/bomAxnSSbw to t/mailboxes/malformed.txt
Output /tmp/bomAxnSSbw looks good.
ok 26 - Computing differences
ok 27 # skip GNU grep not available
Testing Perl 
Comparing /tmp/OnjUo5dzCY to t/mailboxes/newlines_at_beginning.txt
Output /tmp/OnjUo5dzCY looks good.
ok 28 - Computing differences
Testing Cache implementation
Comparing /tmp/cbVWUeNzTE to t/mailboxes/newlines_at_beginning.txt
Output /tmp/cbVWUeNzTE looks good.
ok 29 - Computing differences
ok 30 # skip GNU grep not available
Testing Perl 
Comparing /tmp/vrQTHYToKj to t/mailboxes/vm-emacs.txt
Output /tmp/vrQTHYToKj looks good.
ok 31 - Computing differences
Testing Cache implementation
Comparing /tmp/2VvNAN_yNo to t/mailboxes/vm-emacs.txt
Output /tmp/2VvNAN_yNo looks good.
ok 32 - Computing differences
ok 33 # skip GNU grep not available
ok
t/xz.t .......................... 
1..1
Running test:
  "/usr/bin/cat" "t/mailboxes/mailarc-2.txt.xz" | "/usr/bin/xz" -cd
Comparing /tmp/l1hAYnISad to t/results/mailarc-2.txt
Output /tmp/l1hAYnISad looks good.
Comparing /tmp/j9wDC3tnvH to t/results/none
Output /tmp/j9wDC3tnvH looks good.
ok 1 - Computing differences
ok
All tests successful.
Files=25, Tests=382,  5 wallclock secs ( 0.16 usr  0.03 sys +  3.87 cusr  0.89 csys =  4.95 CPU)
Result: PASS

------------------------------
PREREQUISITES
------------------------------

Prerequisite modules loaded:

requires:

    Module              Need  Have    
    ------------------- ----- --------
    FileHandle::Unget   0     0.1634  
    perl                5.005 5.039010
    Storable            0     3.32    

build_requires:

    Module              Need  Have    
    ------------------- ----- --------
    ExtUtils::MakeMaker 6.36  7.70    
    File::Path          2.08  2.18    
    File::Slurper       0     0.014   
    Test::Compile       0     v3.3.1  
    Test::More          0     1.302199
    Text::Diff          0     1.45    
    UNIVERSAL::require  0     0.19    
    URI::Escape         0     5.28    

configure_requires:

    Module              Need  Have    
    ------------------- ----- --------
    ExtUtils::MakeMaker 6.36  7.70    
    URI::Escape         0     5.28    


------------------------------
ENVIRONMENT AND OTHER CONTEXT
------------------------------

Environment variables:

    AUTOMATED_TESTING = 1
    LANG = en_US.UTF-8
    LC_ADDRESS = de_DE.UTF-8
    LC_IDENTIFICATION = de_DE.UTF-8
    LC_MEASUREMENT = de_DE.UTF-8
    LC_MONETARY = de_DE.UTF-8
    LC_NAME = de_DE.UTF-8
    LC_NUMERIC = de_DE.UTF-8
    LC_PAPER = de_DE.UTF-8
    LC_TELEPHONE = de_DE.UTF-8
    LC_TIME = de_DE.UTF-8
    PATH = /home/sand/bin:/usr/local/bin:/usr/local/sbin:/usr/sbin:/usr/bin:/sbin:/bin:/usr/games:/usr/local/games:/snap/bin:/usr/local/perl/bin:/usr/X11/bin
    PERL = /tmp/basesmoker-reloperl-_Pz6/bin/perl
    PERL5LIB = /tmp/loop_over_bdir-3812748-4hxYyj/Devel-Required-0.16-0/blib/arch:/tmp/loop_over_bdir-3812748-4hxYyj/Devel-Required-0.16-0/blib/lib:/tmp/loop_over_bdir-3812748-4hxYyj/Linux-InitFS-0.2-0/blib/arch:/tmp/loop_over_bdir-3812748-4hxYyj/Linux-InitFS-0.2-0/blib/lib:/tmp/loop_over_bdir-3812748-4hxYyj/DBIx-Migration-Directories-0.12-0/blib/arch:/tmp/loop_over_bdir-3812748-4hxYyj/DBIx-Migration-Directories-0.12-0/blib/lib:/tmp/loop_over_bdir-3812748-4hxYyj/shishi-0.0.1-0/blib/arch:/tmp/loop_over_bdir-3812748-4hxYyj/shishi-0.0.1-0/blib/lib:/tmp/loop_over_bdir-3812748-4hxYyj/Dpkg-1.22.6-0/blib/arch:/tmp/loop_over_bdir-3812748-4hxYyj/Dpkg-1.22.6-0/blib/lib
    PERL5OPT = 
    PERL5_CPANPLUS_IS_RUNNING = 3812756
    PERL5_CPAN_IS_RUNNING = 3812756
    PERL_CANARY_STABILITY_NOPROMPT = 1
    PERL_MM_USE_DEFAULT = 1
    PERL_USE_UNSAFE_INC = 1
    SHELL = /usr/bin/zsh
    TERM = screen

Perl special variables (and OS-specific diagnostics, for MSWin32):

    $^X = /tmp/basesmoker-reloperl-_Pz6/bin/perl
    $UID/$EUID = 1005 / 1005
    $GID = 1005 1005
    $EGID = 1005 1005

Perl module toolchain versions installed:

    Module              Have    
    ------------------- --------
    CPAN                2.36    
    CPAN::Meta          2.150010
    Cwd                 3.90    
    ExtUtils::CBuilder  0.280240
    ExtUtils::Command   7.70    
    ExtUtils::Install   2.22    
    ExtUtils::MakeMaker 7.70    
    ExtUtils::Manifest  1.75    
    ExtUtils::ParseXS   3.51    
    File::Spec          3.90    
    JSON                4.10    
    JSON::PP            4.16    
    Module::Build       0.4234  
    Module::Signature   0.88    
    Parse::CPAN::Meta   2.150010
    Test2               1.302199
    Test::Harness       3.48    
    Test::More          1.302199
    YAML                1.31    
    YAML::Syck          1.34    
    version             0.9931  


--

Summary of my perl5 (revision 5 version 39 subversion 10) configuration:
  Commit id: c46c2bea6f111c45982b89c7e57b56125ff2e10c
  Platform:
    osname=linux
    osvers=6.5.0-27-generic
    archname=x86_64-linux-thread-multi-ld
    uname='linux k93jammy 6.5.0-27-generic #28~22.04.1-ubuntu smp preempt_dynamic fri mar 15 10:51:06 utc 2 x86_64 x86_64 x86_64 gnulinux '
    config_args='-Dprefix=/home/sand/src/perl/repoperls/installed-perls/host/k93jammy/v5.39.10/322f -Dmyhostname=k93jammy -Dinstallusrbinperl=n -Uversiononly -Dusedevel -des -Ui_db -Dlibswanted=cl pthread socket inet nsl gdbm dbm malloc dl ld sun m crypt sec util c cposix posix ucb BSD gdbm_compat -Duseithreads -Duselongdouble -DEBUGGING=-g'
    hint=recommended
    useposix=true
    d_sigaction=define
    useithreads=define
    usemultiplicity=define
    use64bitint=define
    use64bitall=define
    uselongdouble=define
    usemymalloc=n
    default_inc_excludes_dot=define
  Compiler:
    cc='cc'
    ccflags ='-D_REENTRANT -D_GNU_SOURCE -fwrapv -fno-strict-aliasing -pipe -fstack-protector-strong -I/usr/local/include -D_LARGEFILE_SOURCE -D_FILE_OFFSET_BITS=64'
    optimize='-O2 -g'
    cppflags='-D_REENTRANT -D_GNU_SOURCE -fwrapv -fno-strict-aliasing -pipe -fstack-protector-strong -I/usr/local/include'
    ccversion=''
    gccversion='11.4.0'
    gccosandvers=''
    intsize=4
    longsize=8
    ptrsize=8
    doublesize=8
    byteorder=12345678
    doublekind=3
    d_longlong=define
    longlongsize=8
    d_longdbl=define
    longdblsize=16
    longdblkind=3
    ivtype='long'
    ivsize=8
    nvtype='long double'
    nvsize=16
    Off_t='off_t'
    lseeksize=8
    alignbytes=16
    prototype=define
  Linker and Libraries:
    ld='cc'
    ldflags =' -fstack-protector-strong -L/usr/local/lib'
    libpth=/usr/local/lib /usr/lib/x86_64-linux-gnu /usr/lib /usr/lib64
    libs=-lpthread -lnsl -ldl -lm -lcrypt -lutil -lc
    perllibs=-lpthread -lnsl -ldl -lm -lcrypt -lutil -lc
    libc=/lib/x86_64-linux-gnu/libc.so.6
    so=so
    useshrplib=false
    libperl=libperl.a
    gnulibc_version='2.35'
  Dynamic Linking:
    dlsrc=dl_dlopen.xs
    dlext=so
    d_dlsymun=undef
    ccdlflags='-Wl,-E'
    cccdlflags='-fPIC'
    lddlflags='-shared -O2 -g -L/usr/local/lib -fstack-protector-strong'


Characteristics of this binary (from libperl): 
  Compile-time options:
    HAS_LONG_DOUBLE
    HAS_STRTOLD
    HAS_TIMES
    MULTIPLICITY
    PERLIO_LAYERS
    PERL_COPY_ON_WRITE
    PERL_DONT_CREATE_GVSV
    PERL_HASH_FUNC_SIPHASH13
    PERL_HASH_USE_SBOX32
    PERL_MALLOC_WRAP
    PERL_OP_PARENT
    PERL_PRESERVE_IVUV
    PERL_USE_DEVEL
    PERL_USE_SAFE_PUTENV
    USE_64_BIT_ALL
    USE_64_BIT_INT
    USE_ITHREADS
    USE_LARGE_FILES
    USE_LOCALE
    USE_LOCALE_COLLATE
    USE_LOCALE_CTYPE
    USE_LOCALE_NUMERIC
    USE_LOCALE_TIME
    USE_LONG_DOUBLE
    USE_PERLIO
    USE_PERL_ATOF
    USE_REENTRANT_API
    USE_THREAD_SAFE_LOCALE
  Built under linux
  Compiled at Apr 28 2024 07:11:59
  %ENV:
    PERL="/tmp/basesmoker-reloperl-_Pz6/bin/perl"
    PERL5LIB="/tmp/loop_over_bdir-3812748-4hxYyj/Devel-Required-0.16-0/blib/arch:/tmp/loop_over_bdir-3812748-4hxYyj/Devel-Required-0.16-0/blib/lib:/tmp/loop_over_bdir-3812748-4hxYyj/Linux-InitFS-0.2-0/blib/arch:/tmp/loop_over_bdir-3812748-4hxYyj/Linux-InitFS-0.2-0/blib/lib:/tmp/loop_over_bdir-3812748-4hxYyj/DBIx-Migration-Directories-0.12-0/blib/arch:/tmp/loop_over_bdir-3812748-4hxYyj/DBIx-Migration-Directories-0.12-0/blib/lib:/tmp/loop_over_bdir-3812748-4hxYyj/shishi-0.0.1-0/blib/arch:/tmp/loop_over_bdir-3812748-4hxYyj/shishi-0.0.1-0/blib/lib:/tmp/loop_over_bdir-3812748-4hxYyj/Dpkg-1.22.6-0/blib/arch:/tmp/loop_over_bdir-3812748-4hxYyj/Dpkg-1.22.6-0/blib/lib"
    PERL5OPT=""
    PERL5_CPANPLUS_IS_RUNNING="3812756"
    PERL5_CPAN_IS_RUNNING="3812756"
    PERL_CANARY_STABILITY_NOPROMPT="1"
    PERL_MM_USE_DEFAULT="1"
    PERL_USE_UNSAFE_INC="1"
  @INC:
    /tmp/loop_over_bdir-3812748-4hxYyj/Devel-Required-0.16-0/blib/arch
    /tmp/loop_over_bdir-3812748-4hxYyj/Devel-Required-0.16-0/blib/lib
    /tmp/loop_over_bdir-3812748-4hxYyj/Linux-InitFS-0.2-0/blib/arch
    /tmp/loop_over_bdir-3812748-4hxYyj/Linux-InitFS-0.2-0/blib/lib
    /tmp/loop_over_bdir-3812748-4hxYyj/DBIx-Migration-Directories-0.12-0/blib/arch
    /tmp/loop_over_bdir-3812748-4hxYyj/DBIx-Migration-Directories-0.12-0/blib/lib
    /tmp/loop_over_bdir-3812748-4hxYyj/shishi-0.0.1-0/blib/arch
    /tmp/loop_over_bdir-3812748-4hxYyj/shishi-0.0.1-0/blib/lib
    /tmp/loop_over_bdir-3812748-4hxYyj/Dpkg-1.22.6-0/blib/arch
    /tmp/loop_over_bdir-3812748-4hxYyj/Dpkg-1.22.6-0/blib/lib
    /home/sand/src/perl/repoperls/installed-perls/host/k93jammy/v5.39.10/322f/lib/site_perl/5.39.10/x86_64-linux-thread-multi-ld
    /home/sand/src/perl/repoperls/installed-perls/host/k93jammy/v5.39.10/322f/lib/site_perl/5.39.10
    /home/sand/src/perl/repoperls/installed-perls/host/k93jammy/v5.39.10/322f/lib/5.39.10/x86_64-linux-thread-multi-ld
    /home/sand/src/perl/repoperls/installed-perls/host/k93jammy/v5.39.10/322f/lib/5.39.10
    .