Report for Music-Tag-0.4103

Back
From: metabase:user:314402c4-2aae-11df-837a-5e0a49663a4f
Subject: PASS Music-Tag-0.4103 v5.22.3 GNU/Linux
Date: 2017-07-29T19:15:53Z

This distribution has been tested as part of the CPAN Testers
project, supporting the Perl programming language.  See
http://wiki.cpantesters.org/ for more information or email
questions to cpan-testers-discuss@perl.org


--
Dear Edward J. Allen III,

This is a computer-generated report for Music-Tag-0.4103
on perl 5.22.3, created by CPAN-Reporter-1.2018.

Thank you for uploading your work to CPAN.  Congratulations!
All tests were successful.

Sections of this report:

    * Tester comments
    * Program output
    * Prerequisites
    * Environment and other context

------------------------------
TESTER COMMENTS
------------------------------

Additional comments from tester:

none provided

------------------------------
PROGRAM OUTPUT
------------------------------

Output from 'make test':

PERL_DL_NONLAZY=1 "/opt/perl-5.22.3/bin/perl" "-MExtUtils::Command::MM" "-MTest::Harness" "-e" "undef *Test::Harness::Switches; test_harness(0, 'blib/lib', 'blib/arch')" t/*.t
t/1-general.t ........ ok
t/2-options.t ........ ok
Music::Tag::Auto Sorry, I can't find a plugin for /home/cpansand/.cpan/build/2017072918/Music-Tag-0.4103-jaubb9/t/fake.music at /home/cpansand/.cpan/build/2017072918/Music-Tag-0.4103-jaubb9/blib/lib/Music/Tag.pm line 147.
t/3-auto.t ........... ok
t/5-generic.t ........ ok
t/6-unaccent.t ....... skipped: Text::Unaccent::PurePerl required for testing accent changes
t/97-pod.t ........... skipped: Test::Pod 1.00 required for testing POD
t/98-pod-coverage.t .. ok
All tests successful.
Files=7, Tests=243,  3 wallclock secs ( 0.04 usr  0.04 sys +  2.46 cusr  0.47 csys =  3.01 CPU)
Result: PASS

------------------------------
PREREQUISITES
------------------------------

Prerequisite modules loaded:

requires:

    Module              Need   Have    
    ------------------- ------ --------
    Config::Options     0.07   0.08    
    Data::Dumper        2      2.158   
    DateTimeX::Easy     0.088  0.089   
    Digest::SHA1        2.11   2.13    
    Encode              2.12   2.91    
    File::Copy          2      2.30    
    File::Slurp         1      9999.19 
    File::Spec          3.24   3.56_02 
    File::stat          1      1.07    
    IO::Dir             1      1.10    
    IO::File            1.13   1.16    
    Locale::Country     2.07   3.34    
    Readonly            1      2.05    
    Scalar::Util        1.21   1.48    
    Test::More          0.1    1.302086
    Time::Local         1.1901 1.2300  

build_requires:

    Module              Need   Have    
    ------------------- ------ --------
    ExtUtils::MakeMaker 0      7.30    

configure_requires:

    Module              Need   Have    
    ------------------- ------ --------
    ExtUtils::MakeMaker 0      7.30    


------------------------------
ENVIRONMENT AND OTHER CONTEXT
------------------------------

Environment variables:

    LANG = en_US.UTF-8
    PATH = /usr/local/bin:/usr/bin:/bin:/usr/local/sbin:/usr/sbin:/sbin:/home/cpansand/bin/linux-gnu:/home/cpansand/bin/sh:/home/cpansand/bin:/usr/games:/home/cpansand/devel:/home/eserte/src/srezic-misc/scripts
    PERL5LIB = /home/cpansand/.cpan/build/2017072918/Config-Options-0.08-w04pTQ/blib/arch:/home/cpansand/.cpan/build/2017072918/Config-Options-0.08-w04pTQ/blib/lib:/home/cpansand/.cpan/build/2017072918/DateTimeX-Easy-0.089-n2ce3N/blib/arch:/home/cpansand/.cpan/build/2017072918/DateTimeX-Easy-0.089-n2ce3N/blib/lib:/home/cpansand/.cpan/build/2017072918/DateTime-Format-ICal-0.09-dfiw2A/blib/arch:/home/cpansand/.cpan/build/2017072918/DateTime-Format-ICal-0.09-dfiw2A/blib/lib:/home/cpansand/.cpan/build/2017072918/DateTime-Event-ICal-0.13-S6YG3g/blib/arch:/home/cpansand/.cpan/build/2017072918/DateTime-Event-ICal-0.13-S6YG3g/blib/lib:/home/cpansand/.cpan/build/2017072918/DateTime-Format-Flexible-0.28-kffT35/blib/arch:/home/cpansand/.cpan/build/2017072918/DateTime-Format-Flexible-0.28-kffT35/blib/lib:/home/cpansand/.cpan/build/2017072918/Cache-Cache-1.08-kfijDg/blib/arch:/home/cpansand/.cpan/build/2017072918/Cache-Cache-1.08-kfijDg/blib/lib:/home/cpansand/.cpan/build/2017072918/Net-Amazon-0.62-aCKXNm/blib/arch:/home/cpansand/.cpan/build/2017072918/Net-Amazon-0.62-aCKXNm/blib/lib
    PERL5OPT = -MDevel::Hide
    PERL5_CPANPLUS_IS_RUNNING = 10794
    PERL5_CPAN_IS_RUNNING = 10794
    PERL5_CPAN_IS_RUNNING_IN_RECURSION = 28769,10794
    PERLDOC = -MPod::Perldoc::ToTextOverstrike
    PERL_BATCH = yes
    PERL_CANARY_STABILITY_NOPROMPT = 1
    PERL_CPAN_REPORTER_CONFIG = /var/tmp/cpansmoker-1023/2017072918/cpanreporter_000_config.ini
    PERL_EXTUTILS_AUTOINSTALL = --defaultdeps
    SHELL = /bin/zsh
    TERM = screen
    TMPDIR = /var/tmp/cpansmoker-1023/2017072918

Perl special variables (and OS-specific diagnostics, for MSWin32):

    $^X = /opt/perl-5.22.3/bin/perl
    $UID/$EUID = 1023 / 1023
    $GID = 1023 1023
    $EGID = 1023 1023

Perl module toolchain versions installed:

    Module              Have      
    ------------------- ----------
    CPAN                2.11_01   
    CPAN::Meta          2.150001  
    Cwd                 3.56_02   
    ExtUtils::CBuilder  0.280221  
    ExtUtils::Command   7.30      
    ExtUtils::Install   2.06      
    ExtUtils::MakeMaker 7.30      
    ExtUtils::Manifest  1.70      
    ExtUtils::ParseXS   3.28      
    File::Spec          3.56_02   
    JSON                2.94      
    JSON::PP            2.94      
    Module::Build       0.4224    
    Module::Signature   n/a       
    Parse::CPAN::Meta   1.4414_001
    Test::Harness       3.35_01   
    Test::More          1.302086  
    YAML                1.23      
    YAML::Syck          1.30      
    version             0.9909    


--

Summary of my perl5 (revision 5 version 22 subversion 3) configuration:
   
  Platform:
    osname=linux, osvers=2.6.32-696.3.1.el6.x86_64, archname=x86_64-linux
    uname='linux centos6 2.6.32-696.3.1.el6.x86_64 #1 smp tue may 30 19:52:55 utc 2017 x86_64 x86_64 x86_64 gnulinux '
    config_args='-ds -e -Dprefix=/opt/perl-5.22.3 -Dcf_email=srezic@cpan.org'
    hint=recommended, useposix=true, d_sigaction=define
    useithreads=undef, usemultiplicity=undef
    use64bitint=define, use64bitall=define, uselongdouble=undef
    usemymalloc=n, bincompat5005=undef
  Compiler:
    cc='cc', ccflags ='-fwrapv -fno-strict-aliasing -pipe -fstack-protector -I/usr/local/include -D_LARGEFILE_SOURCE -D_FILE_OFFSET_BITS=64 -D_FORTIFY_SOURCE=2',
    optimize='-O2',
    cppflags='-fwrapv -fno-strict-aliasing -pipe -fstack-protector -I/usr/local/include'
    ccversion='', gccversion='4.4.7 20120313 (Red Hat 4.4.7-18)', gccosandvers=''
    intsize=4, longsize=8, ptrsize=8, doublesize=8, byteorder=12345678, doublekind=3
    d_longlong=define, longlongsize=8, d_longdbl=define, longdblsize=16, longdblkind=3
    ivtype='long', ivsize=8, nvtype='double', nvsize=8, Off_t='off_t', lseeksize=8
    alignbytes=8, prototype=define
  Linker and Libraries:
    ld='cc', ldflags =' -fstack-protector -L/usr/local/lib'
    libpth=/usr/local/lib /usr/lib /lib/../lib64 /usr/lib/../lib64 /lib /lib64 /usr/lib64 /usr/local/lib64
    libs=-lpthread -lnsl -lgdbm -ldb -ldl -lm -lcrypt -lutil -lc
    perllibs=-lpthread -lnsl -ldl -lm -lcrypt -lutil -lc
    libc=libc-2.12.so, so=so, useshrplib=false, libperl=libperl.a
    gnulibc_version='2.12'
  Dynamic Linking:
    dlsrc=dl_dlopen.xs, dlext=so, d_dlsymun=undef, ccdlflags='-Wl,-E'
    cccdlflags='-fPIC', lddlflags='-shared -O2 -L/usr/local/lib -fstack-protector'


Characteristics of this binary (from libperl): 
  Compile-time options: HAS_TIMES PERLIO_LAYERS PERL_DONT_CREATE_GVSV
                        PERL_HASH_FUNC_ONE_AT_A_TIME_HARD PERL_MALLOC_WRAP
                        PERL_NEW_COPY_ON_WRITE PERL_PRESERVE_IVUV
                        USE_64_BIT_ALL USE_64_BIT_INT USE_LARGE_FILES
                        USE_LOCALE USE_LOCALE_COLLATE USE_LOCALE_CTYPE
                        USE_LOCALE_NUMERIC USE_LOCALE_TIME USE_PERLIO
                        USE_PERL_ATOF
  Built under linux
  Compiled at Jun 21 2017 19:22:49
  %ENV:
    PERL5LIB="/home/cpansand/.cpan/build/2017072918/Config-Options-0.08-w04pTQ/blib/arch:/home/cpansand/.cpan/build/2017072918/Config-Options-0.08-w04pTQ/blib/lib:/home/cpansand/.cpan/build/2017072918/DateTimeX-Easy-0.089-n2ce3N/blib/arch:/home/cpansand/.cpan/build/2017072918/DateTimeX-Easy-0.089-n2ce3N/blib/lib:/home/cpansand/.cpan/build/2017072918/DateTime-Format-ICal-0.09-dfiw2A/blib/arch:/home/cpansand/.cpan/build/2017072918/DateTime-Format-ICal-0.09-dfiw2A/blib/lib:/home/cpansand/.cpan/build/2017072918/DateTime-Event-ICal-0.13-S6YG3g/blib/arch:/home/cpansand/.cpan/build/2017072918/DateTime-Event-ICal-0.13-S6YG3g/blib/lib:/home/cpansand/.cpan/build/2017072918/DateTime-Format-Flexible-0.28-kffT35/blib/arch:/home/cpansand/.cpan/build/2017072918/DateTime-Format-Flexible-0.28-kffT35/blib/lib:/home/cpansand/.cpan/build/2017072918/Cache-Cache-1.08-kfijDg/blib/arch:/home/cpansand/.cpan/build/2017072918/Cache-Cache-1.08-kfijDg/blib/lib:/home/cpansand/.cpan/build/2017072918/Net-Amazon-0.62-aCKXNm/blib/arch:/home/cpansand/.cpan/build/2017072918/Net-Amazon-0.62-aCKXNm/blib/lib"
    PERL5OPT="-MDevel::Hide"
    PERL5_CPANPLUS_IS_RUNNING="10794"
    PERL5_CPAN_IS_RUNNING="10794"
    PERL5_CPAN_IS_RUNNING_IN_RECURSION="28769,10794"
    PERLDOC="-MPod::Perldoc::ToTextOverstrike"
    PERL_BATCH="yes"
    PERL_CANARY_STABILITY_NOPROMPT="1"
    PERL_CPAN_REPORTER_CONFIG="/var/tmp/cpansmoker-1023/2017072918/cpanreporter_000_config.ini"
    PERL_EXTUTILS_AUTOINSTALL="--defaultdeps"
  @INC:
    CODE(0x13165e8)
    /home/cpansand/.cpan/build/2017072918/Config-Options-0.08-w04pTQ/blib/arch
    /home/cpansand/.cpan/build/2017072918/Config-Options-0.08-w04pTQ/blib/lib
    /home/cpansand/.cpan/build/2017072918/DateTimeX-Easy-0.089-n2ce3N/blib/arch
    /home/cpansand/.cpan/build/2017072918/DateTimeX-Easy-0.089-n2ce3N/blib/lib
    /home/cpansand/.cpan/build/2017072918/DateTime-Format-ICal-0.09-dfiw2A/blib/arch
    /home/cpansand/.cpan/build/2017072918/DateTime-Format-ICal-0.09-dfiw2A/blib/lib
    /home/cpansand/.cpan/build/2017072918/DateTime-Event-ICal-0.13-S6YG3g/blib/arch
    /home/cpansand/.cpan/build/2017072918/DateTime-Event-ICal-0.13-S6YG3g/blib/lib
    /home/cpansand/.cpan/build/2017072918/DateTime-Format-Flexible-0.28-kffT35/blib/arch
    /home/cpansand/.cpan/build/2017072918/DateTime-Format-Flexible-0.28-kffT35/blib/lib
    /home/cpansand/.cpan/build/2017072918/Cache-Cache-1.08-kfijDg/blib/arch
    /home/cpansand/.cpan/build/2017072918/Cache-Cache-1.08-kfijDg/blib/lib
    /home/cpansand/.cpan/build/2017072918/Net-Amazon-0.62-aCKXNm/blib/arch
    /home/cpansand/.cpan/build/2017072918/Net-Amazon-0.62-aCKXNm/blib/lib
    /opt/perl-5.22.3/lib/site_perl/5.22.3/x86_64-linux
    /opt/perl-5.22.3/lib/site_perl/5.22.3
    /opt/perl-5.22.3/lib/5.22.3/x86_64-linux
    /opt/perl-5.22.3/lib/5.22.3
    .