JSON v4.05 Perl 5 v5.35.9 x86_64-linux

Status
Pass
From
Carlos Guevara
Dist
JSON v4.05
Platform
Perl 5 v5.35.9 x86_64-linux
Date
2022-01-29 23:15:25
ID
56fc505c-8159-11ec-bd02-01a5df0dbbbc
This distribution has been tested as part of the CPAN Testers
project, supporting the Perl programming language.  See
http://wiki.cpantesters.org/ for more information or email
questions to cpan-testers-discuss@perl.org


--
Dear Kenichi Ishigaki,

This is a computer-generated report for JSON-4.05
on perl 5.35.9, created by CPAN-Reporter-1.2018.

Thank you for uploading your work to CPAN.  Congratulations!
All tests were successful.

Sections of this report:

    * Tester comments
    * Program output
    * Prerequisites
    * Environment and other context

------------------------------
TESTER COMMENTS
------------------------------

Additional comments from tester:

this report is from an automated smoke testing program
and was not reviewed by a human for accuracy

------------------------------
PROGRAM OUTPUT
------------------------------

Output from '/usr/bin/make test':

PERL_DL_NONLAZY=1 "/home/cpan/bin/perl-blead/bin/perl5.35.9" "-MExtUtils::Command::MM" "-MTest::Harness" "-e" "undef *Test::Harness::Switches; test_harness(0, 'blib/lib', 'blib/arch')" t/*.t
# JSON::backportPP 4.07
t/00_backend_version.t ......................... ok
t/00_load.t .................................... ok
t/00_load_backport_pp.t ........................ ok
t/00_pod.t ..................................... ok
t/01_utf8.t .................................... ok
t/02_error.t ................................... ok
t/03_types.t ................................... ok
t/04_dwiw_encode.t ............................. ok
t/05_dwiw_decode.t ............................. ok
t/06_pc_pretty.t ............................... ok
t/07_pc_esc.t .................................. ok
t/08_pc_base.t ................................. ok
t/09_pc_extra_number.t ......................... ok
t/104_sortby.t ................................. ok
t/105_esc_slash.t .............................. ok
t/106_allow_barekey.t .......................... ok
t/107_allow_singlequote.t ...................... ok
t/108_decode.t ................................. ok
t/109_encode.t ................................. ok
t/10_pc_keysort.t .............................. ok
t/110_bignum.t ................................. ok
t/112_upgrade.t ................................ ok
t/113_overloaded_eq.t .......................... ok
t/114_decode_prefix.t .......................... ok
t/115_tie_ixhash.t ............................. ok
t/116_incr_parse_fixed.t ....................... ok
t/117_numbers.t ................................ ok
t/118_boolean_values.t ......................... ok
t/119_incr_parse_utf8.t ........................ ok
t/11_pc_expo.t ................................. ok
t/12_blessed.t ................................. ok
t/13_limit.t ................................... ok
t/14_latin1.t .................................. ok
t/15_prefix.t .................................. ok
t/16_tied.t .................................... ok
t/17_relaxed.t ................................. ok
t/18_json_checker.t ............................ ok
t/19_incr.t .................................... ok
t/20_faihu.t ................................... ok
t/20_unknown.t ................................. ok
t/21_evans.t ................................... ok
t/22_comment_at_eof.t .......................... ok
t/52_object.t .................................. ok
t/99_binary.t .................................. ok
t/e00_func.t ................................... ok
t/e01_property.t ............................... ok
# 1
t/e02_bool.t ................................... ok
t/e03_bool2.t .................................. ok
t/e11_conv_blessed_univ.t ...................... ok
t/e90_misc.t ................................... ok
t/gh_28_json_test_suite.t ...................... ok
t/gh_29_trailing_false_value.t ................. ok
t/rt_116998_wrong_character_offset.t ........... ok
t/rt_122270_is_bool_for_obsolete_xs_boolean.t .. ok
t/rt_90071_incr_parse.t ........................ ok
t/x00_load.t ................................... ok
t/x02_error.t .................................. ok
t/x12_blessed.t ................................ ok
t/x16_tied.t ................................... ok
t/x17_strange_overload.t ....................... ok
t/xe04_escape_slash.t .......................... ok
t/xe05_indent_length.t ......................... ok
t/xe12_boolean.t ............................... ok
t/xe19_xs_and_suportbypp.t ..................... ok
t/xe20_croak_message.t ......................... ok
t/xe21_is_pp.t ................................. ok
t/zero-mojibake.t .............................. ok
All tests successful.
Files=67, Tests=26055, 83 wallclock secs ( 3.39 usr  0.35 sys + 75.89 cusr  3.25 csys = 82.88 CPU)
Result: PASS

------------------------------
PREREQUISITES
------------------------------

Prerequisite modules loaded:

requires:

    Module              Need Have    
    ------------------- ---- --------
    Test::More          0    1.302188

build_requires:

    Module              Need Have    
    ------------------- ---- --------
    ExtUtils::MakeMaker 0    7.64    

configure_requires:

    Module              Need Have    
    ------------------- ---- --------
    ExtUtils::MakeMaker 0    7.64    


------------------------------
ENVIRONMENT AND OTHER CONTEXT
------------------------------

Environment variables:

    AUTOMATED_TESTING = 1
    DATE_MANIP_TEST_DM5 = 1
    LANG = C.UTF-8
    LC_COLLATE = C
    NONINTERACTIVE_TESTING = 1
    PATH = /home/cpan/bin/perl-blead/bin:/usr/local/sbin:/usr/local/bin:/usr/sbin:/usr/bin:/sbin:/bin
    PERL5LIB = 
    PERL5OPT = 
    PERL5_CPANPLUS_IS_RUNNING = 18190
    PERL5_CPAN_IS_RUNNING = 18190
    PERL_MM_USE_DEFAULT = 1
    PERL_USE_UNSAFE_INC = 1
    PERL_VERSION = blead
    SHELL = /bin/bash
    TERM = screen

Perl special variables (and OS-specific diagnostics, for MSWin32):

    $^X = /home/cpan/bin/perl-blead/bin/perl5.35.9
    $UID/$EUID = 1001 / 1001
    $GID = 1001 1001
    $EGID = 1001 1001

Perl module toolchain versions installed:

    Module              Have    
    ------------------- --------
    CPAN                2.29    
    CPAN::Meta          2.150010
    Cwd                 3.83    
    ExtUtils::CBuilder  0.280236
    ExtUtils::Command   7.64    
    ExtUtils::Install   2.20    
    ExtUtils::MakeMaker 7.64    
    ExtUtils::Manifest  1.73    
    ExtUtils::ParseXS   3.44    
    File::Spec          3.83    
    JSON                n/a     
    JSON::PP            4.07    
    Module::Build       0.4231  
    Module::Signature   n/a     
    Parse::CPAN::Meta   2.150010
    Test::Harness       3.43    
    Test::More          1.302188
    YAML                1.30    
    YAML::Syck          1.34    
    version             0.9929  


--

Summary of my perl5 (revision 5 version 35 subversion 9) configuration:
  Commit id: ebfc9d5d0d50ffc852e4ae35a78e6a922ada8700
  Platform:
    osname=linux
    osvers=5.15.16-0-lts
    archname=x86_64-linux
    uname='linux cjg-alpine3 5.15.16-0-lts #1-alpine smp wed, 26 jan 2022 16:46:12 +0000 x86_64 linux '
    config_args='-des -Dprefix=~/bin/perl-blead -Dscriptdir=~/bin/perl-blead/bin -Dusedevel -Duse64bitall'
    hint=recommended
    useposix=true
    d_sigaction=define
    useithreads=undef
    usemultiplicity=undef
    use64bitint=define
    use64bitall=define
    uselongdouble=undef
    usemymalloc=n
    default_inc_excludes_dot=define
  Compiler:
    cc='cc'
    ccflags ='-D_GNU_SOURCE -fwrapv -fno-strict-aliasing -pipe -fstack-protector-strong -D_LARGEFILE_SOURCE -D_FILE_OFFSET_BITS=64'
    optimize='-O2'
    cppflags='-D_GNU_SOURCE -fwrapv -fno-strict-aliasing -pipe -fstack-protector-strong'
    ccversion=''
    gccversion='10.3.1 20211027'
    gccosandvers=''
    intsize=4
    longsize=8
    ptrsize=8
    doublesize=8
    byteorder=12345678
    doublekind=3
    d_longlong=define
    longlongsize=8
    d_longdbl=define
    longdblsize=16
    longdblkind=3
    ivtype='long'
    ivsize=8
    nvtype='double'
    nvsize=8
    Off_t='off_t'
    lseeksize=8
    alignbytes=8
    prototype=define
  Linker and Libraries:
    ld='cc'
    ldflags =' -fstack-protector-strong -L/usr/local/lib'
    libpth=/usr/lib /usr/local/lib /lib
    libs=-lpthread -ldb -ldl -lm -lcrypt -lutil -lc
    perllibs=-lpthread -ldl -lm -lcrypt -lutil -lc
    libc=/usr/lib/libc.a
    so=so
    useshrplib=false
    libperl=libperl.a
    gnulibc_version=''
  Dynamic Linking:
    dlsrc=dl_dlopen.xs
    dlext=so
    d_dlsymun=undef
    ccdlflags='-Wl,-E'
    cccdlflags='-fPIC'
    lddlflags='-shared -O2 -L/usr/local/lib -fstack-protector-strong'


Characteristics of this binary (from libperl): 
  Compile-time options:
    HAS_TIMES
    PERLIO_LAYERS
    PERL_COPY_ON_WRITE
    PERL_DONT_CREATE_GVSV
    PERL_MALLOC_WRAP
    PERL_OP_PARENT
    PERL_PRESERVE_IVUV
    PERL_USE_DEVEL
    USE_64_BIT_ALL
    USE_64_BIT_INT
    USE_LARGE_FILES
    USE_LOCALE
    USE_LOCALE_COLLATE
    USE_LOCALE_CTYPE
    USE_LOCALE_NUMERIC
    USE_LOCALE_TIME
    USE_PERLIO
    USE_PERL_ATOF
  Built under linux
  Compiled at Jan 29 2022 15:55:04
  %ENV:
    PERL5LIB=""
    PERL5OPT=""
    PERL5_CPANPLUS_IS_RUNNING="18190"
    PERL5_CPAN_IS_RUNNING="18190"
    PERL_MM_USE_DEFAULT="1"
    PERL_USE_UNSAFE_INC="1"
    PERL_VERSION="blead"
  @INC:
    /home/cpan/bin/perl-blead/lib/site_perl/5.35.9/x86_64-linux
    /home/cpan/bin/perl-blead/lib/site_perl/5.35.9
    /home/cpan/bin/perl-blead/lib/5.35.9/x86_64-linux
    /home/cpan/bin/perl-blead/lib/5.35.9
    .