Report for Catalyst-View-RRDGraph-0.10

Back
From: metabase:user:314402c4-2aae-11df-837a-5e0a49663a4f
Subject: PASS Catalyst-View-RRDGraph-0.10 v5.25.4 GNU/Linux
Date: 2016-08-31T23:33:36Z

This distribution has been tested as part of the CPAN Testers
project, supporting the Perl programming language.  See
http://wiki.cpantesters.org/ for more information or email
questions to cpan-testers-discuss@perl.org


--
Dear Miquel Ruiz Martin,

This is a computer-generated report for Catalyst-View-RRDGraph-0.10
on perl 5.25.4, created by CPAN-Reporter-1.2018.

Thank you for uploading your work to CPAN.  Congratulations!
All tests were successful.

Sections of this report:

    * Tester comments
    * Program output
    * Prerequisites
    * Environment and other context

------------------------------
TESTER COMMENTS
------------------------------

Additional comments from tester:

none provided

------------------------------
PROGRAM OUTPUT
------------------------------

Output from '/usr/bin/make test':

PERL_DL_NONLAZY=1 "/bbbike/perl-5.25.4/bin/perl5.25.4" "-MExtUtils::Command::MM" "-MTest::Harness" "-e" "undef *Test::Harness::Switches; test_harness(0, 'blib/lib', 'blib/arch')" t/*.t
t/001_load.t ............ ok
t/002_process.t ......... ok
[debug] Debug messages enabled
[debug] Statistics enabled
[debug] Loaded PSGI Middleware:
.----------------------------------------------------------------------------------------------------------------------------------------------------------------------------------------------------------------------------------------------------------------------.
| Catalyst::Middleware::Stash                                                                                                                                                                                                                                          |
| Plack::Middleware::HTTPExceptions                                                                                                                                                                                                                                    |
| Plack::Middleware::RemoveRedundantBody  0.04                                                                                                                                                                                                                         |
| Plack::Middleware::FixMissingBodyInRedirect  0.12                                                                                                                                                                                                                    |
| Plack::Middleware::ContentLength                                                                                                                                                                                                                                     |
| Plack::Middleware::MethodOverride  0.15                                                                                                                                                                                                                              |
| Plack::Middleware::Head                                                                                                                                                                                                                                              |
'----------------------------------------------------------------------------------------------------------------------------------------------------------------------------------------------------------------------------------------------------------------------'

[debug] Loaded Request Data Handlers:
.----------------------------------------------------------------------------------------------------------------------------------------------------------------------------------------------------------------------------------------------------------------------.
| application/json                                                                                                                                                                                                                                                     |
| application/x-www-form-urlencoded                                                                                                                                                                                                                                    |
'----------------------------------------------------------------------------------------------------------------------------------------------------------------------------------------------------------------------------------------------------------------------'

[debug] Loaded dispatcher "Catalyst::Dispatcher"
[debug] Loaded engine "Catalyst::Engine"
[debug] Found home "/tmpfs/.cpan-build-cpansand/2016083121/Catalyst-View-RRDGraph-0.10-0/t/lib/RRDGraphTest003"
[debug] Loaded components:
.-----------------------------------------------------------------------------------------------------------------------------------------------------------------------------------------------------------------------------------------------------------+----------.
| Class                                                                                                                                                                                                                                                     | Type     |
+-----------------------------------------------------------------------------------------------------------------------------------------------------------------------------------------------------------------------------------------------------------+----------+
| RRDGraphTest003::Controller::Root                                                                                                                                                                                                                         | instance |
| RRDGraphTest003::View::RRDNormal                                                                                                                                                                                                                          | instance |
| RRDGraphTest003::View::RRDOnServe                                                                                                                                                                                                                         | instance |
| RRDGraphTest003::View::RRDOnServeFunction                                                                                                                                                                                                                 | instance |
'-----------------------------------------------------------------------------------------------------------------------------------------------------------------------------------------------------------------------------------------------------------+----------'

[debug] Loaded Private actions:
.-----------------------------------------------------------------+---------------------------------------------------------------------------------------------------------------------------------+------------------------------------------------------------------.
| Private                                                         | Class                                                                                                                           | Method                                                           |
+-----------------------------------------------------------------+---------------------------------------------------------------------------------------------------------------------------------+------------------------------------------------------------------+
| /image_error_normal                                             | RRDGraphTest003::Controller::Root                                                                                               | image_error_normal                                               |
| /image_error_function                                           | RRDGraphTest003::Controller::Root                                                                                               | image_error_function                                             |
| /zero_byte_error                                                | RRDGraphTest003::Controller::Root                                                                                               | zero_byte_error                                                  |
| /zero_byte_error_normal                                         | RRDGraphTest003::Controller::Root                                                                                               | zero_byte_error_normal                                           |
| /image_error                                                    | RRDGraphTest003::Controller::Root                                                                                               | image_error                                                      |
| /zero_byte_error_function                                       | RRDGraphTest003::Controller::Root                                                                                               | zero_byte_error_function                                         |
'-----------------------------------------------------------------+---------------------------------------------------------------------------------------------------------------------------------+------------------------------------------------------------------'

[debug] Loaded Path actions:
.----------------------------------------------------------------------------------------------------------------------------------+-----------------------------------------------------------------------------------------------------------------------------------.
| Path                                                                                                                             | Private                                                                                                                           |
+----------------------------------------------------------------------------------------------------------------------------------+-----------------------------------------------------------------------------------------------------------------------------------+
| /image_error/...                                                                                                                 | /image_error                                                                                                                      |
| /image_error_function/...                                                                                                        | /image_error_function                                                                                                             |
| /image_error_normal/...                                                                                                          | /image_error_normal                                                                                                               |
| /zero_byte_error/...                                                                                                             | /zero_byte_error                                                                                                                  |
| /zero_byte_error_function/...                                                                                                    | /zero_byte_error_function                                                                                                         |
| /zero_byte_error_normal/...                                                                                                      | /zero_byte_error_normal                                                                                                           |
'----------------------------------------------------------------------------------------------------------------------------------+-----------------------------------------------------------------------------------------------------------------------------------'

[info] RRDGraphTest003 powered by Catalyst 5.90112
[info] *** Request 1 (1.000/s) [2090] [Wed Aug 31 23:12:17 2016] ***
[debug] Path is "zero_byte_error"
[debug] "GET" request for "zero_byte_error" from "127.0.0.1"
[error] RRDgraph is 0 bytes
[debug] Static::Simple: Serving static file: error_image.png as image/png
[debug] Response Code: 200; Content-Type: image/png; Content-Length: 14
[info] Request took 0.005095s (196.271/s)
.------------------------------------------------------------------------------------------------------------------------------------------------------------------------------------------------------------------------------------------------------+-----------.
| Action                                                                                                                                                                                                                                               | Time      |
+------------------------------------------------------------------------------------------------------------------------------------------------------------------------------------------------------------------------------------------------------+-----------+
| /zero_byte_error                                                                                                                                                                                                                                     | 0.002776s |
|  -> RRDGraphTest003::View::RRDOnServe->process                                                                                                                                                                                                       | 0.002525s |
'------------------------------------------------------------------------------------------------------------------------------------------------------------------------------------------------------------------------------------------------------+-----------'

[info] *** Request 2 (2.000/s) [2090] [Wed Aug 31 23:12:17 2016] ***
[debug] Path is "image_error"
[debug] "GET" request for "image_error" from "127.0.0.1"
[error] Unknown option
[debug] Static::Simple: Serving static file: error_image.png as image/png
[debug] Response Code: 200; Content-Type: image/png; Content-Length: 14
[info] Request took 0.002156s (463.822/s)
.------------------------------------------------------------------------------------------------------------------------------------------------------------------------------------------------------------------------------------------------------+-----------.
| Action                                                                                                                                                                                                                                               | Time      |
+------------------------------------------------------------------------------------------------------------------------------------------------------------------------------------------------------------------------------------------------------+-----------+
| /image_error                                                                                                                                                                                                                                         | 0.000760s |
|  -> RRDGraphTest003::View::RRDOnServe->process                                                                                                                                                                                                       | 0.000569s |
'------------------------------------------------------------------------------------------------------------------------------------------------------------------------------------------------------------------------------------------------------+-----------'

[info] *** Request 3 (3.000/s) [2090] [Wed Aug 31 23:12:17 2016] ***
[debug] Path is "zero_byte_error_normal"
[debug] "GET" request for "zero_byte_error_normal" from "127.0.0.1"
[error] RRDgraph is 0 bytes
[debug] Response Code: 500; Content-Type: text/html; charset=utf-8; Content-Length: unknown
[info] Request took 0.007794s (128.304/s)
.------------------------------------------------------------------------------------------------------------------------------------------------------------------------------------------------------------------------------------------------------+-----------.
| Action                                                                                                                                                                                                                                               | Time      |
+------------------------------------------------------------------------------------------------------------------------------------------------------------------------------------------------------------------------------------------------------+-----------+
| /zero_byte_error_normal                                                                                                                                                                                                                              | 0.000607s |
|  -> RRDGraphTest003::View::RRDNormal->process                                                                                                                                                                                                        | 0.000376s |
'------------------------------------------------------------------------------------------------------------------------------------------------------------------------------------------------------------------------------------------------------+-----------'

[info] *** Request 4 (4.000/s) [2090] [Wed Aug 31 23:12:17 2016] ***
[debug] Path is "image_error_normal"
[debug] "GET" request for "image_error_normal" from "127.0.0.1"
[error] Unknown option
[debug] Response Code: 500; Content-Type: text/html; charset=utf-8; Content-Length: unknown
[info] Request took 0.003494s (286.205/s)
.------------------------------------------------------------------------------------------------------------------------------------------------------------------------------------------------------------------------------------------------------+-----------.
| Action                                                                                                                                                                                                                                               | Time      |
+------------------------------------------------------------------------------------------------------------------------------------------------------------------------------------------------------------------------------------------------------+-----------+
| /image_error_normal                                                                                                                                                                                                                                  | 0.000572s |
|  -> RRDGraphTest003::View::RRDNormal->process                                                                                                                                                                                                        | 0.000361s |
'------------------------------------------------------------------------------------------------------------------------------------------------------------------------------------------------------------------------------------------------------+-----------'

[info] *** Request 5 (5.000/s) [2090] [Wed Aug 31 23:12:17 2016] ***
[debug] Path is "zero_byte_error_function"
[debug] "GET" request for "zero_byte_error_function" from "127.0.0.1"
[debug] Response Code: 200; Content-Type: unknown; Content-Length: unknown
[info] Request took 0.002009s (497.760/s)
.------------------------------------------------------------------------------------------------------------------------------------------------------------------------------------------------------------------------------------------------------+-----------.
| Action                                                                                                                                                                                                                                               | Time      |
+------------------------------------------------------------------------------------------------------------------------------------------------------------------------------------------------------------------------------------------------------+-----------+
| /zero_byte_error_function                                                                                                                                                                                                                            | 0.000607s |
|  -> RRDGraphTest003::View::RRDOnServeFunction->process                                                                                                                                                                                               | 0.000397s |
'------------------------------------------------------------------------------------------------------------------------------------------------------------------------------------------------------------------------------------------------------+-----------'

[info] *** Request 6 (6.000/s) [2090] [Wed Aug 31 23:12:17 2016] ***
[debug] Path is "image_error_function"
[debug] "GET" request for "image_error_function" from "127.0.0.1"
[debug] Response Code: 200; Content-Type: unknown; Content-Length: unknown
[info] Request took 0.001522s (657.030/s)
.------------------------------------------------------------------------------------------------------------------------------------------------------------------------------------------------------------------------------------------------------+-----------.
| Action                                                                                                                                                                                                                                               | Time      |
+------------------------------------------------------------------------------------------------------------------------------------------------------------------------------------------------------------------------------------------------------+-----------+
| /image_error_function                                                                                                                                                                                                                                | 0.000457s |
|  -> RRDGraphTest003::View::RRDOnServeFunction->process                                                                                                                                                                                               | 0.000296s |
'------------------------------------------------------------------------------------------------------------------------------------------------------------------------------------------------------------------------------------------------------+-----------'

t/003_on_error_serve.t .. ok
All tests successful.
Files=3, Tests=17,  2 wallclock secs ( 0.02 usr  0.02 sys +  0.92 cusr  0.10 csys =  1.06 CPU)
Result: PASS

------------------------------
PREREQUISITES
------------------------------

Prerequisite modules loaded:

requires:

    Module                           Need Have      
    -------------------------------- ---- ----------
    Catalyst::Plugin::Static::Simple 0    0.33      
    Catalyst::Runtime                5.7  5.90112   
    MRO::Compat                      0    0.12      

build_requires:

    Module                           Need Have      
    -------------------------------- ---- ----------
    Catalyst::Test                   0    0         
    Test::MockObject                 0    1.20150527
    Test::More                       0    1.302052  

configure_requires:

    Module                           Need Have      
    -------------------------------- ---- ----------
    ExtUtils::MakeMaker              6.30 7.24      


------------------------------
ENVIRONMENT AND OTHER CONTEXT
------------------------------

Environment variables:

    LANG = C
    LC_ALL = de_DE.UTF-8
    PATH = /usr/local/bin:/usr/bin:/bin:/usr/local/sbin:/usr/sbin:/sbin:/home/cpansand/bin/linux-gnu:/home/cpansand/bin/sh:/home/cpansand/bin:/usr/games:/home/cpansand/devel:/home/eserte/src/srezic-misc/scripts
    PERL5LIB = 
    PERL5OPT = 
    PERL5_CPANPLUS_IS_RUNNING = 24473
    PERL5_CPAN_IS_RUNNING = 24473
    PERL5_CPAN_IS_RUNNING_IN_RECURSION = 13328,24473
    PERLDOC = -MPod::Perldoc::ToTextOverstrike
    PERL_BATCH = yes
    PERL_CANARY_STABILITY_NOPROMPT = 1
    PERL_CPAN_REPORTER_CONFIG = /run/user/1023/cpansmoker/2016083103/cpanreporter_001_config.ini
    PERL_EXTUTILS_AUTOINSTALL = --defaultdeps
    PERL_PARALLEL_SMOKER = yes
    PERL_USE_UNSAFE_INC = 1
    SHELL = /bin/zsh
    TERM = screen
    TMPDIR = /run/user/1023/cpansmoker/2016083103

Perl special variables (and OS-specific diagnostics, for MSWin32):

    $^X = /bbbike/perl-5.25.4/bin/perl5.25.4
    $UID/$EUID = 1023 / 1023
    $GID = 1023 1023
    $EGID = 1023 1023

Perl module toolchain versions installed:

    Module              Have    
    ------------------- --------
    CPAN                2.14    
    CPAN::Meta          2.150010
    Cwd                 3.62    
    ExtUtils::CBuilder  0.280224
    ExtUtils::Command   7.24    
    ExtUtils::Install   2.04    
    ExtUtils::MakeMaker 7.24    
    ExtUtils::Manifest  1.70    
    ExtUtils::ParseXS   3.30    
    File::Spec          3.62    
    JSON                2.90    
    JSON::PP            2.27400 
    Module::Build       0.4220  
    Module::Signature   0.80    
    Parse::CPAN::Meta   2.150010
    Test::Harness       3.36    
    Test::More          1.302052
    YAML                1.18    
    YAML::Syck          1.29    
    version             0.9917  


--

Summary of my perl5 (revision 5 version 25 subversion 4) configuration:
   
  Platform:
    osname=linux
    osvers=3.16.0-4-amd64
    archname=x86_64-linux
    uname='linux eserte 3.16.0-4-amd64 #1 smp debian 3.16.7-ckt25-2+deb8u3 (2016-07-02) x86_64 gnulinux '
    config_args='-ds -e -Dprefix=/opt/perl-5.25.4 -Dusedevel -Dusemallocwrap=no -Dcf_email=srezic@cpan.org'
    hint=recommended
    useposix=true
    d_sigaction=define
    useithreads=undef
    usemultiplicity=undef
    use64bitint=define
    use64bitall=define
    uselongdouble=undef
    usemymalloc=n
    bincompat5005=undef
  Compiler:
    cc='cc'
    ccflags ='-fwrapv -fno-strict-aliasing -pipe -fstack-protector-strong -I/usr/local/include -D_LARGEFILE_SOURCE -D_FILE_OFFSET_BITS=64 -D_FORTIFY_SOURCE=2'
    optimize='-O2'
    cppflags='-fwrapv -fno-strict-aliasing -pipe -fstack-protector-strong -I/usr/local/include'
    ccversion=''
    gccversion='4.9.2'
    gccosandvers=''
    intsize=4
    longsize=8
    ptrsize=8
    doublesize=8
    byteorder=12345678
    doublekind=3
    d_longlong=define
    longlongsize=8
    d_longdbl=define
    longdblsize=16
    longdblkind=3
    ivtype='long'
    ivsize=8
    nvtype='double'
    nvsize=8
    Off_t='off_t'
    lseeksize=8
    alignbytes=8
    prototype=define
  Linker and Libraries:
    ld='cc'
    ldflags =' -fstack-protector-strong -L/usr/local/lib'
    libpth=/usr/local/lib /usr/lib/gcc/x86_64-linux-gnu/4.9/include-fixed /usr/include/x86_64-linux-gnu /usr/lib /lib/x86_64-linux-gnu /lib/../lib /usr/lib/x86_64-linux-gnu /usr/lib/../lib /lib
    libs=-lpthread -lnsl -lgdbm -ldb -ldl -lm -lcrypt -lutil -lc -lgdbm_compat
    perllibs=-lpthread -lnsl -ldl -lm -lcrypt -lutil -lc
    libc=libc-2.19.so
    so=so
    useshrplib=false
    libperl=libperl.a
    gnulibc_version='2.19'
  Dynamic Linking:
    dlsrc=dl_dlopen.xs
    dlext=so
    d_dlsymun=undef
    ccdlflags='-Wl,-E'
    cccdlflags='-fPIC'
    lddlflags='-shared -O2 -L/usr/local/lib -fstack-protector-strong'


Characteristics of this binary (from libperl): 
  Compile-time options:
    HAS_TIMES
    PERLIO_LAYERS
    PERL_COPY_ON_WRITE
    PERL_DONT_CREATE_GVSV
    PERL_HASH_FUNC_ONE_AT_A_TIME_HARD
    PERL_OP_PARENT
    PERL_PRESERVE_IVUV
    PERL_USE_DEVEL
    USE_64_BIT_ALL
    USE_64_BIT_INT
    USE_LARGE_FILES
    USE_LOCALE
    USE_LOCALE_COLLATE
    USE_LOCALE_CTYPE
    USE_LOCALE_NUMERIC
    USE_LOCALE_TIME
    USE_PERLIO
    USE_PERL_ATOF
  Built under linux
  Compiled at Aug 20 2016 21:18:40
  %ENV:
    PERL5LIB=""
    PERL5OPT=""
    PERL5_CPANPLUS_IS_RUNNING="24473"
    PERL5_CPAN_IS_RUNNING="24473"
    PERL5_CPAN_IS_RUNNING_IN_RECURSION="13328,24473"
    PERLDOC="-MPod::Perldoc::ToTextOverstrike"
    PERL_BATCH="yes"
    PERL_CANARY_STABILITY_NOPROMPT="1"
    PERL_CPAN_REPORTER_CONFIG="/run/user/1023/cpansmoker/2016083103/cpanreporter_001_config.ini"
    PERL_EXTUTILS_AUTOINSTALL="--defaultdeps"
    PERL_PARALLEL_SMOKER="yes"
    PERL_USE_UNSAFE_INC="1"
  @INC:
    /opt/perl-5.25.4/lib/site_perl/5.25.4/x86_64-linux
    /opt/perl-5.25.4/lib/site_perl/5.25.4
    /opt/perl-5.25.4/lib/5.25.4/x86_64-linux
    /opt/perl-5.25.4/lib/5.25.4
    .