Class-Usul v0.84.1 Perl 5 v5.8.4 x86_64-linux-thread-multi

Status
Pass
From
Nigel Horne
Dist
Class-Usul v0.84.1
Platform
Perl 5 v5.8.4 x86_64-linux-thread-multi
Date
2018-04-14 13:47:14
ID
56e8e436-3fea-11e8-91ce-d3e3deac0b3f
This distribution has been tested as part of the CPAN Testers
project, supporting the Perl programming language.  See
http://wiki.cpantesters.org/ for more information or email
questions to cpan-testers-discuss@perl.org


--
Dear Peter Flanigan,

This is a computer-generated report for Class-Usul-0.84.1
on perl 5.8.4, created by CPAN-Reporter-1.2018.

Thank you for uploading your work to CPAN.  Congratulations!
All tests were successful.

Sections of this report:

    * Tester comments
    * Program output
    * Prerequisites
    * Environment and other context

------------------------------
TESTER COMMENTS
------------------------------

Additional comments from tester:

this report is from an automated smoke testing program
and was not reviewed by a human for accuracy

------------------------------
PROGRAM OUTPUT
------------------------------

Output from './Build test':

t/02pod.t .............. skipped: POD test only for developers
t/03podcoverage.t ...... skipped: POD coverage test only for developers
t/05kwalitee.t ......... skipped: Kwalitee test only for developers
t/06yaml.t ............. skipped: YAML test only for developers
t/07podspelling.t ...... skipped: POD spelling test only for developers

OS: linux, Host: compaq, Uptime:  09:47:11 up 42 days, 16:31,  0 users,  load average: 1.00, 0.69, 0.36


=== Environment variables ===

    $AUTHOR_TESTING                   undef
    $AUTOMATED_TESTING                1
    $EXTENDED_TESTING                 undef
    $NONINTERACTIVE_TESTING           undef
    $PERL_CPAN_REPORTER_CONFIG        undef
    $PERL_CR_SMOKER_CURRENT           undef
    $PERL5_CPAN_IS_RUNNING            19132
    $PERL5_CPANPLUS_IS_VERSION        undef
    $TEST_CRITIC                      undef
    $TEST_SPELLING                    undef

Versions for all modules listed in MYMETA.json (including optional ones):

=== Configure Requires ===

    Module          Want   Have
    ------------- ------ ------
    Module::Build 0.4004 0.4218
    version         0.88 0.9917

=== Build Requires ===

    Module          Want   Have
    ------------- ------ ------
    Module::Build 0.4004 0.4218
    version         0.88 0.9917

=== Test Requires ===

    Module             Want     Have
    ---------------- ------ --------
    Capture::Tiny      0.22     0.42
    File::Spec          any     3.62
    Hash::MoreUtils    0.05     0.05
    Module::Build    0.4004   0.4218
    Module::Metadata    any 1.000027
    Sys::Hostname       any     1.11
    Test::Deep        0.108    1.120
    Test::Requires     0.06     0.10
    version            0.88   0.9917

=== Test Recommends ===

    Module         Want     Have
    ---------- -------- --------
    CPAN::Meta 2.120900 2.150005

=== Runtime Requires ===

    Module                        Want     Have
    ------------------------- -------- --------
    Class::Inspector              1.28  missing
    Class::Null               2.110730  missing
    Crypt::CBC                    2.33  missing
    Crypt::Twofish2               1.02  missing
    Data::Printer                 0.36  missing
    Data::Record                  0.02  missing
    Date::Format                  2.24     2.24
    DateTime::Format::Epoch       0.16  missing
    Exporter::Tiny               0.042    0.042
    File::DataClass            v0.73.0  missing
    File::Gettext              v0.33.0  missing
    File::HomeDir                  1.0     1.00
    File::Which                   1.18     1.21
    Getopt::Long::Descriptive    0.099  missing
    IO::Interactive             v0.0.6  missing
    IPC::SRLock                v0.31.0  missing
    JSON::MaybeXS                1.003 1.003005
    Log::Handler                  0.84  missing
    Module::Runtime              0.014    0.014
    Moo                       2.000001 2.002004
    Pod::Eventual             0.094001  missing
    Sub::Install                 0.928    0.928
    Term::ReadKey                 2.33     2.33
    Text::Autoformat              1.72  missing
    Time::Zone                    2.24     2.24
    Try::Tiny                     0.22     0.24
    Type::Tiny                1.000002  missing
    Unexpected                 v0.46.0  missing
    namespace::autoclean          0.26  missing
    namespace::clean              0.25     0.27

=== Runtime Recommends ===

    Module             Want Have
    ------------------ ---- ----
    IPC::Run           0.89 0.94
    Proc::ProcessTable 0.42 0.53


*** WARNING WARNING WARNING WARNING WARNING WARNING ***

The following REQUIRED prerequisites were not satisfied:

Class::Inspector is not installed (version '1.28' required)
Class::Null is not installed (version '2.110730' required)
Crypt::CBC is not installed (version '2.33' required)
Crypt::Twofish2 is not installed (version '1.02' required)
Data::Printer is not installed (version '0.36' required)
Data::Record is not installed (version '0.02' required)
DateTime::Format::Epoch is not installed (version '0.16' required)
File::DataClass is not installed (version 'v0.73.0' required)
File::Gettext is not installed (version 'v0.33.0' required)
Getopt::Long::Descriptive is not installed (version '0.099' required)
IO::Interactive is not installed (version 'v0.0.6' required)
IPC::SRLock is not installed (version 'v0.31.0' required)
Log::Handler is not installed (version '0.84' required)
Pod::Eventual is not installed (version '0.094001' required)
Text::Autoformat is not installed (version '1.72' required)
Type::Tiny is not installed (version '1.000002' required)
Unexpected is not installed (version 'v0.46.0' required)
namespace::autoclean is not installed (version '0.26' required)

t/00report-metadata.t .. ok
t/10exception.t ........ skipped: Perl v5.10.1 required--this is only v5.8.4, stopped at (eval 34) line 2.
t/11functions.t ........ skipped: Perl v5.10.1 required--this is only v5.8.4, stopped at (eval 34) line 2.
t/12types.t ............ skipped: Perl v5.10.1 required--this is only v5.8.4, stopped at (eval 34) line 2.
t/13traits.t ........... skipped: Perl v5.10.1 required--this is only v5.8.4, stopped at (eval 34) line 2.
t/14time.t ............. skipped: Perl v5.10.1 required--this is only v5.8.4, stopped at (eval 34) line 2.
t/15crypt.t ............ skipped: Perl v5.10.1 required--this is only v5.8.4, stopped at (eval 34) line 2.
t/16log.t .............. skipped: Perl v5.10.1 required--this is only v5.8.4, stopped at (eval 34) line 2.
t/17l10n.t ............. skipped: Perl v5.10.1 required--this is only v5.8.4, stopped at (eval 34) line 2.
t/18config.t ........... skipped: Perl v5.10.1 required--this is only v5.8.4, stopped at (eval 34) line 2.
t/19file.t ............. skipped: Perl v5.10.1 required--this is only v5.8.4, stopped at (eval 34) line 2.
t/20options.t .......... skipped: Perl v5.10.1 required--this is only v5.8.4, stopped at (eval 34) line 2.
t/21programs.t ......... skipped: Perl v5.10.1 required--this is only v5.8.4, stopped at (eval 34) line 2.
t/22prompt.t ........... skipped: Perl v5.10.1 required--this is only v5.8.4, stopped at (eval 34) line 2.
t/23lock.t ............. skipped: Perl v5.10.1 required--this is only v5.8.4, stopped at (eval 34) line 2.
t/27ipc.t .............. skipped: Perl v5.10.1 required--this is only v5.8.4, stopped at (eval 34) line 2.
t/30schema.t ........... skipped: Perl v5.10.1 required--this is only v5.8.4, stopped at (eval 34) line 2.
All tests successful.
Files=22, Tests=1,  2 wallclock secs ( 0.13 usr  0.07 sys +  3.17 cusr  0.75 csys =  4.12 CPU)
Result: PASS

------------------------------
PREREQUISITES
------------------------------

Prerequisite modules loaded:

build_requires:

    Module         Need   Have  
    -------------- ------ ------
    Module::Build  0.4004 0.4218
    Test::Requires 0.06   0.10  
    version        0.88   0.9917

configure_requires:

    Module         Need   Have  
    -------------- ------ ------
    Module::Build  0.4004 0.4218
    version        0.88   0.9917


------------------------------
ENVIRONMENT AND OTHER CONTEXT
------------------------------

Environment variables:

    AUTOMATED_TESTING = 1
    HARNESS_OPTIONS = j2
    LANG = en_GB.UTF-8
    LANGUAGE = en_GB:en
    PATH = /home/njh/perl5/perlbrew/bin:/home/njh/perl5/perlbrew/perls/perl-5.8.4/bin:src/njh/smoker/bin:/usr/bin:/bin
    PERL5LIB = 
    PERL5OPT = 
    PERL5_CPANPLUS_IS_RUNNING = 19132
    PERL5_CPAN_IS_RUNNING = 19132
    PERLBREW_BASHRC_VERSION = 0.75
    PERLBREW_HOME = /home/njh/.perlbrew
    PERLBREW_MANPATH = /home/njh/perl5/perlbrew/perls/perl-5.8.4/man
    PERLBREW_PATH = /home/njh/perl5/perlbrew/bin:/home/njh/perl5/perlbrew/perls/perl-5.8.4/bin
    PERLBREW_PERL = perl-5.8.4
    PERLBREW_ROOT = /home/njh/perl5/perlbrew
    PERLBREW_VERSION = 0.75
    SHELL = /bin/sh

Perl special variables (and OS-specific diagnostics, for MSWin32):

    $^X = /home/njh/perl5/perlbrew/perls/perl-5.8.4/bin/perl
    $UID/$EUID = 1000 / 1000
    $GID = 1000 1000 127 116 108 103 46 44 30 29 25 24 4
    $EGID = 1000 1000 127 116 108 103 46 44 30 29 25 24 4

Perl module toolchain versions installed:

    Module              Have    
    ------------------- --------
    CPAN                2.16    
    CPAN::Meta          2.150005
    Cwd                 3.62    
    ExtUtils::CBuilder  0.280224
    ExtUtils::Command   7.22    
    ExtUtils::Install   2.04    
    ExtUtils::MakeMaker 7.22    
    ExtUtils::Manifest  1.70    
    ExtUtils::ParseXS   3.30    
    File::Spec          3.62    
    JSON                2.90    
    JSON::PP            2.27400 
    Module::Build       0.4218  
    Module::Signature   0.80    
    Parse::CPAN::Meta   1.4422  
    Test::Harness       3.36    
    Test::More          1.302037
    YAML                n/a     
    YAML::Syck          1.30    
    version             0.9917  


--

Summary of my perl5 (revision 5 version 8 subversion 4) configuration:
  Platform:
    osname=linux, osvers=3.16.0-4-amd64, archname=x86_64-linux-thread-multi
    uname='linux compaq 3.16.0-4-amd64 #1 smp debian 3.16.7-ckt2-1 (2014-12-08) x86_64 gnulinux '
    config_args='-de -Dprefix=/home/njh/perl5/perlbrew/perls/perl-5.8.4 -Duseithreads -Dusemultiplicity -Dusedevel -Accflags= -Aeval:scriptdir=/home/njh/perl5/perlbrew/perls/perl-5.8.4/bin'
    hint=recommended, useposix=true, d_sigaction=define
    usethreads=define use5005threads=undef useithreads=define usemultiplicity=define
    useperlio=define d_sfio=undef uselargefiles=define usesocks=undef
    use64bitint=define use64bitall=define uselongdouble=undef
    usemymalloc=n, bincompat5005=undef
  Compiler:
    cc='cc', ccflags ='-D_REENTRANT -D_GNU_SOURCE -fno-strict-aliasing -I/usr/local/include -D_LARGEFILE_SOURCE -D_FILE_OFFSET_BITS=64',
    optimize='-O2',
    cppflags='-D_REENTRANT -D_GNU_SOURCE -fno-strict-aliasing -I/usr/local/include'
    ccversion='', gccversion='4.9.2', gccosandvers=''
    intsize=4, longsize=8, ptrsize=8, doublesize=8, byteorder=12345678
    d_longlong=define, longlongsize=8, d_longdbl=define, longdblsize=16
    ivtype='long', ivsize=8, nvtype='double', nvsize=8, Off_t='off_t', lseeksize=8
    alignbytes=8, prototype=define
  Linker and Libraries:
    ld='cc', ldflags =' -L/usr/local/lib'
    libpth=/usr/local/lib /lib/x86_64-linux-gnu /lib/../lib /usr/lib/x86_64-linux-gnu /usr/lib/../lib /lib /usr/lib
    libs=-lnsl -lgdbm -ldb -ldl -lm -lcrypt -lutil -lpthread -lc -lgdbm_compat
    perllibs=-lnsl -ldl -lm -lcrypt -lutil -lpthread -lc -lgdbm_compat
    libc=, so=so, useshrplib=false, libperl=libperl.a
    gnulibc_version='2.19'
  Dynamic Linking:
    dlsrc=dl_dlopen.xs, dlext=so, d_dlsymun=undef, ccdlflags='-Wl,-E'
    cccdlflags='-fpic', lddlflags='-shared -L/usr/local/lib'


Characteristics of this binary (from libperl): 
  Compile-time options: MULTIPLICITY USE_ITHREADS USE_64_BIT_INT USE_64_BIT_ALL USE_LARGE_FILES PERL_IMPLICIT_CONTEXT
  Built under linux
  Compiled at Jan 22 2015 00:57:08
  %ENV:
    PERL5LIB=""
    PERL5OPT=""
    PERL5_CPANPLUS_IS_RUNNING="19132"
    PERL5_CPAN_IS_RUNNING="19132"
    PERLBREW_BASHRC_VERSION="0.75"
    PERLBREW_HOME="/home/njh/.perlbrew"
    PERLBREW_MANPATH="/home/njh/perl5/perlbrew/perls/perl-5.8.4/man"
    PERLBREW_PATH="/home/njh/perl5/perlbrew/bin:/home/njh/perl5/perlbrew/perls/perl-5.8.4/bin"
    PERLBREW_PERL="perl-5.8.4"
    PERLBREW_ROOT="/home/njh/perl5/perlbrew"
    PERLBREW_VERSION="0.75"
  @INC:
    /home/njh/perl5/perlbrew/perls/perl-5.8.4/lib/5.8.4/x86_64-linux-thread-multi
    /home/njh/perl5/perlbrew/perls/perl-5.8.4/lib/5.8.4
    /home/njh/perl5/perlbrew/perls/perl-5.8.4/lib/site_perl/5.8.4/x86_64-linux-thread-multi
    /home/njh/perl5/perlbrew/perls/perl-5.8.4/lib/site_perl/5.8.4
    /home/njh/perl5/perlbrew/perls/perl-5.8.4/lib/site_perl
    .