Report for String-Sections-0.3.2

Back
From: metabase:user:314402c4-2aae-11df-837a-5e0a49663a4f
Subject: PASS String-Sections-0.3.2 v5.24.1 RC5 GNU/Linux
Date: 2017-01-09T11:32:44Z

This distribution has been tested as part of the CPAN Testers
project, supporting the Perl programming language.  See
http://wiki.cpantesters.org/ for more information or email
questions to cpan-testers-discuss@perl.org


--
Dear Kent Fredric,

This is a computer-generated report for String-Sections-0.3.2
on perl 5.24.1, created by CPAN-Reporter-1.2018.

Thank you for uploading your work to CPAN.  Congratulations!
All tests were successful.

Sections of this report:

    * Tester comments
    * Program output
    * Prerequisites
    * Environment and other context

------------------------------
TESTER COMMENTS
------------------------------

Additional comments from tester:

none provided

------------------------------
PROGRAM OUTPUT
------------------------------

Output from './Build test':

t/00-compile.t .................................................. ok
# 
# 
# Generated by Dist::Zilla::Plugin::ReportVersions::Tiny v1.09
# perl: 5.024001 (wanted 5.010001) on linux from /bbbike/perl-5.24.1-RC5/bin/perl
# 
# Carp                                          => 1.38       (want any version)
# Data::Dump                                    => 1.23       (want any version)
# Dist::Zilla::PluginBundle::Author::KENTNL     => 2.025020   (want v1.8.3) 
# Dist::Zilla::PluginBundle::Author::KENTNL::Lite => module not found. (want v1.3.0) 
# File::Spec                                    => 3.62       (want any version)
# FindBin                                       => 1.51       (want any version)
# IO::Handle                                    => 1.36       (want any version)
# IPC::Open3                                    => 1.20       (want any version)
# Module::Build                                 => 0.422      (want 0.4007) 
# Moo                                           => 2.003      (want 1.000008)
# Path::Tiny                                    => 0.098      (want any version)
# Pod::Coverage::TrustPod                       => 0.100003   (want any version)
# Scalar::Util                                  => 1.47       (want any version)
# Sub::Exporter::Progressive                    => 0.001013   (want any version)
# Test::CPAN::Changes                           => 0.400002   (want 0.19)   
# Test::CPAN::Meta                              => 0.25       (want any version)
# Test::Fatal                                   => 0.014      (want any version)
# Test::Kwalitee                                => 1.23       (want 1.08)   
# Test::More                                    => 1.302073   (want 0.98)   
# Test::Pod                                     => 1.51       (want 1.41)   
# Test::Pod::Coverage                           => 1.10       (want 1.08)   
# Types::Standard                               => 1.000005   (want any version)
# lib                                           => 0.63       (want any version)
# strict                                        => 1.11       (want any version)
# version                                       => 0.9917     (want 0.9901) 
# warnings                                      => 1.36       (want any version)
# 
# Thanks for using my code.  I hope it works for you.
# If not, please try and include this output in the bug report.
# That will help me reproduce the issue and solve your problem.
# 
t/000-report-versions-tiny.t .................................... ok
t/01-String-Sections-Result/basic.t ............................. ok
t/01_parse_lines.t .............................................. ok
t/02-String-Sections/parse_filehandles/empty.t .................. ok
t/02-String-Sections/parse_filehandles/nosections.t ............. ok
t/02-String-Sections/parse_filehandles/onesection_full.t ........ ok
t/02-String-Sections/parse_filehandles/onesection_head.t ........ ok
t/02-String-Sections/parse_filehandles/prelude.t ................ ok
t/02-String-Sections/parse_filehandles/twosection_full.t ........ ok
t/02-String-Sections/parse_filehandles/twosection_secondhead.t .. ok
t/02-String-Sections/parse_list/empty.t ......................... ok
t/02-String-Sections/parse_list/nosections.t .................... ok
t/02-String-Sections/parse_list/onesection_full.t ............... ok
t/02-String-Sections/parse_list/onesection_head.t ............... ok
t/02-String-Sections/parse_list/prelude.t ....................... ok
t/02-String-Sections/parse_list/twosection_full.t ............... ok
t/02-String-Sections/parse_list/twosection_secondhead.t ......... ok
All tests successful.
Files=18, Tests=58,  3 wallclock secs ( 0.04 usr  0.08 sys +  1.80 cusr  0.26 csys =  2.18 CPU)
Result: PASS

------------------------------
PREREQUISITES
------------------------------

Prerequisite modules loaded:

requires:

    Module                     Need     Have    
    -------------------------- -------- --------
    Carp                       0        1.38    
    Moo                        1.000008 2.003000
    perl                       5.010001 5.024001
    Scalar::Util               0        1.47    
    strict                     0        1.11    
    Types::Standard            0        1.000005
    warnings                   0        1.36    

build_requires:

    Module                     Need     Have    
    -------------------------- -------- --------
    Data::Dump                 0        1.23    
    File::Spec                 0        3.62    
    FindBin                    0        1.51    
    IO::Handle                 0        1.36    
    IPC::Open3                 0        1.20    
    lib                        0        0.63    
    Module::Build              0.4007   0.4220  
    Path::Tiny                 0        0.098   
    Sub::Exporter::Progressive 0        0.001013
    Test::Fatal                0        0.014   
    Test::More                 0.98     1.302073

configure_requires:

    Module                     Need     Have    
    -------------------------- -------- --------
    Module::Build              0.4007   0.4220  


------------------------------
ENVIRONMENT AND OTHER CONTEXT
------------------------------

Environment variables:

    LANG = C
    LC_ALL = de_DE.UTF-8
    PATH = /usr/local/bin:/usr/bin:/bin:/usr/local/sbin:/usr/sbin:/sbin:/home/cpansand/bin/linux-gnu:/home/cpansand/bin/sh:/home/cpansand/bin:/usr/games:/home/cpansand/devel:/home/eserte/src/srezic-misc/scripts
    PERL5LIB = 
    PERL5OPT = 
    PERL5_CPANPLUS_IS_RUNNING = 20269
    PERL5_CPAN_IS_RUNNING = 20269
    PERL5_CPAN_IS_RUNNING_IN_RECURSION = 5772,20269
    PERLDOC = -MPod::Perldoc::ToTextOverstrike
    PERL_BATCH = yes
    PERL_CANARY_STABILITY_NOPROMPT = 1
    PERL_CPAN_REPORTER_CONFIG = /var/tmp/cpansmoker-1023/2017010906/cpanreporter_001_config.ini
    PERL_EXTUTILS_AUTOINSTALL = --defaultdeps
    PERL_PARALLEL_SMOKER = yes
    PERL_USE_UNSAFE_INC = 1
    SHELL = /bin/zsh
    TERM = screen
    TMPDIR = /var/tmp/cpansmoker-1023/2017010906

Perl special variables (and OS-specific diagnostics, for MSWin32):

    $^X = /bbbike/perl-5.24.1-RC5/bin/perl
    $UID/$EUID = 1023 / 1023
    $GID = 1023 1023
    $EGID = 1023 1023

Perl module toolchain versions installed:

    Module              Have    
    ------------------- --------
    CPAN                2.14    
    CPAN::Meta          2.150010
    Cwd                 3.62    
    ExtUtils::CBuilder  0.280224
    ExtUtils::Command   7.24    
    ExtUtils::Install   2.04    
    ExtUtils::MakeMaker 7.24    
    ExtUtils::Manifest  1.70    
    ExtUtils::ParseXS   3.30    
    File::Spec          3.62    
    JSON                2.90    
    JSON::PP            2.27400 
    Module::Build       0.4220  
    Module::Signature   0.81    
    Parse::CPAN::Meta   2.150010
    Test::Harness       3.36    
    Test::More          1.302073
    YAML                1.21    
    YAML::Syck          1.29    
    version             0.9917  


--

Summary of my perl5 (revision 5 version 24 subversion 1) configuration:
   
  Platform:
    osname=linux, osvers=3.16.0-4-amd64, archname=x86_64-linux
    uname='linux eserte 3.16.0-4-amd64 #1 smp debian 3.16.36-1+deb8u2 (2016-10-19) x86_64 gnulinux '
    config_args='-ds -e -Dprefix=/opt/perl-5.24.1-RC5 -Dcf_email=srezic@cpan.org'
    hint=recommended, useposix=true, d_sigaction=define
    useithreads=undef, usemultiplicity=undef
    use64bitint=define, use64bitall=define, uselongdouble=undef
    usemymalloc=n, bincompat5005=undef
  Compiler:
    cc='cc', ccflags ='-fwrapv -fno-strict-aliasing -pipe -fstack-protector-strong -I/usr/local/include -D_LARGEFILE_SOURCE -D_FILE_OFFSET_BITS=64 -D_FORTIFY_SOURCE=2',
    optimize='-O2',
    cppflags='-fwrapv -fno-strict-aliasing -pipe -fstack-protector-strong -I/usr/local/include'
    ccversion='', gccversion='4.9.2', gccosandvers=''
    intsize=4, longsize=8, ptrsize=8, doublesize=8, byteorder=12345678, doublekind=3
    d_longlong=define, longlongsize=8, d_longdbl=define, longdblsize=16, longdblkind=3
    ivtype='long', ivsize=8, nvtype='double', nvsize=8, Off_t='off_t', lseeksize=8
    alignbytes=8, prototype=define
  Linker and Libraries:
    ld='cc', ldflags =' -fstack-protector-strong -L/usr/local/lib'
    libpth=/usr/local/lib /usr/lib/gcc/x86_64-linux-gnu/4.9/include-fixed /usr/include/x86_64-linux-gnu /usr/lib /lib/x86_64-linux-gnu /lib/../lib /usr/lib/x86_64-linux-gnu /usr/lib/../lib /lib
    libs=-lpthread -lnsl -lgdbm -ldb -ldl -lm -lcrypt -lutil -lc -lgdbm_compat
    perllibs=-lpthread -lnsl -ldl -lm -lcrypt -lutil -lc
    libc=libc-2.19.so, so=so, useshrplib=false, libperl=libperl.a
    gnulibc_version='2.19'
  Dynamic Linking:
    dlsrc=dl_dlopen.xs, dlext=so, d_dlsymun=undef, ccdlflags='-Wl,-E'
    cccdlflags='-fPIC', lddlflags='-shared -O2 -L/usr/local/lib -fstack-protector-strong'


Characteristics of this binary (from libperl): 
  Compile-time options: HAS_TIMES PERLIO_LAYERS PERL_COPY_ON_WRITE
                        PERL_DONT_CREATE_GVSV
                        PERL_HASH_FUNC_ONE_AT_A_TIME_HARD PERL_MALLOC_WRAP
                        PERL_PRESERVE_IVUV USE_64_BIT_ALL USE_64_BIT_INT
                        USE_LARGE_FILES USE_LOCALE USE_LOCALE_COLLATE
                        USE_LOCALE_CTYPE USE_LOCALE_NUMERIC USE_LOCALE_TIME
                        USE_PERLIO USE_PERL_ATOF
  Locally applied patches:
	RC5
  Built under linux
  Compiled at Jan  5 2017 19:07:03
  %ENV:
    PERL5LIB=""
    PERL5OPT=""
    PERL5_CPANPLUS_IS_RUNNING="20269"
    PERL5_CPAN_IS_RUNNING="20269"
    PERL5_CPAN_IS_RUNNING_IN_RECURSION="5772,20269"
    PERLDOC="-MPod::Perldoc::ToTextOverstrike"
    PERL_BATCH="yes"
    PERL_CANARY_STABILITY_NOPROMPT="1"
    PERL_CPAN_REPORTER_CONFIG="/var/tmp/cpansmoker-1023/2017010906/cpanreporter_001_config.ini"
    PERL_EXTUTILS_AUTOINSTALL="--defaultdeps"
    PERL_PARALLEL_SMOKER="yes"
    PERL_USE_UNSAFE_INC="1"
  @INC:
    /opt/perl-5.24.1-RC5/lib/site_perl/5.24.1/x86_64-linux
    /opt/perl-5.24.1-RC5/lib/site_perl/5.24.1
    /opt/perl-5.24.1-RC5/lib/5.24.1/x86_64-linux
    /opt/perl-5.24.1-RC5/lib/5.24.1
    .