Back
From: metabase:user:0d96120c-29e2-11e5-b049-ede3035d37de
Subject: PASS Yahoo-Marketing-7.03 v5.23.1 SunOS/Solaris
Date: 2015-08-04T19:23:51Z
This distribution has been tested as part of the CPAN Testers
project, supporting the Perl programming language. See
http://wiki.cpantesters.org/ for more information or email
questions to cpan-testers-discuss@perl.org
--
Dear Johnny Shen,
This is a computer-generated report for Yahoo-Marketing-7.03
on perl 5.23.1, created by CPAN-Reporter-1.2015.
Thank you for uploading your work to CPAN. Congratulations!
All tests were successful.
Sections of this report:
* Tester comments
* Program output
* Prerequisites
* Environment and other context
------------------------------
TESTER COMMENTS
------------------------------
Additional comments from tester:
this report is from an automated smoke testing program
and was not reviewed by a human for accuracy
CPU : Intel(r) Xeon(r) CPU E5-1650 v3 @ 3.50GHz
MEMORY : 8.00 GB
ARCH : i86pc
OS : Solaris 5.11
KERNEL : SunOS 5.11
VIRTUALIZATION : virtualbox
------------------------------
PROGRAM OUTPUT
------------------------------
Output from './Build test':
NOTE: we can run tests that will connect to Yahoo! Marketing's
EWS, verifying your login credentials and more completely testing
that this package is performing correctly. If you would like to
run these tests, please use perl Build posttest.
Possible precedence issue with control flow operator at /export/home/jmaslak/.cpan/build/Yahoo-Marketing-7.03-Hguk0T/blib/lib/Yahoo/Marketing/Service.pm line 615.
# Testing Yahoo::Marketing 7.03, Perl 5.023001, /export/home/jmaslak/perl5/perlbrew/perls/perl-5.23.1/bin/perl5.23.1
t/00-load.t .................................... ok
Possible precedence issue with control flow operator at /export/home/jmaslak/.cpan/build/Yahoo-Marketing-7.03-Hguk0T/blib/lib/Yahoo/Marketing/Service.pm line 615.
t/01-instantiate_services.t .................... ok
Possible precedence issue with control flow operator at /export/home/jmaslak/.cpan/build/Yahoo-Marketing-7.03-Hguk0T/blib/lib/Yahoo/Marketing/Service.pm line 615.
t/02-cache.t ................................... ok
t/account.t .................................... ok
t/account_aggregate.t .......................... ok
t/account_balance.t ............................ ok
t/account_carrier_config.t ..................... ok
t/account_carrier_setting.t .................... ok
Possible precedence issue with control flow operator at /export/home/jmaslak/.cpan/build/Yahoo-Marketing-7.03-Hguk0T/blib/lib/Yahoo/Marketing/Service.pm line 615.
t/account_service.t ............................ ok
t/ad.t ......................................... ok
t/ad_carrier_config.t .......................... ok
t/ad_carrier_editorial_reason_info.t ........... ok
t/ad_carrier_editorial_reasons.t ............... ok
t/ad_carrier_setting.t ......................... ok
t/ad_editorial_reasons.t ....................... ok
t/ad_group.t ................................... ok
t/ad_group_carrier_config.t .................... ok
t/ad_group_carrier_setting.t ................... ok
t/ad_group_forecast_request_data.t ............. ok
t/ad_group_optimization_guidelines.t ........... ok
t/ad_group_optimization_guidelines_response.t .. ok
t/ad_group_response.t .......................... ok
Possible precedence issue with control flow operator at /export/home/jmaslak/.cpan/build/Yahoo-Marketing-7.03-Hguk0T/blib/lib/Yahoo/Marketing/Service.pm line 615.
t/ad_group_service.t ........................... ok
t/ad_response.t ................................ ok
Possible precedence issue with control flow operator at /export/home/jmaslak/.cpan/build/Yahoo-Marketing-7.03-Hguk0T/blib/lib/Yahoo/Marketing/Service.pm line 615.
t/ad_service.t ................................. ok
t/address.t .................................... ok
t/age_range.t .................................. ok
t/age_target.t ................................. ok
t/ambiguous_geo_match.t ........................ ok
t/api_fault.t .................................. ok
t/authorization.t .............................. ok
t/basic_report_request.t ....................... ok
Possible precedence issue with control flow operator at /export/home/jmaslak/.cpan/build/Yahoo-Marketing-7.03-Hguk0T/blib/lib/Yahoo/Marketing/Service.pm line 615.
t/basic_report_service.t ....................... ok
t/basic_response.t ............................. ok
t/bid_information.t ............................ ok
t/bid_information_request.t .................... ok
Possible precedence issue with control flow operator at /export/home/jmaslak/.cpan/build/Yahoo-Marketing-7.03-Hguk0T/blib/lib/Yahoo/Marketing/Service.pm line 615.
t/bid_information_service.t .................... ok
t/bid_update_info.t ............................ ok
t/billing_user.t ............................... ok
t/boilerplate.t ................................ ok
t/bucket_type.t ................................ ok
Possible precedence issue with control flow operator at /export/home/jmaslak/.cpan/build/Yahoo-Marketing-7.03-Hguk0T/blib/lib/Yahoo/Marketing/Service.pm line 615.
t/budgeting_service.t .......................... ok
t/bulk_download_status_info.t .................. ok
t/bulk_download_status_response.t .............. ok
Possible precedence issue with control flow operator at /export/home/jmaslak/.cpan/build/Yahoo-Marketing-7.03-Hguk0T/blib/lib/Yahoo/Marketing/Service.pm line 615.
t/bulk_service.t ............................... ok
t/bulk_upload_status_response.t ................ ok
t/bulk_upload_token_url_response.t ............. ok
t/campaign.t ................................... ok
t/campaign_carrier_config.t .................... ok
t/campaign_carrier_setting.t ................... ok
t/campaign_optimization_guidelines.t ........... ok
t/campaign_optimization_guidelines_response.t .. ok
t/campaign_response.t .......................... ok
Possible precedence issue with control flow operator at /export/home/jmaslak/.cpan/build/Yahoo-Marketing-7.03-Hguk0T/blib/lib/Yahoo/Marketing/Service.pm line 615.
t/campaign_service.t ........................... ok
t/capability.t ................................. ok
t/carrier.t .................................... ok
t/carrier_bid_information.t .................... ok
t/carrier_bid_information_request.t ............ ok
t/combined_account_status.t .................... ok
t/company.t .................................... ok
Possible precedence issue with control flow operator at /export/home/jmaslak/.cpan/build/Yahoo-Marketing-7.03-Hguk0T/blib/lib/Yahoo/Marketing/Service.pm line 615.
t/company_service.t ............................ ok
t/credit_card_info.t ........................... ok
t/day_part.t ................................... ok
t/day_parting_target.t ......................... ok
t/day_parting_targeting.t ...................... ok
t/demographic_targeting.t ...................... ok
t/download_file.t .............................. ok
t/error.t ...................................... ok
t/error_type.t ................................. ok
Possible precedence issue with control flow operator at /export/home/jmaslak/.cpan/build/Yahoo-Marketing-7.03-Hguk0T/blib/lib/Yahoo/Marketing/Service.pm line 615.
t/example.t .................................... ok
t/excluded_word.t .............................. ok
t/excluded_word_response.t ..................... ok
Possible precedence issue with control flow operator at /export/home/jmaslak/.cpan/build/Yahoo-Marketing-7.03-Hguk0T/blib/lib/Yahoo/Marketing/Service.pm line 615.
t/excluded_words_service.t ..................... ok
t/file_output_format.t ......................... ok
t/forecast_click_data.t ........................ ok
t/forecast_creative.t .......................... ok
t/forecast_impression_data.t ................... ok
t/forecast_keyword.t ........................... ok
t/forecast_keyword_batch.t ..................... ok
t/forecast_keyword_batch_response.t ............ ok
t/forecast_keyword_batch_response_data.t ....... ok
t/forecast_keyword_response.t .................. ok
t/forecast_request_data.t ...................... ok
t/forecast_response.t .......................... ok
t/forecast_response_data.t ..................... ok
Possible precedence issue with control flow operator at /export/home/jmaslak/.cpan/build/Yahoo-Marketing-7.03-Hguk0T/blib/lib/Yahoo/Marketing/Service.pm line 615.
t/forecast_service.t ........................... ok
t/gender_target.t .............................. ok
t/geo_location.t ............................... ok
t/geo_location_probability.t ................... ok
t/geo_location_probability_set.t ............... ok
t/geo_target.t ................................. ok
Possible precedence issue with control flow operator at /export/home/jmaslak/.cpan/build/Yahoo-Marketing-7.03-Hguk0T/blib/lib/Yahoo/Marketing/Service.pm line 615.
t/geographical_dictionary_service.t ............ ok
t/historical_keyword.t ......................... ok
t/historical_keyword_response.t ................ ok
t/historical_keyword_response_data.t ........... ok
t/historical_request_data.t .................... ok
t/historical_response_data.t ................... ok
t/keyword.t .................................... ok
t/keyword_carrier_config.t ..................... ok
t/keyword_carrier_editorial_reason_info.t ...... ok
t/keyword_carrier_editorial_reasons.t .......... ok
t/keyword_carrier_setting.t .................... ok
t/keyword_editorial_reasons.t .................. ok
t/keyword_forecast_request_data.t .............. ok
t/keyword_info_request_type.t .................. ok
t/keyword_info_response_type.t ................. ok
t/keyword_info_type.t .......................... ok
t/keyword_optimization_guidelines.t ............ ok
t/keyword_optimization_guidelines_response.t ... ok
t/keyword_participation_status.t ............... ok
t/keyword_rejection_reasons.t .................. ok
Possible precedence issue with control flow operator at /export/home/jmaslak/.cpan/build/Yahoo-Marketing-7.03-Hguk0T/blib/lib/Yahoo/Marketing/Service.pm line 615.
t/keyword_research_service.t ................... ok
t/keyword_response.t ........................... ok
Possible precedence issue with control flow operator at /export/home/jmaslak/.cpan/build/Yahoo-Marketing-7.03-Hguk0T/blib/lib/Yahoo/Marketing/Service.pm line 615.
t/keyword_service.t ............................ ok
t/master_account.t ............................. ok
Possible precedence issue with control flow operator at /export/home/jmaslak/.cpan/build/Yahoo-Marketing-7.03-Hguk0T/blib/lib/Yahoo/Marketing/Service.pm line 615.
t/master_account_service.t ..................... ok
Possible precedence issue with control flow operator at /export/home/jmaslak/.cpan/build/Yahoo-Marketing-7.03-Hguk0T/blib/lib/Yahoo/Marketing/Service.pm line 615.
t/mobile_dictionary_service.t .................. ok
t/network.t .................................... ok
t/network_distribution.t ....................... ok
t/network_target.t ............................. ok
t/opt_in_ad_group_response.t ................... ok
t/opt_in_campaign_response.t ................... ok
t/opt_in_status.t .............................. ok
t/page_related_keyword_request_type.t .......... ok
t/payment_info.t ............................... ok
t/payment_method_info.t ........................ ok
Possible precedence issue with control flow operator at /export/home/jmaslak/.cpan/build/Yahoo-Marketing-7.03-Hguk0T/blib/lib/Yahoo/Marketing/Service.pm line 615.
t/pod-coverage.t ............................... ok
t/pod.t ........................................ ok
t/preferences.t ................................ ok
t/process_status.t ............................. ok
t/range_definition_request_type.t .............. ok
t/range_definition_response_type.t ............. ok
t/range_definition_type.t ...................... ok
t/range_value_type.t ........................... ok
t/related_keyword_request_type.t ............... ok
t/related_keyword_response_type.t .............. ok
t/related_keyword_type.t ....................... ok
t/report_download_info.t ....................... ok
t/report_info.t ................................ ok
t/response.t ................................... ok
t/response_status_type.t ....................... ok
t/role.t ....................................... ok
Possible precedence issue with control flow operator at /export/home/jmaslak/.cpan/build/Yahoo-Marketing-7.03-Hguk0T/blib/lib/Yahoo/Marketing/Service.pm line 615.
t/service.t .................................... ok
t/set_geographic_location_response.t ........... ok
t/spend_limit.t ................................ ok
t/sponsored_search_min_bid_request.t ........... ok
t/sub_phrase_keyword_request_type.t ............ ok
t/summary.t .................................... ok
t/tactic_spend_cap.t ........................... ok
t/targeting_attribute.t ........................ ok
t/targeting_attribute_descriptor.t ............. ok
Possible precedence issue with control flow operator at /export/home/jmaslak/.cpan/build/Yahoo-Marketing-7.03-Hguk0T/blib/lib/Yahoo/Marketing/Service.pm line 615.
t/targeting_converter_service.t ................ ok
Possible precedence issue with control flow operator at /export/home/jmaslak/.cpan/build/Yahoo-Marketing-7.03-Hguk0T/blib/lib/Yahoo/Marketing/Service.pm line 615.
t/targeting_dictionary_service.t ............... ok
t/targeting_premium.t .......................... ok
t/targeting_profile.t .......................... ok
Possible precedence issue with control flow operator at /export/home/jmaslak/.cpan/build/Yahoo-Marketing-7.03-Hguk0T/blib/lib/Yahoo/Marketing/Service.pm line 615.
t/targeting_service.t .......................... ok
t/targeting_type.t ............................. ok
t/token.t ...................................... ok
t/update_for_ad.t .............................. ok
t/update_for_ad_carrier_config.t ............... ok
t/update_for_ad_carrier_setting.t .............. ok
t/update_for_keyword.t ......................... ok
t/update_for_keyword_carrier_config.t .......... ok
t/update_for_keyword_carrier_setting.t ......... ok
t/user.t ....................................... ok
t/user_authorization.t ......................... ok
Possible precedence issue with control flow operator at /export/home/jmaslak/.cpan/build/Yahoo-Marketing-7.03-Hguk0T/blib/lib/Yahoo/Marketing/Service.pm line 615.
t/user_management_service.t .................... ok
Possible precedence issue with control flow operator at /export/home/jmaslak/.cpan/build/Yahoo-Marketing-7.03-Hguk0T/blib/lib/Yahoo/Marketing/Service.pm line 615.
t/vault_service.t .............................. ok
t/warning.t .................................... ok
Possible precedence issue with control flow operator at /export/home/jmaslak/.cpan/build/Yahoo-Marketing-7.03-Hguk0T/blib/lib/Yahoo/Marketing/Service.pm line 615.
t/z_cleanup.t .................................. ok
All tests successful.
Files=170, Tests=1364, 63 wallclock secs ( 1.17 usr 1.16 sys + 34.18 cusr 24.48 csys = 60.99 CPU)
Result: PASS
------------------------------
PREREQUISITES
------------------------------
Prerequisite modules loaded:
requires:
Module Need Have
------------------------- ------ --------
Cache::Cache 1.01 1.08
Class::Accessor::Chained 0.01 0.01
Crypt::SSLeay 0.40 0.72
DateTime::Format::ISO8601 0 0.08
DateTime::Format::W3CDTF 0 0.06
Error 0.15 0.17024
Module::Build 0.26 0.4214
perl v5.6.1 5.023001
Scalar::Util 1.01 1.42_01
SOAP::Lite 0.66 1.17
Test::Class 0.10 0.50
Test::More 0 1.001014
Test::Simple 0.60 1.001014
XML::XPath 1.10 1.13
YAML 0.01 1.15
build_requires:
Module Need Have
------------------------- ------ --------
Module::Build 0.26 0.4214
Test::More 0 1.001014
YAML 0.01 1.15
------------------------------
ENVIRONMENT AND OTHER CONTEXT
------------------------------
Environment variables:
AUTOMATED_TESTING = 1
LANG = en_US.UTF-8
LC_ALL =
LC_COLLATE =
LC_CTYPE =
LC_MESSAGES =
LC_MONETARY =
LC_NUMERIC =
LC_TIME =
NONINTERACTIVE_TESTING = 1
PATH = /export/home/jmaslak/perl5/perlbrew/bin:/export/home/jmaslak/perl5/perlbrew/perls/perl-5.23.1/bin:/export/home/jmaslak/perltest/bin:/export/home/jmaslak/perltest/bin:/export/home/jmaslak/perltest/bin:/export/home/jmaslak/bin:~/bin:/export/home/jmaslak/perl5/perlbrew/bin:/export/home/jmaslak/perl5/perlbrew/perls/perl-5.23.1/bin:/usr/bin:/bin:/usr/ccs/bin:/usr/sbin:/usr/ccs/bin:/opt/solarisstudio12.4/bin:/usr/ucb:~/perltest/bin
PERL5LIB = /export/home/jmaslak/.cpan/build/Test-Distribution-2.00-fo7OWo/blib/arch:/export/home/jmaslak/.cpan/build/Test-Distribution-2.00-fo7OWo/blib/lib:/export/home/jmaslak/.cpan/build/DateTime-Format-ISO8601-0.08-XWgBkV/blib/arch:/export/home/jmaslak/.cpan/build/DateTime-Format-ISO8601-0.08-XWgBkV/blib/lib:/export/home/jmaslak/.cpan/build/DateTime-Format-Builder-0.81-hAODyu/blib/arch:/export/home/jmaslak/.cpan/build/DateTime-Format-Builder-0.81-hAODyu/blib/lib:/export/home/jmaslak/.cpan/build/DateTime-Format-Strptime-1.56-TXRy_B/blib/arch:/export/home/jmaslak/.cpan/build/DateTime-Format-Strptime-1.56-TXRy_B/blib/lib:/export/home/jmaslak/.cpan/build/Class-Factory-Util-1.7-WwYn4y/blib/arch:/export/home/jmaslak/.cpan/build/Class-Factory-Util-1.7-WwYn4y/blib/lib:/export/home/jmaslak/.cpan/build/XML-Twig-3.49-Xh6dyE/blib/arch:/export/home/jmaslak/.cpan/build/XML-Twig-3.49-Xh6dyE/blib/lib:/export/home/jmaslak/.cpan/build/XML-SAX-Writer-0.56-_CBqen/blib/arch:/export/home/jmaslak/.cpan/build/XML-SAX-Writer-0.56-_CBqen/blib/lib:/export/home/jmaslak/.cpan/build/XML-Filter-BufferText-1.01-ktt39w/blib/arch:/export/home/jmaslak/.cpan/build/XML-Filter-BufferText-1.01-ktt39w/blib/lib:/export/home/jmaslak/.cpan/build/Test-XML-0.08-yWMqpN/blib/arch:/export/home/jmaslak/.cpan/build/Test-XML-0.08-yWMqpN/blib/lib:/export/home/jmaslak/.cpan/build/XML-SemanticDiff-1.0004-bsu2uw/blib/arch:/export/home/jmaslak/.cpan/build/XML-SemanticDiff-1.0004-bsu2uw/blib/lib:/export/home/jmaslak/.cpan/build/SOAP-Lite-1.17-YeTVfI/blib/arch:/export/home/jmaslak/.cpan/build/SOAP-Lite-1.17-YeTVfI/blib/lib:/export/home/jmaslak/.cpan/build/IO-SessionData-1.03-W6cBzX/blib/arch:/export/home/jmaslak/.cpan/build/IO-SessionData-1.03-W6cBzX/blib/lib:/export/home/jmaslak/.cpan/build/XML-Parser-Lite-0.721-ItPE8J/blib/arch:/export/home/jmaslak/.cpan/build/XML-Parser-Lite-0.721-ItPE8J/blib/lib
PERL5OPT =
PERL5_CPANPLUS_IS_RUNNING = 19615
PERL5_CPAN_IS_RUNNING = 19615
PERL5_CPAN_IS_RUNNING_IN_RECURSION = 8703,19615
PERLBREW_BASHRC_VERSION = 0.73
PERLBREW_HOME = /export/home/jmaslak/.perlbrew
PERLBREW_LIB =
PERLBREW_MANPATH = /export/home/jmaslak/perl5/perlbrew/perls/perl-5.23.1/man
PERLBREW_PATH = /export/home/jmaslak/perl5/perlbrew/bin:/export/home/jmaslak/perl5/perlbrew/perls/perl-5.23.1/bin
PERLBREW_PERL = perl-5.23.1
PERLBREW_ROOT = /export/home/jmaslak/perl5/perlbrew
PERLBREW_VERSION = 0.73
PERL_CR_SMOKER_CURRENT = Yahoo-Marketing-APT-6.01
PERL_EXTUTILS_AUTOINSTALL = --defaultdeps
PERL_LOCAL_LIB_ROOT =
PERL_MM_USE_DEFAULT = 1
SHELL = /usr/bin/bash
TERM = screen
Perl special variables (and OS-specific diagnostics, for MSWin32):
$^X = /export/home/jmaslak/perl5/perlbrew/perls/perl-5.23.1/bin/perl5.23.1
$UID/$EUID = 100 / 100
$GID = 10 10
$EGID = 10 10
Perl module toolchain versions installed:
Module Have
------------------- --------
CPAN 2.11
CPAN::Meta 2.150005
Cwd 3.56
ExtUtils::CBuilder 0.280223
ExtUtils::Command 1.20
ExtUtils::Install 2.04
ExtUtils::MakeMaker 7.04_01
ExtUtils::Manifest 1.70
ExtUtils::ParseXS 3.28
File::Spec 3.56
JSON 2.90
JSON::PP 2.27300
Module::Build 0.4214
Module::Signature n/a
Parse::CPAN::Meta 1.4417
Test::Harness 3.35
Test::More 1.001014
YAML 1.15
YAML::Syck n/a
version 0.9909
--
Summary of my perl5 (revision 5 version 23 subversion 1) configuration:
Platform:
osname=solaris, osvers=2.11, archname=i86pc-solaris
uname='sunos solaris.antelope.net 5.11 11.2 i86pc i386 i86pc '
config_args='-de -Dprefix=/export/home/jmaslak/perl5/perlbrew/perls/perl-5.23.1 -Dusedevel -Aeval:scriptdir=/export/home/jmaslak/perl5/perlbrew/perls/perl-5.23.1/bin'
hint=recommended, useposix=true, d_sigaction=define
useithreads=undef, usemultiplicity=undef
use64bitint=undef, use64bitall=undef, uselongdouble=undef
usemymalloc=n, bincompat5005=undef
Compiler:
cc='/opt/solarisstudio12.4/bin/cc', ccflags ='-I/usr/gnu/include -D_LARGEFILE_SOURCE -D_FILE_OFFSET_BITS=64 -DPERL_USE_SAFE_PUTENV',
optimize='-O',
cppflags='-I/usr/gnu/include'
ccversion='Sun C 5.13 SunOS_i386 2014/10/20', gccversion='', gccosandvers=''
intsize=4, longsize=4, ptrsize=4, doublesize=8, byteorder=1234, doublekind=3
d_longlong=define, longlongsize=8, d_longdbl=define, longdblsize=12, longdblkind=3
ivtype='long', ivsize=4, nvtype='double', nvsize=8, Off_t='off_t', lseeksize=8
alignbytes=4, prototype=define
Linker and Libraries:
ld='/opt/solarisstudio12.4/bin/cc', ldflags =' -L/usr/lib -L/usr/ccs/lib -L/opt/solarisstudio12.4/lib/compilers/staticlib -L/opt/solarisstudio12.4/lib/compilers/sse2 -L/opt/solarisstudio12.4/lib/compilers -L/lib -L/usr/gnu/lib '
libpth=/usr/lib /usr/ccs/lib /opt/solarisstudio12.4/lib/compilers/staticlib /opt/solarisstudio12.4/lib/compilers/sse2 /opt/solarisstudio12.4/lib/compilers /lib /usr/gnu/lib
libs=-lpthread -lsocket -lnsl -lgdbm -ldb -ldl -lm -lc
perllibs=-lpthread -lsocket -lnsl -ldl -lm -lc
libc=/lib/libc.so, so=so, useshrplib=false, libperl=libperl.a
gnulibc_version=''
Dynamic Linking:
dlsrc=dl_dlopen.xs, dlext=so, d_dlsymun=undef, ccdlflags=' '
cccdlflags='-KPIC', lddlflags='-G -L/usr/lib -L/usr/ccs/lib -L/opt/solarisstudio12.4/lib/compilers/staticlib -L/opt/solarisstudio12.4/lib/compilers/sse2 -L/opt/solarisstudio12.4/lib/compilers -L/lib -L/usr/gnu/lib'
Characteristics of this binary (from libperl):
Compile-time options: HAS_TIMES PERLIO_LAYERS PERL_COPY_ON_WRITE
PERL_DONT_CREATE_GVSV
PERL_HASH_FUNC_ONE_AT_A_TIME_HARD PERL_MALLOC_WRAP
PERL_PRESERVE_IVUV PERL_USE_DEVEL
PERL_USE_SAFE_PUTENV USE_LARGE_FILES USE_LOCALE
USE_LOCALE_COLLATE USE_LOCALE_CTYPE
USE_LOCALE_NUMERIC USE_LOCALE_TIME USE_PERLIO
USE_PERL_ATOF
Locally applied patches:
Devel::PatchPerl 1.38
Built under solaris
Compiled at Jul 24 2015 23:51:02
%ENV:
PERL5LIB="/export/home/jmaslak/.cpan/build/Test-Distribution-2.00-fo7OWo/blib/arch:/export/home/jmaslak/.cpan/build/Test-Distribution-2.00-fo7OWo/blib/lib:/export/home/jmaslak/.cpan/build/DateTime-Format-ISO8601-0.08-XWgBkV/blib/arch:/export/home/jmaslak/.cpan/build/DateTime-Format-ISO8601-0.08-XWgBkV/blib/lib:/export/home/jmaslak/.cpan/build/DateTime-Format-Builder-0.81-hAODyu/blib/arch:/export/home/jmaslak/.cpan/build/DateTime-Format-Builder-0.81-hAODyu/blib/lib:/export/home/jmaslak/.cpan/build/DateTime-Format-Strptime-1.56-TXRy_B/blib/arch:/export/home/jmaslak/.cpan/build/DateTime-Format-Strptime-1.56-TXRy_B/blib/lib:/export/home/jmaslak/.cpan/build/Class-Factory-Util-1.7-WwYn4y/blib/arch:/export/home/jmaslak/.cpan/build/Class-Factory-Util-1.7-WwYn4y/blib/lib:/export/home/jmaslak/.cpan/build/XML-Twig-3.49-Xh6dyE/blib/arch:/export/home/jmaslak/.cpan/build/XML-Twig-3.49-Xh6dyE/blib/lib:/export/home/jmaslak/.cpan/build/XML-SAX-Writer-0.56-_CBqen/blib/arch:/export/home/jmaslak/.cpan/build/XML-SAX-Writer-0.56-_CBqen/blib/lib:/export/home/jmaslak/.cpan/build/XML-Filter-BufferText-1.01-ktt39w/blib/arch:/export/home/jmaslak/.cpan/build/XML-Filter-BufferText-1.01-ktt39w/blib/lib:/export/home/jmaslak/.cpan/build/Test-XML-0.08-yWMqpN/blib/arch:/export/home/jmaslak/.cpan/build/Test-XML-0.08-yWMqpN/blib/lib:/export/home/jmaslak/.cpan/build/XML-SemanticDiff-1.0004-bsu2uw/blib/arch:/export/home/jmaslak/.cpan/build/XML-SemanticDiff-1.0004-bsu2uw/blib/lib:/export/home/jmaslak/.cpan/build/SOAP-Lite-1.17-YeTVfI/blib/arch:/export/home/jmaslak/.cpan/build/SOAP-Lite-1.17-YeTVfI/blib/lib:/export/home/jmaslak/.cpan/build/IO-SessionData-1.03-W6cBzX/blib/arch:/export/home/jmaslak/.cpan/build/IO-SessionData-1.03-W6cBzX/blib/lib:/export/home/jmaslak/.cpan/build/XML-Parser-Lite-0.721-ItPE8J/blib/arch:/export/home/jmaslak/.cpan/build/XML-Parser-Lite-0.721-ItPE8J/blib/lib"
PERL5OPT=""
PERL5_CPANPLUS_IS_RUNNING="19615"
PERL5_CPAN_IS_RUNNING="19615"
PERL5_CPAN_IS_RUNNING_IN_RECURSION="8703,19615"
PERLBREW_BASHRC_VERSION="0.73"
PERLBREW_HOME="/export/home/jmaslak/.perlbrew"
PERLBREW_LIB=""
PERLBREW_MANPATH="/export/home/jmaslak/perl5/perlbrew/perls/perl-5.23.1/man"
PERLBREW_PATH="/export/home/jmaslak/perl5/perlbrew/bin:/export/home/jmaslak/perl5/perlbrew/perls/perl-5.23.1/bin"
PERLBREW_PERL="perl-5.23.1"
PERLBREW_ROOT="/export/home/jmaslak/perl5/perlbrew"
PERLBREW_VERSION="0.73"
PERL_CR_SMOKER_CURRENT="Yahoo-Marketing-APT-6.01"
PERL_EXTUTILS_AUTOINSTALL="--defaultdeps"
PERL_LOCAL_LIB_ROOT=""
PERL_MM_USE_DEFAULT="1"
@INC:
/export/home/jmaslak/.cpan/build/Test-Distribution-2.00-fo7OWo/blib/arch
/export/home/jmaslak/.cpan/build/Test-Distribution-2.00-fo7OWo/blib/lib
/export/home/jmaslak/.cpan/build/DateTime-Format-ISO8601-0.08-XWgBkV/blib/arch
/export/home/jmaslak/.cpan/build/DateTime-Format-ISO8601-0.08-XWgBkV/blib/lib
/export/home/jmaslak/.cpan/build/DateTime-Format-Builder-0.81-hAODyu/blib/arch
/export/home/jmaslak/.cpan/build/DateTime-Format-Builder-0.81-hAODyu/blib/lib
/export/home/jmaslak/.cpan/build/DateTime-Format-Strptime-1.56-TXRy_B/blib/arch
/export/home/jmaslak/.cpan/build/DateTime-Format-Strptime-1.56-TXRy_B/blib/lib
/export/home/jmaslak/.cpan/build/Class-Factory-Util-1.7-WwYn4y/blib/arch
/export/home/jmaslak/.cpan/build/Class-Factory-Util-1.7-WwYn4y/blib/lib
/export/home/jmaslak/.cpan/build/XML-Twig-3.49-Xh6dyE/blib/arch
/export/home/jmaslak/.cpan/build/XML-Twig-3.49-Xh6dyE/blib/lib
/export/home/jmaslak/.cpan/build/XML-SAX-Writer-0.56-_CBqen/blib/arch
/export/home/jmaslak/.cpan/build/XML-SAX-Writer-0.56-_CBqen/blib/lib
/export/home/jmaslak/.cpan/build/XML-Filter-BufferText-1.01-ktt39w/blib/arch
/export/home/jmaslak/.cpan/build/XML-Filter-BufferText-1.01-ktt39w/blib/lib
/export/home/jmaslak/.cpan/build/Test-XML-0.08-yWMqpN/blib/arch
/export/home/jmaslak/.cpan/build/Test-XML-0.08-yWMqpN/blib/lib
/export/home/jmaslak/.cpan/build/XML-SemanticDiff-1.0004-bsu2uw/blib/arch
/export/home/jmaslak/.cpan/build/XML-SemanticDiff-1.0004-bsu2uw/blib/lib
/export/home/jmaslak/.cpan/build/SOAP-Lite-1.17-YeTVfI/blib/arch
/export/home/jmaslak/.cpan/build/SOAP-Lite-1.17-YeTVfI/blib/lib
/export/home/jmaslak/.cpan/build/IO-SessionData-1.03-W6cBzX/blib/arch
/export/home/jmaslak/.cpan/build/IO-SessionData-1.03-W6cBzX/blib/lib
/export/home/jmaslak/.cpan/build/XML-Parser-Lite-0.721-ItPE8J/blib/arch
/export/home/jmaslak/.cpan/build/XML-Parser-Lite-0.721-ItPE8J/blib/lib
/export/home/jmaslak/perl5/perlbrew/perls/perl-5.23.1/lib/site_perl/5.23.1/i86pc-solaris
/export/home/jmaslak/perl5/perlbrew/perls/perl-5.23.1/lib/site_perl/5.23.1
/export/home/jmaslak/perl5/perlbrew/perls/perl-5.23.1/lib/5.23.1/i86pc-solaris
/export/home/jmaslak/perl5/perlbrew/perls/perl-5.23.1/lib/5.23.1
.