POE-Loop-Event v1.305 Perl 5 v5.27.3 darwin-thread-multi-ld-2level

Status
Pass
From
Nigel Horne
Dist
POE-Loop-Event v1.305
Platform
Perl 5 v5.27.3 darwin-thread-multi-ld-2level
Date
2017-09-26 22:45:04
ID
56a2b07c-a30c-11e7-b9f2-fe573f478721
This distribution has been tested as part of the CPAN Testers
project, supporting the Perl programming language.  See
http://wiki.cpantesters.org/ for more information or email
questions to cpan-testers-discuss@perl.org


--
Dear Rocco Caputo,

This is a computer-generated report for POE-Loop-Event-1.305
on perl 5.27.3, created by CPAN-Reporter-1.2018.

Thank you for uploading your work to CPAN.  Congratulations!
All tests were successful.

Sections of this report:

    * Tester comments
    * Program output
    * Prerequisites
    * Environment and other context

------------------------------
TESTER COMMENTS
------------------------------

Additional comments from tester:

none provided

------------------------------
PROGRAM OUTPUT
------------------------------

Output from '/sw/bin/make test':

PERL_DL_NONLAZY=1 "/Users/hornenj/perl5/perlbrew/perls/perl-5.27.3-ld/bin/perl5.27.3" "-MExtUtils::Command::MM" "-MTest::Harness" "-e" "undef *Test::Harness::Switches; test_harness(0, 'blib/lib', 'blib/arch')" t/*.t t/poe_loop_event/*.t
t/poe_loop_event/all_errors.t .................... skipped: most of these should move into other test files
# Testing POE 1.367, Perl 5.027003, /Users/hornenj/perl5/perlbrew/perls/perl-5.27.3-ld/bin/perl5.27.3 on darwin
t/00_info.t ...................................... ok
# Testing POE 1.367, POE::Test::Loops 1.360, Using Loop(POE::Loop::Event), Perl 5.027003, /Users/hornenj/perl5/perlbrew/perls/perl-5.27.3-ld/bin/perl5.27.3 on darwin
t/poe_loop_event/00_info.t ....................... ok
t/poe_loop_event/comp_tcp.t ...................... ok
# You might see a 'disconnect' error during this test.
# It may be ignored.
t/poe_loop_event/comp_tcp_concurrent.t ........... ok
t/poe_loop_event/connect_errors.t ................ ok
t/poe_loop_event/k_aliases.t ..................... ok
t/poe_loop_event/k_run_returns.t ................. ok
t/poe_loop_event/k_alarms.t ...................... ok
t/poe_loop_event/k_detach.t ...................... ok
t/poe_loop_event/k_sig_child.t ................... ok
t/poe_loop_event/k_signals.t ..................... ok
t/poe_loop_event/k_selects.t ..................... ok
t/poe_loop_event/k_signals_rerun.t ............... ok
t/poe_loop_event/ses_nfa.t ....................... ok
# This test generates some STDERR during trace testing.
t/poe_loop_event/sbk_signal_init.t ............... ok
t/poe_loop_event/wheel_curses.t .................. skipped: Need help with Curses functions blocking under ptys
t/poe_loop_event/wheel_readline.t ................ skipped: Event skips two of its own tests for the same reason
t/poe_loop_event/wheel_accept.t .................. ok
t/poe_loop_event/wheel_run.t ..................... ok
t/poe_loop_event/wheel_run_size.t ................ skipped: This test requires Term::Size
t/poe_loop_event/wheel_sf_ipv6.t ................. skipped: Socket::GetAddrInfo is needed for IPv6 tests
t/poe_loop_event/wheel_sf_tcp.t .................. ok
t/poe_loop_event/wheel_readwrite.t ............... ok
t/poe_loop_event/wheel_sf_unix.t ................. ok
t/poe_loop_event/wheel_sf_udp.t .................. ok
t/poe_loop_event/z_kogman_sig_order.t ............ ok
t/poe_loop_event/wheel_tail.t .................... ok
# Using '/usr/bin/true' as our thing to run under system()
t/poe_loop_event/z_merijn_sigchld_system.t ....... ok
t/poe_loop_event/z_leolo_wheel_run.t ............. ok
# Parent 47593 waiting 3sec for slow systems to settle.
t/poe_loop_event/z_rt39872_sigchld.t ............. ok
=== 47560 === 23 -> _start (from /Users/hornenj/perl5/perlbrew/perls/perl-5.27.3-ld/lib/site_perl/5.27.3/POE/Kernel.pm at 1497)
=== 47560 === 23 -> woot (from /Users/hornenj/perl5/perlbrew/perls/perl-5.27.3-ld/lib/site_perl/5.27.3/POE/Test/Loops/ses_session.pm at 691)
t/poe_loop_event/z_rt53302_fh_watchers.t ......... ok
=== 47560 === 23 -> narf (from /Users/hornenj/perl5/perlbrew/perls/perl-5.27.3-ld/lib/site_perl/5.27.3/POE/Test/Loops/ses_session.pm at 692)
=== 47560 === 23 -> _stop (from /Users/hornenj/perl5/perlbrew/perls/perl-5.27.3-ld/lib/site_perl/5.27.3/POE/Resource/Sessions.pm at 571)
t/poe_loop_event/ses_session.t ................... ok
t/poe_loop_event/z_steinert_signal_integrity.t ... ok
# sending sigusr1
# sent sigusr1
t/poe_loop_event/z_rt39872_sigchld_stop.t ........ ok
t/poe_loop_event/z_rt54319_bazerka_followtail.t .. ok
All tests successful.
Files=36, Tests=480, 11 wallclock secs ( 0.12 usr  0.09 sys +  3.14 cusr  1.06 csys =  4.41 CPU)
Result: PASS

------------------------------
PREREQUISITES
------------------------------

Prerequisite modules loaded:

requires:

    Module              Need  Have 
    ------------------- ----- -----
    Event               1.21  1.26 
    POE                 1.356 1.367

build_requires:

    Module              Need  Have 
    ------------------- ----- -----
    ExtUtils::MakeMaker 0     7.30 

configure_requires:

    Module              Need  Have 
    ------------------- ----- -----
    ExtUtils::MakeMaker 0     7.30 
    POE::Test::Loops    1.352 1.360


------------------------------
ENVIRONMENT AND OTHER CONTEXT
------------------------------

Environment variables:

    HARNESS_OPTIONS = c:j3
    LANG = en_US.UTF-8
    LC_ALL = POSIX
    LDFLAGS = -L/Users/hornenj/openssl/lib
    PATH = /Users/hornenj/perl5/perlbrew/bin:/Users/hornenj/perl5/perlbrew/perls/perl-5.27.3-ld/bin:/Users/hornenj/bin:/sw/bin:/usr/bin:/bin:/usr/X11R6/bin
    PERL5LIB = 
    PERL5OPT = 
    PERL5_CPANPLUS_IS_RUNNING = 39207
    PERL5_CPAN_IS_RUNNING = 39207
    PERLBREW_BASHRC_VERSION = 0.80
    PERLBREW_HOME = /Users/hornenj/.perlbrew
    PERLBREW_MANPATH = /Users/hornenj/perl5/perlbrew/perls/perl-5.27.3-ld/man
    PERLBREW_PATH = /Users/hornenj/perl5/perlbrew/bin:/Users/hornenj/perl5/perlbrew/perls/perl-5.27.3-ld/bin
    PERLBREW_PERL = perl-5.27.3-ld
    PERLBREW_ROOT = /Users/hornenj/perl5/perlbrew
    PERLBREW_VERSION = 0.80
    PERL_USE_UNSAFE_INC = 1
    SHELL = /bin/bash
    TERM = xterm-256color
    TMPDIR = /var/folders/pz/pd7y1qjs6s3cbk170cw50fjc000c61/T/

Perl special variables (and OS-specific diagnostics, for MSWin32):

    $^X = /Users/hornenj/perl5/perlbrew/perls/perl-5.27.3-ld/bin/perl5.27.3
    $UID/$EUID = 12481 / 12481
    $GID = 14 14 5344 37191 527 12 62 204 399 206 37223 241 223
    $EGID = 14 14 5344 37191 527 12 62 204 399 206 37223 241 223

Perl module toolchain versions installed:

    Module              Have    
    ------------------- --------
    CPAN                2.18    
    CPAN::Meta          2.150010
    Cwd                 3.68    
    ExtUtils::CBuilder  0.280228
    ExtUtils::Command   7.30    
    ExtUtils::Install   2.14    
    ExtUtils::MakeMaker 7.30    
    ExtUtils::Manifest  1.70    
    ExtUtils::ParseXS   3.35    
    File::Spec          3.68    
    JSON                n/a     
    JSON::PP            2.94    
    Module::Build       0.4224  
    Module::Signature   n/a     
    Parse::CPAN::Meta   2.150010
    Test::Harness       3.39    
    Test::More          1.302073
    YAML                1.23    
    YAML::Syck          1.30    
    version             0.9918  


--

Summary of my perl5 (revision 5 version 27 subversion 3) configuration:
   
  Platform:
    osname=darwin
    osvers=16.7.0
    archname=darwin-thread-multi-ld-2level
    uname='darwin ncbimac2024 16.7.0 darwin kernel version 16.7.0: thu jun 15 17:36:27 pdt 2017; root:xnu-3789.70.16~2release_x86_64 x86_64 '
    config_args='-de -Dprefix=/Users/hornenj/perl5/perlbrew/perls/perl-5.27.3-ld -Duseithreads -Dusedevel -Duselongdouble -Dusedevel -Accflags=-O2 -W -Wformat=2 -Wswitch -Wshadow -Wwrite-strings -Wuninitialized -Wall -pipe -fomit-frame-pointer -pedantic -D_FORTIFY_SOURCE=2 -Wpointer-arith -Wstrict-prototypes -fstack-protector -Wstack-protector -Wextra -Wbad-function-cast -Wcast-align -Wcast-qual -Wdisabled-optimization -Wendif-labels -Wfloat-equal -Wformat-nonliteral -Winline -Wmissing-declarations -Wmissing-prototypes -Wnested-externs -Wpointer-arith -Wundef -Wformat-security -ftree-vectorize -mmmx -msse -mfpmath=sse -msse2 -msse3 -msse4.1 -msse4.2 -fdiagnostics-color=auto -mtune=native -march=native -I/Users/hornenj/openssl/include -Aeval:scriptdir=/Users/hornenj/perl5/perlbrew/perls/perl-5.27.3-ld/bin'
    hint=recommended
    useposix=true
    d_sigaction=define
    useithreads=define
    usemultiplicity=define
    use64bitint=define
    use64bitall=define
    uselongdouble=define
    usemymalloc=n
    default_inc_excludes_dot=define
    bincompat5005=undef
  Compiler:
    cc='cc'
    ccflags ='-fno-common -DPERL_DARWIN -O2 -W -Wformat=2 -Wswitch -Wshadow -Wwrite-strings -Wuninitialized -Wall -pipe -fomit-frame-pointer -pedantic -D_FORTIFY_SOURCE=2 -Wpointer-arith -Wstrict-prototypes -fstack-protector -Wstack-protector -Wextra -Wbad-function-cast -Wcast-align -Wcast-qual -Wdisabled-optimization -Wendif-labels -Wfloat-equal -Wformat-nonliteral -Winline -Wmissing-declarations -Wmissing-prototypes -Wnested-externs -Wpointer-arith -Wundef -Wformat-security -ftree-vectorize -mmmx -msse -mfpmath=sse -msse2 -msse3 -msse4.1 -msse4.2 -fdiagnostics-color=auto -mtune=native -march=native -I/Users/hornenj/openssl/include -fno-strict-aliasing -fstack-protector-strong'
    optimize='-O3'
    cppflags='-fno-common -DPERL_DARWIN -O2 -W -Wformat=2 -Wswitch -Wshadow -Wwrite-strings -Wuninitialized -Wall -pipe -fomit-frame-pointer -pedantic -D_FORTIFY_SOURCE=2 -Wpointer-arith -Wstrict-prototypes -fstack-protector -Wstack-protector -Wextra -Wbad-function-cast -Wcast-align -Wcast-qual -Wdisabled-optimization -Wendif-labels -Wfloat-equal -Wformat-nonliteral -Winline -Wmissing-declarations -Wmissing-prototypes -Wnested-externs -Wpointer-arith -Wundef -Wformat-security -ftree-vectorize -mmmx -msse -mfpmath=sse -msse2 -msse3 -msse4.1 -msse4.2 -fdiagnostics-color=auto -mtune=native -march=native -I/Users/hornenj/openssl/include -fno-strict-aliasing -fstack-protector-strong'
    ccversion=''
    gccversion='4.2.1 Compatible Apple LLVM 8.1.0 (clang-802.0.42)'
    gccosandvers=''
    intsize=4
    longsize=8
    ptrsize=8
    doublesize=8
    byteorder=12345678
    doublekind=3
    d_longlong=define
    longlongsize=8
    d_longdbl=define
    longdblsize=16
    longdblkind=3
    ivtype='long'
    ivsize=8
    nvtype='long double'
    nvsize=16
    Off_t='off_t'
    lseeksize=8
    alignbytes=16
    prototype=define
  Linker and Libraries:
    ld='env MACOSX_DEPLOYMENT_TARGET=10.3 cc'
    ldflags =' -fstack-protector-strong -L/usr/local/lib'
    libpth=/Applications/Xcode.app/Contents/Developer/Toolchains/XcodeDefault.xctoolchain/usr/bin/../lib/clang/8.1.0/lib /Applications/Xcode.app/Contents/Developer/Toolchains/XcodeDefault.xctoolchain/usr/lib /usr/lib /usr/local/lib
    libs=-lpthread -ldbm -ldl -lm -lutil -lc
    perllibs=-lpthread -ldl -lm -lutil -lc
    libc=
    so=dylib
    useshrplib=false
    libperl=libperl.a
    gnulibc_version=''
  Dynamic Linking:
    dlsrc=dl_dlopen.xs
    dlext=bundle
    d_dlsymun=undef
    ccdlflags=' '
    cccdlflags=' '
    lddlflags=' -bundle -undefined dynamic_lookup -L/usr/local/lib -fstack-protector-strong'


Characteristics of this binary (from libperl): 
  Compile-time options:
    HAS_TIMES
    MULTIPLICITY
    PERLIO_LAYERS
    PERL_COPY_ON_WRITE
    PERL_DONT_CREATE_GVSV
    PERL_IMPLICIT_CONTEXT
    PERL_MALLOC_WRAP
    PERL_OP_PARENT
    PERL_PRESERVE_IVUV
    PERL_USE_DEVEL
    USE_64_BIT_ALL
    USE_64_BIT_INT
    USE_ITHREADS
    USE_LARGE_FILES
    USE_LOCALE
    USE_LOCALE_COLLATE
    USE_LOCALE_CTYPE
    USE_LOCALE_NUMERIC
    USE_LOCALE_TIME
    USE_LONG_DOUBLE
    USE_PERLIO
    USE_PERL_ATOF
    USE_REENTRANT_API
  Locally applied patches:
    Devel::PatchPerl 1.30
  Built under darwin
  Compiled at Sep 21 2017 18:01:55
  %ENV:
    PERL5LIB=""
    PERL5OPT=""
    PERL5_CPANPLUS_IS_RUNNING="39207"
    PERL5_CPAN_IS_RUNNING="39207"
    PERLBREW_BASHRC_VERSION="0.80"
    PERLBREW_HOME="/Users/hornenj/.perlbrew"
    PERLBREW_MANPATH="/Users/hornenj/perl5/perlbrew/perls/perl-5.27.3-ld/man"
    PERLBREW_PATH="/Users/hornenj/perl5/perlbrew/bin:/Users/hornenj/perl5/perlbrew/perls/perl-5.27.3-ld/bin"
    PERLBREW_PERL="perl-5.27.3-ld"
    PERLBREW_ROOT="/Users/hornenj/perl5/perlbrew"
    PERLBREW_VERSION="0.80"
    PERL_USE_UNSAFE_INC="1"
  @INC:
    /Users/hornenj/perl5/perlbrew/perls/perl-5.27.3-ld/lib/site_perl/5.27.3/darwin-thread-multi-ld-2level
    /Users/hornenj/perl5/perlbrew/perls/perl-5.27.3-ld/lib/site_perl/5.27.3
    /Users/hornenj/perl5/perlbrew/perls/perl-5.27.3-ld/lib/5.27.3/darwin-thread-multi-ld-2level
    /Users/hornenj/perl5/perlbrew/perls/perl-5.27.3-ld/lib/5.27.3
    .