Back
From: metabase:user:320bfe00-2aae-11df-837a-5e0a49663a4f
Subject: PASS Acme-CPANAuthors-You-re_using-0.08 v5.25.9 GNU/Linux
Date: 2017-02-14T14:17:37Z
This distribution has been tested as part of the CPAN Testers
project, supporting the Perl programming language. See
http://wiki.cpantesters.org/ for more information or email
questions to cpan-testers-discuss@perl.org
--
Dear Vincent Pit,
This is a computer-generated report for Acme-CPANAuthors-You-re_using-0.08
on perl 5.25.9, created by CPAN-Reporter-1.2018.
Thank you for uploading your work to CPAN. Congratulations!
All tests were successful.
Sections of this report:
* Tester comments
* Program output
* Prerequisites
* Environment and other context
------------------------------
TESTER COMMENTS
------------------------------
Additional comments from tester:
this report is from an automated smoke testing program
and was not reviewed by a human for accuracy
------------------------------
PROGRAM OUTPUT
------------------------------
Output from '/usr/bin/make test':
PERL_DL_NONLAZY=1 "/tmp/basesmoker-reloperl-NOZI/bin/perl" "-MExtUtils::Command::MM" "-MTest::Harness" "-e" "undef *Test::Harness::Switches; test_harness(0, 'blib/lib', 'blib/arch')" t/*.t
# Testing Acme::CPANAuthors::You're_using 0.08, Perl 5.025009, /tmp/basesmoker-reloperl-NOZI/bin/perl
t/00-load.t ............. ok
# Directories in @INC :
# /tmp/loop_over_bdir-27731-_qNRCJ/Acme-CPANAuthors-You-re_using-0.08-0/blib/lib
# /tmp/loop_over_bdir-27731-_qNRCJ/Acme-CPANAuthors-You-re_using-0.08-0/blib/arch
# /home/sand/src/perl/repoperls/installed-perls/host/k93jessie/v5.25.9/bcdd/lib/site_perl/5.25.9/x86_64-linux
# /home/sand/src/perl/repoperls/installed-perls/host/k93jessie/v5.25.9/bcdd/lib/site_perl/5.25.9
# /home/sand/src/perl/repoperls/installed-perls/host/k93jessie/v5.25.9/bcdd/lib/5.25.9/x86_64-linux
# /home/sand/src/perl/repoperls/installed-perls/host/k93jessie/v5.25.9/bcdd/lib/5.25.9
# Error evaling version line ' my $dummy = q# Hide from _packages_inside()
# #; package Module::Metadata::_version::p19967;
# use version;
# sub {
# local $Attr::Trait::VERSION;
# $Attr::Trait::VERSION = '0.40';use Moose::Role;around _process_options=>sub{my$orig=shift;my$c=shift;my($n,$o)=@_;$o->{is}||='rw';$o->{lazy}||=1 if defined$o->{default}or defined$o->{builder};$c->$orig(@_)};$INC{'Attr/Trait.pm'}=1};
# return $Attr::Trait::VERSION if defined $Attr::Trait::VERSION;
# return $Module::Metadata::_version::p19967::Attr::Trait::VERSION;
# };
# ' in /home/sand/src/perl/repoperls/installed-perls/host/k93jessie/v5.25.9/bcdd/lib/site_perl/5.25.9/Mo/Moose.pm: Unmatched right curly bracket at (eval 20014) line 9, at end of line
# syntax error at (eval 20014) line 9, near ";
# }"
#
# Error evaling version line ' my $dummy = q# Hide from _packages_inside()
# #; package Module::Metadata::_version::p19975;
# use version;
# sub {
# local $Attr::Trait::VERSION;
# $Attr::Trait::VERSION = '0.40';use Mouse::Role;around _process_options=>sub{my$orig=shift;my$c=shift;my($n,$o)=@_;$o->{is}||='rw';$o->{lazy}||=1 if defined$o->{default}or defined$o->{builder};$c->$orig(@_)};$INC{'Attr/Trait.pm'}=1};
# return $Attr::Trait::VERSION if defined $Attr::Trait::VERSION;
# return $Module::Metadata::_version::p19975::Attr::Trait::VERSION;
# };
# ' in /home/sand/src/perl/repoperls/installed-perls/host/k93jessie/v5.25.9/bcdd/lib/site_perl/5.25.9/Mo/Mouse.pm: Unmatched right curly bracket at (eval 20188) line 9, at end of line
# syntax error at (eval 20188) line 9, near ";
# }"
#
# Error evaling version line ' my $dummy = q# Hide from _packages_inside()
# #; package Module::Metadata::_version::p26653;
# use version;
# sub {
# local $VERSION;
# our \$VERSION = '$Lemonldap::NG::Manager::Build::Attributes::VERSION';;
# return $VERSION if defined $VERSION;
# return $Module::Metadata::_version::p26653::VERSION;
# };
# ' in /home/sand/src/perl/repoperls/installed-perls/host/k93jessie/v5.25.9/bcdd/lib/site_perl/5.25.9/Lemonldap/NG/Manager/Build.pm: The experimental declared_refs feature is not enabled at (eval 26867) line 6, <$handle> line 168.
#
# 1689 authors found
t/10-base.t ............. ok
# Error evaling version line ' my $dummy = q# Hide from _packages_inside()
# #; package Module::Metadata::_version::p19968;
# use version;
# sub {
# local $Attr::Trait::VERSION;
# $Attr::Trait::VERSION = '0.40';use Moose::Role;around _process_options=>sub{my$orig=shift;my$c=shift;my($n,$o)=@_;$o->{is}||='rw';$o->{lazy}||=1 if defined$o->{default}or defined$o->{builder};$c->$orig(@_)};$INC{'Attr/Trait.pm'}=1};
# return $Attr::Trait::VERSION if defined $Attr::Trait::VERSION;
# return $Module::Metadata::_version::p19968::Attr::Trait::VERSION;
# };
# ' in /home/sand/src/perl/repoperls/installed-perls/host/k93jessie/v5.25.9/bcdd/lib/site_perl/5.25.9/Mo/Moose.pm: Unmatched right curly bracket at (eval 20015) line 9, at end of line
# syntax error at (eval 20015) line 9, near ";
# }"
#
# Error evaling version line ' my $dummy = q# Hide from _packages_inside()
# #; package Module::Metadata::_version::p19976;
# use version;
# sub {
# local $Attr::Trait::VERSION;
# $Attr::Trait::VERSION = '0.40';use Mouse::Role;around _process_options=>sub{my$orig=shift;my$c=shift;my($n,$o)=@_;$o->{is}||='rw';$o->{lazy}||=1 if defined$o->{default}or defined$o->{builder};$c->$orig(@_)};$INC{'Attr/Trait.pm'}=1};
# return $Attr::Trait::VERSION if defined $Attr::Trait::VERSION;
# return $Module::Metadata::_version::p19976::Attr::Trait::VERSION;
# };
# ' in /home/sand/src/perl/repoperls/installed-perls/host/k93jessie/v5.25.9/bcdd/lib/site_perl/5.25.9/Mo/Mouse.pm: Unmatched right curly bracket at (eval 20189) line 9, at end of line
# syntax error at (eval 20189) line 9, near ";
# }"
#
# Error evaling version line ' my $dummy = q# Hide from _packages_inside()
# #; package Module::Metadata::_version::p26654;
# use version;
# sub {
# local $VERSION;
# our \$VERSION = '$Lemonldap::NG::Manager::Build::Attributes::VERSION';;
# return $VERSION if defined $VERSION;
# return $Module::Metadata::_version::p26654::VERSION;
# };
# ' in /home/sand/src/perl/repoperls/installed-perls/host/k93jessie/v5.25.9/bcdd/lib/site_perl/5.25.9/Lemonldap/NG/Manager/Build.pm: The experimental declared_refs feature is not enabled at (eval 26868) line 6, <$handle> line 168.
#
t/11-naughty-version.t .. ok
All tests successful.
Files=3, Tests=8, 54 wallclock secs ( 0.03 usr 0.01 sys + 50.35 cusr 3.80 csys = 54.19 CPU)
Result: PASS
------------------------------
PREREQUISITES
------------------------------
Prerequisite modules loaded:
requires:
Module Need Have
------------------- -------- --------
Acme::CPANAuthors 0.16 0.26
File::Find 0 1.34
Module::Metadata 1.000017 1.000033
perl 5.006 5.025009
build_requires:
Module Need Have
------------------- -------- --------
Acme::CPANAuthors 0.16 0.26
ExtUtils::MakeMaker 0 7.24
File::Find 0 1.34
lib 0 0.64
Module::Metadata 1.000017 1.000033
Test::More 0 1.302075
configure_requires:
Module Need Have
------------------- -------- --------
ExtUtils::MakeMaker 0 7.24
------------------------------
ENVIRONMENT AND OTHER CONTEXT
------------------------------
Environment variables:
AUTOMATED_TESTING = 1
LANG = C
PATH = /home/sand/bin:/usr/local/bin:/usr/bin:/bin:/usr/games:/usr/local/perl/bin:/usr/X11/bin:/sbin:/usr/sbin
PERL5LIB =
PERL5OPT =
PERL5_CPANPLUS_IS_RUNNING = 29470
PERL5_CPAN_IS_RUNNING = 29470
PERL_CANARY_STABILITY_NOPROMPT = 1
PERL_MM_USE_DEFAULT = 1
SHELL = /usr/bin/zsh
TERM = screen
Perl special variables (and OS-specific diagnostics, for MSWin32):
$^X = /tmp/basesmoker-reloperl-NOZI/bin/perl
$UID/$EUID = 1005 / 1005
$GID = 1005 1005
$EGID = 1005 1005
Perl module toolchain versions installed:
Module Have
------------------- ----------
CPAN 2.16
CPAN::Meta 2.150010
Cwd 3.66
ExtUtils::CBuilder 0.280225
ExtUtils::Command 7.24
ExtUtils::Install 2.04
ExtUtils::MakeMaker 7.24
ExtUtils::Manifest 1.70
ExtUtils::ParseXS 3.33
File::Spec 3.66
JSON 2.90
JSON::PP 2.27400_02
Module::Build 0.4220
Module::Signature 0.81
Parse::CPAN::Meta 2.150010
Test::Harness 3.36_01
Test::More 1.302075
YAML 1.21
YAML::Syck 1.29
version 0.9917
--
Summary of my perl5 (revision 5 version 25 subversion 9) configuration:
Commit id: 5d577b6f636aba916a1b0519669de4b2454c68ab
Platform:
osname=linux
osvers=4.8.0-2-amd64
archname=x86_64-linux
uname='linux k93jessie 4.8.0-2-amd64 #1 smp debian 4.8.11-1 (2016-12-02) x86_64 gnulinux '
config_args='-Dprefix=/home/sand/src/perl/repoperls/installed-perls/host/k93jessie/v5.25.9/bcdd -Dmyhostname=k93jessie -Dinstallusrbinperl=n -Uversiononly -Dusedevel -des -Ui_db -Dlibswanted=cl pthread socket inet nsl gdbm dbm malloc dl ld sun m crypt sec util c cposix posix ucb BSD gdbm_compat -Uuseithreads -Uuselongdouble -DDEBUGGING=-g'
hint=recommended
useposix=true
d_sigaction=define
useithreads=undef
usemultiplicity=undef
use64bitint=define
use64bitall=define
uselongdouble=undef
usemymalloc=n
bincompat5005=undef
Compiler:
cc='cc'
ccflags ='-fwrapv -fno-strict-aliasing -pipe -fstack-protector-strong -I/usr/local/include -D_LARGEFILE_SOURCE -D_FILE_OFFSET_BITS=64 -D_FORTIFY_SOURCE=2'
optimize='-O2 -g'
cppflags='-fwrapv -fno-strict-aliasing -pipe -fstack-protector-strong -I/usr/local/include'
ccversion=''
gccversion='4.9.2'
gccosandvers=''
intsize=4
longsize=8
ptrsize=8
doublesize=8
byteorder=12345678
doublekind=3
d_longlong=define
longlongsize=8
d_longdbl=define
longdblsize=16
longdblkind=3
ivtype='long'
ivsize=8
nvtype='double'
nvsize=8
Off_t='off_t'
lseeksize=8
alignbytes=8
prototype=define
Linker and Libraries:
ld='cc'
ldflags =' -fstack-protector-strong -L/usr/local/lib'
libpth=/usr/local/lib /usr/lib/gcc/x86_64-linux-gnu/4.9/include-fixed /usr/include/x86_64-linux-gnu /usr/lib /lib/x86_64-linux-gnu /lib/../lib /usr/lib/x86_64-linux-gnu /usr/lib/../lib /lib
libs=-lpthread -lnsl -ldl -lm -lcrypt -lutil -lc
perllibs=-lpthread -lnsl -ldl -lm -lcrypt -lutil -lc
libc=libc-2.19.so
so=so
useshrplib=false
libperl=libperl.a
gnulibc_version='2.19'
Dynamic Linking:
dlsrc=dl_dlopen.xs
dlext=so
d_dlsymun=undef
ccdlflags='-Wl,-E'
cccdlflags='-fPIC'
lddlflags='-shared -O2 -g -L/usr/local/lib -fstack-protector-strong'
Characteristics of this binary (from libperl):
Compile-time options:
HAS_TIMES
PERLIO_LAYERS
PERL_COPY_ON_WRITE
PERL_DONT_CREATE_GVSV
PERL_MALLOC_WRAP
PERL_OP_PARENT
PERL_PRESERVE_IVUV
PERL_USE_DEVEL
USE_64_BIT_ALL
USE_64_BIT_INT
USE_LARGE_FILES
USE_LOCALE
USE_LOCALE_COLLATE
USE_LOCALE_CTYPE
USE_LOCALE_NUMERIC
USE_LOCALE_TIME
USE_PERLIO
USE_PERL_ATOF
Built under linux
Compiled at Feb 13 2017 12:49:38
%ENV:
PERL5LIB=""
PERL5OPT=""
PERL5_CPANPLUS_IS_RUNNING="29470"
PERL5_CPAN_IS_RUNNING="29470"
PERL_CANARY_STABILITY_NOPROMPT="1"
PERL_MM_USE_DEFAULT="1"
@INC:
/home/sand/src/perl/repoperls/installed-perls/host/k93jessie/v5.25.9/bcdd/lib/site_perl/5.25.9/x86_64-linux
/home/sand/src/perl/repoperls/installed-perls/host/k93jessie/v5.25.9/bcdd/lib/site_perl/5.25.9
/home/sand/src/perl/repoperls/installed-perls/host/k93jessie/v5.25.9/bcdd/lib/5.25.9/x86_64-linux
/home/sand/src/perl/repoperls/installed-perls/host/k93jessie/v5.25.9/bcdd/lib/5.25.9
.