Back
From: metabase:user:30f0bd62-2aae-11df-837a-5e0a49663a4f
Subject: PASS HTML-FormatExternal-19 v5.14.2 MirOS BSD
Date: 2011-12-19T16:56:04Z
This distribution has been tested as part of the CPAN Testers
project, supporting the Perl programming language. See
http://wiki.cpantesters.org/ for more information or email
questions to cpan-testers-discuss@perl.org
--
Dear Kevin Ryde,
This is a computer-generated report for HTML-FormatExternal-19
on perl 5.14.2, created by CPAN-Reporter-1.2003.
Thank you for uploading your work to CPAN. Congratulations!
All tests were successful.
Sections of this report:
* Tester comments
* Program output
* Prerequisites
* Environment and other context
------------------------------
TESTER COMMENTS
------------------------------
Additional comments from tester:
this report is from an automated smoke testing program
and was not reviewed by a human for accuracy
------------------------------
PROGRAM OUTPUT
------------------------------
Output from '/usr/bin/make test':
PERL_DL_NONLAZY=1 /home/sts/cpansmoke/perl-5.14.2/bin/perl "-MExtUtils::Command::MM" "-e" "test_harness(0, 'blib/lib', 'blib/arch')" t/*.t
t/Elinks.t .......... ok
# HTML::FormatText::Elinks
# HTML::FormatText::Elinks program_full_version $VAR1 = undef;
# HTML::FormatText::Elinks program_version $VAR1 = undef;
# HTML::FormatText::Html2text
# HTML::FormatText::Html2text program_full_version $VAR1 = undef;
# HTML::FormatText::Html2text program_version $VAR1 = undef;
# HTML::FormatText::Html2text _have_ascii() no
# HTML::FormatText::Links
# HTML::FormatText::Links program_full_version $VAR1 = undef;
# HTML::FormatText::Links program_version $VAR1 = undef;
# HTML::FormatText::Links _have_html_margin() no
# HTML::FormatText::Lynx
# HTML::FormatText::Lynx program_full_version $VAR1 = 'Lynx Version 2.8.8dev.7a-MirOS-0AAE.1 (11 Dec 2010)
# libwww-FM 2.14, SSL-MM 1.4.1, OpenSSL 0.9.7m, ncurses 5.5.20051010(wide)
# No compilation information available.
#
# Copyrights held by the Lynx Developers Group,
# the University of Kansas, CERN, and other contributors.
# Distributed under the GNU General Public License (Version 2).
# See http://lynx.isc.org/ and the online help for more information.
#
# See http://www.openssl.org/ for information about OpenSSL.
# ';
# HTML::FormatText::Lynx program_version $VAR1 = '2.8.8dev.7a-MirOS-0AAE.1';
# HTML::FormatText::Lynx _have_nomargins() yes
# $output = "123 567 9012\nabc def ghij\n\n";
# HTML::FormatText::Netrik
# HTML::FormatText::Netrik program_full_version $VAR1 = undef;
# HTML::FormatText::Netrik program_version $VAR1 = undef;
# HTML::FormatText::W3m
# HTML::FormatText::W3m program_full_version $VAR1 = undef;
# HTML::FormatText::W3m program_version $VAR1 = undef;
# HTML::FormatText::Zen
# HTML::FormatText::Zen program_full_version $VAR1 = undef;
# HTML::FormatText::Zen program_version $VAR1 = undef;
t/FormatExternal.t .. ok
t/Links.t ........... ok
All tests successful.
Files=3, Tests=233, 2 wallclock secs ( 0.13 usr 0.01 sys + 0.50 cusr 0.27 csys = 0.91 CPU)
Result: PASS
------------------------------
PREREQUISITES
------------------------------
Prerequisite modules loaded:
requires:
Module Need Have
------------------- ----- --------
Encode 0 2.42_01
File::Temp 0.18 0.22
perl 5.006 5.014002
Perl6::Slurp 0 0.03
Test::More 0 0.98
build_requires:
Module Need Have
------------------- ----- --------
ExtUtils::MakeMaker 0 6.57_05
configure_requires:
Module Need Have
------------------- ----- --------
ExtUtils::MakeMaker 0 6.57_05
------------------------------
ENVIRONMENT AND OTHER CONTEXT
------------------------------
Environment variables:
AUTOMATED_TESTING = 1
LC_CTYPE = en_US.UTF-8
PATH = /home/sts/bin:/home/sts/.etc/bin:/usr/local/bin:/usr/mpkg/bin:/usr/bin:/bin:/usr/X11R6/bin:/usr/sbin:/sbin:/usr/mpkg/sbin:/usr/games
PERL5LIB = /home/sts/cpansmoke/perl-5.14.2/cpan/build/Perl6-Slurp-0.03-rwJ9dL/blib/arch:/home/sts/cpansmoke/perl-5.14.2/cpan/build/Perl6-Slurp-0.03-rwJ9dL/blib/lib:/home/sts/cpansmoke/perl-5.14.2/cpan/build/Perl6-Export-0.07-8Mxb8a/blib/arch:/home/sts/cpansmoke/perl-5.14.2/cpan/build/Perl6-Export-0.07-8Mxb8a/blib/lib
PERL5OPT =
PERL5_CPANPLUS_IS_RUNNING = 25516
PERL5_CPAN_IS_RUNNING = 25516
PERL5_CPAN_IS_RUNNING_IN_RECURSION = 7327,25516
PERL_CR_SMOKER_CURRENT = HTML-FormatExternal-19
PERL_EXTUTILS_AUTOINSTALL = --defaultdeps
PERL_MM_USE_DEFAULT = 1
SHELL = /bin/mksh
TERM = screen
TMPDIR = /home/sts/cpansmoke/tmp
Perl special variables (and OS-specific diagnostics, for MSWin32):
$^X = /home/sts/cpansmoke/perl-5.14.2/bin/perl
$UID/$EUID = 3000 / 3000
$GID = 3000 3000 0 9 20
$EGID = 3000 3000 0 9 20
Perl module toolchain versions installed:
Module Have
------------------- --------
CPAN 1.9800
CPAN::Meta 2.110440
Cwd 3.36
ExtUtils::CBuilder 0.280203
ExtUtils::Command 1.17
ExtUtils::Install 1.56
ExtUtils::MakeMaker 6.57_05
ExtUtils::Manifest 1.58
ExtUtils::ParseXS 2.2210
File::Spec 3.33
JSON n/a
JSON::PP 2.27105
Module::Build 0.3800
Module::Signature n/a
Parse::CPAN::Meta 1.4401
Test::Harness 3.23
Test::More 0.98
YAML n/a
YAML::Syck n/a
version 0.88
--
Summary of my perl5 (revision 5 version 14 subversion 2) configuration:
Platform:
osname=mirbsd, osvers=10, archname=MirBSD.i386-mirbsd-thread-multi
uname='mirbsd cpansmoke8 10 kv#10uaf-20110818 generic#1330 i386 '
config_args='-des -Dusethreads -Dprefix=/home/sts/cpansmoke/perl-5.14.2'
hint=recommended, useposix=true, d_sigaction=define
useithreads=define, usemultiplicity=define
useperlio=define, d_sfio=undef, uselargefiles=define, usesocks=undef
use64bitint=undef, use64bitall=undef, uselongdouble=undef
usemymalloc=n, bincompat5005=undef
Compiler:
cc='mgcc', ccflags ='-pthread -fhonour-copts -I/usr/mpkg/include -I/usr/local/include',
optimize='-O2',
cppflags='-fhonour-copts -I/usr/mpkg/include -pthread -fhonour-copts -I/usr/mpkg/include -I/usr/local/include'
ccversion='', gccversion='3.4.6 (propolice; gpc; MirOS 0AAB)', gccosandvers='mirbsd10'
intsize=4, longsize=4, ptrsize=4, doublesize=8, byteorder=1234
d_longlong=define, longlongsize=8, d_longdbl=define, longdblsize=12
ivtype='long', ivsize=4, nvtype='double', nvsize=8, Off_t='off_t', lseeksize=8
alignbytes=4, prototype=define
Linker and Libraries:
ld='mgcc', ldflags ='-pthread -Wl,-E -L/usr/mpkg/lib -L/usr/local/lib'
libpth=/usr/mpkg/lib /usr/local/lib /usr/lib
libs=-lm -lutil -lc
perllibs=-lm -lutil -lc
libc=/usr/lib/libc.so.41.9, so=so, useshrplib=false, libperl=libperl.a
gnulibc_version=''
Dynamic Linking:
dlsrc=dl_dlopen.xs, dlext=so, d_dlsymun=undef, ccdlflags=' '
cccdlflags='-DPIC -fPIC ', lddlflags='-shared -fPIC -L/usr/mpkg/lib -L/usr/local/lib'
Characteristics of this binary (from libperl):
Compile-time options: MULTIPLICITY PERL_DONT_CREATE_GVSV
PERL_IMPLICIT_CONTEXT PERL_MALLOC_WRAP
PERL_PRESERVE_IVUV USE_ITHREADS USE_LARGE_FILES
USE_PERLIO USE_PERL_ATOF USE_REENTRANT_API
Built under mirbsd
Compiled at Dec 7 2011 21:53:16
%ENV:
PERL5LIB="/home/sts/cpansmoke/perl-5.14.2/cpan/build/Perl6-Slurp-0.03-rwJ9dL/blib/arch:/home/sts/cpansmoke/perl-5.14.2/cpan/build/Perl6-Slurp-0.03-rwJ9dL/blib/lib:/home/sts/cpansmoke/perl-5.14.2/cpan/build/Perl6-Export-0.07-8Mxb8a/blib/arch:/home/sts/cpansmoke/perl-5.14.2/cpan/build/Perl6-Export-0.07-8Mxb8a/blib/lib"
PERL5OPT=""
PERL5_CPANPLUS_IS_RUNNING="25516"
PERL5_CPAN_IS_RUNNING="25516"
PERL5_CPAN_IS_RUNNING_IN_RECURSION="7327,25516"
PERL_CR_SMOKER_CURRENT="HTML-FormatExternal-19"
PERL_EXTUTILS_AUTOINSTALL="--defaultdeps"
PERL_MM_USE_DEFAULT="1"
@INC:
/home/sts/cpansmoke/perl-5.14.2/cpan/build/Perl6-Slurp-0.03-rwJ9dL/blib/arch
/home/sts/cpansmoke/perl-5.14.2/cpan/build/Perl6-Slurp-0.03-rwJ9dL/blib/lib
/home/sts/cpansmoke/perl-5.14.2/cpan/build/Perl6-Export-0.07-8Mxb8a/blib/arch
/home/sts/cpansmoke/perl-5.14.2/cpan/build/Perl6-Export-0.07-8Mxb8a/blib/lib
/home/sts/cpansmoke/perl-5.14.2/lib/site_perl/5.14.2/MirBSD.i386-mirbsd-thread-multi
/home/sts/cpansmoke/perl-5.14.2/lib/site_perl/5.14.2
/home/sts/cpansmoke/perl-5.14.2/lib/5.14.2/MirBSD.i386-mirbsd-thread-multi
/home/sts/cpansmoke/perl-5.14.2/lib/5.14.2
.