Report for MozRepl-0.06

Back
From: metabase:user:313dc9fe-2aae-11df-837a-5e0a49663a4f
Subject: PASS MozRepl-0.06 v5.10.0 GNU/Linux
Date: 2010-10-14T16:30:20Z

This distribution has been tested as part of the CPAN Testers
project, supporting the Perl programming language.  See
http://wiki.cpantesters.org/ for more information or email
questions to cpan-testers-discuss@perl.org


--
Dear Toru Yamaguchi,

This is a computer-generated report for MozRepl-0.06
on perl 5.10.0, created by CPAN-Reporter-1.1711.

Thank you for uploading your work to CPAN.  Congratulations!
All tests were successful.

Sections of this report:

    * Tester comments
    * Program output
    * Prerequisites
    * Environment and other context

------------------------------
TESTER COMMENTS
------------------------------

Additional comments from tester:

this report is from an automated smoke testing program
and was not reviewed by a human for accuracy

------------------------------
PROGRAM OUTPUT
------------------------------

Output from '/usr/bin/make test':

/home/perl5100/perl/bin/perl "-Iinc" Makefile.PL --config= --installdeps=Data::Dump,0,Data::JavaScript::Anon,0,Module::Pluggable::Fast,0,Net::Telnet,0,Template::Provider::FromDATA,0,Text::SimpleTable,0,UNIVERSAL::require,0
PERL_DL_NONLAZY=1 /home/perl5100/perl/bin/perl "-MExtUtils::Command::MM" "-e" "test_harness(0, 'inc', 'blib/lib', 'blib/arch')" t/00-load.t t/10-plugin-repl-enter.t t/11-plugin-repl-search.t t/12-plugin-repl-inspect.t t/13-plugin-repl-load.t t/14-plugin-repl-rename.t t/15-plugin-repl-print.t t/16-plugin-repl-home.t t/17-plugin-repl-back.t t/18-plugin-repl-util-help_url_for.t t/19-plugin-repl-util-doc_for.t t/20-plugin-json.t t/pod-coverage.t t/pod.t
# Testing MozRepl 0.06
t/00-load.t ........................... ok
[DEBUG] MozRepl logging enabled
[DEBUG] 
---- Client arguments ----
.----------------------+------------------------------------------.
| client_arg_name      | client_arg_value                         |
+----------------------+------------------------------------------+
| host                 | localhost                                |
| port                 | 4242                                     |
| timeout              | 10                                       |
| extra_client_args    | {}                                       |
'----------------------+------------------------------------------'
t/10-plugin-repl-enter.t .............. ok
[DEBUG] MozRepl logging enabled
[DEBUG] 
---- Client arguments ----
.----------------------+------------------------------------------.
| client_arg_name      | client_arg_value                         |
+----------------------+------------------------------------------+
| host                 | localhost                                |
| port                 | 4242                                     |
| timeout              | 10                                       |
| extra_client_args    | {}                                       |
'----------------------+------------------------------------------'
t/11-plugin-repl-search.t ............. ok
[DEBUG] MozRepl logging enabled
[DEBUG] 
---- Client arguments ----
.----------------------+------------------------------------------.
| client_arg_name      | client_arg_value                         |
+----------------------+------------------------------------------+
| host                 | localhost                                |
| port                 | 4242                                     |
| timeout              | 10                                       |
| extra_client_args    | {}                                       |
'----------------------+------------------------------------------'
t/12-plugin-repl-inspect.t ............ ok
[DEBUG] MozRepl logging enabled
[DEBUG] 
---- Client arguments ----
.----------------------+------------------------------------------.
| client_arg_name      | client_arg_value                         |
+----------------------+------------------------------------------+
| host                 | localhost                                |
| port                 | 4242                                     |
| timeout              | 10                                       |
| extra_client_args    | {}                                       |
'----------------------+------------------------------------------'
t/13-plugin-repl-load.t ............... ok
[DEBUG] MozRepl logging enabled
[DEBUG] 
---- Client arguments ----
.----------------------+------------------------------------------.
| client_arg_name      | client_arg_value                         |
+----------------------+------------------------------------------+
| host                 | localhost                                |
| port                 | 4242                                     |
| timeout              | 10                                       |
| extra_client_args    | {}                                       |
'----------------------+------------------------------------------'
t/14-plugin-repl-rename.t ............. ok
[DEBUG] MozRepl logging enabled
[DEBUG] 
---- Client arguments ----
.----------------------+------------------------------------------.
| client_arg_name      | client_arg_value                         |
+----------------------+------------------------------------------+
| host                 | localhost                                |
| port                 | 4242                                     |
| timeout              | 10                                       |
| extra_client_args    | {}                                       |
'----------------------+------------------------------------------'
t/15-plugin-repl-print.t .............. ok
[DEBUG] MozRepl logging enabled
[DEBUG] 
---- Client arguments ----
.----------------------+------------------------------------------.
| client_arg_name      | client_arg_value                         |
+----------------------+------------------------------------------+
| host                 | localhost                                |
| port                 | 4242                                     |
| timeout              | 10                                       |
| extra_client_args    | {}                                       |
'----------------------+------------------------------------------'
t/16-plugin-repl-home.t ............... ok
[DEBUG] MozRepl logging enabled
[DEBUG] 
---- Client arguments ----
.----------------------+------------------------------------------.
| client_arg_name      | client_arg_value                         |
+----------------------+------------------------------------------+
| host                 | localhost                                |
| port                 | 4242                                     |
| timeout              | 10                                       |
| extra_client_args    | {}                                       |
'----------------------+------------------------------------------'
t/17-plugin-repl-back.t ............... ok
[DEBUG] MozRepl logging enabled
[DEBUG] 
---- Client arguments ----
.----------------------+------------------------------------------.
| client_arg_name      | client_arg_value                         |
+----------------------+------------------------------------------+
| host                 | localhost                                |
| port                 | 4242                                     |
| timeout              | 10                                       |
| extra_client_args    | {}                                       |
'----------------------+------------------------------------------'
t/18-plugin-repl-util-help_url_for.t .. ok
[DEBUG] MozRepl logging enabled
[DEBUG] 
---- Client arguments ----
.----------------------+------------------------------------------.
| client_arg_name      | client_arg_value                         |
+----------------------+------------------------------------------+
| host                 | localhost                                |
| port                 | 4242                                     |
| timeout              | 10                                       |
| extra_client_args    | {}                                       |
'----------------------+------------------------------------------'
t/19-plugin-repl-util-doc_for.t ....... ok
[DEBUG] MozRepl logging enabled
[DEBUG] 
---- Client arguments ----
.----------------------+------------------------------------------.
| client_arg_name      | client_arg_value                         |
+----------------------+------------------------------------------+
| host                 | localhost                                |
| port                 | 4242                                     |
| timeout              | 10                                       |
| extra_client_args    | {}                                       |
'----------------------+------------------------------------------'
t/20-plugin-json.t .................... ok
t/pod-coverage.t ...................... skipped: Test::Pod::Coverage 1.04 required for testing POD coverage
t/pod.t ............................... ok
All tests successful.
Files=14, Tests=58,  5 wallclock secs ( 0.10 usr  0.04 sys +  1.60 cusr  0.42 csys =  2.16 CPU)
Result: PASS

------------------------------
PREREQUISITES
------------------------------

Prerequisite modules loaded:

requires:

    Module                       Need Have
    ---------------------------- ---- ----
    Carp::Clan                   0    6.04
    Class::Accessor::Fast        0    0.34
    Class::Data::Inheritable     0    0.08
    Data::Dump                   0    1.17
    Data::JavaScript::Anon       0    1.03
    File::Spec                   0    3.31
    Module::Pluggable::Fast      0    0.19
    Net::Telnet                  0    3.03
    Template                     0    2.22
    Template::Provider::FromDATA 0    0.11
    Text::SimpleTable            0    2.03
    UNIVERSAL::require           0    0.13
    URI                          0    1.54


------------------------------
ENVIRONMENT AND OTHER CONTEXT
------------------------------

Environment variables:

    AUTOMATED_TESTING = 1
    LANG = en_US.UTF-8
    PATH = /usr/local/sbin:/usr/local/bin:/usr/sbin:/usr/bin:/sbin:/bin:/usr/games
    PERL5LIB = /home/perl5100/.cpan/build/Net-Telnet-3.03-a7MqFP/blib/arch:/home/perl5100/.cpan/build/Net-Telnet-3.03-a7MqFP/blib/lib:/home/perl5100/.cpan/build/Data-JavaScript-Anon-1.03-DfY9xP/blib/arch:/home/perl5100/.cpan/build/Data-JavaScript-Anon-1.03-DfY9xP/blib/lib:/home/perl5100/.cpan/build/Class-Default-1.51-uy51dY/blib/arch:/home/perl5100/.cpan/build/Class-Default-1.51-uy51dY/blib/lib:/home/perl5100/.cpan/build/Text-SimpleTable-2.03-fQ2_4u/blib/arch:/home/perl5100/.cpan/build/Text-SimpleTable-2.03-fQ2_4u/blib/lib:/home/perl5100/.cpan/build/Data-Dump-1.17-VNHKvE/blib/arch:/home/perl5100/.cpan/build/Data-Dump-1.17-VNHKvE/blib/lib:/home/perl5100/.cpan/build/Template-Provider-FromDATA-0.11-fZgzGH/blib/arch:/home/perl5100/.cpan/build/Template-Provider-FromDATA-0.11-fZgzGH/blib/lib:/home/perl5100/.cpan/build/Module-Pluggable-Fast-0.19-_79dSz/blib/arch:/home/perl5100/.cpan/build/Module-Pluggable-Fast-0.19-_79dSz/blib/lib:/home/perl5100/.cpan/build/UNIVERSAL-require-0.13-4LXpu_/blib/arch:/home/perl5100/.cpan/build/UNIVERSAL-require-0.13-4LXpu_/blib/lib:/home/perl5100/.cpan/build/WWW-Mechanize-1.66-IF78IL/blib/arch:/home/perl5100/.cpan/build/WWW-Mechanize-1.66-IF78IL/blib/lib:/home/perl5100/.cpan/build/HTTP-Server-Simple-0.43-k29T3_/blib/arch:/home/perl5100/.cpan/build/HTTP-Server-Simple-0.43-k29T3_/blib/lib:/home/perl5100/.cpan/build/parent-0.223-bcjqg2/blib/arch:/home/perl5100/.cpan/build/parent-0.223-bcjqg2/blib/lib
    PERL5OPT = 
    PERL5_CPANPLUS_IS_RUNNING = 28201
    PERL5_CPAN_IS_RUNNING = 28201
    PERL5_CPAN_IS_RUNNING_IN_RECURSION = 29226,28201
    PERL_CR_SMOKER_CURRENT = WWW-Mechanize-Firefox-0.34
    PERL_EXTUTILS_AUTOINSTALL = --defaultdeps
    PERL_MM_USE_DEFAULT = 1
    SHELL = /bin/bash
    TERM = xterm

Perl special variables (and OS-specific diagnostics, for MSWin32):

    $^X = /home/perl5100/perl/bin/perl
    $UID/$EUID = 1002 / 1002
    $GID = 1002 1002
    $EGID = 1002 1002

Perl module toolchain versions installed:

    Module              Have  
    ------------------- ------
    CPAN                1.9402
    Cwd                 3.31  
    ExtUtils::CBuilder  0.2703
    ExtUtils::Command   1.16  
    ExtUtils::Install   1.54  
    ExtUtils::MakeMaker 6.56  
    ExtUtils::Manifest  1.58  
    ExtUtils::ParseXS   2.2205
    File::Spec          3.31  
    Module::Build       0.3607
    Module::Signature   n/a   
    Test::Harness       3.21  
    Test::More          0.94  
    YAML                0.71  
    YAML::Syck          1.09  
    version             0.82  


--

Summary of my perl5 (revision 5 version 10 subversion 0) configuration:
  Platform:
    osname=linux, osvers=2.6.31-20-generic, archname=i686-linux-thread-multi
    uname='linux st47-laptop 2.6.31-20-generic #57-ubuntu smp mon feb 8 09:05:19 utc 2010 i686 gnulinux '
    config_args=''
    hint=recommended, useposix=true, d_sigaction=define
    useithreads=define, usemultiplicity=define
    useperlio=define, d_sfio=undef, uselargefiles=define, usesocks=undef
    use64bitint=undef, use64bitall=undef, uselongdouble=undef
    usemymalloc=n, bincompat5005=undef
  Compiler:
    cc='cc', ccflags ='-D_REENTRANT -D_GNU_SOURCE -fno-strict-aliasing -pipe -I/usr/local/include -D_LARGEFILE_SOURCE -D_FILE_OFFSET_BITS=64',
    optimize='-O2',
    cppflags='-D_REENTRANT -D_GNU_SOURCE -fno-strict-aliasing -pipe -I/usr/local/include'
    ccversion='', gccversion='4.4.1', gccosandvers=''
    intsize=4, longsize=4, ptrsize=4, doublesize=8, byteorder=1234
    d_longlong=define, longlongsize=8, d_longdbl=define, longdblsize=12
    ivtype='long', ivsize=4, nvtype='double', nvsize=8, Off_t='off_t', lseeksize=8
    alignbytes=4, prototype=define
  Linker and Libraries:
    ld='cc', ldflags =' -L/usr/local/lib'
    libpth=/usr/local/lib /lib /usr/lib
    libs=-lnsl -ldl -lm -lcrypt -lutil -lpthread -lc
    perllibs=-lnsl -ldl -lm -lcrypt -lutil -lpthread -lc
    libc=/lib/libc-2.10.1.so, so=so, useshrplib=false, libperl=libperl.a
    gnulibc_version='2.10.1'
  Dynamic Linking:
    dlsrc=dl_dlopen.xs, dlext=so, d_dlsymun=undef, ccdlflags='-Wl,-E'
    cccdlflags='-fPIC', lddlflags='-shared -O2 -L/usr/local/lib'


Characteristics of this binary (from libperl): 
  Compile-time options: MULTIPLICITY PERL_DONT_CREATE_GVSV
                        PERL_IMPLICIT_CONTEXT PERL_MALLOC_WRAP USE_ITHREADS
                        USE_LARGE_FILES USE_PERLIO USE_REENTRANT_API
  Built under linux
  Compiled at Mar 12 2010 10:42:50
  %ENV:
    PERL5LIB="/home/perl5100/.cpan/build/Net-Telnet-3.03-a7MqFP/blib/arch:/home/perl5100/.cpan/build/Net-Telnet-3.03-a7MqFP/blib/lib:/home/perl5100/.cpan/build/Data-JavaScript-Anon-1.03-DfY9xP/blib/arch:/home/perl5100/.cpan/build/Data-JavaScript-Anon-1.03-DfY9xP/blib/lib:/home/perl5100/.cpan/build/Class-Default-1.51-uy51dY/blib/arch:/home/perl5100/.cpan/build/Class-Default-1.51-uy51dY/blib/lib:/home/perl5100/.cpan/build/Text-SimpleTable-2.03-fQ2_4u/blib/arch:/home/perl5100/.cpan/build/Text-SimpleTable-2.03-fQ2_4u/blib/lib:/home/perl5100/.cpan/build/Data-Dump-1.17-VNHKvE/blib/arch:/home/perl5100/.cpan/build/Data-Dump-1.17-VNHKvE/blib/lib:/home/perl5100/.cpan/build/Template-Provider-FromDATA-0.11-fZgzGH/blib/arch:/home/perl5100/.cpan/build/Template-Provider-FromDATA-0.11-fZgzGH/blib/lib:/home/perl5100/.cpan/build/Module-Pluggable-Fast-0.19-_79dSz/blib/arch:/home/perl5100/.cpan/build/Module-Pluggable-Fast-0.19-_79dSz/blib/lib:/home/perl5100/.cpan/build/UNIVERSAL-require-0.13-4LXpu_/blib/arch:/home/perl5100/.cpan/build/UNIVERSAL-require-0.13-4LXpu_/blib/lib:/home/perl5100/.cpan/build/WWW-Mechanize-1.66-IF78IL/blib/arch:/home/perl5100/.cpan/build/WWW-Mechanize-1.66-IF78IL/blib/lib:/home/perl5100/.cpan/build/HTTP-Server-Simple-0.43-k29T3_/blib/arch:/home/perl5100/.cpan/build/HTTP-Server-Simple-0.43-k29T3_/blib/lib:/home/perl5100/.cpan/build/parent-0.223-bcjqg2/blib/arch:/home/perl5100/.cpan/build/parent-0.223-bcjqg2/blib/lib"
    PERL5OPT=""
    PERL5_CPANPLUS_IS_RUNNING="28201"
    PERL5_CPAN_IS_RUNNING="28201"
    PERL5_CPAN_IS_RUNNING_IN_RECURSION="29226,28201"
    PERL_CR_SMOKER_CURRENT="WWW-Mechanize-Firefox-0.34"
    PERL_EXTUTILS_AUTOINSTALL="--defaultdeps"
    PERL_MM_USE_DEFAULT="1"
  @INC:
    /home/perl5100/.cpan/build/Net-Telnet-3.03-a7MqFP/blib/arch
    /home/perl5100/.cpan/build/Net-Telnet-3.03-a7MqFP/blib/lib
    /home/perl5100/.cpan/build/Data-JavaScript-Anon-1.03-DfY9xP/blib/arch
    /home/perl5100/.cpan/build/Data-JavaScript-Anon-1.03-DfY9xP/blib/lib
    /home/perl5100/.cpan/build/Class-Default-1.51-uy51dY/blib/arch
    /home/perl5100/.cpan/build/Class-Default-1.51-uy51dY/blib/lib
    /home/perl5100/.cpan/build/Text-SimpleTable-2.03-fQ2_4u/blib/arch
    /home/perl5100/.cpan/build/Text-SimpleTable-2.03-fQ2_4u/blib/lib
    /home/perl5100/.cpan/build/Data-Dump-1.17-VNHKvE/blib/arch
    /home/perl5100/.cpan/build/Data-Dump-1.17-VNHKvE/blib/lib
    /home/perl5100/.cpan/build/Template-Provider-FromDATA-0.11-fZgzGH/blib/arch
    /home/perl5100/.cpan/build/Template-Provider-FromDATA-0.11-fZgzGH/blib/lib
    /home/perl5100/.cpan/build/Module-Pluggable-Fast-0.19-_79dSz/blib/arch
    /home/perl5100/.cpan/build/Module-Pluggable-Fast-0.19-_79dSz/blib/lib
    /home/perl5100/.cpan/build/UNIVERSAL-require-0.13-4LXpu_/blib/arch
    /home/perl5100/.cpan/build/UNIVERSAL-require-0.13-4LXpu_/blib/lib
    /home/perl5100/.cpan/build/WWW-Mechanize-1.66-IF78IL/blib/arch
    /home/perl5100/.cpan/build/WWW-Mechanize-1.66-IF78IL/blib/lib
    /home/perl5100/.cpan/build/HTTP-Server-Simple-0.43-k29T3_/blib/arch
    /home/perl5100/.cpan/build/HTTP-Server-Simple-0.43-k29T3_/blib/lib
    /home/perl5100/.cpan/build/parent-0.223-bcjqg2/blib/arch
    /home/perl5100/.cpan/build/parent-0.223-bcjqg2/blib/lib
    /home/perl5100/perl/lib/5.10.0
    /home/perl5100/perl/lib/5.10.0
    .