Report for MozRepl-0.06

Back
From: metabase:user:e3434da8-b236-11df-85ca-0247c6d74bde
Subject: PASS MozRepl-0.06 v5.8.9 GNU/Linux
Date: 2010-10-13T23:26:41Z

This distribution has been tested as part of the CPAN Testers
project, supporting the Perl programming language.  See
http://wiki.cpantesters.org/ for more information or email
questions to cpan-testers-discuss@perl.org


--
Dear Toru Yamaguchi,

This is a computer-generated report for MozRepl-0.06
on perl 5.8.9, created by CPAN-Reporter-1.1803.

Thank you for uploading your work to CPAN.  Congratulations!
All tests were successful.

Sections of this report:

    * Tester comments
    * Program output
    * Prerequisites
    * Environment and other context

------------------------------
TESTER COMMENTS
------------------------------

Additional comments from tester:

this report is from an automated smoke testing program
and was not reviewed by a human for accuracy

------------------------------
PROGRAM OUTPUT
------------------------------

Output from '/usr/bin/make test':

/home/cpt3/testing/perl-5.8.9/bin/perl "-Iinc" Makefile.PL --config= --installdeps=Carp::Clan,0,Class::Accessor::Fast,0,Class::Data::Inheritable,0,Data::Dump,0,Data::JavaScript::Anon,0,Module::Pluggable::Fast,0,Net::Telnet,0,Template,0,Template::Provider::FromDATA,0,Text::SimpleTable,0,UNIVERSAL::require,0
PERL_DL_NONLAZY=1 /home/cpt3/testing/perl-5.8.9/bin/perl "-MExtUtils::Command::MM" "-e" "test_harness(0, 'inc', 'blib/lib', 'blib/arch')" t/00-load.t t/10-plugin-repl-enter.t t/11-plugin-repl-search.t t/12-plugin-repl-inspect.t t/13-plugin-repl-load.t t/14-plugin-repl-rename.t t/15-plugin-repl-print.t t/16-plugin-repl-home.t t/17-plugin-repl-back.t t/18-plugin-repl-util-help_url_for.t t/19-plugin-repl-util-doc_for.t t/20-plugin-json.t t/pod-coverage.t t/pod.t
t/00-load.............................# Testing MozRepl 0.06
ok
t/10-plugin-repl-enter................[DEBUG] MozRepl logging enabled
[DEBUG] 
---- Client arguments ----
.----------------------+------------------------------------------.
| client_arg_name      | client_arg_value                         |
+----------------------+------------------------------------------+
| host                 | localhost                                |
| port                 | 4242                                     |
| timeout              | 10                                       |
| extra_client_args    | {}                                       |
'----------------------+------------------------------------------'
ok
        3/3 skipped: various reasons
t/11-plugin-repl-search...............[DEBUG] MozRepl logging enabled
[DEBUG] 
---- Client arguments ----
.----------------------+------------------------------------------.
| client_arg_name      | client_arg_value                         |
+----------------------+------------------------------------------+
| host                 | localhost                                |
| port                 | 4242                                     |
| timeout              | 10                                       |
| extra_client_args    | {}                                       |
'----------------------+------------------------------------------'
ok
        5/5 skipped: various reasons
t/12-plugin-repl-inspect..............[DEBUG] MozRepl logging enabled
[DEBUG] 
---- Client arguments ----
.----------------------+------------------------------------------.
| client_arg_name      | client_arg_value                         |
+----------------------+------------------------------------------+
| host                 | localhost                                |
| port                 | 4242                                     |
| timeout              | 10                                       |
| extra_client_args    | {}                                       |
'----------------------+------------------------------------------'
ok
        3/3 skipped: various reasons
t/13-plugin-repl-load.................[DEBUG] MozRepl logging enabled
[DEBUG] 
---- Client arguments ----
.----------------------+------------------------------------------.
| client_arg_name      | client_arg_value                         |
+----------------------+------------------------------------------+
| host                 | localhost                                |
| port                 | 4242                                     |
| timeout              | 10                                       |
| extra_client_args    | {}                                       |
'----------------------+------------------------------------------'
ok
        1/1 skipped: various reasons
t/14-plugin-repl-rename...............[DEBUG] MozRepl logging enabled
[DEBUG] 
---- Client arguments ----
.----------------------+------------------------------------------.
| client_arg_name      | client_arg_value                         |
+----------------------+------------------------------------------+
| host                 | localhost                                |
| port                 | 4242                                     |
| timeout              | 10                                       |
| extra_client_args    | {}                                       |
'----------------------+------------------------------------------'
ok
        4/4 skipped: various reasons
t/15-plugin-repl-print................[DEBUG] MozRepl logging enabled
[DEBUG] 
---- Client arguments ----
.----------------------+------------------------------------------.
| client_arg_name      | client_arg_value                         |
+----------------------+------------------------------------------+
| host                 | localhost                                |
| port                 | 4242                                     |
| timeout              | 10                                       |
| extra_client_args    | {}                                       |
'----------------------+------------------------------------------'
ok
        5/5 skipped: various reasons
t/16-plugin-repl-home.................[DEBUG] MozRepl logging enabled
[DEBUG] 
---- Client arguments ----
.----------------------+------------------------------------------.
| client_arg_name      | client_arg_value                         |
+----------------------+------------------------------------------+
| host                 | localhost                                |
| port                 | 4242                                     |
| timeout              | 10                                       |
| extra_client_args    | {}                                       |
'----------------------+------------------------------------------'
ok
        2/2 skipped: various reasons
t/17-plugin-repl-back.................[DEBUG] MozRepl logging enabled
[DEBUG] 
---- Client arguments ----
.----------------------+------------------------------------------.
| client_arg_name      | client_arg_value                         |
+----------------------+------------------------------------------+
| host                 | localhost                                |
| port                 | 4242                                     |
| timeout              | 10                                       |
| extra_client_args    | {}                                       |
'----------------------+------------------------------------------'
ok
        3/3 skipped: various reasons
t/18-plugin-repl-util-help_url_for....[DEBUG] MozRepl logging enabled
[DEBUG] 
---- Client arguments ----
.----------------------+------------------------------------------.
| client_arg_name      | client_arg_value                         |
+----------------------+------------------------------------------+
| host                 | localhost                                |
| port                 | 4242                                     |
| timeout              | 10                                       |
| extra_client_args    | {}                                       |
'----------------------+------------------------------------------'
ok
        4/4 skipped: various reasons
t/19-plugin-repl-util-doc_for.........[DEBUG] MozRepl logging enabled
[DEBUG] 
---- Client arguments ----
.----------------------+------------------------------------------.
| client_arg_name      | client_arg_value                         |
+----------------------+------------------------------------------+
| host                 | localhost                                |
| port                 | 4242                                     |
| timeout              | 10                                       |
| extra_client_args    | {}                                       |
'----------------------+------------------------------------------'
ok
        7/7 skipped: various reasons
t/20-plugin-json......................[DEBUG] MozRepl logging enabled
[DEBUG] 
---- Client arguments ----
.----------------------+------------------------------------------.
| client_arg_name      | client_arg_value                         |
+----------------------+------------------------------------------+
| host                 | localhost                                |
| port                 | 4242                                     |
| timeout              | 10                                       |
| extra_client_args    | {}                                       |
'----------------------+------------------------------------------'
ok
        2/2 skipped: various reasons
t/pod-coverage........................skipped
        all skipped: Test::Pod::Coverage 1.04 required for testing POD coverage
t/pod.................................skipped
        all skipped: Test::Pod 1.14 required for testing POD
All tests successful, 2 tests and 39 subtests skipped.
Files=14, Tests=42,  1 wallclock secs ( 0.82 cusr +  0.17 csys =  0.99 CPU)

------------------------------
PREREQUISITES
------------------------------

Prerequisite modules loaded:

requires:

    Module                       Need Have
    ---------------------------- ---- ----
    Carp::Clan                   0    6.04
    Class::Accessor::Fast        0    0.34
    Class::Data::Inheritable     0    0.08
    Data::Dump                   0    1.17
    Data::JavaScript::Anon       0    1.03
    File::Spec                   0    3.29
    Module::Pluggable::Fast      0    0.19
    Net::Telnet                  0    3.03
    Template                     0    2.22
    Template::Provider::FromDATA 0    0.11
    Text::SimpleTable            0    2.03
    UNIVERSAL::require           0    0.13
    URI                          0    1.56


------------------------------
ENVIRONMENT AND OTHER CONTEXT
------------------------------

Environment variables:

    AUTOMATED_TESTING = 1
    LANG = en_US.utf8
    PATH = /usr/local/bin:/usr/bin:/bin:/usr/local/games:/usr/games
    PERL5LIB = /home/cpt3/.cpan/build/Data-JavaScript-Anon-1.03-kcmeuu/blib/arch:/home/cpt3/.cpan/build/Data-JavaScript-Anon-1.03-kcmeuu/blib/lib:/home/cpt3/.cpan/build/Class-Default-1.51-_ZjGyc/blib/arch:/home/cpt3/.cpan/build/Class-Default-1.51-_ZjGyc/blib/lib:/home/cpt3/.cpan/build/Net-Telnet-3.03-iEpNDE/blib/arch:/home/cpt3/.cpan/build/Net-Telnet-3.03-iEpNDE/blib/lib:/home/cpt3/.cpan/build/Module-Pluggable-Fast-0.19-7Z_yC5/blib/arch:/home/cpt3/.cpan/build/Module-Pluggable-Fast-0.19-7Z_yC5/blib/lib:/home/cpt3/.cpan/build/Template-Provider-FromDATA-0.11-k3tMXo/blib/arch:/home/cpt3/.cpan/build/Template-Provider-FromDATA-0.11-k3tMXo/blib/lib:/home/cpt3/.cpan/build/Carp-Clan-6.04-1yH1d4/blib/arch:/home/cpt3/.cpan/build/Carp-Clan-6.04-1yH1d4/blib/lib:/home/cpt3/.cpan/build/UNIVERSAL-require-0.13-MtrDid/blib/arch:/home/cpt3/.cpan/build/UNIVERSAL-require-0.13-MtrDid/blib/lib:/home/cpt3/.cpan/build/Text-SimpleTable-2.03-JggoR8/blib/arch:/home/cpt3/.cpan/build/Text-SimpleTable-2.03-JggoR8/blib/lib:/home/cpt3/.cpan/build/Data-Dump-1.17-0FLoxJ/blib/arch:/home/cpt3/.cpan/build/Data-Dump-1.17-0FLoxJ/blib/lib:/home/cpt3/.cpan/build/Template-Toolkit-2.22-qksQX4/blib/arch:/home/cpt3/.cpan/build/Template-Toolkit-2.22-qksQX4/blib/lib:/home/cpt3/.cpan/build/AppConfig-1.66-M9fn4F/blib/arch:/home/cpt3/.cpan/build/AppConfig-1.66-M9fn4F/blib/lib:/home/cpt3/.cpan/build/Class-Data-Inheritable-0.08-d1Hj4l/blib/arch:/home/cpt3/.cpan/build/Class-Data-Inheritable-0.08-d1Hj4l/blib/lib:/home/cpt3/.cpan/build/Class-Accessor-0.34-Hvn7SA/blib/arch:/home/cpt3/.cpan/build/Class-Accessor-0.34-Hvn7SA/blib/lib
    PERL5OPT = 
    PERL5_CPANPLUS_IS_RUNNING = 4974
    PERL5_CPAN_IS_RUNNING = 4974
    PERL5_CPAN_IS_RUNNING_IN_RECURSION = 2641,4974
    PERL_CR_SMOKER_CURRENT = MozRepl-RemoteObject-0.13
    PERL_EXTUTILS_AUTOINSTALL = --defaultdeps
    PERL_MM_USE_DEFAULT = 1
    SHELL = /bin/bash
    TERM = screen

Perl special variables (and OS-specific diagnostics, for MSWin32):

    $^X = /home/cpt3/testing/perl-5.8.9/bin/perl
    $UID/$EUID = 1004 / 1004
    $GID = 1004 20 24 25 27 29 30 44 46 100 103 111 113 114 1004
    $EGID = 1004 20 24 25 27 29 30 44 46 100 103 111 113 114 1004

Perl module toolchain versions installed:

    Module              Have   
    ------------------- -------
    CPAN                1.9301 
    Cwd                 3.29   
    ExtUtils::CBuilder  0.2703 
    ExtUtils::Command   1.15   
    ExtUtils::Install   1.50_01
    ExtUtils::MakeMaker 6.48   
    ExtUtils::Manifest  1.55   
    ExtUtils::ParseXS   2.19   
    File::Spec          3.29   
    Module::Build       0.3607 
    Module::Signature   n/a    
    Test::Harness       2.64   
    Test::More          0.80   
    YAML                0.72   
    YAML::Syck          n/a    
    version             n/a    


--

Summary of my perl5 (revision 5 version 8 subversion 9) configuration:
  Platform:
    osname=linux, osvers=2.6.35-4.slh.9-aptosid-686, archname=i686-linux
    uname='linux firenze 2.6.35-4.slh.9-aptosid-686 #1 smp preempt mon sep 13 16:40:35 utc 2010 i686 gnulinux '
    config_args='-Dprefix=/home/cpt3/testing/perl-5.8.9'
    hint=recommended, useposix=true, d_sigaction=define
    usethreads=undef use5005threads=undef useithreads=undef usemultiplicity=undef
    useperlio=define d_sfio=undef uselargefiles=define usesocks=undef
    use64bitint=undef use64bitall=undef uselongdouble=undef
    usemymalloc=n, bincompat5005=undef
  Compiler:
    cc='cc', ccflags ='-fno-strict-aliasing -pipe -I/usr/local/include -D_LARGEFILE_SOURCE -D_FILE_OFFSET_BITS=64',
    optimize='-O2',
    cppflags='-fno-strict-aliasing -pipe -I/usr/local/include'
    ccversion='', gccversion='4.4.5', gccosandvers=''
    intsize=4, longsize=4, ptrsize=4, doublesize=8, byteorder=1234
    d_longlong=define, longlongsize=8, d_longdbl=define, longdblsize=12
    ivtype='long', ivsize=4, nvtype='double', nvsize=8, Off_t='off_t', lseeksize=8
    alignbytes=4, prototype=define
  Linker and Libraries:
    ld='cc', ldflags =' -L/usr/local/lib'
    libpth=/usr/local/lib /lib /usr/lib
    libs=-lnsl -lgdbm -ldb -ldl -lm -lcrypt -lutil -lc
    perllibs=-lnsl -ldl -lm -lcrypt -lutil -lc
    libc=/lib/libc-2.11.2.so, so=so, useshrplib=false, libperl=libperl.a
    gnulibc_version='2.11.2'
  Dynamic Linking:
    dlsrc=dl_dlopen.xs, dlext=so, d_dlsymun=undef, ccdlflags='-Wl,-E'
    cccdlflags='-fPIC', lddlflags='-shared -O2 -L/usr/local/lib'


Characteristics of this binary (from libperl): 
  Compile-time options: PERL_MALLOC_WRAP USE_FAST_STDIO USE_LARGE_FILES
                        USE_PERLIO
  Built under linux
  Compiled at Oct 11 2010 12:18:13
  %ENV:
    PERL5LIB="/home/cpt3/.cpan/build/Data-JavaScript-Anon-1.03-kcmeuu/blib/arch:/home/cpt3/.cpan/build/Data-JavaScript-Anon-1.03-kcmeuu/blib/lib:/home/cpt3/.cpan/build/Class-Default-1.51-_ZjGyc/blib/arch:/home/cpt3/.cpan/build/Class-Default-1.51-_ZjGyc/blib/lib:/home/cpt3/.cpan/build/Net-Telnet-3.03-iEpNDE/blib/arch:/home/cpt3/.cpan/build/Net-Telnet-3.03-iEpNDE/blib/lib:/home/cpt3/.cpan/build/Module-Pluggable-Fast-0.19-7Z_yC5/blib/arch:/home/cpt3/.cpan/build/Module-Pluggable-Fast-0.19-7Z_yC5/blib/lib:/home/cpt3/.cpan/build/Template-Provider-FromDATA-0.11-k3tMXo/blib/arch:/home/cpt3/.cpan/build/Template-Provider-FromDATA-0.11-k3tMXo/blib/lib:/home/cpt3/.cpan/build/Carp-Clan-6.04-1yH1d4/blib/arch:/home/cpt3/.cpan/build/Carp-Clan-6.04-1yH1d4/blib/lib:/home/cpt3/.cpan/build/UNIVERSAL-require-0.13-MtrDid/blib/arch:/home/cpt3/.cpan/build/UNIVERSAL-require-0.13-MtrDid/blib/lib:/home/cpt3/.cpan/build/Text-SimpleTable-2.03-JggoR8/blib/arch:/home/cpt3/.cpan/build/Text-SimpleTable-2.03-JggoR8/blib/lib:/home/cpt3/.cpan/build/Data-Dump-1.17-0FLoxJ/blib/arch:/home/cpt3/.cpan/build/Data-Dump-1.17-0FLoxJ/blib/lib:/home/cpt3/.cpan/build/Template-Toolkit-2.22-qksQX4/blib/arch:/home/cpt3/.cpan/build/Template-Toolkit-2.22-qksQX4/blib/lib:/home/cpt3/.cpan/build/AppConfig-1.66-M9fn4F/blib/arch:/home/cpt3/.cpan/build/AppConfig-1.66-M9fn4F/blib/lib:/home/cpt3/.cpan/build/Class-Data-Inheritable-0.08-d1Hj4l/blib/arch:/home/cpt3/.cpan/build/Class-Data-Inheritable-0.08-d1Hj4l/blib/lib:/home/cpt3/.cpan/build/Class-Accessor-0.34-Hvn7SA/blib/arch:/home/cpt3/.cpan/build/Class-Accessor-0.34-Hvn7SA/blib/lib"
    PERL5OPT=""
    PERL5_CPANPLUS_IS_RUNNING="4974"
    PERL5_CPAN_IS_RUNNING="4974"
    PERL5_CPAN_IS_RUNNING_IN_RECURSION="2641,4974"
    PERL_CR_SMOKER_CURRENT="MozRepl-RemoteObject-0.13"
    PERL_EXTUTILS_AUTOINSTALL="--defaultdeps"
    PERL_MM_USE_DEFAULT="1"
  @INC:
    /home/cpt3/.cpan/build/Data-JavaScript-Anon-1.03-kcmeuu/blib/arch
    /home/cpt3/.cpan/build/Data-JavaScript-Anon-1.03-kcmeuu/blib/lib
    /home/cpt3/.cpan/build/Class-Default-1.51-_ZjGyc/blib/arch
    /home/cpt3/.cpan/build/Class-Default-1.51-_ZjGyc/blib/lib
    /home/cpt3/.cpan/build/Net-Telnet-3.03-iEpNDE/blib/arch
    /home/cpt3/.cpan/build/Net-Telnet-3.03-iEpNDE/blib/lib
    /home/cpt3/.cpan/build/Module-Pluggable-Fast-0.19-7Z_yC5/blib/arch
    /home/cpt3/.cpan/build/Module-Pluggable-Fast-0.19-7Z_yC5/blib/lib
    /home/cpt3/.cpan/build/Template-Provider-FromDATA-0.11-k3tMXo/blib/arch
    /home/cpt3/.cpan/build/Template-Provider-FromDATA-0.11-k3tMXo/blib/lib
    /home/cpt3/.cpan/build/Carp-Clan-6.04-1yH1d4/blib/arch
    /home/cpt3/.cpan/build/Carp-Clan-6.04-1yH1d4/blib/lib
    /home/cpt3/.cpan/build/UNIVERSAL-require-0.13-MtrDid/blib/arch
    /home/cpt3/.cpan/build/UNIVERSAL-require-0.13-MtrDid/blib/lib
    /home/cpt3/.cpan/build/Text-SimpleTable-2.03-JggoR8/blib/arch
    /home/cpt3/.cpan/build/Text-SimpleTable-2.03-JggoR8/blib/lib
    /home/cpt3/.cpan/build/Data-Dump-1.17-0FLoxJ/blib/arch
    /home/cpt3/.cpan/build/Data-Dump-1.17-0FLoxJ/blib/lib
    /home/cpt3/.cpan/build/Template-Toolkit-2.22-qksQX4/blib/arch
    /home/cpt3/.cpan/build/Template-Toolkit-2.22-qksQX4/blib/lib
    /home/cpt3/.cpan/build/AppConfig-1.66-M9fn4F/blib/arch
    /home/cpt3/.cpan/build/AppConfig-1.66-M9fn4F/blib/lib
    /home/cpt3/.cpan/build/Class-Data-Inheritable-0.08-d1Hj4l/blib/arch
    /home/cpt3/.cpan/build/Class-Data-Inheritable-0.08-d1Hj4l/blib/lib
    /home/cpt3/.cpan/build/Class-Accessor-0.34-Hvn7SA/blib/arch
    /home/cpt3/.cpan/build/Class-Accessor-0.34-Hvn7SA/blib/lib
    /home/cpt3/testing/perl-5.8.9/lib/5.8.9/i686-linux
    /home/cpt3/testing/perl-5.8.9/lib/5.8.9
    /home/cpt3/testing/perl-5.8.9/lib/site_perl/5.8.9/i686-linux
    /home/cpt3/testing/perl-5.8.9/lib/site_perl/5.8.9
    .