Back
From: metabase:user:9820532a-708b-1014-9a05-b18a96298da1
Subject: PASS Catalyst-Plugin-Assets-0.036 v5.8.9 GNU/Linux
Date: 2011-10-15T18:48:55Z
This distribution has been tested as part of the CPAN Testers
project, supporting the Perl programming language. See
http://wiki.cpantesters.org/ for more information or email
questions to cpan-testers-discuss@perl.org
--
Dear Robert Krimen,
This is a computer-generated report for Catalyst-Plugin-Assets-0.036
on perl 5.8.9, created by CPAN-Reporter-1.2002.
Thank you for uploading your work to CPAN. Congratulations!
All tests were successful.
Sections of this report:
* Tester comments
* Program output
* Prerequisites
* Environment and other context
------------------------------
TESTER COMMENTS
------------------------------
Additional comments from tester:
this report is from an automated smoke testing program
and was not reviewed by a human for accuracy
------------------------------
PROGRAM OUTPUT
------------------------------
Output from '/usr/bin/make test':
PERL_DL_NONLAZY=1 /home/test/perl5/perlbrew/perls/perl-5.8.9-th/bin/perl5.8.9 "-MExtUtils::Command::MM" "-e" "test_harness(0, 'inc', 'blib/lib', 'blib/arch')" t/002-assets.t t/004-caching.t t/010-configuration-minify-1.t t/011-configuration-minify-yuicompressor.t t/012-configuration-pathing.t
Subroutine File::Slurp::O_CREAT redefined at /home/test/perl5/perlbrew/perls/perl-5.8.9-th/lib/site_perl/5.8.9/File/Slurp.pm line 84.
Subroutine File::Slurp::O_EXCL redefined at /home/test/perl5/perlbrew/perls/perl-5.8.9-th/lib/site_perl/5.8.9/File/Slurp.pm line 85.
[warn] Action methods (auto, default, fruit_salad, yui_compressor, concat) found defined in your application class, t::TestCatalyst. This is deprecated, please move them into a Root controller.
t/002-assets.t .............................. ok
Subroutine File::Slurp::O_CREAT redefined at /home/test/perl5/perlbrew/perls/perl-5.8.9-th/lib/site_perl/5.8.9/File/Slurp.pm line 84.
Subroutine File::Slurp::O_EXCL redefined at /home/test/perl5/perlbrew/perls/perl-5.8.9-th/lib/site_perl/5.8.9/File/Slurp.pm line 85.
*** Setting t::TestCatalystMinify1->config->{assets} has been deprecated!
*** Please update your configuration to use t::TestCatalystMinify1->config->{'Plugin::Assets'} instead...
*** I'm copying 'assets' into 'Plugin::Assets' ...
[warn] Action methods (auto, default, fruit_salad) found defined in your application class, t::TestCatalystMinify1. This is deprecated, please move them into a Root controller.
t/004-caching.t ............................. ok
Subroutine File::Slurp::O_CREAT redefined at /home/test/perl5/perlbrew/perls/perl-5.8.9-th/lib/site_perl/5.8.9/File/Slurp.pm line 84.
Subroutine File::Slurp::O_EXCL redefined at /home/test/perl5/perlbrew/perls/perl-5.8.9-th/lib/site_perl/5.8.9/File/Slurp.pm line 85.
*** Setting t::TestCatalystMinify1->config->{assets} has been deprecated!
*** Please update your configuration to use t::TestCatalystMinify1->config->{'Plugin::Assets'} instead...
*** I'm copying 'assets' into 'Plugin::Assets' ...
[warn] Action methods (auto, default, fruit_salad) found defined in your application class, t::TestCatalystMinify1. This is deprecated, please move them into a Root controller.
t/010-configuration-minify-1.t .............. ok
t/011-configuration-minify-yuicompressor.t .. skipped: install ./yuicompressor.jar to enable this test
Subroutine File::Slurp::O_CREAT redefined at /home/test/perl5/perlbrew/perls/perl-5.8.9-th/lib/site_perl/5.8.9/File/Slurp.pm line 84.
Subroutine File::Slurp::O_EXCL redefined at /home/test/perl5/perlbrew/perls/perl-5.8.9-th/lib/site_perl/5.8.9/File/Slurp.pm line 85.
*** Setting t::TestCatalystPathing->config->{assets} has been deprecated!
*** Please update your configuration to use t::TestCatalystPathing->config->{'Plugin::Assets'} instead...
*** I'm copying 'assets' into 'Plugin::Assets' ...
[warn] Action methods (default, auto, fruit_salad) found defined in your application class, t::TestCatalystPathing. This is deprecated, please move them into a Root controller.
t/012-configuration-pathing.t ............... ok
All tests successful.
Files=5, Tests=33, 9 wallclock secs ( 0.06 usr 0.00 sys + 6.37 cusr 0.50 csys = 6.93 CPU)
Result: PASS
------------------------------
PREREQUISITES
------------------------------
Prerequisite modules loaded:
requires:
Module Need Have
--------------------- ----- -------
Catalyst 0 5.90004
Catalyst::Test 0 0
Class::Accessor::Fast 0 0.34
CSS::Minifier 0 0.01
Directory::Scratch 0 0.14
ExtUtils::MakeMaker 6.42 6.58
File::Assets 0.061 0.064
FindBin 0 1.49
HTML::Declare 0 2.4
JavaScript::Minifier 0 1.05
Test::More 0 0.98
build_requires:
Module Need Have
--------------------- ----- -------
ExtUtils::MakeMaker 0 6.58
configure_requires:
Module Need Have
--------------------- ----- -------
ExtUtils::MakeMaker 6.42 6.58
------------------------------
ENVIRONMENT AND OTHER CONTEXT
------------------------------
Environment variables:
AUTOMATED_TESTING = 1
LANG = C
LC_ALL = C
PATH = /home/test/bin:/home/test/perl5/perlbrew/bin:/home/test/perl5/perlbrew/perls/perl-5.8.9-th/bin:~/bin:/usr/bin:/bin
PATH_WITHOUT_PERLBREW = ~/bin:/usr/bin:/bin
PERL5LIB =
PERL5OPT =
PERL5_CPANPLUS_IS_RUNNING = 28167
PERL5_CPAN_IS_RUNNING = 28167
PERL5_CPAN_IS_RUNNING_IN_RECURSION = 14351,28167
PERLBREW_BASHRC_VERSION = 0.30
PERLBREW_HOME = /home/test/.perlbrew
PERLBREW_PATH = /home/test/perl5/perlbrew/bin:/home/test/perl5/perlbrew/perls/perl-5.8.9-th/bin
PERLBREW_PERL = perl-5.8.9-th
PERLBREW_ROOT = /home/test/perl5/perlbrew
PERLBREW_VERSION = 0.29
PERL_CPANM_OPT = --prompt --mirror file:///mirrors/cpan/
PERL_CR_SMOKER_CURRENT = Catalyst-Plugin-Assets-0.036
PERL_EXTUTILS_AUTOINSTALL = --defaultdeps
PERL_MM_USE_DEFAULT = 1
SHELL = /bin/bash
TERM = linux
Perl special variables (and OS-specific diagnostics, for MSWin32):
$^X = /home/test/perl5/perlbrew/perls/perl-5.8.9-th/bin/perl5.8.9
$UID/$EUID = 1001 / 1001
$GID = 1001 1001
$EGID = 1001 1001
Perl module toolchain versions installed:
Module Have
------------------- --------
CPAN 1.9800
CPAN::Meta 2.112621
Cwd 3.33
ExtUtils::CBuilder 0.280202
ExtUtils::Command 1.16
ExtUtils::Install 1.54
ExtUtils::MakeMaker 6.58
ExtUtils::Manifest 1.58
ExtUtils::ParseXS 3.05
File::Spec 3.33
JSON 2.27
JSON::PP 2.27008
Module::Build 0.3800
Module::Signature n/a
Parse::CPAN::Meta 1.4401
Test::Harness 3.23
Test::More 0.98
YAML 0.73
YAML::Syck 1.17
version 0.94
--
Summary of my perl5 (revision 5 version 8 subversion 9) configuration:
Platform:
osname=linux, osvers=2.6.35-28-generic, archname=x86_64-linux-thread-multi
uname='linux zippy 2.6.35-28-generic #50-ubuntu smp fri mar 18 18:42:20 utc 2011 x86_64 gnulinux '
config_args='-de -Dprefix=/home/test/perl5/perlbrew/perls/perl-5.8.9-th -Dusethreads'
hint=recommended, useposix=true, d_sigaction=define
usethreads=define use5005threads=undef useithreads=define usemultiplicity=define
useperlio=define d_sfio=undef uselargefiles=define usesocks=undef
use64bitint=define use64bitall=define uselongdouble=undef
usemymalloc=n, bincompat5005=undef
Compiler:
cc='cc', ccflags ='-D_REENTRANT -D_GNU_SOURCE -fno-strict-aliasing -pipe -I/usr/local/include -D_LARGEFILE_SOURCE -D_FILE_OFFSET_BITS=64',
optimize='-O2',
cppflags='-D_REENTRANT -D_GNU_SOURCE -fno-strict-aliasing -pipe -I/usr/local/include'
ccversion='', gccversion='4.4.5', gccosandvers=''
intsize=4, longsize=8, ptrsize=8, doublesize=8, byteorder=12345678
d_longlong=define, longlongsize=8, d_longdbl=define, longdblsize=16
ivtype='long', ivsize=8, nvtype='double', nvsize=8, Off_t='off_t', lseeksize=8
alignbytes=8, prototype=define
Linker and Libraries:
ld='cc', ldflags =' -L/usr/local/lib'
libpth=/usr/local/lib /lib/../lib /usr/lib/../lib /lib /usr/lib /usr/lib/x86_64-linux-gnu /lib64 /usr/lib64
libs=-lnsl -ldl -lm -lcrypt -lutil -lpthread -lc
perllibs=-lnsl -ldl -lm -lcrypt -lutil -lpthread -lc
libc=/lib/libc-2.12.1.so, so=so, useshrplib=false, libperl=libperl.a
gnulibc_version='2.12.1'
Dynamic Linking:
dlsrc=dl_dlopen.xs, dlext=so, d_dlsymun=undef, ccdlflags='-Wl,-E'
cccdlflags='-fPIC', lddlflags='-shared -O2 -L/usr/local/lib'
Characteristics of this binary (from libperl):
Compile-time options: MULTIPLICITY PERL_IMPLICIT_CONTEXT PERL_MALLOC_WRAP
USE_64_BIT_ALL USE_64_BIT_INT USE_FAST_STDIO
USE_ITHREADS USE_LARGE_FILES USE_PERLIO
USE_REENTRANT_API
Built under linux
Compiled at Oct 12 2011 21:27:30
%ENV:
PERL5LIB=""
PERL5OPT=""
PERL5_CPANPLUS_IS_RUNNING="28167"
PERL5_CPAN_IS_RUNNING="28167"
PERL5_CPAN_IS_RUNNING_IN_RECURSION="14351,28167"
PERLBREW_BASHRC_VERSION="0.30"
PERLBREW_HOME="/home/test/.perlbrew"
PERLBREW_PATH="/home/test/perl5/perlbrew/bin:/home/test/perl5/perlbrew/perls/perl-5.8.9-th/bin"
PERLBREW_PERL="perl-5.8.9-th"
PERLBREW_ROOT="/home/test/perl5/perlbrew"
PERLBREW_VERSION="0.29"
PERL_CPANM_OPT="--prompt --mirror file:///mirrors/cpan/"
PERL_CR_SMOKER_CURRENT="Catalyst-Plugin-Assets-0.036"
PERL_EXTUTILS_AUTOINSTALL="--defaultdeps"
PERL_MM_USE_DEFAULT="1"
@INC:
/home/test/perl5/perlbrew/perls/perl-5.8.9-th/lib/5.8.9/x86_64-linux-thread-multi
/home/test/perl5/perlbrew/perls/perl-5.8.9-th/lib/5.8.9
/home/test/perl5/perlbrew/perls/perl-5.8.9-th/lib/site_perl/5.8.9/x86_64-linux-thread-multi
/home/test/perl5/perlbrew/perls/perl-5.8.9-th/lib/site_perl/5.8.9
.