Crypt-Password-Util v0.17 Perl 5 v5.26.3 x86_64-linux
- Status
- Pass
- From
- Slaven Rezić (SREZIC)
- Dist
-
Crypt-Password-Util v0.17
- Platform
- Perl 5 v5.26.3 x86_64-linux
- Date
- 2018-11-30 08:10:00
- ID
- 556d5e88-f477-11e8-b41b-f9aa8404fcde
This distribution has been tested as part of the CPAN Testers
project, supporting the Perl programming language. See
http://wiki.cpantesters.org/ for more information or email
questions to cpan-testers-discuss@perl.org
--
Dear perlancar,
This is a computer-generated report for Crypt-Password-Util-0.17
on perl 5.26.3, created by CPAN-Reporter-1.2018.
Thank you for uploading your work to CPAN. Congratulations!
All tests were successful.
Sections of this report:
* Tester comments
* Program output
* Prerequisites
* Environment and other context
------------------------------
TESTER COMMENTS
------------------------------
Additional comments from tester:
none provided
------------------------------
PROGRAM OUTPUT
------------------------------
Output from '/usr/bin/make test':
PERL_DL_NONLAZY=1 "/opt/perl-5.26.3/bin/perl5.26.3" "-MExtUtils::Command::MM" "-MTest::Harness" "-e" "undef *Test::Harness::Switches; test_harness(0, 'blib/lib', 'blib/arch')" t/*.t
t/00-compile.t ........... ok
# Some crypt() results on this system: [
# '$6$rounds=15000$rVGZW3q315M9OnjD$XWDTYhyN2gtuo1DkVVHTDEyc0Dh4geBcdVT2uArnvQfYk.SErGLnmSRtlLq7/bphyRMM/t9rbD1z9w4q1Z1CW1',
# '$6$rounds=15000$StYwF1NypVH0Kd7j$NQuYEpJ4iRX5zBnxztid6MGfbpRkm/RKN/Gna8OlsDQETy8sUUh0nl/tzcCyRCnWGI9m8uaOwKQOSpl.abNWK.',
# '$6$rounds=15000$YIL4og/a.kJlyjuO$0uWUeG4MgoHaedz.CBOtcAoRB3mBCI1HDsrDA9XtB3ccRUv2mrCuxi0vj48XgOA0OJ6Lb9pfxyTAc51BhxxUk0',
# '$6$rounds=15000$0l61da6z.0ZjB1uk$61MyA/QUn4spqp1ivZzA1nPRYLrfA/qpEMDdWJVumU5iDSy2y5GRSpAbc3e/M5.febI2vtq8m.iS4GFL3DYQD/',
# '$6$rounds=15000$nz6ZWvOKV/rDNwaY$ZboxZ6t8.il66bqW0cXiPVRjTwgB/9oHAVuMyTnz/.0gW1QdWq0F6Q4Kayy/nP6FSCU5iEmFoTu7xS9kczoeZ.'
# ]
t/01-basics.t ............ ok
t/author-pod-coverage.t .. skipped: these tests are for testing by the author
t/author-pod-syntax.t .... skipped: these tests are for testing by the author
All tests successful.
Files=4, Tests=27, 1 wallclock secs ( 0.04 usr 0.01 sys + 0.45 cusr 0.08 csys = 0.58 CPU)
Result: PASS
------------------------------
PREREQUISITES
------------------------------
Prerequisite modules loaded:
requires:
Module Need Have
--------------------- -------- --------
Bytes::Random::Secure 0 0.29
Config 0 5.026003
perl 5.010001 5.026003
build_requires:
Module Need Have
--------------------- -------- --------
ExtUtils::MakeMaker 0 7.24
File::Spec 0 3.67
IO::Handle 0 1.36
IPC::Open3 0 1.20
Sort::Versions 0 1.62
Test::More 0.98 1.302140
configure_requires:
Module Need Have
--------------------- -------- --------
ExtUtils::MakeMaker 0 7.24
------------------------------
ENVIRONMENT AND OTHER CONTEXT
------------------------------
Environment variables:
LANG = en_US.UTF-8
PATH = /usr/local/bin:/usr/bin:/bin:/usr/local/sbin:/usr/sbin:/sbin:/home/cpansand/bin/linux-gnu:/home/cpansand/bin/sh:/home/cpansand/bin:/usr/games:/home/cpansand/devel:/home/eserte/src/srezic-misc/scripts
PERL5LIB =
PERL5OPT =
PERL5_CPANPLUS_IS_RUNNING = 30738
PERL5_CPAN_IS_RUNNING = 30738
PERL5_CPAN_IS_RUNNING_IN_RECURSION = 30691,30738
PERLDOC = -MPod::Perldoc::ToTextOverstrike
PERL_BATCH = yes
PERL_CANARY_STABILITY_NOPROMPT = 1
PERL_CPAN_REPORTER_CONFIG = /var/tmp/cpansmoker-1023/2018113008/cpanreporter_001_config.ini
PERL_EXTUTILS_AUTOINSTALL = --defaultdeps
PERL_USE_UNSAFE_INC = 1
SHELL = /usr/bin/zsh
TERM = screen
TMPDIR = /var/tmp/cpansmoker-1023/2018113008
Perl special variables (and OS-specific diagnostics, for MSWin32):
$^X = /opt/perl-5.26.3/bin/perl5.26.3
$UID/$EUID = 1023 / 1023
$GID = 1023 1023
$EGID = 1023 1023
Perl module toolchain versions installed:
Module Have
------------------- ----------
CPAN 2.18
CPAN::Meta 2.150010
Cwd 3.67
ExtUtils::CBuilder 0.280225
ExtUtils::Command 7.24
ExtUtils::Install 2.04
ExtUtils::MakeMaker 7.24
ExtUtils::Manifest 1.70
ExtUtils::ParseXS 3.34
File::Spec 3.67
JSON 2.97001
JSON::PP 2.27400_02
Module::Build 0.4224
Module::Signature 0.83
Parse::CPAN::Meta 2.150010
Test::Harness 3.38
Test::More 1.302140
YAML 1.27
YAML::Syck 1.31
version 0.9917
--
Summary of my perl5 (revision 5 version 26 subversion 3) configuration:
Platform:
osname=linux
osvers=3.10.0-862.14.4.el7.x86_64
archname=x86_64-linux
uname='linux centos-4gb-hel1-1 3.10.0-862.14.4.el7.x86_64 #1 smp wed sep 26 15:12:11 utc 2018 x86_64 x86_64 x86_64 gnulinux '
config_args='-ds -e -Dprefix=/opt/perl-5.26.3 -Dcf_email=srezic@cpan.org'
hint=recommended
useposix=true
d_sigaction=define
useithreads=undef
usemultiplicity=undef
use64bitint=define
use64bitall=define
uselongdouble=undef
usemymalloc=n
default_inc_excludes_dot=define
bincompat5005=undef
Compiler:
cc='cc'
ccflags ='-fwrapv -fno-strict-aliasing -pipe -fstack-protector-strong -I/usr/local/include -D_LARGEFILE_SOURCE -D_FILE_OFFSET_BITS=64 -D_FORTIFY_SOURCE=2'
optimize='-O2'
cppflags='-fwrapv -fno-strict-aliasing -pipe -fstack-protector-strong -I/usr/local/include'
ccversion=''
gccversion='4.8.5 20150623 (Red Hat 4.8.5-28)'
gccosandvers=''
intsize=4
longsize=8
ptrsize=8
doublesize=8
byteorder=12345678
doublekind=3
d_longlong=define
longlongsize=8
d_longdbl=define
longdblsize=16
longdblkind=3
ivtype='long'
ivsize=8
nvtype='double'
nvsize=8
Off_t='off_t'
lseeksize=8
alignbytes=8
prototype=define
Linker and Libraries:
ld='cc'
ldflags =' -fstack-protector-strong -L/usr/local/lib'
libpth=/usr/local/lib /usr/lib /lib/../lib64 /usr/lib/../lib64 /lib /lib64 /usr/lib64 /usr/local/lib64
libs=-lpthread -lnsl -lgdbm -ldb -ldl -lm -lcrypt -lutil -lc -lgdbm_compat
perllibs=-lpthread -lnsl -ldl -lm -lcrypt -lutil -lc
libc=libc-2.17.so
so=so
useshrplib=false
libperl=libperl.a
gnulibc_version='2.17'
Dynamic Linking:
dlsrc=dl_dlopen.xs
dlext=so
d_dlsymun=undef
ccdlflags='-Wl,-E'
cccdlflags='-fPIC'
lddlflags='-shared -O2 -L/usr/local/lib -fstack-protector-strong'
Characteristics of this binary (from libperl):
Compile-time options:
HAS_TIMES
PERLIO_LAYERS
PERL_COPY_ON_WRITE
PERL_DONT_CREATE_GVSV
PERL_MALLOC_WRAP
PERL_OP_PARENT
PERL_PRESERVE_IVUV
USE_64_BIT_ALL
USE_64_BIT_INT
USE_LARGE_FILES
USE_LOCALE
USE_LOCALE_COLLATE
USE_LOCALE_CTYPE
USE_LOCALE_NUMERIC
USE_LOCALE_TIME
USE_PERLIO
USE_PERL_ATOF
Built under linux
Compiled at Nov 29 2018 22:53:06
%ENV:
PERL5LIB=""
PERL5OPT=""
PERL5_CPANPLUS_IS_RUNNING="30738"
PERL5_CPAN_IS_RUNNING="30738"
PERL5_CPAN_IS_RUNNING_IN_RECURSION="30691,30738"
PERLDOC="-MPod::Perldoc::ToTextOverstrike"
PERL_BATCH="yes"
PERL_CANARY_STABILITY_NOPROMPT="1"
PERL_CPAN_REPORTER_CONFIG="/var/tmp/cpansmoker-1023/2018113008/cpanreporter_001_config.ini"
PERL_EXTUTILS_AUTOINSTALL="--defaultdeps"
PERL_USE_UNSAFE_INC="1"
@INC:
/opt/perl-5.26.3/lib/site_perl/5.26.3/x86_64-linux
/opt/perl-5.26.3/lib/site_perl/5.26.3
/opt/perl-5.26.3/lib/5.26.3/x86_64-linux
/opt/perl-5.26.3/lib/5.26.3
.