Text-Amuse-Preprocessor v0.67 Perl 5 v5.39.1 x86_64-linux

Status
Pass
From
Andreas J. König (ANDK)
Dist
Text-Amuse-Preprocessor v0.67
Platform
Perl 5 v5.39.1 x86_64-linux
Date
2023-08-21 06:45:36
ID
5566c3d0-3fee-11ee-958a-9a78eae94e4e
This distribution has been tested as part of the CPAN Testers
project, supporting the Perl programming language.  See
http://wiki.cpantesters.org/ for more information or email
questions to cpan-testers-discuss@perl.org


--
Dear Marco Pessotto,

This is a computer-generated report for Text-Amuse-Preprocessor-0.67
on perl 5.39.1, created by CPAN-Reporter-1.2019.

Thank you for uploading your work to CPAN.  Congratulations!
All tests were successful.

Sections of this report:

    * Tester comments
    * Program output
    * Prerequisites
    * Environment and other context

------------------------------
TESTER COMMENTS
------------------------------

Additional comments from tester:

this report is from an automated smoke testing program
and was not reviewed by a human for accuracy

------------------------------
PROGRAM OUTPUT
------------------------------

Output from '/usr/bin/make test':

PERL_DL_NONLAZY=1 "/tmp/basesmoker-reloperl-AXeA/bin/perl" "-MExtUtils::Command::MM" "-MTest::Harness" "-e" "undef *Test::Harness::Switches; test_harness(0, 'blib/lib', 'blib/arch')" t/*.t
# Testing Text::Amuse::Preprocessor 0.67, Perl 5.039001, /tmp/basesmoker-reloperl-AXeA/bin/perl
t/00-load.t ........... ok
t/changes.t ........... skipped: Changes testing not required (or Test::CPAN::Changes not found)
t/chars.t ............. ok
t/chinese.t ........... ok
# Using /tmp/rjNPQHdCVl for ligatures
# Using /tmp/8kmzDedf3Q for missing_nl
# Using /tmp/p8k9DJIndn for garbage
# Using /tmp/YDcwhRT8FE for ellipsis_no_fix
# Using /tmp/W1lMFcL_Of for ellipsis
# Using /tmp/ZWbbK97VN9 for links
# Using /tmp/m5Aq02wwg0 for en
# Using /tmp/TMm2aI1e0E for fi
# Using /tmp/EzzzGCzD8Q for es
# Using /tmp/iesFWrw8as for sr
# Using /tmp/aVd84VFsbS for hr
# Using /tmp/tFUy_Jb04v for ru
# Using /tmp/6mFBmu1y39 for it
# Using /tmp/NiW6MlpfMh for mk
# Using /tmp/1F1HLumYDL for sv
# Using /tmp/Y5yGHcPhlD for de
# Using /tmp/4I_H_85e6_ for pl
# Using /tmp/XHQ0l1c5SP for bg
# Using /tmp/ipyofyGRqn for eo
# Using /tmp/GwyG75hvRF for fr
# Using /tmp/oxBW8pyDdA for pt
# Using /tmp/yO_rDzjGuB for sq
# Using /tmp/lv0OwnzwJU for da
# Using /tmp/HUYEh4HvDf for nl
# Using /tmp/TBtEKhi0sp for id
# Using /tmp/m1HKV6O9GH for Full example
# Using /tmp/V4ugiEQC2M for Quote
# Using /tmp/RxaBpfxDZI for Quote
# Using /tmp/xY7o1FzEKK for Nl quotation
t/common.t ............ ok
t/crash-on-verb.t ..... ok
# $VAR1 = "#title Test
# #lang en
# 
# 0
# 
# \x{201c}0\x{201d}
# 
# 0
# ";
# $VAR1 = "#title Test
# #lang en
# 
# 0
# 
# \x{201c}0\x{201d}
# 
# 0
# ";
t/crash_on_loop.t ..... ok
# /tmp/6AcG7Nnw7s/verbatim-in.muse
# /tmp/6AcG7Nnw7s
t/exclude-verbatim.t .. ok
tagpile mismatch: meta, head
tagpile mismatch: head, html
tagpile mismatch: link, head
tagpile mismatch: hr, div
tagpile mismatch: br, body
tagpile mismatch: div, html
# 
# 
# <right>
# سلام من هیچکسی نیستم.[1]
# </right>
# 
# <br>
# 
# [1] https://amusewiki.org
# 
tagpile mismatch: link, head
tagpile mismatch: hr, div
tagpile mismatch: br, body
tagpile mismatch: div, html
# 
# 
# سلام من هیچکسی نیستم.[1]
# 
# <br>
# 
# [1] https://amusewiki.org
# 
t/farsi.t ............. ok
# Testing t/footnotes/good.in => t/footnotes/good.out
# Testing t/footnotes/good2.in => t/footnotes/good2.out
# Testing t/footnotes/good3.in => t/footnotes/good3.out
# Testing t/footnotes/mixed.in => t/footnotes/mixed.out
# Testing t/footnotes/indentation.in => t/footnotes/indentation.out
# Testing t/footnotes/sec-good.in => t/footnotes/sec-good.out
# Testing t/footnotes/sec-good2.in => t/footnotes/sec-good2.out
# Testing t/footnotes/sec-good3.in => t/footnotes/sec-good3.out
# Testing t/footnotes/sec-bad.in => t/footnotes/sec-bad.out
# @@ -1 +1,2 @@
# -{4}
# +{3}
# +{3}
# Testing t/footnotes/sec-bad2.in => t/footnotes/sec-bad2.out
# @@ -1,3 +1,2 @@
# -{4}
# +{3}
# -{5}
# +{3}
# -{6}
# Testing t/footnotes/bad.in => t/footnotes/bad.out
# @@ -1,2 +1,3 @@
#  [1]
# -[1]
# +[2]
# +[4]
# Testing t/footnotes/bad2.in => t/footnotes/bad2.out
# @@ -1,4 +1,3 @@
#  [1]
# -[1]
# +[2]
#  [4]
# -[5]
t/footnotes.t ......... ok
tagpile mismatch: root, p
t/html-2.t ............ ok
# Using /tmp/tvRvySQ6l1.html
# Using /tmp/E2tEzpKZY6.html
# Using /tmp/fC87Ety5H4.html
# Using /tmp/SIBDscEwsg.html
# Using /tmp/M5V9fJJ1uT.html
# Using /tmp/J0LeIX_6mN.html
# Using /tmp/r7pP5mhqBh.html
# Using /tmp/wk7Ux7BYEh.html
# Using /tmp/9IV97VparT.html
# Using /tmp/e_90eP2dUY.html
# Using /tmp/1VOio3yuoD.html
# Using /tmp/tBydbBBtre.html
# Using /tmp/WoNZ6ZcPpb.html
# Using /tmp/1N9HYZc4XF.html
# Using /tmp/ByQPeh7KiO.html
# Using /tmp/yx2v46n6r3.html
# Using /tmp/TLkaHMmXYX.html
t/html.t .............. ok
# Retrieved on February 2, 2011 from http://j12.org/spunk/library/writers/meltzer/sp001500.html
# Retrieved on February 2, 2011 from [[http://j12.org/spunk/library/writers/meltzer/sp001500.html][j12.org]]
# Retrieved on December 22, 2011 from http://libertarian-labyrinth.org/archive/The_Great_Debacle
# Retrieved on December 22, 2011 from [[http://libertarian-labyrinth.org/archive/The_Great_Debacle][libertarian-labyrinth.org]]
# <br>http://www.nancho.net/advisors/anaes.html<br>
# <br>[[http://www.nancho.net/advisors/anaes.html][www.nancho.net]]<br>
# http://www.nancho.net/advisors/anaes.html<br>http://www.nancho.net/advisors/anaes.html<br>
# [[http://www.nancho.net/advisors/anaes.html][www.nancho.net]]<br>[[http://www.nancho.net/advisors/anaes.html][www.nancho.net]]<br>
#  https://web.archive.org/web/20220504202253/https://amusewiki.org/special/index 
#  [[https://web.archive.org/web/20220504202253/https://amusewiki.org/special/index][web.archive.org]] 
#  [[https://web.archive.org/web/20220504202253/https://amusewiki.org/special/index][web.archive.org]] 
#  [[https://web.archive.org/web/20220504202253/https://amusewiki.org/special/index][web.archive.org]] 
# http://test.org/xx and http://test.org/xx
# [[http://test.org/xx][test.org]] and [[http://test.org/xx][test.org]]
# [[http://test.org/xx][test.org]] and [[http://test.org/xx][test.org]]
# [[http://test.org/xx][test.org]] and [[http://test.org/xx][test.org]]
# http://test.org/xx and [[http://test.org/xx][test.org]]
# [[http://test.org/xx][test.org]] and [[http://test.org/xx][test.org]]
# http://test.org/xx and http://test.org/xx][test.org]] 
# [[http://test.org/xx][test.org]] and http://test.org/xx][test.org]] 
# <http://test.org/xx> and >http://test.org/xx<
# <[[http://test.org/xx][test.org]]> and >[[http://test.org/xx][test.org]]<
# <http://test.org/xx> and https://test.org:80/>http://test.org/xx< and https://test.org/ and [[https://test.org/][test.org]]
# <[[http://test.org/xx][test.org]]> and [[https://test.org:80/][test.org]]>[[http://test.org/xx][test.org]]< and [[https://test.org/][test.org]] and [[https://test.org/][test.org]]
# https://example.com/@test and https://example.com/@test
# [[https://example.com/@test][example.com]] and [[https://example.com/@test][example.com]]
# (http://en.wikipedia.org/wiki/Pi_%28instrument%29)
# ([[http://en.wikipedia.org/wiki/Pi_%28instrument%29][en.wikipedia.org]])
# (http://en.wikipedia.org?test=1)
# ([[http://en.wikipedia.org?test=1][en.wikipedia.org]])
# (http://en.wikipedia.org?test=1&test=2) (http://en.wikipedia.org/test?test=1)
# ([[http://en.wikipedia.org?test=1&test=2][en.wikipedia.org]]) ([[http://en.wikipedia.org/test?test=1][en.wikipedia.org]])
t/links.t ............. ok
t/manifest.t .......... skipped: Author tests not required for installation
t/memory-cycles.t ..... ok
t/nbsp.t .............. ok
# Infile is /tmp/5rHEFMOYTa/input.txt
# Using /tmp/pjoRk8ztcx as temporary dir
t/object.t ............ ok
t/pod-coverage.t ...... skipped: Pod coverage not required for installation
t/pod.t ............... skipped: Pod test not required for installation
t/russian.t ........... ok
t/subs.t .............. ok
t/typography.t ........ ok
All tests successful.
Files=22, Tests=481,  3 wallclock secs ( 0.11 usr  0.03 sys +  2.76 cusr  0.62 csys =  3.52 CPU)
Result: PASS

------------------------------
PREREQUISITES
------------------------------

Prerequisite modules loaded:

requires:

    Module              Need Have    
    ------------------- ---- --------
    HTML::PullParser    0    3.81    
    IO::HTML            1    1.004   
    Pod::Simple::Wiki   0.19 0.20    
    Text::Amuse         0.95 1.83    
    Text::Diff          0    1.45    

build_requires:

    Module              Need Have    
    ------------------- ---- --------
    Test::More          0    1.302195

configure_requires:

    Module              Need Have    
    ------------------- ---- --------
    ExtUtils::MakeMaker 0    7.70    


------------------------------
ENVIRONMENT AND OTHER CONTEXT
------------------------------

Environment variables:

    AUTOMATED_TESTING = 1
    LANG = en_US.UTF-8
    PATH = /home/sand/bin:/usr/local/bin:/usr/local/sbin:/usr/sbin:/usr/bin:/sbin:/bin:/usr/games:/usr/local/games:/snap/bin:/usr/local/perl/bin:/usr/X11/bin
    PERL5LIB = /tmp/loop_over_bdir-461267-pTz0bG/MP3-PodcastFetch-1.05-0/blib/arch:/tmp/loop_over_bdir-461267-pTz0bG/MP3-PodcastFetch-1.05-0/blib/lib:/tmp/loop_over_bdir-461267-pTz0bG/Debian-Packages-0.03-0/blib/arch:/tmp/loop_over_bdir-461267-pTz0bG/Debian-Packages-0.03-0/blib/lib:/tmp/loop_over_bdir-461267-pTz0bG/ProjectBuilder-0.14.1-0/blib/arch:/tmp/loop_over_bdir-461267-pTz0bG/ProjectBuilder-0.14.1-0/blib/lib:/tmp/loop_over_bdir-461267-pTz0bG/Simulation-Automate-1.0.1-0/blib/arch:/tmp/loop_over_bdir-461267-pTz0bG/Simulation-Automate-1.0.1-0/blib/lib:/tmp/loop_over_bdir-461267-pTz0bG/Business-Shipping-DataFiles-1.02-0/blib/arch:/tmp/loop_over_bdir-461267-pTz0bG/Business-Shipping-DataFiles-1.02-0/blib/lib:/tmp/loop_over_bdir-461267-pTz0bG/Devel-Required-0.16-0/blib/arch:/tmp/loop_over_bdir-461267-pTz0bG/Devel-Required-0.16-0/blib/lib:/tmp/loop_over_bdir-461267-pTz0bG/CORBA-Python-2.66-0/blib/arch:/tmp/loop_over_bdir-461267-pTz0bG/CORBA-Python-2.66-0/blib/lib:/tmp/loop_over_bdir-461267-pTz0bG/EJBCA-CrlPublish-0.60-0/blib/arch:/tmp/loop_over_bdir-461267-pTz0bG/EJBCA-CrlPublish-0.60-0/blib/lib:/tmp/loop_over_bdir-461267-pTz0bG/DBIx-Migration-Directories-0.12-0/blib/arch:/tmp/loop_over_bdir-461267-pTz0bG/DBIx-Migration-Directories-0.12-0/blib/lib:/tmp/loop_over_bdir-461267-pTz0bG/Sysync-0.35-0/blib/arch:/tmp/loop_over_bdir-461267-pTz0bG/Sysync-0.35-0/blib/lib:/tmp/loop_over_bdir-461267-pTz0bG/js-app-0.13-0/blib/arch:/tmp/loop_over_bdir-461267-pTz0bG/js-app-0.13-0/blib/lib:/tmp/loop_over_bdir-461267-pTz0bG/dta-tokwrap-0.98-0/blib/arch:/tmp/loop_over_bdir-461267-pTz0bG/dta-tokwrap-0.98-0/blib/lib:/tmp/loop_over_bdir-461267-pTz0bG/Lingua-YaTeA-0.626-0/blib/arch:/tmp/loop_over_bdir-461267-pTz0bG/Lingua-YaTeA-0.626-0/blib/lib:/tmp/loop_over_bdir-461267-pTz0bG/triceps-2.1.0-0/blib/arch:/tmp/loop_over_bdir-461267-pTz0bG/triceps-2.1.0-0/blib/lib
    PERL5OPT = 
    PERL5_CPANPLUS_IS_RUNNING = 461275
    PERL5_CPAN_IS_RUNNING = 461275
    PERL_CANARY_STABILITY_NOPROMPT = 1
    PERL_MM_USE_DEFAULT = 1
    PERL_USE_UNSAFE_INC = 1
    SHELL = /usr/bin/zsh
    TERM = screen

Perl special variables (and OS-specific diagnostics, for MSWin32):

    $^X = /tmp/basesmoker-reloperl-AXeA/bin/perl
    $UID/$EUID = 1005 / 1005
    $GID = 1005 1005
    $EGID = 1005 1005

Perl module toolchain versions installed:

    Module              Have    
    ------------------- --------
    CPAN                2.36    
    CPAN::Meta          2.150010
    Cwd                 3.89    
    ExtUtils::CBuilder  0.280239
    ExtUtils::Command   7.70    
    ExtUtils::Install   2.22    
    ExtUtils::MakeMaker 7.70    
    ExtUtils::Manifest  1.75    
    ExtUtils::ParseXS   3.51    
    File::Spec          3.88    
    JSON                4.10    
    JSON::PP            4.16    
    Module::Build       0.4234  
    Module::Signature   0.88    
    Parse::CPAN::Meta   2.150010
    Test2               1.302195
    Test::Harness       3.47    
    Test::More          1.302195
    YAML                1.30    
    YAML::Syck          1.34    
    version             0.9929  


--

Summary of my perl5 (revision 5 version 39 subversion 1) configuration:
  Commit id: 8c6729f5e3d051878ec60933bcc19650d2dddb85
  Platform:
    osname=linux
    osvers=5.4.0-155-generic
    archname=x86_64-linux
    uname='linux k93focal 5.4.0-155-generic #172-ubuntu smp fri jul 7 16:10:02 utc 2023 x86_64 x86_64 x86_64 gnulinux '
    config_args='-Dprefix=/home/sand/src/perl/repoperls/installed-perls/host/k93focal/v5.39.1/b254 -Dmyhostname=k93focal -Dinstallusrbinperl=n -Uversiononly -Dusedevel -des -Ui_db -Dlibswanted=cl pthread socket inet nsl gdbm dbm malloc dl ld sun m crypt sec util c cposix posix ucb BSD gdbm_compat -Uuseithreads -Uuselongdouble -DEBUGGING=both'
    hint=recommended
    useposix=true
    d_sigaction=define
    useithreads=undef
    usemultiplicity=undef
    use64bitint=define
    use64bitall=define
    uselongdouble=undef
    usemymalloc=n
    default_inc_excludes_dot=define
  Compiler:
    cc='cc'
    ccflags ='-fwrapv -DDEBUGGING -fno-strict-aliasing -pipe -fstack-protector-strong -I/usr/local/include -D_LARGEFILE_SOURCE -D_FILE_OFFSET_BITS=64'
    optimize='-O2 -g'
    cppflags='-fwrapv -DDEBUGGING -fno-strict-aliasing -pipe -fstack-protector-strong -I/usr/local/include'
    ccversion=''
    gccversion='9.4.0'
    gccosandvers=''
    intsize=4
    longsize=8
    ptrsize=8
    doublesize=8
    byteorder=12345678
    doublekind=3
    d_longlong=define
    longlongsize=8
    d_longdbl=define
    longdblsize=16
    longdblkind=3
    ivtype='long'
    ivsize=8
    nvtype='double'
    nvsize=8
    Off_t='off_t'
    lseeksize=8
    alignbytes=8
    prototype=define
  Linker and Libraries:
    ld='cc'
    ldflags =' -fstack-protector-strong -L/usr/local/lib'
    libpth=/usr/local/lib /usr/lib/x86_64-linux-gnu /usr/lib /usr/lib64
    libs=-lpthread -lnsl -ldl -lm -lcrypt -lutil -lc
    perllibs=-lpthread -lnsl -ldl -lm -lcrypt -lutil -lc
    libc=libc-2.31.so
    so=so
    useshrplib=false
    libperl=libperl.a
    gnulibc_version='2.31'
  Dynamic Linking:
    dlsrc=dl_dlopen.xs
    dlext=so
    d_dlsymun=undef
    ccdlflags='-Wl,-E'
    cccdlflags='-fPIC'
    lddlflags='-shared -O2 -g -L/usr/local/lib -fstack-protector-strong'


Characteristics of this binary (from libperl): 
  Compile-time options:
    DEBUGGING
    HAS_LONG_DOUBLE
    HAS_STRTOLD
    HAS_TIMES
    PERLIO_LAYERS
    PERL_COPY_ON_WRITE
    PERL_DONT_CREATE_GVSV
    PERL_HASH_FUNC_SIPHASH13
    PERL_HASH_USE_SBOX32
    PERL_MALLOC_WRAP
    PERL_OP_PARENT
    PERL_PRESERVE_IVUV
    PERL_USE_DEVEL
    PERL_USE_SAFE_PUTENV
    USE_64_BIT_ALL
    USE_64_BIT_INT
    USE_LARGE_FILES
    USE_LOCALE
    USE_LOCALE_COLLATE
    USE_LOCALE_CTYPE
    USE_LOCALE_NUMERIC
    USE_LOCALE_TIME
    USE_PERLIO
    USE_PERL_ATOF
  Built under linux
  Compiled at Aug 16 2023 04:01:54
  %ENV:
    PERL5LIB="/tmp/loop_over_bdir-461267-pTz0bG/MP3-PodcastFetch-1.05-0/blib/arch:/tmp/loop_over_bdir-461267-pTz0bG/MP3-PodcastFetch-1.05-0/blib/lib:/tmp/loop_over_bdir-461267-pTz0bG/Debian-Packages-0.03-0/blib/arch:/tmp/loop_over_bdir-461267-pTz0bG/Debian-Packages-0.03-0/blib/lib:/tmp/loop_over_bdir-461267-pTz0bG/ProjectBuilder-0.14.1-0/blib/arch:/tmp/loop_over_bdir-461267-pTz0bG/ProjectBuilder-0.14.1-0/blib/lib:/tmp/loop_over_bdir-461267-pTz0bG/Simulation-Automate-1.0.1-0/blib/arch:/tmp/loop_over_bdir-461267-pTz0bG/Simulation-Automate-1.0.1-0/blib/lib:/tmp/loop_over_bdir-461267-pTz0bG/Business-Shipping-DataFiles-1.02-0/blib/arch:/tmp/loop_over_bdir-461267-pTz0bG/Business-Shipping-DataFiles-1.02-0/blib/lib:/tmp/loop_over_bdir-461267-pTz0bG/Devel-Required-0.16-0/blib/arch:/tmp/loop_over_bdir-461267-pTz0bG/Devel-Required-0.16-0/blib/lib:/tmp/loop_over_bdir-461267-pTz0bG/CORBA-Python-2.66-0/blib/arch:/tmp/loop_over_bdir-461267-pTz0bG/CORBA-Python-2.66-0/blib/lib:/tmp/loop_over_bdir-461267-pTz0bG/EJBCA-CrlPublish-0.60-0/blib/arch:/tmp/loop_over_bdir-461267-pTz0bG/EJBCA-CrlPublish-0.60-0/blib/lib:/tmp/loop_over_bdir-461267-pTz0bG/DBIx-Migration-Directories-0.12-0/blib/arch:/tmp/loop_over_bdir-461267-pTz0bG/DBIx-Migration-Directories-0.12-0/blib/lib:/tmp/loop_over_bdir-461267-pTz0bG/Sysync-0.35-0/blib/arch:/tmp/loop_over_bdir-461267-pTz0bG/Sysync-0.35-0/blib/lib:/tmp/loop_over_bdir-461267-pTz0bG/js-app-0.13-0/blib/arch:/tmp/loop_over_bdir-461267-pTz0bG/js-app-0.13-0/blib/lib:/tmp/loop_over_bdir-461267-pTz0bG/dta-tokwrap-0.98-0/blib/arch:/tmp/loop_over_bdir-461267-pTz0bG/dta-tokwrap-0.98-0/blib/lib:/tmp/loop_over_bdir-461267-pTz0bG/Lingua-YaTeA-0.626-0/blib/arch:/tmp/loop_over_bdir-461267-pTz0bG/Lingua-YaTeA-0.626-0/blib/lib:/tmp/loop_over_bdir-461267-pTz0bG/triceps-2.1.0-0/blib/arch:/tmp/loop_over_bdir-461267-pTz0bG/triceps-2.1.0-0/blib/lib"
    PERL5OPT=""
    PERL5_CPANPLUS_IS_RUNNING="461275"
    PERL5_CPAN_IS_RUNNING="461275"
    PERL_CANARY_STABILITY_NOPROMPT="1"
    PERL_MM_USE_DEFAULT="1"
    PERL_USE_UNSAFE_INC="1"
  @INC:
    /tmp/loop_over_bdir-461267-pTz0bG/MP3-PodcastFetch-1.05-0/blib/arch
    /tmp/loop_over_bdir-461267-pTz0bG/MP3-PodcastFetch-1.05-0/blib/lib
    /tmp/loop_over_bdir-461267-pTz0bG/Debian-Packages-0.03-0/blib/arch
    /tmp/loop_over_bdir-461267-pTz0bG/Debian-Packages-0.03-0/blib/lib
    /tmp/loop_over_bdir-461267-pTz0bG/ProjectBuilder-0.14.1-0/blib/arch
    /tmp/loop_over_bdir-461267-pTz0bG/ProjectBuilder-0.14.1-0/blib/lib
    /tmp/loop_over_bdir-461267-pTz0bG/Simulation-Automate-1.0.1-0/blib/arch
    /tmp/loop_over_bdir-461267-pTz0bG/Simulation-Automate-1.0.1-0/blib/lib
    /tmp/loop_over_bdir-461267-pTz0bG/Business-Shipping-DataFiles-1.02-0/blib/arch
    /tmp/loop_over_bdir-461267-pTz0bG/Business-Shipping-DataFiles-1.02-0/blib/lib
    /tmp/loop_over_bdir-461267-pTz0bG/Devel-Required-0.16-0/blib/arch
    /tmp/loop_over_bdir-461267-pTz0bG/Devel-Required-0.16-0/blib/lib
    /tmp/loop_over_bdir-461267-pTz0bG/CORBA-Python-2.66-0/blib/arch
    /tmp/loop_over_bdir-461267-pTz0bG/CORBA-Python-2.66-0/blib/lib
    /tmp/loop_over_bdir-461267-pTz0bG/EJBCA-CrlPublish-0.60-0/blib/arch
    /tmp/loop_over_bdir-461267-pTz0bG/EJBCA-CrlPublish-0.60-0/blib/lib
    /tmp/loop_over_bdir-461267-pTz0bG/DBIx-Migration-Directories-0.12-0/blib/arch
    /tmp/loop_over_bdir-461267-pTz0bG/DBIx-Migration-Directories-0.12-0/blib/lib
    /tmp/loop_over_bdir-461267-pTz0bG/Sysync-0.35-0/blib/arch
    /tmp/loop_over_bdir-461267-pTz0bG/Sysync-0.35-0/blib/lib
    /tmp/loop_over_bdir-461267-pTz0bG/js-app-0.13-0/blib/arch
    /tmp/loop_over_bdir-461267-pTz0bG/js-app-0.13-0/blib/lib
    /tmp/loop_over_bdir-461267-pTz0bG/dta-tokwrap-0.98-0/blib/arch
    /tmp/loop_over_bdir-461267-pTz0bG/dta-tokwrap-0.98-0/blib/lib
    /tmp/loop_over_bdir-461267-pTz0bG/Lingua-YaTeA-0.626-0/blib/arch
    /tmp/loop_over_bdir-461267-pTz0bG/Lingua-YaTeA-0.626-0/blib/lib
    /tmp/loop_over_bdir-461267-pTz0bG/triceps-2.1.0-0/blib/arch
    /tmp/loop_over_bdir-461267-pTz0bG/triceps-2.1.0-0/blib/lib
    /home/sand/src/perl/repoperls/installed-perls/host/k93focal/v5.39.1/b254/lib/site_perl/5.39.1/x86_64-linux
    /home/sand/src/perl/repoperls/installed-perls/host/k93focal/v5.39.1/b254/lib/site_perl/5.39.1
    /home/sand/src/perl/repoperls/installed-perls/host/k93focal/v5.39.1/b254/lib/5.39.1/x86_64-linux
    /home/sand/src/perl/repoperls/installed-perls/host/k93focal/v5.39.1/b254/lib/5.39.1
    .