Report for DBIx-Class-InflateColumn-Serializer-Role-HashContentAccessor-0.001000

Back
From: metabase:user:314402c4-2aae-11df-837a-5e0a49663a4f
Subject: PASS DBIx-Class-InflateColumn-Serializer-Role-HashContentAccessor-0.001000 v5.20.2 FreeBSD
Date: 2015-03-03T21:14:52Z

This distribution has been tested as part of the CPAN Testers
project, supporting the Perl programming language.  See
http://wiki.cpantesters.org/ for more information or email
questions to cpan-testers-discuss@perl.org


--
Dear Manfred Stock,

This is a computer-generated report for DBIx-Class-InflateColumn-Serializer-Role-HashContentAccessor-0.001000
on perl 5.20.2, created by CPAN-Reporter-1.2011.

Thank you for uploading your work to CPAN.  Congratulations!
All tests were successful.

Sections of this report:

    * Tester comments
    * Program output
    * Prerequisites
    * Environment and other context

------------------------------
TESTER COMMENTS
------------------------------

Additional comments from tester:

none provided

------------------------------
PROGRAM OUTPUT
------------------------------

Output from './Build test':

t/00-compile.t ......................................................... ok
# 
# 
# Generated by Dist::Zilla::Plugin::ReportVersions::Tiny v1.10
# perl: 5.020002 (wanted any version) on freebsd from /usr/perl5.20.2p/bin/perl
# 
# Carp                                          => 1.3301     (want any version)
# DBICx::TestDatabase                           => 0.05       (want any version)
# DBIx::Class::Core                             => <undef>    (want any version)
# DBIx::Class::InflateColumn::Serializer        => 0.07       (want any version)
# DBIx::Class::InflateColumn::Serializer::Hstore => 0.02       (want any version)
# DBIx::Class::InflateColumn::Serializer::JSON  => 0.07       (want any version)
# DBIx::Class::Schema                           => <undef>    (want any version)
# File::Find                                    => 1.27       (want any version)
# File::Temp                                    => 0.2304     (want any version)
# JSON::MaybeXS                                 => 1.003003   (want any version)
# Module::Build                                 => 0.4211     (want 0.3601) 
# Moose                                         => 2.1403     (want any version)
# MooseX::MarkAsMethods                         => 0.15       (want any version)
# MooseX::NonMoose                              => 0.26       (want any version)
# MooseX::Role::Parameterized                   => 1.08       (want any version)
# Pg::hstore                                    => 1.04       (want any version)
# Test::Class                                   => 0.48       (want any version)
# Test::Exception                               => 0.38       (want any version)
# Test::More                                    => 1.001014   (want 0.88)   
# parent                                        => 0.228      (want any version)
# strict                                        => 1.08       (want any version)
# warnings                                      => 1.23       (want any version)
# 
# Thanks for using my code.  I hope it works for you.
# If not, please try and include this output in the bug report.
# That will help me reproduce the issue and solve your problem.
# 
t/000-report-versions-tiny.t ........................................... ok
t/author-critic.t ...................................................... skipped: these tests are for testing by the author
t/author-test-eol.t .................................................... skipped: these tests are for testing by the author
t/d-b-ix.class.inflate-column.serializer.role.hash-content-accessor.t .. ok
t/release-cpan-changes.t ............................................... skipped: these tests are for release candidate testing
t/release-distmeta.t ................................................... skipped: these tests are for release candidate testing
t/release-pod-coverage.t ............................................... skipped: these tests are for release candidate testing
t/release-pod-syntax.t ................................................. skipped: these tests are for release candidate testing
All tests successful.
Files=9, Tests=30,  4 wallclock secs ( 0.08 usr  0.05 sys +  3.41 cusr  0.69 csys =  4.22 CPU)
Result: PASS

------------------------------
PREREQUISITES
------------------------------

Prerequisite modules loaded:

requires:

    Module                                         Need   Have    
    ---------------------------------------------- ------ --------
    Carp                                           0      1.3301  
    MooseX::Role::Parameterized                    0      1.08    

build_requires:

    Module                                         Need   Have    
    ---------------------------------------------- ------ --------
    DBICx::TestDatabase                            0      0.05    
    DBIx::Class::Core                              0      0       
    DBIx::Class::InflateColumn::Serializer         0      0.07    
    DBIx::Class::InflateColumn::Serializer::Hstore 0      0.02    
    DBIx::Class::InflateColumn::Serializer::JSON   0      0.07    
    DBIx::Class::Schema                            0      0       
    File::Find                                     0      1.27    
    File::Temp                                     0      0.2304  
    JSON::MaybeXS                                  0      1.003003
    Module::Build                                  0.3601 0.4211  
    Moose                                          0      2.1403  
    MooseX::MarkAsMethods                          0      0.15    
    MooseX::NonMoose                               0      0.26    
    parent                                         0      0.228   
    Pg::hstore                                     0      1.04    
    strict                                         0      1.08    
    Test::Class                                    0      0.48    
    Test::Exception                                0      0.38    
    Test::More                                     0.88   1.001014
    warnings                                       0      1.23    

configure_requires:

    Module                                         Need   Have    
    ---------------------------------------------- ------ --------
    Module::Build                                  0.3601 0.4211  


------------------------------
ENVIRONMENT AND OTHER CONTEXT
------------------------------

Environment variables:

    DBIC_NO_WARN_BAD_PERL = 1
    LC_ALL = de_DE.ISO8859-1
    PATH = /usr/local/bin:/usr/bin:/bin:/usr/local/sbin:/usr/sbin:/sbin:/home/cpansand/bin/freebsd10.0:/home/cpansand/bin/sh:/home/cpansand/bin:/usr/games:/home/cpansand/devel:/home/eserte/src/srezic-misc/scripts
    PERL5LIB = /home/cpansand/.cpan/build/DBIx-Class-InflateColumn-Serializer-Hstore-0.02-KmPJ9Q/blib/arch:/home/cpansand/.cpan/build/DBIx-Class-InflateColumn-Serializer-Hstore-0.02-KmPJ9Q/blib/lib:/home/cpansand/.cpan/build/DBIx-Class-InflateColumn-Serializer-0.07-p2Xoa7/blib/arch:/home/cpansand/.cpan/build/DBIx-Class-InflateColumn-Serializer-0.07-p2Xoa7/blib/lib:/home/cpansand/.cpan/build/Pg-hstore-1.04-GLW2ou/blib/arch:/home/cpansand/.cpan/build/Pg-hstore-1.04-GLW2ou/blib/lib:/home/cpansand/.cpan/build/Data-asXML-0.06-U4Z2ky/blib/arch:/home/cpansand/.cpan/build/Data-asXML-0.06-U4Z2ky/blib/lib:/home/cpansand/.cpan/build/Dancer2-Plugin-Auth-OAuth-0.05-Ha9Q1k/blib/arch:/home/cpansand/.cpan/build/Dancer2-Plugin-Auth-OAuth-0.05-Ha9Q1k/blib/lib:/home/cpansand/.cpan/build/URI-Query-0.10-y_D_t2/blib/arch:/home/cpansand/.cpan/build/URI-Query-0.10-y_D_t2/blib/lib:/home/cpansand/.cpan/build/PAUSE-Packages-0.13-WTK8SO/blib/arch:/home/cpansand/.cpan/build/PAUSE-Packages-0.13-WTK8SO/blib/lib
    PERL5OPT = 
    PERL5_CPANPLUS_IS_RUNNING = 20811
    PERL5_CPAN_IS_RUNNING = 20811
    PERL5_CPAN_IS_RUNNING_IN_RECURSION = 20790,20811
    PERLDOC = -MPod::Perldoc::ToTextOverstrike
    PERL_BATCH = yes
    PERL_CPAN_REPORTER_CONFIG = /var/tmp/cpansmoker-1023/cF6xVzXAGw_config.ini
    PERL_EXTUTILS_AUTOINSTALL = --defaultdeps
    PERL_HTML_DISPLAY_CLASS = HTML::Display::Mozilla
    SHELL = /usr/local/bin/zsh
    TERM = screen
    TMPDIR = /var/tmp/cpansmoker-1023

Perl special variables (and OS-specific diagnostics, for MSWin32):

    $^X = /usr/perl5.20.2p/bin/perl
    $UID/$EUID = 1023 / 1023
    $GID = 1023 1023
    $EGID = 1023 1023

Perl module toolchain versions installed:

    Module              Have    
    ------------------- --------
    CPAN                2.05    
    CPAN::Meta          2.143240
    Cwd                 3.48_01 
    ExtUtils::CBuilder  0.280217
    ExtUtils::Command   1.18    
    ExtUtils::Install   1.67    
    ExtUtils::MakeMaker 7.04    
    ExtUtils::Manifest  1.70    
    ExtUtils::ParseXS   3.24    
    File::Spec          3.48_01 
    JSON                2.90    
    JSON::PP            2.27203 
    Module::Build       0.4211  
    Module::Signature   n/a     
    Parse::CPAN::Meta   1.4414  
    Test::Harness       3.30    
    Test::More          1.001014
    YAML                1.14    
    YAML::Syck          1.29    
    version             0.9912  


--

Summary of my perl5 (revision 5 version 20 subversion 2) configuration:
   
  Platform:
    osname=freebsd, osvers=10.1-release, archname=amd64-freebsd
    uname='freebsd cvrsnica-freebsd-101.herceg.de 10.1-release freebsd 10.1-release #0 r274401: tue nov 11 21:02:49 utc 2014 root@releng1.nyi.freebsd.org:usrobjusrsrcsysgeneric amd64 '
    config_args='-ds -e -Dprefix=/usr/perl5.20.2p'
    hint=recommended, useposix=true, d_sigaction=define
    useithreads=undef, usemultiplicity=undef
    use64bitint=define, use64bitall=define, uselongdouble=undef
    usemymalloc=n, bincompat5005=undef
  Compiler:
    cc='cc', ccflags ='-DHAS_FPSETMASK -DHAS_FLOATINGPOINT_H -fno-strict-aliasing -pipe -fstack-protector -I/usr/local/include',
    optimize='-O',
    cppflags='-DHAS_FPSETMASK -DHAS_FLOATINGPOINT_H -fno-strict-aliasing -pipe -fstack-protector -I/usr/local/include'
    ccversion='', gccversion='4.2.1 Compatible FreeBSD Clang 3.4.1 (tags/RELEASE_34/dot1-final 208032)', gccosandvers=''
    intsize=4, longsize=8, ptrsize=8, doublesize=8, byteorder=12345678
    d_longlong=define, longlongsize=8, d_longdbl=define, longdblsize=16
    ivtype='long', ivsize=8, nvtype='double', nvsize=8, Off_t='off_t', lseeksize=8
    alignbytes=8, prototype=define
  Linker and Libraries:
    ld='cc', ldflags ='-pthread -Wl,-E  -fstack-protector -L/usr/local/lib'
    libpth=/usr/lib /usr/local/lib /usr/include/clang/3.4.1 /usr/lib
    libs=-lgdbm -lm -lcrypt -lutil -lc
    perllibs=-lm -lcrypt -lutil -lc
    libc=, so=so, useshrplib=false, libperl=libperl.a
    gnulibc_version=''
  Dynamic Linking:
    dlsrc=dl_dlopen.xs, dlext=so, d_dlsymun=undef, ccdlflags=' '
    cccdlflags='-DPIC -fPIC', lddlflags='-shared  -L/usr/local/lib -fstack-protector'


Characteristics of this binary (from libperl): 
  Compile-time options: HAS_TIMES PERLIO_LAYERS PERL_DONT_CREATE_GVSV
                        PERL_HASH_FUNC_ONE_AT_A_TIME_HARD PERL_MALLOC_WRAP
                        PERL_NEW_COPY_ON_WRITE PERL_PRESERVE_IVUV
                        USE_64_BIT_ALL USE_64_BIT_INT USE_LARGE_FILES
                        USE_LOCALE USE_LOCALE_COLLATE USE_LOCALE_CTYPE
                        USE_LOCALE_NUMERIC USE_PERLIO USE_PERL_ATOF
  Built under freebsd
  Compiled at Feb 14 2015 20:35:40
  %ENV:
    PERL5LIB="/home/cpansand/.cpan/build/DBIx-Class-InflateColumn-Serializer-Hstore-0.02-KmPJ9Q/blib/arch:/home/cpansand/.cpan/build/DBIx-Class-InflateColumn-Serializer-Hstore-0.02-KmPJ9Q/blib/lib:/home/cpansand/.cpan/build/DBIx-Class-InflateColumn-Serializer-0.07-p2Xoa7/blib/arch:/home/cpansand/.cpan/build/DBIx-Class-InflateColumn-Serializer-0.07-p2Xoa7/blib/lib:/home/cpansand/.cpan/build/Pg-hstore-1.04-GLW2ou/blib/arch:/home/cpansand/.cpan/build/Pg-hstore-1.04-GLW2ou/blib/lib:/home/cpansand/.cpan/build/Data-asXML-0.06-U4Z2ky/blib/arch:/home/cpansand/.cpan/build/Data-asXML-0.06-U4Z2ky/blib/lib:/home/cpansand/.cpan/build/Dancer2-Plugin-Auth-OAuth-0.05-Ha9Q1k/blib/arch:/home/cpansand/.cpan/build/Dancer2-Plugin-Auth-OAuth-0.05-Ha9Q1k/blib/lib:/home/cpansand/.cpan/build/URI-Query-0.10-y_D_t2/blib/arch:/home/cpansand/.cpan/build/URI-Query-0.10-y_D_t2/blib/lib:/home/cpansand/.cpan/build/PAUSE-Packages-0.13-WTK8SO/blib/arch:/home/cpansand/.cpan/build/PAUSE-Packages-0.13-WTK8SO/blib/lib"
    PERL5OPT=""
    PERL5_CPANPLUS_IS_RUNNING="20811"
    PERL5_CPAN_IS_RUNNING="20811"
    PERL5_CPAN_IS_RUNNING_IN_RECURSION="20790,20811"
    PERLDOC="-MPod::Perldoc::ToTextOverstrike"
    PERL_BATCH="yes"
    PERL_CPAN_REPORTER_CONFIG="/var/tmp/cpansmoker-1023/cF6xVzXAGw_config.ini"
    PERL_EXTUTILS_AUTOINSTALL="--defaultdeps"
    PERL_HTML_DISPLAY_CLASS="HTML::Display::Mozilla"
  @INC:
    /home/cpansand/.cpan/build/DBIx-Class-InflateColumn-Serializer-Hstore-0.02-KmPJ9Q/blib/arch
    /home/cpansand/.cpan/build/DBIx-Class-InflateColumn-Serializer-Hstore-0.02-KmPJ9Q/blib/lib
    /home/cpansand/.cpan/build/DBIx-Class-InflateColumn-Serializer-0.07-p2Xoa7/blib/arch
    /home/cpansand/.cpan/build/DBIx-Class-InflateColumn-Serializer-0.07-p2Xoa7/blib/lib
    /home/cpansand/.cpan/build/Pg-hstore-1.04-GLW2ou/blib/arch
    /home/cpansand/.cpan/build/Pg-hstore-1.04-GLW2ou/blib/lib
    /home/cpansand/.cpan/build/Data-asXML-0.06-U4Z2ky/blib/arch
    /home/cpansand/.cpan/build/Data-asXML-0.06-U4Z2ky/blib/lib
    /home/cpansand/.cpan/build/Dancer2-Plugin-Auth-OAuth-0.05-Ha9Q1k/blib/arch
    /home/cpansand/.cpan/build/Dancer2-Plugin-Auth-OAuth-0.05-Ha9Q1k/blib/lib
    /home/cpansand/.cpan/build/URI-Query-0.10-y_D_t2/blib/arch
    /home/cpansand/.cpan/build/URI-Query-0.10-y_D_t2/blib/lib
    /home/cpansand/.cpan/build/PAUSE-Packages-0.13-WTK8SO/blib/arch
    /home/cpansand/.cpan/build/PAUSE-Packages-0.13-WTK8SO/blib/lib
    /usr/perl5.20.2p/lib/site_perl/5.20.2/amd64-freebsd
    /usr/perl5.20.2p/lib/site_perl/5.20.2
    /usr/perl5.20.2p/lib/5.20.2/amd64-freebsd
    /usr/perl5.20.2p/lib/5.20.2
    .