Report for CGI-Cache-1.4207

Back
From: metabase:user:0d96120c-29e2-11e5-b049-ede3035d37de
Subject: PASS CGI-Cache-1.4207 v5.18.4 GNU/Linux
Date: 2015-07-24T18:39:36Z

This distribution has been tested as part of the CPAN Testers
project, supporting the Perl programming language.  See
http://wiki.cpantesters.org/ for more information or email
questions to cpan-testers-discuss@perl.org


--
Dear David Coppit,

This is a computer-generated report for CGI-Cache-1.4207
on perl 5.18.4, created by CPAN-Reporter-1.2014.

Thank you for uploading your work to CPAN.  Congratulations!
All tests were successful.

Sections of this report:

    * Tester comments
    * Program output
    * Prerequisites
    * Environment and other context

------------------------------
TESTER COMMENTS
------------------------------

Additional comments from tester:

this report is from an automated smoke testing program
and was not reviewed by a human for accuracy

------------------------------
PROGRAM OUTPUT
------------------------------

Output from '/usr/bin/make test':

PERL_DL_NONLAZY=1 "/data/perl5/perlbrew/perls/perl-5.18.4-ld/bin/perl" "-MExtUtils::Command::MM" "-MTest::Harness" "-e" "undef *Test::Harness::Switches; test_harness(1, 'blib/lib', 'blib/arch')" t/*.t
t/000_standard__compile.t ....... 
1..1
ok 1 - Compile test for blib/lib/CGI/Cache.pm
ok
t/000_standard__perl_critic.t ... skipped: Author test. Set $ENV{TEST_AUTHOR} to a true value to run.
t/000_standard__pod.t ........... 
1..1
ok 1 - POD test for blib/lib/CGI/Cache.pm
ok
t/000_standard__pod_coverage.t .. skipped: Test::Pod::Coverage required for testing POD coverage
t/basic.t ....................... 
1..11
ok 1 - use CGI::Cache;
ok 2 - No errors initializing with default values
ok 3 - Return value after initializing with default values
ok 4 - No errors initializing with non-default values
ok 5 - Return value after initializing with non-default values
ok 6 - No errors setting a simple key
ok 7 - Return value after setting a simple key
ok 8 - No errors setting a complex key
ok 9 - Return value after setting a complex key
ok 10 - Empty cache directory until something cached
Cached output
ok 11 - Cache directory after something cached
ok
t/buffer.t ...................... 
1..6
ok 1 - read buffer(): Computing the right output
ok 2 - read buffer(): Computing the right errors
ok 3 - read buffer(): Correct cached data
ok 4 - write buffer(): Computing the right output
ok 5 - write buffer(): Computing the right errors
ok 6 - write buffer(): Correct cached data
ok
t/cgi_carp.t .................... 
1..7
ok 1 - CGI::Carp not caching with default attributes: Computing the right output
ok 2 - CGI::Carp not caching with default attributes: Computing the right errors
ok 3 - CGI::Carp not caching with default attributes: Undefined cached data
ok 4 - Empty cache directory until something cached
ok 5 - CGI::Carp caching with default attributes: Computing the right output
ok 6 - CGI::Carp caching with default attributes: Computing the right errors
ok 7 - CGI::Carp caching with default attributes: Correct cached data
ok
t/disabled_ouput.t .............. 
1..3
ok 1 - Disabled output: Computing the right output
ok 2 - Disabled output: Computing the right errors
ok 3 - Disabled output: Correct cached data
ok
t/invalidate_cache_entry.t ...... 
1..6
ok 1 - invalidate_cache_entry() setup: Computing the right output
ok 2 - invalidate_cache_entry() setup: Computing the right errors
ok 3 - invalidate_cache_entry() setup: Correct cached data
ok 4 - invalidate_cache_entry() operation: Computing the right output
ok 5 - invalidate_cache_entry() operation: Computing the right errors
ok 6 - invalidate_cache_entry() operation: Correct cached data
ok
t/non-caching.t ................. 
1..15
ok 1 - die() prevents caching: Computing the right output
ok 2 - die() prevents caching: Computing the right errors
ok 3 - die() prevents caching: Undefined cached data
ok 4 - Empty cache directory until something cached
ok 5 - Print to STDERR prevents caching: Computing the right output
ok 6 - Print to STDERR prevents caching: Computing the right errors
ok 7 - Print to STDERR prevents caching: Undefined cached data
ok 8 - Empty cache directory until something cached
ok 9 - redirected die() prevents caching: Computing the right output
ok 10 - redirected die() prevents caching: Computing the right errors
ok 11 - redirected die() prevents caching: Undefined cached data
ok 12 - Empty cache directory until something cached
ok 13 - die() (with filehandles) prevents caching: Computing the right output
ok 14 - die() (with filehandles) prevents caching: Computing the right errors
ok 15 - die() (with filehandles) prevents caching: Undefined cached data
ok
t/pause_continue.t .............. 
1..6
ok 1 - pause() and continue(): Computing the right output
ok 2 - pause() and continue(): Computing the right errors
ok 3 - pause() and continue(): Correct cached data
ok 4 - pause() and continue() with filehandles: Computing the right output
ok 5 - pause() and continue() with filehandles: Computing the right errors
ok 6 - pause() and continue() with filehandles: Correct cached data
ok
t/stop.t ........................ 
1..6
ok 1 - stop(): Computing the right output
ok 2 - stop(): Computing the right errors
ok 3 - stop(): Correct cached data
ok 4 - stop() with filehandles: Computing the right output
ok 5 - stop() with filehandles: Computing the right errors
ok 6 - stop() with filehandles: Correct cached data
ok
t/user_specified_filehandle.t ... 
1..6
ok 1 - Output to non-STDOUT filehandle: Computing the right output
ok 2 - Output to non-STDOUT filehandle: Computing the right errors
ok 3 - Output to non-STDOUT filehandle: Correct cached data
ok 4 - Monitor non-STDOUT filehandle: Computing the right output
ok 5 - Monitor non-STDOUT filehandle: Computing the right errors
ok 6 - Monitor non-STDOUT filehandle: Correct cached data
ok
All tests successful.
Files=13, Tests=68,  5 wallclock secs ( 0.04 usr  0.01 sys +  0.92 cusr  0.13 csys =  1.10 CPU)
Result: PASS

------------------------------
PREREQUISITES
------------------------------

Prerequisite modules loaded:

requires:

    Module              Need  Have    
    ------------------- ----- --------
    Cache::Cache        0     1.08    
    File::Path          0     2.09    
    File::Spec          0     3.40    
    perl                5.005 5.018004
    Storable            0     2.41    
    Tie::Restore        0     0.11    

build_requires:

    Module              Need  Have    
    ------------------- ----- --------
    Error               0     0.17024 
    ExtUtils::MakeMaker 6.36  7.04    
    File::Slurp         0     9999.19 
    Test::Compile       0     v1.2.1  
    Test::More          0     1.001014
    UNIVERSAL::require  0     0.18    
    URI::Escape         0     3.31    

configure_requires:

    Module              Need  Have    
    ------------------- ----- --------
    ExtUtils::MakeMaker 6.36  7.04    
    URI::Escape         0     3.31    


------------------------------
ENVIRONMENT AND OTHER CONTEXT
------------------------------

Environment variables:

    AUTOMATED_TESTING = 1
    LANG = en_US.UTF-8
    NONINTERACTIVE_TESTING = 1
    PATH = /home/perltest/sysperl/bin:/home/perltest/perl5/perlbrew/bin:/home/perltest/perl5/perlbrew/perls/perl-5.18.4-ld/bin:/home/perltest/perltest/bin:/home/perltest/perl5/perlbrew/bin:/home/perltest/perl5/perlbrew/perls/perl-5.18.4-ld/bin:/usr/local/sbin:/usr/local/bin:/usr/sbin:/usr/bin:/sbin:/bin:/usr/games:/usr/local/games:/home/perltest/perltest/bin
    PERL5LIB = /home/perltest/.cpan/build/Test-Compile-v1.2.1-edT_TV/blib/arch:/home/perltest/.cpan/build/Test-Compile-v1.2.1-edT_TV/blib/lib:/home/perltest/.cpan/build/UNIVERSAL-require-0.18-a8sr_x/blib/arch:/home/perltest/.cpan/build/UNIVERSAL-require-0.18-a8sr_x/blib/lib:/home/perltest/.cpan/build/Tie-Restore-0.11-5kTPUF/blib/arch:/home/perltest/.cpan/build/Tie-Restore-0.11-5kTPUF/blib/lib:/home/perltest/sysperl/lib/perl5
    PERL5OPT = 
    PERL5_CPANPLUS_IS_RUNNING = 302
    PERL5_CPAN_IS_RUNNING = 302
    PERL5_CPAN_IS_RUNNING_IN_RECURSION = 2484,302
    PERLBREW_BASHRC_VERSION = 0.73
    PERLBREW_HOME = /home/perltest/.perlbrew
    PERLBREW_LIB = 
    PERLBREW_MANPATH = /home/perltest/perl5/perlbrew/perls/perl-5.18.4-ld/man
    PERLBREW_PATH = /home/perltest/perl5/perlbrew/bin:/home/perltest/perl5/perlbrew/perls/perl-5.18.4-ld/bin
    PERLBREW_PERL = perl-5.18.4-ld
    PERLBREW_ROOT = /home/perltest/perl5/perlbrew
    PERLBREW_VERSION = 0.73
    PERL_CR_SMOKER_CURRENT = CGI-Cache-1.4207
    PERL_EXTUTILS_AUTOINSTALL = --defaultdeps
    PERL_LOCAL_LIB_ROOT = /home/perltest/sysperl:
    PERL_MB_OPT = --install_base "//home/perltest/sysperl"
    PERL_MM_OPT = INSTALL_BASE=/home/perltest/sysperl
    PERL_MM_USE_DEFAULT = 1
    SHELL = /bin/bash
    TERM = screen

Perl special variables (and OS-specific diagnostics, for MSWin32):

    $^X = /data/perl5/perlbrew/perls/perl-5.18.4-ld/bin/perl
    $UID/$EUID = 2000 / 2000
    $GID = 2000 2000
    $EGID = 2000 2000

Perl module toolchain versions installed:

    Module              Have    
    ------------------- --------
    CPAN                2.00    
    CPAN::Meta          2.150005
    Cwd                 3.40    
    ExtUtils::CBuilder  0.280210
    ExtUtils::Command   1.17    
    ExtUtils::Install   1.59    
    ExtUtils::MakeMaker 7.04    
    ExtUtils::Manifest  1.70    
    ExtUtils::ParseXS   3.18    
    File::Spec          3.40    
    JSON                2.90    
    JSON::PP            2.27203 
    Module::Build       0.4214  
    Module::Signature   n/a     
    Parse::CPAN::Meta   1.4417  
    Test::Harness       3.35    
    Test::More          1.001014
    YAML                1.15    
    YAML::Syck          n/a     
    version             0.9912  


--

Summary of my perl5 (revision 5 version 18 subversion 4) configuration:
   
  Platform:
    osname=linux, osvers=3.19.0-18-generic, archname=x86_64-linux-ld
    uname='linux perltest.antelope.net 3.19.0-18-generic #18-ubuntu smp tue may 19 18:31:35 utc 2015 x86_64 x86_64 x86_64 gnulinux '
    config_args='-de -Dprefix=/home/perltest/perl5/perlbrew/perls/perl-5.18.4-ld -Duselongdouble -Aeval:scriptdir=/home/perltest/perl5/perlbrew/perls/perl-5.18.4-ld/bin'
    hint=recommended, useposix=true, d_sigaction=define
    useithreads=undef, usemultiplicity=undef
    useperlio=define, d_sfio=undef, uselargefiles=define, usesocks=undef
    use64bitint=define, use64bitall=define, uselongdouble=define
    usemymalloc=n, bincompat5005=undef
  Compiler:
    cc='cc', ccflags ='-fno-strict-aliasing -pipe -fstack-protector -I/usr/local/include -D_LARGEFILE_SOURCE -D_FILE_OFFSET_BITS=64',
    optimize='-O2',
    cppflags='-fno-strict-aliasing -pipe -fstack-protector -I/usr/local/include'
    ccversion='', gccversion='4.9.2', gccosandvers=''
    intsize=4, longsize=8, ptrsize=8, doublesize=8, byteorder=12345678
    d_longlong=define, longlongsize=8, d_longdbl=define, longdblsize=16
    ivtype='long', ivsize=8, nvtype='long double', nvsize=16, Off_t='off_t', lseeksize=8
    alignbytes=16, prototype=define
  Linker and Libraries:
    ld='cc', ldflags =' -fstack-protector -L/usr/local/lib'
    libpth=/usr/local/lib /lib/x86_64-linux-gnu /lib/../lib /usr/lib/x86_64-linux-gnu /usr/lib/../lib /lib /usr/lib
    libs=-lnsl -ldb -ldl -lm -lcrypt -lutil -lc
    perllibs=-lnsl -ldl -lm -lcrypt -lutil -lc
    libc=libc-2.21.so, so=so, useshrplib=false, libperl=libperl.a
    gnulibc_version='2.21'
  Dynamic Linking:
    dlsrc=dl_dlopen.xs, dlext=so, d_dlsymun=undef, ccdlflags='-Wl,-E'
    cccdlflags='-fPIC', lddlflags='-shared -O2 -L/usr/local/lib -fstack-protector'


Characteristics of this binary (from libperl): 
  Compile-time options: HAS_TIMES PERLIO_LAYERS PERL_DONT_CREATE_GVSV
                        PERL_HASH_FUNC_ONE_AT_A_TIME_HARD PERL_MALLOC_WRAP
                        PERL_PRESERVE_IVUV PERL_SAWAMPERSAND USE_64_BIT_ALL
                        USE_64_BIT_INT USE_LARGE_FILES USE_LOCALE
                        USE_LOCALE_COLLATE USE_LOCALE_CTYPE
                        USE_LOCALE_NUMERIC USE_LONG_DOUBLE USE_PERLIO
                        USE_PERL_ATOF
  Locally applied patches:
	Devel::PatchPerl 1.38
  Built under linux
  Compiled at Jul 19 2015 22:40:37
  %ENV:
    PERL5LIB="/home/perltest/.cpan/build/Test-Compile-v1.2.1-edT_TV/blib/arch:/home/perltest/.cpan/build/Test-Compile-v1.2.1-edT_TV/blib/lib:/home/perltest/.cpan/build/UNIVERSAL-require-0.18-a8sr_x/blib/arch:/home/perltest/.cpan/build/UNIVERSAL-require-0.18-a8sr_x/blib/lib:/home/perltest/.cpan/build/Tie-Restore-0.11-5kTPUF/blib/arch:/home/perltest/.cpan/build/Tie-Restore-0.11-5kTPUF/blib/lib:/home/perltest/sysperl/lib/perl5"
    PERL5OPT=""
    PERL5_CPANPLUS_IS_RUNNING="302"
    PERL5_CPAN_IS_RUNNING="302"
    PERL5_CPAN_IS_RUNNING_IN_RECURSION="2484,302"
    PERLBREW_BASHRC_VERSION="0.73"
    PERLBREW_HOME="/home/perltest/.perlbrew"
    PERLBREW_LIB=""
    PERLBREW_MANPATH="/home/perltest/perl5/perlbrew/perls/perl-5.18.4-ld/man"
    PERLBREW_PATH="/home/perltest/perl5/perlbrew/bin:/home/perltest/perl5/perlbrew/perls/perl-5.18.4-ld/bin"
    PERLBREW_PERL="perl-5.18.4-ld"
    PERLBREW_ROOT="/home/perltest/perl5/perlbrew"
    PERLBREW_VERSION="0.73"
    PERL_CR_SMOKER_CURRENT="CGI-Cache-1.4207"
    PERL_EXTUTILS_AUTOINSTALL="--defaultdeps"
    PERL_LOCAL_LIB_ROOT="/home/perltest/sysperl:"
    PERL_MB_OPT="--install_base "//home/perltest/sysperl""
    PERL_MM_OPT="INSTALL_BASE=/home/perltest/sysperl"
    PERL_MM_USE_DEFAULT="1"
  @INC:
    /home/perltest/.cpan/build/Test-Compile-v1.2.1-edT_TV/blib/arch
    /home/perltest/.cpan/build/Test-Compile-v1.2.1-edT_TV/blib/lib
    /home/perltest/.cpan/build/UNIVERSAL-require-0.18-a8sr_x/blib/arch
    /home/perltest/.cpan/build/UNIVERSAL-require-0.18-a8sr_x/blib/lib
    /home/perltest/.cpan/build/Tie-Restore-0.11-5kTPUF/blib/arch
    /home/perltest/.cpan/build/Tie-Restore-0.11-5kTPUF/blib/lib
    /home/perltest/sysperl/lib/perl5/x86_64-linux-ld
    /home/perltest/sysperl/lib/perl5
    /home/perltest/perl5/perlbrew/perls/perl-5.18.4-ld/lib/site_perl/5.18.4/x86_64-linux-ld
    /home/perltest/perl5/perlbrew/perls/perl-5.18.4-ld/lib/site_perl/5.18.4
    /home/perltest/perl5/perlbrew/perls/perl-5.18.4-ld/lib/5.18.4/x86_64-linux-ld
    /home/perltest/perl5/perlbrew/perls/perl-5.18.4-ld/lib/5.18.4
    .