Class-Method-Modifiers v2.15 Perl 5 v5.38.0 x86_64-linux
- Status
- Pass
- From
- Tom Molesworth
- Dist
-
Class-Method-Modifiers v2.15
- Platform
- Perl 5 v5.38.0 x86_64-linux
- Date
- 2023-09-27 09:14:59
- ID
- 552e689c-5d16-11ee-98b0-667f6f2520ba
This distribution has been tested as part of the CPAN Testers
project, supporting the Perl programming language. See
http://wiki.cpantesters.org/ for more information or email
questions to cpan-testers-discuss@perl.org
--
Dear ETHER,
This is a computer-generated report for Class-Method-Modifiers-2.15
on perl 5.38.0, created by App::cpanminus::reporter 0.21 (1.7046).
Thank you for uploading your work to CPAN. Congratulations!
All tests were successful.
Sections of this report:
* Tester comments
* Program output
* Prerequisites
* Environment and other context
------------------------------
TESTER COMMENTS
------------------------------
Additional comments from tester:
none provided
------------------------------
PROGRAM OUTPUT
------------------------------
Output from '':
Building and testing Class-Method-Modifiers-2.15
cp lib/Class/Method/Modifiers.pm blib/lib/Class/Method/Modifiers.pm
PERL_DL_NONLAZY=1 "/home/tom/perl5/perlbrew/perls/perl-5.38.0-notaint/bin/perl" "-MExtUtils::Command::MM" "-MTest::Harness" "-e" "undef *Test::Harness::Switches; test_harness(0, 'blib/lib', 'blib/arch')" t/*.t
#
# Versions for all modules listed in MYMETA.json (including optional ones):
#
# === Configure Requires ===
#
# Module Want Have
# ------------------- ----- --------
# ExtUtils::MakeMaker any 7.70
# perl 5.006 5.038000
#
# === Build Requires ===
#
# Module Want Have
# ------------------- ---- ----
# ExtUtils::MakeMaker any 7.70
#
# === Test Requires ===
#
# Module Want Have
# ------------------- ----- --------
# ExtUtils::MakeMaker any 7.70
# File::Spec any 3.88
# Test::More 0.88 1.302194
# if any 0.0610
# perl 5.006 5.038000
#
# === Test Recommends ===
#
# Module Want Have
# ---------- -------- --------
# CPAN::Meta 2.120900 2.150010
#
# === Runtime Requires ===
#
# Module Want Have
# -------- ----- --------
# B any 1.88
# Carp any 1.54
# Exporter any 5.77
# base any 2.27
# perl 5.006 5.038000
# strict any 1.12
# warnings any 1.65
#
# === Other Modules ===
#
# Module Have
# -------------------- --------
# Encode 3.19
# File::Temp 0.2311
# JSON::PP 4.16
# Module::Runtime 0.016
# Moo missing
# Moose missing
# Pod::Coverage missing
# Role::Tiny 2.002004
# Sub::Install missing
# Sub::Name missing
# YAML missing
# autodie 2.36
# namespace::autoclean missing
# namespace::clean missing
#
t/00-report-prereqs.t ............... ok
t/000-load.t ........................ ok
t/001-error.t ....................... ok
t/002-cache.t ....................... ok
t/003-basic.t ....................... ok
t/004-around.t ...................... ok
t/005-return.t ...................... ok
t/010-before-args.t ................. ok
t/011-after-args.t .................. ok
t/012-around-args.t ................. ok
t/020-multiple-inheritance.t ........ ok
t/030-multiple-before.t ............. ok
t/031-multiple-after.t .............. ok
t/032-multiple-around.t ............. ok
t/034-multiple-everything.t ......... ok
t/035-multiple-everything-twice.t ... ok
t/040-twice-orig.t .................. ok
t/041-modify-parent.t ............... ok
t/051-undef-list-ctxt.t ............. ok
t/060-caller.t ...................... ok
t/070-modify-multiple-at-once.t ..... ok
t/080-multiple-modifiers.t .......... ok
t/081-sub-and-modifier.t ............ ok
t/090-diamond.t ..................... ok
t/100-class-mop-method-modifiers.t .. ok
t/110-namespace-clean.t ............. ok
t/120-fresh.t ....................... ok
t/130-clean-underscore.t ............ ok
t/140-lvalue.t ...................... ok
All tests successful.
Files=29, Tests=131, 1 wallclock secs ( 0.02 usr 0.01 sys + 0.64 cusr 0.11 csys = 0.78 CPU)
Result: PASS
------------------------------
PREREQUISITES
------------------------------
Prerequisite modules loaded:
No requirements found
------------------------------
ENVIRONMENT AND OTHER CONTEXT
------------------------------
Environment variables:
LANG = en_US.UTF-8
LC_ADDRESS = en_GB.UTF-8
LC_IDENTIFICATION = en_GB.UTF-8
LC_MEASUREMENT = en_GB.UTF-8
LC_MONETARY = en_GB.UTF-8
LC_NAME = en_GB.UTF-8
LC_NUMERIC = en_GB.UTF-8
LC_PAPER = en_GB.UTF-8
LC_TELEPHONE = en_GB.UTF-8
LC_TIME = en_GB.UTF-8
LD_LIBRARY_PATH = /home/tom/local/lib:/home/tom/local/lib:
PATH = /home/tom/.local/bin:/home/tom/.krew/bin:/home/tom/perl5/perlbrew/bin:/home/tom/perl5/perlbrew/perls/perl-5.38.0-notaint/bin:/home/tom/local/bin:/home/tom/.krew/bin:/home/tom/local/bin:/home/tom/.local/bin:/home/tom/miniconda3/bin:/home/tom/miniconda3/condabin:/home/tom/.krew/bin:/home/tom/.cargo/bin:/usr/local/sbin:/usr/local/bin:/usr/sbin:/usr/bin:/sbin:/bin:/usr/games:/usr/local/games:/snap/bin:/snap/bin:/home/tom/.local/bin:/usr/local/cuda-12.2/bin:/home/tom/android/sdk/platform-tools:/home/tom/android/sdk/tools:/home/tom/android/flutter/bin:/home/tom/.local/bin:/usr/local/cuda-12.2/bin:/home/tom/android/sdk/platform-tools:/home/tom/android/sdk/tools:/home/tom/android/flutter/bin:/home/tom/.local/bin
PERLBREW_HOME = /home/tom/.perlbrew
PERLBREW_MANPATH = /home/tom/perl5/perlbrew/perls/perl-5.38.0-notaint/man
PERLBREW_PATH = /home/tom/perl5/perlbrew/bin:/home/tom/perl5/perlbrew/perls/perl-5.38.0-notaint/bin
PERLBREW_PERL = perl-5.38.0-notaint
PERLBREW_ROOT = /home/tom/perl5/perlbrew
PERLBREW_SHELLRC_VERSION = 0.94
PERLBREW_VERSION = 0.94
PERL_LWP_SSL_VERIFY_HOSTNAME = 0
PERL_MM_USE_DEFAULT = 1
SHELL = /bin/bash
TERM = screen-256color
Perl special variables (and OS-specific diagnostics, for MSWin32):
EGID = 1000 0 4 24 27 30 46 122 135 136 998 1000
EUID = 1000
EXECUTABLE_NAME = /home/tom/perl5/perlbrew/perls/perl-5.38.0-notaint/bin/perl
GID = 1000 0 4 24 27 30 46 122 135 136 998 1000
UID = 1000
Perl module toolchain versions installed:
Module Have
------------------- --------
CPAN 2.36
CPAN::Meta 2.150010
Cwd 3.89
ExtUtils::CBuilder 0.280238
ExtUtils::Command 7.70
ExtUtils::Install 2.22
ExtUtils::MakeMaker 7.70
ExtUtils::Manifest 1.73
ExtUtils::ParseXS 3.51
File::Spec 3.88
JSON n/a
JSON::PP 4.16
Module::Build 0.4234
Module::Signature n/a
Parse::CPAN::Meta 2.150010
Test::Harness 3.44
Test::More 1.302194
YAML n/a
YAML::Syck n/a
version 0.9929
--
Summary of my perl5 (revision 5 version 38 subversion 0) configuration:
Platform:
osname=linux
osvers=6.4.15-x64v3-xanmod1
archname=x86_64-linux
uname='linux tom-deriv 6.4.15-x64v3-xanmod1 #0~20230907.g48a56e5 smp preempt_dynamic thu sep 7 02:59:47 utc x86_64 x86_64 x86_64 gnulinux '
config_args='-de -Dprefix=/home/tom/perl5/perlbrew/perls/perl-5.38.0-notaint -DSILENT_NO_TAINT_SUPPORT -Dman1dir=none -Dman3dir=none -Accflags=-DSILENT_NO_TAINT_SUPPORT -DPERL_RC_STACK -Aeval:scriptdir=/home/tom/perl5/perlbrew/perls/perl-5.38.0-notaint/bin'
hint=recommended
useposix=true
d_sigaction=define
useithreads=undef
usemultiplicity=undef
use64bitint=define
use64bitall=define
uselongdouble=undef
usemymalloc=n
default_inc_excludes_dot=define
Compiler:
cc='cc'
ccflags ='-DSILENT_NO_TAINT_SUPPORT -DPERL_RC_STACK -fwrapv -fno-strict-aliasing -pipe -fstack-protector-strong -I/usr/local/include -D_LARGEFILE_SOURCE -D_FILE_OFFSET_BITS=64'
optimize='-O2'
cppflags='-DSILENT_NO_TAINT_SUPPORT -DPERL_RC_STACK -fwrapv -fno-strict-aliasing -pipe -fstack-protector-strong -I/usr/local/include'
ccversion=''
gccversion='11.4.0'
gccosandvers=''
intsize=4
longsize=8
ptrsize=8
doublesize=8
byteorder=12345678
doublekind=3
d_longlong=define
longlongsize=8
d_longdbl=define
longdblsize=16
longdblkind=3
ivtype='long'
ivsize=8
nvtype='double'
nvsize=8
Off_t='off_t'
lseeksize=8
alignbytes=8
prototype=define
Linker and Libraries:
ld='cc'
ldflags =' -fstack-protector-strong -L/usr/local/lib'
libpth=/usr/local/lib /usr/lib/x86_64-linux-gnu /usr/lib /usr/lib64
libs=-lpthread -ldb -ldl -lm -lcrypt -lutil -lc
perllibs=-lpthread -ldl -lm -lcrypt -lutil -lc
libc=/lib/x86_64-linux-gnu/libc.so.6
so=so
useshrplib=false
libperl=libperl.a
gnulibc_version='2.35'
Dynamic Linking:
dlsrc=dl_dlopen.xs
dlext=so
d_dlsymun=undef
ccdlflags='-Wl,-E'
cccdlflags='-fPIC'
lddlflags='-shared -O2 -L/usr/local/lib -fstack-protector-strong'
Characteristics of this binary (from libperl):
Compile-time options:
HAS_LONG_DOUBLE
HAS_STRTOLD
HAS_TIMES
NO_TAINT_SUPPORT
PERLIO_LAYERS
PERL_COPY_ON_WRITE
PERL_DONT_CREATE_GVSV
PERL_HASH_FUNC_SIPHASH13
PERL_HASH_USE_SBOX32
PERL_MALLOC_WRAP
PERL_OP_PARENT
PERL_PRESERVE_IVUV
PERL_USE_SAFE_PUTENV
SILENT_NO_TAINT_SUPPORT
USE_64_BIT_ALL
USE_64_BIT_INT
USE_LARGE_FILES
USE_LOCALE
USE_LOCALE_COLLATE
USE_LOCALE_CTYPE
USE_LOCALE_NUMERIC
USE_LOCALE_TIME
USE_PERLIO
USE_PERL_ATOF
Built under linux
Compiled at Sep 26 2023 10:18:05
%ENV:
PERLBREW_HOME="/home/tom/.perlbrew"
PERLBREW_MANPATH="/home/tom/perl5/perlbrew/perls/perl-5.38.0-notaint/man"
PERLBREW_PATH="/home/tom/perl5/perlbrew/bin:/home/tom/perl5/perlbrew/perls/perl-5.38.0-notaint/bin"
PERLBREW_PERL="perl-5.38.0-notaint"
PERLBREW_ROOT="/home/tom/perl5/perlbrew"
PERLBREW_SHELLRC_VERSION="0.94"
PERLBREW_VERSION="0.94"
PERL_LWP_SSL_VERIFY_HOSTNAME="0"
PERL_MM_USE_DEFAULT="1"
@INC:
/home/tom/perl5/perlbrew/perls/perl-5.38.0-notaint/lib/site_perl/5.38.0/x86_64-linux
/home/tom/perl5/perlbrew/perls/perl-5.38.0-notaint/lib/site_perl/5.38.0
/home/tom/perl5/perlbrew/perls/perl-5.38.0-notaint/lib/5.38.0/x86_64-linux
/home/tom/perl5/perlbrew/perls/perl-5.38.0-notaint/lib/5.38.0