Report for Hash-AutoHash-MultiValued-1.11

Back
From: metabase:user:e3434da8-b236-11df-85ca-0247c6d74bde
Subject: PASS Hash-AutoHash-MultiValued-1.11 v5.8.9 GNU/Linux
Date: 2010-10-19T11:09:24Z

This distribution has been tested as part of the CPAN Testers
project, supporting the Perl programming language.  See
http://wiki.cpantesters.org/ for more information or email
questions to cpan-testers-discuss@perl.org


--
Dear Nathan Goodman,

This is a computer-generated report for Hash-AutoHash-MultiValued-1.11
on perl 5.8.9, created by CPAN-Reporter-1.1803.

Thank you for uploading your work to CPAN.  Congratulations!
All tests were successful.

Sections of this report:

    * Tester comments
    * Program output
    * Prerequisites
    * Environment and other context

------------------------------
TESTER COMMENTS
------------------------------

Additional comments from tester:

this report is from an automated smoke testing program
and was not reviewed by a human for accuracy

------------------------------
PROGRAM OUTPUT
------------------------------

Output from './Build test':

t/mvhash.000.code_exists......ok
t/mvhash.001.boilerplate......ok
t/mvhash.002.pod..............skipped
        all skipped: Test::Pod 1.22 required for testing POD
t/mvhash.010.basics...........ok
t/mvhash.020.class_methods....ok
t/mvhash.020.special_keys.....ok
t/mvhash.030.functions........ok
t/mvhash.031.alias............ok
t/mvhash.031.tied.............ok
t/mvhash.032.filter...........ok
t/mvhash.032.unique...........ok
t/mvhash.099.docs.............ok
All tests successful, 1 test skipped.
Files=12, Tests=439,  2 wallclock secs ( 1.43 cusr +  0.10 csys =  1.53 CPU)

------------------------------
PREREQUISITES
------------------------------

Prerequisite modules loaded:

requires:

    Module         Need Have  
    -------------- ---- ------
    Carp           0    1.10  
    Hash::AutoHash 1.1  1.12  
    Tie::Hash      1    1.03  

build_requires:

    Module         Need Have  
    -------------- ---- ------
    Exporter       0    5.63  
    Test::Deep     0    0.108 
    Test::More     0.88 0.96  

configure_requires:

    Module         Need Have  
    -------------- ---- ------
    Module::Build  0.34 0.3607


------------------------------
ENVIRONMENT AND OTHER CONTEXT
------------------------------

Environment variables:

    AUTOMATED_TESTING = 1
    LANG = en_US.utf8
    PATH = /usr/local/bin:/usr/bin:/bin:/usr/local/games:/usr/games
    PERL5LIB = /home/cpt3/.cpan/build/Hash-AutoHash-AVPairsSingle-1.11-TXgMEc/blib/arch:/home/cpt3/.cpan/build/Hash-AutoHash-AVPairsSingle-1.11-TXgMEc/blib/lib:/home/cpt3/.cpan/build/Hash-AutoHash-1.12-2PqWyH/blib/arch:/home/cpt3/.cpan/build/Hash-AutoHash-1.12-2PqWyH/blib/lib:/home/cpt3/.cpan/build/Tie-Hash-MultiValue-1.02-XtNLom/blib/arch:/home/cpt3/.cpan/build/Tie-Hash-MultiValue-1.02-XtNLom/blib/lib:/home/cpt3/.cpan/build/Tie-ToObject-0.03-t_a_KD/blib/arch:/home/cpt3/.cpan/build/Tie-ToObject-0.03-t_a_KD/blib/lib:/home/cpt3/.cpan/build/Test-Deep-0.108-WEc7eR/blib/arch:/home/cpt3/.cpan/build/Test-Deep-0.108-WEc7eR/blib/lib:/home/cpt3/.cpan/build/Test-use-ok-0.02-S9FmZ1/blib/arch:/home/cpt3/.cpan/build/Test-use-ok-0.02-S9FmZ1/blib/lib:/home/cpt3/.cpan/build/List-MoreUtils-0.22-ketTXe/blib/arch:/home/cpt3/.cpan/build/List-MoreUtils-0.22-ketTXe/blib/lib:/home/cpt3/.cpan/build/Test-Simple-0.96-qBQcNW/blib/arch:/home/cpt3/.cpan/build/Test-Simple-0.96-qBQcNW/blib/lib
    PERL5OPT = 
    PERL5_CPANPLUS_IS_RUNNING = 14040
    PERL5_CPAN_IS_RUNNING = 14040
    PERL5_CPAN_IS_RUNNING_IN_RECURSION = 30773,14040
    PERL_CR_SMOKER_CURRENT = Hash-AutoHash-Record-1.11
    PERL_EXTUTILS_AUTOINSTALL = --defaultdeps
    PERL_MM_USE_DEFAULT = 1
    SHELL = /bin/bash
    TERM = screen

Perl special variables (and OS-specific diagnostics, for MSWin32):

    $^X = /home/cpt3/testing/perl-5.8.9/bin/perl
    $UID/$EUID = 1004 / 1004
    $GID = 1004 20 24 25 27 29 30 44 46 100 103 111 113 114 1004
    $EGID = 1004 20 24 25 27 29 30 44 46 100 103 111 113 114 1004

Perl module toolchain versions installed:

    Module              Have   
    ------------------- -------
    CPAN                1.9301 
    Cwd                 3.29   
    ExtUtils::CBuilder  0.2703 
    ExtUtils::Command   1.15   
    ExtUtils::Install   1.50_01
    ExtUtils::MakeMaker 6.48   
    ExtUtils::Manifest  1.55   
    ExtUtils::ParseXS   2.19   
    File::Spec          3.29   
    Module::Build       0.3607 
    Module::Signature   n/a    
    Test::Harness       2.64   
    Test::More          0.96   
    YAML                0.72   
    YAML::Syck          n/a    
    version             n/a    


--

Summary of my perl5 (revision 5 version 8 subversion 9) configuration:
  Platform:
    osname=linux, osvers=2.6.35-4.slh.9-aptosid-686, archname=i686-linux
    uname='linux firenze 2.6.35-4.slh.9-aptosid-686 #1 smp preempt mon sep 13 16:40:35 utc 2010 i686 gnulinux '
    config_args='-Dprefix=/home/cpt3/testing/perl-5.8.9'
    hint=recommended, useposix=true, d_sigaction=define
    usethreads=undef use5005threads=undef useithreads=undef usemultiplicity=undef
    useperlio=define d_sfio=undef uselargefiles=define usesocks=undef
    use64bitint=undef use64bitall=undef uselongdouble=undef
    usemymalloc=n, bincompat5005=undef
  Compiler:
    cc='cc', ccflags ='-fno-strict-aliasing -pipe -I/usr/local/include -D_LARGEFILE_SOURCE -D_FILE_OFFSET_BITS=64',
    optimize='-O2',
    cppflags='-fno-strict-aliasing -pipe -I/usr/local/include'
    ccversion='', gccversion='4.4.5', gccosandvers=''
    intsize=4, longsize=4, ptrsize=4, doublesize=8, byteorder=1234
    d_longlong=define, longlongsize=8, d_longdbl=define, longdblsize=12
    ivtype='long', ivsize=4, nvtype='double', nvsize=8, Off_t='off_t', lseeksize=8
    alignbytes=4, prototype=define
  Linker and Libraries:
    ld='cc', ldflags =' -L/usr/local/lib'
    libpth=/usr/local/lib /lib /usr/lib
    libs=-lnsl -lgdbm -ldb -ldl -lm -lcrypt -lutil -lc
    perllibs=-lnsl -ldl -lm -lcrypt -lutil -lc
    libc=/lib/libc-2.11.2.so, so=so, useshrplib=false, libperl=libperl.a
    gnulibc_version='2.11.2'
  Dynamic Linking:
    dlsrc=dl_dlopen.xs, dlext=so, d_dlsymun=undef, ccdlflags='-Wl,-E'
    cccdlflags='-fPIC', lddlflags='-shared -O2 -L/usr/local/lib'


Characteristics of this binary (from libperl): 
  Compile-time options: PERL_MALLOC_WRAP USE_FAST_STDIO USE_LARGE_FILES
                        USE_PERLIO
  Built under linux
  Compiled at Oct 11 2010 12:18:13
  %ENV:
    PERL5LIB="/home/cpt3/.cpan/build/Hash-AutoHash-AVPairsSingle-1.11-TXgMEc/blib/arch:/home/cpt3/.cpan/build/Hash-AutoHash-AVPairsSingle-1.11-TXgMEc/blib/lib:/home/cpt3/.cpan/build/Hash-AutoHash-1.12-2PqWyH/blib/arch:/home/cpt3/.cpan/build/Hash-AutoHash-1.12-2PqWyH/blib/lib:/home/cpt3/.cpan/build/Tie-Hash-MultiValue-1.02-XtNLom/blib/arch:/home/cpt3/.cpan/build/Tie-Hash-MultiValue-1.02-XtNLom/blib/lib:/home/cpt3/.cpan/build/Tie-ToObject-0.03-t_a_KD/blib/arch:/home/cpt3/.cpan/build/Tie-ToObject-0.03-t_a_KD/blib/lib:/home/cpt3/.cpan/build/Test-Deep-0.108-WEc7eR/blib/arch:/home/cpt3/.cpan/build/Test-Deep-0.108-WEc7eR/blib/lib:/home/cpt3/.cpan/build/Test-use-ok-0.02-S9FmZ1/blib/arch:/home/cpt3/.cpan/build/Test-use-ok-0.02-S9FmZ1/blib/lib:/home/cpt3/.cpan/build/List-MoreUtils-0.22-ketTXe/blib/arch:/home/cpt3/.cpan/build/List-MoreUtils-0.22-ketTXe/blib/lib:/home/cpt3/.cpan/build/Test-Simple-0.96-qBQcNW/blib/arch:/home/cpt3/.cpan/build/Test-Simple-0.96-qBQcNW/blib/lib"
    PERL5OPT=""
    PERL5_CPANPLUS_IS_RUNNING="14040"
    PERL5_CPAN_IS_RUNNING="14040"
    PERL5_CPAN_IS_RUNNING_IN_RECURSION="30773,14040"
    PERL_CR_SMOKER_CURRENT="Hash-AutoHash-Record-1.11"
    PERL_EXTUTILS_AUTOINSTALL="--defaultdeps"
    PERL_MM_USE_DEFAULT="1"
  @INC:
    /home/cpt3/.cpan/build/Hash-AutoHash-AVPairsSingle-1.11-TXgMEc/blib/arch
    /home/cpt3/.cpan/build/Hash-AutoHash-AVPairsSingle-1.11-TXgMEc/blib/lib
    /home/cpt3/.cpan/build/Hash-AutoHash-1.12-2PqWyH/blib/arch
    /home/cpt3/.cpan/build/Hash-AutoHash-1.12-2PqWyH/blib/lib
    /home/cpt3/.cpan/build/Tie-Hash-MultiValue-1.02-XtNLom/blib/arch
    /home/cpt3/.cpan/build/Tie-Hash-MultiValue-1.02-XtNLom/blib/lib
    /home/cpt3/.cpan/build/Tie-ToObject-0.03-t_a_KD/blib/arch
    /home/cpt3/.cpan/build/Tie-ToObject-0.03-t_a_KD/blib/lib
    /home/cpt3/.cpan/build/Test-Deep-0.108-WEc7eR/blib/arch
    /home/cpt3/.cpan/build/Test-Deep-0.108-WEc7eR/blib/lib
    /home/cpt3/.cpan/build/Test-use-ok-0.02-S9FmZ1/blib/arch
    /home/cpt3/.cpan/build/Test-use-ok-0.02-S9FmZ1/blib/lib
    /home/cpt3/.cpan/build/List-MoreUtils-0.22-ketTXe/blib/arch
    /home/cpt3/.cpan/build/List-MoreUtils-0.22-ketTXe/blib/lib
    /home/cpt3/.cpan/build/Test-Simple-0.96-qBQcNW/blib/arch
    /home/cpt3/.cpan/build/Test-Simple-0.96-qBQcNW/blib/lib
    /home/cpt3/testing/perl-5.8.9/lib/5.8.9/i686-linux
    /home/cpt3/testing/perl-5.8.9/lib/5.8.9
    /home/cpt3/testing/perl-5.8.9/lib/site_perl/5.8.9/i686-linux
    /home/cpt3/testing/perl-5.8.9/lib/site_perl/5.8.9
    .