Report for Dist-Zilla-Stash-PodWeaver-1.005

Back
From: metabase:user:e9d4a868-a1b6-1014-8cbd-09dd8d67b9ce
Subject: PASS Dist-Zilla-Stash-PodWeaver-1.005 v5.20.2 GNU/Linux
Date: 2016-03-30T19:55:20Z

This distribution has been tested as part of the CPAN Testers
project, supporting the Perl programming language.  See
http://wiki.cpantesters.org/ for more information or email
questions to cpan-testers-discuss@perl.org


--
Dear Randy Stauner,

This is a computer-generated report for Dist-Zilla-Stash-PodWeaver-1.005
on perl 5.20.2, created by CPAN-Reporter-1.2015.

Thank you for uploading your work to CPAN.  Congratulations!
All tests were successful.

Sections of this report:

    * Tester comments
    * Program output
    * Prerequisites
    * Environment and other context

------------------------------
TESTER COMMENTS
------------------------------

Additional comments from tester:

none provided

------------------------------
PROGRAM OUTPUT
------------------------------

Output from '/usr/bin/make test':

PERL_DL_NONLAZY=1 "/home/dolmen/.plenv/versions/5.20.2/bin/perl5.20.2" "-MExtUtils::Command::MM" "-MTest::Harness" "-e" "undef *Test::Harness::Switches; test_harness(0, 'blib/lib', 'blib/arch')" t/*.t
t/00-compile.t ......... ok
t/00-report-prereqs.t .. skipped: $ENV{AUTOMATED_TESTING} not set
t/ini-config.t ......... ok
All tests successful.
Files=3, Tests=16,  2 wallclock secs ( 0.01 usr  0.01 sys +  1.62 cusr  0.09 csys =  1.73 CPU)
Result: PASS

------------------------------
PREREQUISITES
------------------------------

Prerequisite modules loaded:

requires:

    Module                            Need  Have      
    --------------------------------- ----- ----------
    Dist::Zilla::Role::Stash::Plugins 1.006 1.006     
    Moose                             0     2.1600    
    Pod::Weaver::Config::Assembler    0     4.012     
    strict                            0     1.08      
    warnings                          0     1.23      

build_requires:

    Module                            Need  Have      
    --------------------------------- ----- ----------
    Dist::Zilla::Tester               0     5.043     
    ExtUtils::MakeMaker               0     7.10      
    File::Find                        0     1.27      
    File::Spec::Functions             0     3.62      
    File::Temp                        0     0.2304    
    List::Util                        0     1.43      
    Test::MockObject                  0     1.20140408
    Test::More                        0     1.001014  

configure_requires:

    Module                            Need  Have      
    --------------------------------- ----- ----------
    ExtUtils::MakeMaker               6.30  7.10      


------------------------------
ENVIRONMENT AND OTHER CONTEXT
------------------------------

Environment variables:

    LANG = fr_FR.UTF-8
    LANGUAGE = fr_FR
    NONINTERACTIVE_TESTING = 1
    PATH = /home/dolmen/.plenv/versions/5.20.2/bin:/home/dolmen/.plenv/libexec:/home/dolmen/.plenv/plugins/perl-build/bin:/home/dolmen/.nvm/v0.11.13/bin:/home/dolmen/bin:/home/dolmen/Code/go/bin:/usr/local/go/bin:/home/dolmen/.plenv/shims:/home/dolmen/.plenv/bin:/home/dolmen/bin:/usr/local/sbin:/usr/local/bin:/usr/sbin:/usr/bin:/sbin:/bin:/usr/games:/usr/local/games
    PERL5LIB = 
    PERL5OPT = 
    PERL5_CPANPLUS_IS_RUNNING = 27692
    PERL5_CPAN_IS_RUNNING = 27692
    PERL_CPANM_OPT = --mirror file:///home/dolmen/mirrors/minicpan/
    PERL_MM_USE_DEFAULT = 1
    SHELL = /bin/bash
    TERM = xterm

Perl special variables (and OS-specific diagnostics, for MSWin32):

    $^X = /home/dolmen/.plenv/versions/5.20.2/bin/perl5.20.2
    $UID/$EUID = 1000 / 1000
    $GID = 1000 4 24 27 30 46 108 124 126 1000
    $EGID = 1000 4 24 27 30 46 108 124 126 1000

Perl module toolchain versions installed:

    Module              Have    
    ------------------- --------
    CPAN                2.10    
    CPAN::Meta          2.150005
    Cwd                 3.62    
    ExtUtils::CBuilder  0.280220
    ExtUtils::Command   7.10    
    ExtUtils::Install   1.67    
    ExtUtils::MakeMaker 7.10    
    ExtUtils::Manifest  1.70    
    ExtUtils::ParseXS   3.24    
    File::Spec          3.62    
    JSON                2.90    
    JSON::PP            2.27300 
    Module::Build       0.4211  
    Module::Signature   0.79    
    Parse::CPAN::Meta   1.4414  
    Test::Harness       3.36    
    Test::More          1.001014
    YAML                1.14    
    YAML::Syck          n/a     
    version             0.9909  


--

Summary of my perl5 (revision 5 version 20 subversion 2) configuration:
   
  Platform:
    osname=linux, osvers=3.13.0-45-generic, archname=x86_64-linux
    uname='linux carbon 3.13.0-45-generic #74-ubuntu smp tue jan 13 19:36:28 utc 2015 x86_64 x86_64 x86_64 gnulinux '
    config_args='-Dprefix=/home/dolmen/.plenv/versions/5.20.2 -de -Dusedevel -A'eval:scriptdir=/home/dolmen/.plenv/versions/5.20.2/bin''
    hint=recommended, useposix=true, d_sigaction=define
    useithreads=undef, usemultiplicity=undef
    use64bitint=define, use64bitall=define, uselongdouble=undef
    usemymalloc=n, bincompat5005=undef
  Compiler:
    cc='cc', ccflags ='-fwrapv -fno-strict-aliasing -pipe -fstack-protector -I/usr/local/include -D_LARGEFILE_SOURCE -D_FILE_OFFSET_BITS=64',
    optimize='-O2',
    cppflags='-fwrapv -fno-strict-aliasing -pipe -fstack-protector -I/usr/local/include'
    ccversion='', gccversion='4.8.2', gccosandvers=''
    intsize=4, longsize=8, ptrsize=8, doublesize=8, byteorder=12345678
    d_longlong=define, longlongsize=8, d_longdbl=define, longdblsize=16
    ivtype='long', ivsize=8, nvtype='double', nvsize=8, Off_t='off_t', lseeksize=8
    alignbytes=8, prototype=define
  Linker and Libraries:
    ld='cc', ldflags =' -fstack-protector -L/usr/local/lib'
    libpth=/usr/local/lib /usr/lib/gcc/x86_64-linux-gnu/4.8/include-fixed /usr/include/x86_64-linux-gnu /usr/lib /lib/x86_64-linux-gnu /lib/../lib /usr/lib/x86_64-linux-gnu /usr/lib/../lib /lib
    libs=-lnsl -ldl -lm -lcrypt -lutil -lc
    perllibs=-lnsl -ldl -lm -lcrypt -lutil -lc
    libc=libc-2.19.so, so=so, useshrplib=false, libperl=libperl.a
    gnulibc_version='2.19'
  Dynamic Linking:
    dlsrc=dl_dlopen.xs, dlext=so, d_dlsymun=undef, ccdlflags='-Wl,-E'
    cccdlflags='-fPIC', lddlflags='-shared -O2 -L/usr/local/lib -fstack-protector'


Characteristics of this binary (from libperl): 
  Compile-time options: HAS_TIMES PERLIO_LAYERS PERL_DONT_CREATE_GVSV
                        PERL_HASH_FUNC_ONE_AT_A_TIME_HARD PERL_MALLOC_WRAP
                        PERL_NEW_COPY_ON_WRITE PERL_PRESERVE_IVUV
                        PERL_USE_DEVEL USE_64_BIT_ALL USE_64_BIT_INT
                        USE_LARGE_FILES USE_LOCALE USE_LOCALE_COLLATE
                        USE_LOCALE_CTYPE USE_LOCALE_NUMERIC USE_PERLIO
                        USE_PERL_ATOF
  Built under linux
  Compiled at Feb 26 2015 22:18:11
  %ENV:
    PERL5LIB=""
    PERL5OPT=""
    PERL5_CPANPLUS_IS_RUNNING="27692"
    PERL5_CPAN_IS_RUNNING="27692"
    PERL_CPANM_OPT="--mirror file:///home/dolmen/mirrors/minicpan/"
    PERL_MM_USE_DEFAULT="1"
  @INC:
    /home/dolmen/.plenv/versions/5.20.2/lib/perl5/site_perl/5.20.2/x86_64-linux
    /home/dolmen/.plenv/versions/5.20.2/lib/perl5/site_perl/5.20.2
    /home/dolmen/.plenv/versions/5.20.2/lib/perl5/5.20.2/x86_64-linux
    /home/dolmen/.plenv/versions/5.20.2/lib/perl5/5.20.2
    .