Tk-Zinc v3.306 Perl 5 v5.37.11 darwin-thread-multi-ld-2level

Status
Pass
From
Dist
Tk-Zinc v3.306
Platform
Perl 5 v5.37.11 darwin-thread-multi-ld-2level
Date
2023-04-15 13:06:27
ID
54ad5e00-db8e-11ed-9b41-6306019df380
This distribution has been tested as part of the CPAN Testers
project, supporting the Perl programming language.  See
http://wiki.cpantesters.org/ for more information or email
questions to cpan-testers-discuss@perl.org


--
Dear Alexander Becker,

This is a computer-generated report for Tk-Zinc-3.306
on perl 5.37.11, created by CPAN-Reporter-1.2018.

Thank you for uploading your work to CPAN.  Congratulations!
All tests were successful.

Sections of this report:

    * Tester comments
    * Program output
    * Prerequisites
    * Environment and other context

------------------------------
TESTER COMMENTS
------------------------------

Additional comments from tester:

none provided

------------------------------
PROGRAM OUTPUT
------------------------------

Output from '/usr/local/bin/remake test':

"/opt/perl5/perls/perl-blead/bin/perl5.37.11" -MExtUtils::Command::MM -e 'cp_nonempty' -- Zinc.bs blib/arch/auto/Tk/Zinc/Zinc.bs 644
/Users/b1-bloom/.cpan/build/Tk-Zinc-3.306-0/demos
remake[1]: Entering directory '/Users/b1-bloom/.cpan/build/Tk-Zinc-3.306-0/demos'
Manifying 1 pod document
remake[1]: Leaving directory '/Users/b1-bloom/.cpan/build/Tk-Zinc-3.306-0/demos'
/Users/b1-bloom/.cpan/build/Tk-Zinc-3.306-0/demos
remake[1]: Entering directory '/Users/b1-bloom/.cpan/build/Tk-Zinc-3.306-0/demos'
"/opt/perl5/perls/perl-blead/bin/perl5.37.11" "-MExtUtils::Command::MM" "-MTest::Harness" "-e" "undef *Test::Harness::Switches; test_harness(0, '../blib/lib', '../blib/arch')" t/*.t
t/no-test.t .. ok
All tests successful.
Files=1, Tests=1,  1 wallclock secs ( 0.01 usr  0.01 sys +  0.00 cusr  0.01 csys =  0.03 CPU)
Result: PASS
remake[1]: Leaving directory '/Users/b1-bloom/.cpan/build/Tk-Zinc-3.306-0/demos'
"/opt/perl5/perls/perl-blead/bin/perl5.37.11" "-MExtUtils::Command::MM" "-MTest::Harness" "-e" "undef *Test::Harness::Switches; test_harness(0, 'blib/lib', 'blib/arch')" t/*.t
GLX not available (need at least a 24 bits buffer with stencil)
t/AnimatedGradient.t .......... ok
GLX not available (need at least a 24 bits buffer with stencil)
# ############## end of text test
t/Bbox-curve-multi-contour.t .. ok
# ############## bbox test
t/Bbox.t ...................... ok
# ############## coords test
t/Coords.t .................... ok
# ############## Images test
t/find.t ...................... ok
GLX not available (need at least a 24 bits buffer with stencil)
# ############## Images test
t/Images.t .................... ok
# ############## all imports
t/Import.t .................... ok
t/Maps.t ...................... ok
# ############## all known bugs
t/PreviousKnownBugs.t ......... ok
# ############## Scale clipped group test
t/Scale_clipped_group.t ....... ok
# ############## text items test
t/Text.t ...................... ok
GLX not available (need at least a 24 bits buffer with stencil)
GLX not available (need at least a 24 bits buffer with stencil)
# ############## end of text test
t/Text2.t ..................... ok
# ############## Tk::Zinc::TraceUtils test
t/traceutils.t ................ ok
# ############## transformations test
t/Transformations.t ........... ok
All tests successful.
Files=14, Tests=214, 129 wallclock secs ( 0.07 usr  0.04 sys + 12.31 cusr  1.71 csys = 14.13 CPU)
Result: PASS

------------------------------
PREREQUISITES
------------------------------

Prerequisite modules loaded:

requires:

    Module              Need    Have    
    ------------------- ------- --------
    ExtUtils::MakeMaker 6.98    7.70    
    perl                5.006   5.037011
    Tk                  800.004 804.036 

build_requires:

    Module              Need    Have    
    ------------------- ------- --------
    ExtUtils::MakeMaker 0       7.70    
    Test::More          0.98    1.302194

configure_requires:

    Module              Need    Have    
    ------------------- ------- --------
    ExtUtils::MakeMaker 0       7.70    
    Tk                  0       804.036 


------------------------------
ENVIRONMENT AND OTHER CONTEXT
------------------------------

Environment variables:

    CPAN_RUN_SHELL_TEST_WITHOUT_EXPECT = 1
    LANG = en_US.UTF-8
    LC_ADDRESS = en_US.UTF-8
    LC_ALL = en_US.UTF-8
    LC_COLLATE = C
    LC_IDENTIFICATION = en_US.UTF-8
    LC_MEASUREMENT = en_US.UTF-8
    LC_MESSAGES = POSIX
    LC_MONETARY = en_US.UTF-8
    LC_NAME = en_US.UTF-8
    LC_NUMERIC = en_US.UTF-8
    LC_PAPER = en_US.UTF-8
    LC_TELEPHONE = en_US.UTF-8
    LC_TERMINAL = iTerm2
    LC_TERMINAL_VERSION = 3.5.0beta10
    LC_TIME = en_US.UTF-8
    LDFLAGS = -Wl,-syslibroot,/Applications/Xcode.app/Contents/Developer/Platforms/MacOSX.platform/Developer/SDKs/MacOSX.sdk -mmacosx-version-min=13 -L/Applications/Xcode.app/Contents/Developer/Platforms/MacOSX.platform/Developer/SDKs/MacOSX13.3.sdk/usr/lib -L/usr/local/lib -L/usr/local/opt/openssl@1.1/lib -L/usr/local/opt/readline/lib -L/usr/local/opt/zlib/lib -L/usr/local/opt/bzip2/lib -L/usr/local/opt/icu4c/lib -L/usr/local/opt/expat/lib -L/usr/local/opt/libxslt/lib -L/usr/local/opt/libxml2/lib -L/usr/local/opt/bison/lib -L/usr/local/opt/berkeley-db/lib -L/usr/local/opt/sqlite/lib -L/usr/local/opt/libarchive/lib
    NONINTERACTIVE_TESTING = 1
    PATH = /Users/b1-bloom/.local/bin:/Users/b1-bloom/.cargo/bin:/usr/local/opt/libtool/libexec/gnubin:/usr/local/opt/gnupg/bin:/Users/b1-bloom/.bin:/opt/perl5/bin:/opt/perl5/perls/perl-blead/bin:/Users/b1-bloom/Library/Python/3.11/bin:/Users/b1-bloom/Library/Python/3.10/bin:/Users/b1-bloom/Library/Python/3.9/bin:/Users/b1-bloom/.pyenv/bin:/Users/b1-bloom/.rbenv/bin:/Users/b1-bloom/.jenv/shims:/Users/b1-bloom/.jenv/bin:/opt/luarocks/bin:/usr/local/opt/luajit-openresty/bin:/Users/b1-bloom/.mint/bin:/Users/b1-bloom/Bloom-Development/Bloom-Project/B1-Local/B1-GOLANG/bin:/usr/local/opt/go/libexec/bin:/Users/b1-bloom/.deno/bin:/usr/local/opt/autoconf/bin:/usr/local/opt/gnu-which/libexec/gnubin:/usr/local/opt/grep/libexec/gnubin:/usr/local/opt/bison/bin:/opt/metasploit-framework/bin:/usr/local/opt/ncurses/bin:/usr/local/opt/awk/bin:/usr/local/opt/berkeley-db/bin:/usr/local/opt/lsof/bin:/usr/local/opt/git/bin:/usr/local/opt/rtmpdump/bin:/usr/local/opt/unzip/bin:/usr/local/opt/bzip2/bin:/usr/local/opt/libarchive/bin:/usr/local/opt/expat/bin:/usr/local/opt/libxslt/bin:/usr/local/opt/libxml2/bin:/usr/local/opt/sqlite/bin:/usr/local/opt/man-db/sbin:/usr/local/opt/man-db/bin:/usr/local/opt/apr-util/bin:/usr/local/opt/apr/bin:/usr/local/opt/icu4c/sbin:/usr/local/opt/icu4c/bin:/Applications/Visual Studio Code - Insiders.app/Contents/Resources/app/bin:/opt/DevTools/DictionaryDevelopmentKit/bin:/Users/b1-bloom/.yarn/bin:/Users/b1-bloom/.osx-sysdir/FinderMD/bin:/usr/local/opt/openssl@1.1/bin:/Users/b1-bloom/.pyenv/plugins/pyenv-virtualenv/shims:/Users/b1-bloom/.pyenv/shims:/Users/b1-bloom/.nvm/versions/node/v19.9.0/bin:/Users/b1-bloom/.rbenv/shims:/usr/local/bin:/usr/local/sbin:/Library/Apple/usr/bin:/usr/bin:/usr/sbin:/bin:/sbin:/System/Cryptexes/App/usr/bin:/usr/local/MacGPG2/bin:/opt/X11/bin:/Applications/Wireshark.app/Contents/MacOS:/var/run/com.apple.security.cryptexd/codex.system/bootstrap/usr/local/bin:/var/run/com.apple.security.cryptexd/codex.system/bootstrap/usr/bin:/var/run/com.apple.security.cryptexd/codex.system/bootstrap/usr/appleinternal/bin:/usr/libexec:/System/Library/CoreServices:/Applications/iTerm.app/Contents/Resources/utilities:/Users/b1-bloom/.composer/vendor/bin:/Users/b1-bloom/.fzf/bin
    PERL5LIB = 
    PERL5OPT = 
    PERL5_CPANPLUS_IS_RUNNING = 68915
    PERL5_CPAN_IS_RUNNING = 68915
    PERLBREW_CPAN_MIRROR = https://cpan.metacpan.org
    PERLBREW_HOME = /Users/b1-bloom/.perlbrew
    PERLBREW_MANPATH = /opt/perl5/perls/perl-blead/man
    PERLBREW_PATH = /opt/perl5/bin:/opt/perl5/perls/perl-blead/bin
    PERLBREW_PERL = perl-blead
    PERLBREW_ROOT = /opt/perl5
    PERLBREW_SHELLRC_VERSION = 0.96
    PERLBREW_VERSION = 0.96
    PERL_AUTOINSTALL = 1
    PERL_CPANM_OPT = -v --with-recommends --with-suggests --man-pages --auto-cleanup
    PERL_EXTUTILS_AUTOINSTALL = 1
    PERL_MM_USE_DEFAULT = 1
    PERL_USE_UNSAFE_INC = 1
    SHELL = /usr/local/bin/zsh
    TERM = xterm-256color
    TMPDIR = /var/folders/jn/jcn2g_t16f9b_gpcjvfgzvs80000gn/T/

Perl special variables (and OS-specific diagnostics, for MSWin32):

    $^X = /opt/perl5/perls/perl-blead/bin/perl5.37.11
    $UID/$EUID = 501 / 501
    $GID = 20 20 12 61 79 80 81 98 399 400 101 705 703 33 100 204 250
    $EGID = 20 20 12 61 79 80 81 98 399 400 101 705 703 33 100 204 250

Perl module toolchain versions installed:

    Module              Have    
    ------------------- --------
    CPAN                2.34    
    CPAN::Meta          2.150010
    Cwd                 3.89    
    ExtUtils::CBuilder  0.280238
    ExtUtils::Command   7.70    
    ExtUtils::Install   2.22    
    ExtUtils::MakeMaker 7.70    
    ExtUtils::Manifest  1.73    
    ExtUtils::ParseXS   3.50    
    File::Spec          3.88    
    JSON                4.10    
    JSON::PP            4.16    
    Module::Build       0.4232  
    Module::Signature   0.88    
    Parse::CPAN::Meta   2.150010
    Test::Harness       3.44    
    Test::More          1.302194
    YAML                1.30    
    YAML::Syck          1.34    
    version             0.9929  


--

Summary of my perl5 (revision 5 version 37 subversion 11) configuration:
  Snapshot of: 2cc10db0945c634ca4b9408b2325b67f3aedf7b0
  Platform:
    osname=darwin
    osvers=22.5.0
    archname=darwin-thread-multi-ld-2level
    uname='darwin ast-03.local 22.5.0 darwin kernel version 22.5.0: sun apr 2 19:23:50 pdt 2023; root:xnu-8796.120.31~10release_x86_64 x86_64 '
    config_args='-de -Dprefix=/opt/perl5/perls/perl-blead -Duseshrplib -Duselargefiles -Dusethreads -Dusedevel -Dsed=/usr/bin/sed -Doptimize=-O3 -Dusemultiplicity -Dcc=clang -Dusethreads -Duselongdouble -Duse64bitint -Dusedevel -Aeval:scriptdir=/opt/perl5/perls/perl-blead/bin'
    hint=recommended
    useposix=true
    d_sigaction=define
    useithreads=define
    usemultiplicity=define
    use64bitint=define
    use64bitall=define
    uselongdouble=define
    usemymalloc=n
    default_inc_excludes_dot=define
  Compiler:
    cc='clang'
    ccflags ='-fno-common -DPERL_DARWIN -no-cpp-precomp -mmacosx-version-min=13.4 -fno-strict-aliasing -pipe -fstack-protector-strong -I/usr/local/include'
    optimize='-O3'
    cppflags='-no-cpp-precomp -fno-common -DPERL_DARWIN -no-cpp-precomp -mmacosx-version-min=13.4 -fno-strict-aliasing -pipe -fstack-protector-strong -I/usr/local/include'
    ccversion=''
    gccversion='Apple LLVM 14.0.3 (clang-1403.0.22.14.1)'
    gccosandvers=''
    intsize=4
    longsize=8
    ptrsize=8
    doublesize=8
    byteorder=12345678
    doublekind=3
    d_longlong=define
    longlongsize=8
    d_longdbl=define
    longdblsize=16
    longdblkind=3
    ivtype='long'
    ivsize=8
    nvtype='long double'
    nvsize=16
    Off_t='off_t'
    lseeksize=8
    alignbytes=16
    prototype=define
  Linker and Libraries:
    ld='clang'
    ldflags =' -mmacosx-version-min=13.4 -fstack-protector-strong -L/usr/local/lib'
    libpth=/Applications/Xcode.app/Contents/Developer/Toolchains/XcodeDefault.xctoolchain/usr/lib/clang/14.0.3/lib /Applications/Xcode.app/Contents/Developer/Platforms/MacOSX.platform/Developer/SDKs/MacOSX.sdk/usr/lib /Applications/Xcode.app/Contents/Developer/Toolchains/XcodeDefault.xctoolchain/usr/lib /usr/local/lib /usr/lib
    libs=-lgdbm -ldbm
    perllibs=
    libc=
    so=dylib
    useshrplib=true
    libperl=libperl.dylib
    gnulibc_version=''
  Dynamic Linking:
    dlsrc=dl_dlopen.xs
    dlext=bundle
    d_dlsymun=undef
    ccdlflags=' '
    cccdlflags=' '
    lddlflags=' -mmacosx-version-min=13.4 -bundle -undefined dynamic_lookup -L/usr/local/lib -fstack-protector-strong'


Characteristics of this binary (from libperl): 
  Compile-time options:
    HAS_LONG_DOUBLE
    HAS_STRTOLD
    HAS_TIMES
    MULTIPLICITY
    PERLIO_LAYERS
    PERL_COPY_ON_WRITE
    PERL_DONT_CREATE_GVSV
    PERL_HASH_FUNC_SIPHASH13
    PERL_HASH_USE_SBOX32
    PERL_MALLOC_WRAP
    PERL_OP_PARENT
    PERL_PRESERVE_IVUV
    PERL_USE_DEVEL
    PERL_USE_SAFE_PUTENV
    USE_64_BIT_ALL
    USE_64_BIT_INT
    USE_ITHREADS
    USE_LARGE_FILES
    USE_LOCALE
    USE_LOCALE_COLLATE
    USE_LOCALE_CTYPE
    USE_LOCALE_NUMERIC
    USE_LOCALE_TIME
    USE_LONG_DOUBLE
    USE_PERLIO
    USE_PERL_ATOF
    USE_REENTRANT_API
    USE_THREAD_SAFE_LOCALE
  Built under darwin
  Compiled at Apr 15 2023 02:34:20
  %ENV:
    PERL5LIB=""
    PERL5OPT=""
    PERL5_CPANPLUS_IS_RUNNING="68915"
    PERL5_CPAN_IS_RUNNING="68915"
    PERLBREW_CPAN_MIRROR="https://cpan.metacpan.org"
    PERLBREW_HOME="/Users/b1-bloom/.perlbrew"
    PERLBREW_MANPATH="/opt/perl5/perls/perl-blead/man"
    PERLBREW_PATH="/opt/perl5/bin:/opt/perl5/perls/perl-blead/bin"
    PERLBREW_PERL="perl-blead"
    PERLBREW_ROOT="/opt/perl5"
    PERLBREW_SHELLRC_VERSION="0.96"
    PERLBREW_VERSION="0.96"
    PERL_AUTOINSTALL="1"
    PERL_CPANM_OPT="-v --with-recommends --with-suggests --man-pages --auto-cleanup"
    PERL_EXTUTILS_AUTOINSTALL="1"
    PERL_MM_USE_DEFAULT="1"
    PERL_USE_UNSAFE_INC="1"
  @INC:
    /opt/perl5/perls/perl-blead/lib/site_perl/5.37.11/darwin-thread-multi-ld-2level
    /opt/perl5/perls/perl-blead/lib/site_perl/5.37.11
    /opt/perl5/perls/perl-blead/lib/5.37.11/darwin-thread-multi-ld-2level
    /opt/perl5/perls/perl-blead/lib/5.37.11
    .