Back
From: metabase:user:1eed3a18-483e-11e2-a87b-a3931c712682
Subject: PASS Text-Roman-3.5 v5.16.3 GNU/Linux
Date: 2013-05-23T15:49:18Z
This distribution has been tested as part of the CPAN Testers
project, supporting the Perl programming language. See
http://wiki.cpantesters.org/ for more information or email
questions to cpan-testers-discuss@perl.org
--
Dear SYP,
This is a computer-generated report for Text-Roman-3.5
on perl 5.16.3, created by App::cpanminus::reporter 0.09 (1.6914).
Thank you for uploading your work to CPAN. Congratulations!
All tests were successful.
Sections of this report:
* Tester comments
* Program output
* Prerequisites
* Environment and other context
------------------------------
TESTER COMMENTS
------------------------------
Additional comments from tester:
none provided
------------------------------
PROGRAM OUTPUT
------------------------------
Output from '':
Building and testing Text-Roman-3.5
cp lib/Text/Roman.pm blib/lib/Text/Roman.pm
Manifying blib/man3/Text::Roman.3
PERL_DL_NONLAZY=1 /home/perlbrew/perl5/perlbrew/perls/perl-5.16.3/bin/perl "-MExtUtils::Command::MM" "-e" "test_harness(0, 'blib/lib', 'blib/arch')" t/*.t
t/00-compile.t ............... ok
# Text::Roman v3.5, Perl 5.016003, /home/perlbrew/perl5/perlbrew/perls/perl-5.16.3/bin/perl
t/00-load.t .................. ok
t/05-ecalder.t ............... ok
t/10-simple.t ................ ok
t/11-void.t .................. ok
ismroman() deprecated, use ismilhar() instead at t/15-aliased.t line 9.
mroman2int() deprecated, use milhar2int() instead at t/15-aliased.t line 10.
roman() deprecated, use int2roman() instead at t/15-aliased.t line 11.
t/15-aliased.t ............... ok
t/20-predef.t ................ ok
t/author-critic.t ............ skipped: these tests are for testing by the author
t/author-test-eol.t .......... skipped: these tests are for testing by the author
t/release-cpan-changes.t ..... skipped: these tests are for release candidate testing
t/release-dist-manifest.t .... skipped: these tests are for release candidate testing
t/release-distmeta.t ......... skipped: these tests are for release candidate testing
t/release-kwalitee.t ......... skipped: these tests are for release candidate testing
t/release-minimum-version.t .. skipped: these tests are for release candidate testing
t/release-mojibake.t ......... skipped: these tests are for release candidate testing
t/release-no-tabs.t .......... skipped: these tests are for release candidate testing
t/release-pod-coverage.t ..... skipped: these tests are for release candidate testing
t/release-pod-linkcheck.t .... skipped: these tests are for release candidate testing
t/release-pod-syntax.t ....... skipped: these tests are for release candidate testing
t/release-portability.t ...... skipped: these tests are for release candidate testing
t/release-synopsis.t ......... skipped: these tests are for release candidate testing
t/release-test-version.t ..... skipped: these tests are for release candidate testing
t/release-unused-vars.t ...... skipped: these tests are for release candidate testing
All tests successful.
Files=23, Tests=431, 2 wallclock secs ( 0.13 usr 0.08 sys + 1.35 cusr 0.12 csys = 1.68 CPU)
Result: PASS
------------------------------
PREREQUISITES
------------------------------
Prerequisite modules loaded:
runtime:
Module Need Have
------------------- ----- --------
Carp 0 1.26
Exporter 0 5.68
perl 5.006 5.016003
strict 0 1.07
warnings 0 1.13
build:
Module Need Have
------------------- ----- --------
File::Find 0 1.20
File::Temp 0 0.2301
Test::More 0 0.98
Test::Simple 0 0.98
configure:
Module Need Have
------------------- ----- --------
ExtUtils::MakeMaker 6.30 6.66
------------------------------
ENVIRONMENT AND OTHER CONTEXT
------------------------------
Environment variables:
LANG = en_US.UTF-8
LC_ALL = en_US.UTF-8
PATH = /home/perlbrew/perl5/perlbrew/bin:/home/perlbrew/perl5/perlbrew/perls/perl-5.16.3/bin:/usr/local/bin:/usr/bin:/bin:/usr/local/games:/usr/games:/opt/vagrant_ruby/bin
PERLBREW_BASHRC_VERSION = 0.63
PERLBREW_HOME = /home/perlbrew/.perlbrew
PERLBREW_MANPATH = /home/perlbrew/perl5/perlbrew/perls/perl-5.16.3/man
PERLBREW_PATH = /home/perlbrew/perl5/perlbrew/bin:/home/perlbrew/perl5/perlbrew/perls/perl-5.16.3/bin
PERLBREW_PERL = perl-5.16.3
PERLBREW_ROOT = /home/perlbrew/perl5/perlbrew
PERLBREW_VERSION = 0.63
SHELL = /bin/bash
TERM = screen
Perl special variables (and OS-specific diagnostics, for MSWin32):
EGID = 1003 1003
EUID = 1001
EXECUTABLE_NAME = /home/perlbrew/perl5/perlbrew/perls/perl-5.16.3/bin/perl
GID = 1003 1003
UID = 1001
Perl module toolchain versions installed:
Module Have
------------------- --------
CPAN 2.00
CPAN::Meta 2.130880
Cwd 3.40
ExtUtils::CBuilder 0.280206
ExtUtils::Command 1.17
ExtUtils::Install 1.58
ExtUtils::MakeMaker 6.66
ExtUtils::Manifest 1.61
ExtUtils::ParseXS 3.16
File::Spec 3.40
JSON 2.58
JSON::PP 2.27200
Module::Build 0.4005
Module::Signature 0.70
Parse::CPAN::Meta 1.4404
Test::Harness 3.23
Test::More 0.98
YAML 0.84
YAML::Syck 1.27
version 0.99
--
Summary of my perl5 (revision 5 version 16 subversion 3) configuration:
Platform:
osname=linux, osvers=3.2.0-23-generic, archname=x86_64-linux
uname='linux precise64 3.2.0-23-generic #36-ubuntu smp tue apr 10 20:39:51 utc 2012 x86_64 x86_64 x86_64 gnulinux '
config_args='-de -Dprefix=/home/perlbrew/perl5/perlbrew/perls/perl-5.16.3 -Aeval:scriptdir=/home/perlbrew/perl5/perlbrew/perls/perl-5.16.3/bin'
hint=recommended, useposix=true, d_sigaction=define
useithreads=undef, usemultiplicity=undef
useperlio=define, d_sfio=undef, uselargefiles=define, usesocks=undef
use64bitint=define, use64bitall=define, uselongdouble=undef
usemymalloc=n, bincompat5005=undef
Compiler:
cc='cc', ccflags ='-fno-strict-aliasing -pipe -fstack-protector -I/usr/local/include -D_LARGEFILE_SOURCE -D_FILE_OFFSET_BITS=64',
optimize='-O2',
cppflags='-fno-strict-aliasing -pipe -fstack-protector -I/usr/local/include'
ccversion='', gccversion='4.6.3', gccosandvers=''
intsize=4, longsize=8, ptrsize=8, doublesize=8, byteorder=12345678
d_longlong=define, longlongsize=8, d_longdbl=define, longdblsize=16
ivtype='long', ivsize=8, nvtype='double', nvsize=8, Off_t='off_t', lseeksize=8
alignbytes=8, prototype=define
Linker and Libraries:
ld='cc', ldflags =' -fstack-protector -L/usr/local/lib'
libpth=/usr/local/lib /lib/x86_64-linux-gnu /lib/../lib /usr/lib/x86_64-linux-gnu /usr/lib/../lib /lib /usr/lib
libs=-lnsl -ldb -ldl -lm -lcrypt -lutil -lc
perllibs=-lnsl -ldl -lm -lcrypt -lutil -lc
libc=, so=so, useshrplib=false, libperl=libperl.a
gnulibc_version='2.15'
Dynamic Linking:
dlsrc=dl_dlopen.xs, dlext=so, d_dlsymun=undef, ccdlflags='-Wl,-E'
cccdlflags='-fPIC', lddlflags='-shared -O2 -L/usr/local/lib -fstack-protector'
Characteristics of this binary (from libperl):
Compile-time options: HAS_TIMES PERLIO_LAYERS PERL_DONT_CREATE_GVSV
PERL_MALLOC_WRAP PERL_PRESERVE_IVUV USE_64_BIT_ALL
USE_64_BIT_INT USE_LARGE_FILES USE_LOCALE
USE_LOCALE_COLLATE USE_LOCALE_CTYPE
USE_LOCALE_NUMERIC USE_PERLIO USE_PERL_ATOF
Built under linux
Compiled at May 23 2013 09:38:43
%ENV:
PERLBREW_BASHRC_VERSION="0.63"
PERLBREW_HOME="/home/perlbrew/.perlbrew"
PERLBREW_MANPATH="/home/perlbrew/perl5/perlbrew/perls/perl-5.16.3/man"
PERLBREW_PATH="/home/perlbrew/perl5/perlbrew/bin:/home/perlbrew/perl5/perlbrew/perls/perl-5.16.3/bin"
PERLBREW_PERL="perl-5.16.3"
PERLBREW_ROOT="/home/perlbrew/perl5/perlbrew"
PERLBREW_VERSION="0.63"
@INC:
/home/perlbrew/perl5/perlbrew/perls/perl-5.16.3/lib/site_perl/5.16.3/x86_64-linux
/home/perlbrew/perl5/perlbrew/perls/perl-5.16.3/lib/site_perl/5.16.3
/home/perlbrew/perl5/perlbrew/perls/perl-5.16.3/lib/5.16.3/x86_64-linux
/home/perlbrew/perl5/perlbrew/perls/perl-5.16.3/lib/5.16.3
.