Mojolicious-Plugin-OpenAPI-Modern v0.007 Perl 5 v5.34.0 x86_64-linux-thread-multi-ld

Status
Pass
From
Andreas J. König (ANDK)
Dist
Mojolicious-Plugin-OpenAPI-Modern v0.007
Platform
Perl 5 v5.34.0 x86_64-linux-thread-multi-ld
Date
2023-12-18 19:33:32
ID
53f95f0c-9ddc-11ee-95fb-36f2008359f7
This distribution has been tested as part of the CPAN Testers
project, supporting the Perl programming language.  See
http://wiki.cpantesters.org/ for more information or email
questions to cpan-testers-discuss@perl.org


--
Dear Karen Etheridge,

This is a computer-generated report for Mojolicious-Plugin-OpenAPI-Modern-0.007
on perl 5.34.0, created by CPAN-Reporter-1.2018.

Thank you for uploading your work to CPAN.  Congratulations!
All tests were successful.

Sections of this report:

    * Tester comments
    * Program output
    * Prerequisites
    * Environment and other context

------------------------------
TESTER COMMENTS
------------------------------

Additional comments from tester:

this report is from an automated smoke testing program
and was not reviewed by a human for accuracy

------------------------------
PROGRAM OUTPUT
------------------------------

Output from '/usr/bin/make test':

PERL_DL_NONLAZY=1 "/home/sand/src/perl/repoperls/installed-perls/host/k93msid/v5.34.0/ac75/bin/perl" "-MExtUtils::Command::MM" "-MTest::Harness" "-e" "undef *Test::Harness::Switches; test_harness(0, 'blib/lib', 'blib/arch')" t/*.t
# 
# Versions for all modules listed in MYMETA.json (including optional ones):
# 
# === Configure Requires ===
# 
#     Module               Want     Have
#     ------------------- ----- --------
#     ExtUtils::MakeMaker   any     7.64
#     Module::Build::Tiny 0.034    0.046
#     perl                5.020 5.034000
# 
# === Build Requires ===
# 
#     Module              Want Have
#     ------------------- ---- ----
#     ExtUtils::MakeMaker  any 7.64
# 
# === Test Requires ===
# 
#     Module                           Want     Have
#     ------------------------------- ----- --------
#     File::Spec                        any     3.80
#     JSON::Schema::Modern::Utilities   any    0.575
#     Module::Metadata                  any 1.000037
#     Test::Deep                        any    1.130
#     Test::Memory::Cycle               any     1.06
#     Test::Mojo                        any    undef
#     Test::More                       0.88 1.302195
#     constant                          any     1.33
#     experimental                      any    0.031
#     lib                               any     0.65
#     open                              any     1.12
#     perl                            5.020 5.034000
#     stable                          0.031    0.031
#     strict                            any     1.12
#     warnings                          any     1.51
# 
# === Test Recommends ===
# 
#     Module         Want     Have
#     ---------- -------- --------
#     CPAN::Meta 2.120900 2.150010
# 
# === Runtime Requires ===
# 
#     Module                                   Want     Have
#     --------------------------------------- ----- --------
#     Feature::Compat::Try                      any     0.05
#     JSON::Schema::Modern                    0.549    0.575
#     JSON::Schema::Modern::Document::OpenAPI 0.024    0.053
#     Mojo::Base                                any    undef
#     Mojo::JSON                                any    undef
#     OpenAPI::Modern                         0.040    0.053
#     Path::Tiny                                any    0.144
#     Safe::Isa                                 any 1.000010
#     YAML::PP                                  any    0.036
#     if                                        any   0.0609
#     namespace::clean                          any     0.27
#     perl                                    5.020 5.034000
#     strictures                                  2 2.000006
# 
# === Other Modules ===
# 
#     Module                    Have
#     ----------------------- ------
#     Cpanel::JSON::XS          4.36
#     Encode                    3.20
#     File::ShareDir           1.118
#     File::ShareDir::Install   0.14
#     File::Temp              0.2311
#     JSON::PP                  4.16
#     JSON::XS                  4.03
#     Module::Runtime          0.016
#     Mojolicious               9.31
#     Pod::Coverage             0.23
#     Sub::Name                 0.27
#     YAML                      1.30
#     autodie                   2.36
# 
t/00-report-prereqs.t .......... ok
t/initialization.t ............. ok
t/validate_request_response.t .. ok
All tests successful.
Files=3, Tests=6,  6 wallclock secs ( 0.03 usr  0.02 sys +  4.55 cusr  0.34 csys =  4.94 CPU)
Result: PASS

------------------------------
PREREQUISITES
------------------------------

Prerequisite modules loaded:

requires:

    Module                                  Need  Have    
    --------------------------------------- ----- --------
    Feature::Compat::Try                    0     0.05    
    if                                      0     0.0609  
    JSON::Schema::Modern                    0.549 0.575   
    JSON::Schema::Modern::Document::OpenAPI 0.024 0.053   
    Mojo::Base                              0     0       
    Mojo::JSON                              0     0       
    namespace::clean                        0     0.27    
    OpenAPI::Modern                         0.040 0.053   
    Path::Tiny                              0     0.144   
    perl                                    5.020 5.034000
    Safe::Isa                               0     1.000010
    strictures                              2     2.000006
    YAML::PP                                0     0.036   

build_requires:

    Module                                  Need  Have    
    --------------------------------------- ----- --------
    constant                                0     1.33    
    experimental                            0     0.031   
    ExtUtils::MakeMaker                     0     7.64    
    File::Spec                              0     3.80    
    JSON::Schema::Modern::Utilities         0     0.575   
    lib                                     0     0.65    
    Module::Metadata                        0     1.000037
    open                                    0     1.12    
    stable                                  0.031 0.031   
    strict                                  0     1.12    
    Test::Deep                              0     1.130   
    Test::Memory::Cycle                     0     1.06    
    Test::Mojo                              0     0       
    Test::More                              0.88  1.302195
    warnings                                0     1.51    

configure_requires:

    Module                                  Need  Have    
    --------------------------------------- ----- --------
    ExtUtils::MakeMaker                     0     7.64    
    Module::Build::Tiny                     0.034 0.046   
    perl                                    5.020 5.034000


------------------------------
ENVIRONMENT AND OTHER CONTEXT
------------------------------

Environment variables:

    AUTOMATED_TESTING = 1
    LANG = en_US.UTF-8
    LANGUAGE = en_US:en
    PATH = /home/sand/bin:/usr/local/bin:/usr/bin:/bin:/usr/games:/usr/local/perl/bin:/usr/X11/bin:/sbin:/usr/sbin
    PERL5LIB = 
    PERL5OPT = 
    PERL5_CPANPLUS_IS_RUNNING = 3347811
    PERL5_CPAN_IS_RUNNING = 3347811
    PERL_CANARY_STABILITY_NOPROMPT = 1
    PERL_MM_USE_DEFAULT = 1
    PERL_USE_UNSAFE_INC = 1
    SHELL = /usr/bin/zsh
    TERM = screen

Perl special variables (and OS-specific diagnostics, for MSWin32):

    $^X = /home/sand/src/perl/repoperls/installed-perls/host/k93msid/v5.34.0/ac75/bin/perl
    $UID/$EUID = 1005 / 1005
    $GID = 1005 1005
    $EGID = 1005 1005

Perl module toolchain versions installed:

    Module              Have    
    ------------------- --------
    CPAN                2.34    
    CPAN::Meta          2.150010
    Cwd                 3.80    
    ExtUtils::CBuilder  0.280236
    ExtUtils::Command   7.64    
    ExtUtils::Install   2.20    
    ExtUtils::MakeMaker 7.64    
    ExtUtils::Manifest  1.75    
    ExtUtils::ParseXS   3.51    
    File::Spec          3.80    
    JSON                4.10    
    JSON::PP            4.16    
    Module::Build       0.4234  
    Module::Signature   0.88    
    Parse::CPAN::Meta   2.150010
    Test::Harness       3.48    
    Test::More          1.302195
    YAML                1.30    
    YAML::Syck          1.34    
    version             0.9929  


--

Summary of my perl5 (revision 5 version 34 subversion 0) configuration:
  Commit id: 79a7b254d85a10b65126ad99bf10e70480569d68
  Platform:
    osname=linux
    osvers=5.16.0-6-amd64
    archname=x86_64-linux-thread-multi-ld
    uname='linux k93msid 5.16.0-6-amd64 #1 smp preempt debian 5.16.18-1 (2022-03-29) x86_64 gnulinux '
    config_args='-Dprefix=/home/sand/src/perl/repoperls/installed-perls/host/k93msid/v5.34.0/ac75 -Dmyhostname=k93msid -Dinstallusrbinperl=n -Uversiononly -Dusedevel -des -Ui_db -Dlibswanted=cl pthread socket inet nsl gdbm dbm malloc dl ld sun m crypt sec util c cposix posix ucb BSD gdbm_compat -Duseithreads -Duselongdouble -DEBUGGING=both'
    hint=recommended
    useposix=true
    d_sigaction=define
    useithreads=define
    usemultiplicity=define
    use64bitint=define
    use64bitall=define
    uselongdouble=define
    usemymalloc=n
    default_inc_excludes_dot=define
  Compiler:
    cc='cc'
    ccflags ='-D_REENTRANT -D_GNU_SOURCE -fwrapv -DDEBUGGING -fno-strict-aliasing -pipe -fstack-protector-strong -I/usr/local/include -D_LARGEFILE_SOURCE -D_FILE_OFFSET_BITS=64 -D_FORTIFY_SOURCE=2'
    optimize='-O2 -g'
    cppflags='-D_REENTRANT -D_GNU_SOURCE -fwrapv -DDEBUGGING -fno-strict-aliasing -pipe -fstack-protector-strong -I/usr/local/include'
    ccversion=''
    gccversion='11.2.0'
    gccosandvers=''
    intsize=4
    longsize=8
    ptrsize=8
    doublesize=8
    byteorder=12345678
    doublekind=3
    d_longlong=define
    longlongsize=8
    d_longdbl=define
    longdblsize=16
    longdblkind=3
    ivtype='long'
    ivsize=8
    nvtype='long double'
    nvsize=16
    Off_t='off_t'
    lseeksize=8
    alignbytes=16
    prototype=define
  Linker and Libraries:
    ld='cc'
    ldflags =' -fstack-protector-strong -L/usr/local/lib'
    libpth=/usr/local/lib /usr/lib/x86_64-linux-gnu /usr/lib /lib/x86_64-linux-gnu /lib
    libs=-lpthread -lnsl -ldl -lm -lcrypt -lutil -lc
    perllibs=-lpthread -lnsl -ldl -lm -lcrypt -lutil -lc
    libc=libc-2.33.so
    so=so
    useshrplib=false
    libperl=libperl.a
    gnulibc_version='2.33'
  Dynamic Linking:
    dlsrc=dl_dlopen.xs
    dlext=so
    d_dlsymun=undef
    ccdlflags='-Wl,-E'
    cccdlflags='-fPIC'
    lddlflags='-shared -O2 -g -L/usr/local/lib -fstack-protector-strong'


Characteristics of this binary (from libperl): 
  Compile-time options:
    DEBUGGING
    HAS_TIMES
    MULTIPLICITY
    PERLIO_LAYERS
    PERL_COPY_ON_WRITE
    PERL_DONT_CREATE_GVSV
    PERL_IMPLICIT_CONTEXT
    PERL_MALLOC_WRAP
    PERL_OP_PARENT
    PERL_PRESERVE_IVUV
    PERL_TRACK_MEMPOOL
    PERL_USE_DEVEL
    USE_64_BIT_ALL
    USE_64_BIT_INT
    USE_ITHREADS
    USE_LARGE_FILES
    USE_LOCALE
    USE_LOCALE_COLLATE
    USE_LOCALE_CTYPE
    USE_LOCALE_NUMERIC
    USE_LOCALE_TIME
    USE_LONG_DOUBLE
    USE_PERLIO
    USE_PERL_ATOF
    USE_REENTRANT_API
    USE_THREAD_SAFE_LOCALE
  Built under linux
  Compiled at Apr 24 2022 09:05:49
  %ENV:
    PERL5LIB=""
    PERL5OPT=""
    PERL5_CPANPLUS_IS_RUNNING="3347811"
    PERL5_CPAN_IS_RUNNING="3347811"
    PERL_CANARY_STABILITY_NOPROMPT="1"
    PERL_MM_USE_DEFAULT="1"
    PERL_USE_UNSAFE_INC="1"
  @INC:
    /home/sand/src/perl/repoperls/installed-perls/host/k93msid/v5.34.0/ac75/lib/site_perl/5.34.0/x86_64-linux-thread-multi-ld
    /home/sand/src/perl/repoperls/installed-perls/host/k93msid/v5.34.0/ac75/lib/site_perl/5.34.0
    /home/sand/src/perl/repoperls/installed-perls/host/k93msid/v5.34.0/ac75/lib/5.34.0/x86_64-linux-thread-multi-ld
    /home/sand/src/perl/repoperls/installed-perls/host/k93msid/v5.34.0/ac75/lib/5.34.0
    .