Back
From: metabase:user:30ae4450-2aae-11df-837a-5e0a49663a4f
Subject: PASS Net-Google-DataAPI-0.2805 v5.18.0
Date: 2014-07-26T13:39:40Z
This distribution has been tested as part of the CPAN Testers
project, supporting the Perl programming language. See
http://wiki.cpantesters.org/ for more information or email
questions to cpan-testers-discuss@perl.org
--
Dear Nobuo Danjou,
This is a computer-generated report for Net-Google-DataAPI-0.2805
on perl 5.18.0, created by CPAN-Reporter-1.2010_01.
Thank you for uploading your work to CPAN. Congratulations!
All tests were successful.
Sections of this report:
* Tester comments
* Program output
* Prerequisites
* Environment and other context
------------------------------
TESTER COMMENTS
------------------------------
Additional comments from tester:
this report is from an automated smoke testing program
and was not reviewed by a human for accuracy
------------------------------
PROGRAM OUTPUT
------------------------------
Output from 'C:\strawberry180\c\bin\dmake.exe test':
C:\strawberry180\perl\bin\perl.exe "-MExtUtils::Command::MM" "-e" "test_harness(0, 'inc', 'blib\lib', 'blib\arch')" t/*.t t/01_role/01_service/*.t t/01_role/02_entry/*.t t/01_role/03_has_content/*.t t/02_feedurl/*.t t/03_entry_has/*.t t/04_auth/*.t
t/00_compile.t ......................................... ok
t/01_role/01_service/01_instanciate.t .................. ok
t/01_role/01_service/02_namespace.t .................... ok
t/01_role/01_service/03_request.t ...................... ok
t/01_role/01_service/04_methods.t ...................... ok
t/01_role/01_service/05_debug.t ........................ ok
t/01_role/01_service/06_pass_through.t ................. ok
t/01_role/01_service/07_max_line_length.t .............. ok
t/01_role/01_service/08_max_line_length_custom_size.t .. ok
t/01_role/02_entry/01_instanciate.t .................... ok
t/01_role/02_entry/02_update.t ......................... ok
t/01_role/03_has_content/01_basic.t .................... ok
t/02_feedurl/01_basic.t ................................ ok
t/02_feedurl/02_add.t .................................. ok
t/02_feedurl/03_list.t ................................. ok
t/02_feedurl/04_delete.t ............................... ok
t/02_feedurl/05_error.t ................................ ok
t/03_entry_has/01_basic.t .............................. ok
t/03_entry_has/02_error.t .............................. ok
t/04_auth/01_authsub.t ................................. ok
t/04_auth/02_oauth.t ................................... ok
t/04_auth/03_multiple.t ................................ ok
t/04_auth/04_oauth2.t .................................. ok
t/05_types.t ........................................... ok
All tests successful.
Files=24, Tests=423, 15 wallclock secs ( 0.04 usr + 0.13 sys = 0.17 CPU)
Result: PASS
------------------------------
PREREQUISITES
------------------------------
Prerequisite modules loaded:
requires:
Module Need Have
--------------------------- -------- ----------
Any::Moose 0.04 0.21
Carp 0 1.29
Digest::SHA1 0 2.13
Lingua::EN::Inflect::Number 0 1.1
LWP::Protocol::https 0 6.04
LWP::UserAgent 0 6.05
Mouse 0.51 1.11
Net::Google::AuthSub 0.5 0.5
Net::OAuth 0 0.28
Net::OAuth2 0.60 0.61
perl 5.008001 5.018000
Text::Glob 0 0.09
URI 0 1.60
XML::Atom 0 0.41
XML::LibXML 0 2.0018
build_requires:
Module Need Have
--------------------------- -------- ----------
ExtUtils::MakeMaker 6.59 6.66
Test::Exception 0 0.32
Test::MockModule 0 0.05
Test::MockObject 0 1.20120301
Test::More 0.88 0.98
Test::Warn 0 0.24
UNIVERSAL::can 0 1.20120726
UNIVERSAL::isa 0 1.20120726
configure_requires:
Module Need Have
--------------------------- -------- ----------
ExtUtils::MakeMaker 6.59 6.66
------------------------------
ENVIRONMENT AND OTHER CONTEXT
------------------------------
Environment variables:
AUTOMATED_TESTING = 1
COMSPEC = C:\WINDOWS\system32\cmd.exe
NUMBER_OF_PROCESSORS = 1
PATH = C:\Program Files\Far Manager\;C:\WINDOWS\system32;C:\WINDOWS;C:\WINDOWS\System32\Wbem;C:\strawberry180\c\bin;C:\strawberry180\perl\site\bin;C:\strawberry180\perl\bin
PERL5LIB = C:\strawberry180\cpan\build\Net-Google-AuthSub-0.5-oOjfxQ/blib/arch;C:\strawberry180\cpan\build\Net-Google-AuthSub-0.5-oOjfxQ/blib/lib;C:\strawberry180\cpan\build\Net-OAuth2-0.61-Dnzzku/blib/arch;C:\strawberry180\cpan\build\Net-OAuth2-0.61-Dnzzku/blib/lib
PERL5OPT =
PERL5_CPANPLUS_IS_RUNNING = 1056
PERL5_CPAN_IS_RUNNING = 1056
PERL5_CPAN_IS_RUNNING_IN_RECURSION = 444,1056
PERL_CR_SMOKER_CURRENT = Net-Google-DataAPI-0.2805
PERL_EXTUTILS_AUTOINSTALL = --defaultdeps
PERL_MM_USE_DEFAULT = 1
PROCESSOR_IDENTIFIER = x86 Family 16 Model 5 Stepping 3, AuthenticAMD
TEMP = C:\DOCUME~1\c\LOCALS~1\Temp
TERM = dumb
Perl special variables (and OS-specific diagnostics, for MSWin32):
$^X = C:\strawberry180\perl\bin\perl.exe
$UID/$EUID = 0 / 0
$GID = 0
$EGID = 0
Win32::GetOSName = WinXP/.Net
Win32::GetOSVersion = Service Pack 3, 5, 1, 2600, 2, 3, 0, 256, 1
Win32::FsType = NTFS
Win32::IsAdminUser = 1
Perl module toolchain versions installed:
Module Have
------------------- --------
CPAN 2.00
CPAN::Meta 2.130880
Cwd 3.40
ExtUtils::CBuilder 0.280210
ExtUtils::Command 1.17
ExtUtils::Install 1.59
ExtUtils::MakeMaker 6.66
ExtUtils::Manifest 1.63
ExtUtils::ParseXS 3.18
File::Spec 3.40
JSON 2.57
JSON::PP 2.27202
Module::Build 0.4005
Module::Signature n/a
Parse::CPAN::Meta 1.4404
Test::Harness 3.28
Test::More 0.98
YAML 0.84
YAML::Syck 1.27
version 0.9902
--
Summary of my perl5 (revision 5 version 18 subversion 0) configuration:
Platform:
osname=MSWin32, osvers=4.0, archname=MSWin32-x86-multi-thread-64int
uname='Win32 strawberry-perl 5.18.0.1 #1 Sat May 18 17:46:00 2013 i386'
config_args='undef'
hint=recommended, useposix=true, d_sigaction=undef
useithreads=define, usemultiplicity=define
useperlio=define, d_sfio=undef, uselargefiles=define, usesocks=undef
use64bitint=define, use64bitall=undef, uselongdouble=undef
usemymalloc=n, bincompat5005=undef
Compiler:
cc='gcc', ccflags =' -s -O2 -DWIN32 -DPERL_TEXTMODE_SCRIPTS -DPERL_IMPLICIT_CONTEXT -DPERL_IMPLICIT_SYS -DUSE_PERLIO -fno-strict-aliasing -mms-bitfields',
optimize='-s -O2',
cppflags='-DWIN32'
ccversion='', gccversion='4.6.3', gccosandvers=''
intsize=4, longsize=4, ptrsize=4, doublesize=8, byteorder=12345678
d_longlong=define, longlongsize=8, d_longdbl=define, longdblsize=12
ivtype='long long', ivsize=8, nvtype='double', nvsize=8, Off_t='long long', lseeksize=8
alignbytes=8, prototype=define
Linker and Libraries:
ld='g++', ldflags ='-s -L"C:\strawberry180\perl\lib\CORE" -L"C:\strawberry180\c\lib"'
libpth=C:\strawberry180\c\lib C:\strawberry180\c\i686-w64-mingw32\lib
libs=-lmoldname -lkernel32 -luser32 -lgdi32 -lwinspool -lcomdlg32 -ladvapi32 -lshell32 -lole32 -loleaut32 -lnetapi32 -luuid -lws2_32 -lmpr -lwinmm -lversion -lodbc32 -lodbccp32 -lcomctl32
perllibs=-lmoldname -lkernel32 -luser32 -lgdi32 -lwinspool -lcomdlg32 -ladvapi32 -lshell32 -lole32 -loleaut32 -lnetapi32 -luuid -lws2_32 -lmpr -lwinmm -lversion -lodbc32 -lodbccp32 -lcomctl32
libc=, so=dll, useshrplib=true, libperl=libperl518.a
gnulibc_version=''
Dynamic Linking:
dlsrc=dl_win32.xs, dlext=dll, d_dlsymun=undef, ccdlflags=' '
cccdlflags=' ', lddlflags='-mdll -s -L"C:\strawberry180\perl\lib\CORE" -L"C:\strawberry180\c\lib"'
Characteristics of this binary (from libperl):
Compile-time options: HAS_TIMES HAVE_INTERP_INTERN MULTIPLICITY
PERLIO_LAYERS PERL_DONT_CREATE_GVSV
PERL_HASH_FUNC_ONE_AT_A_TIME_HARD
PERL_IMPLICIT_CONTEXT PERL_IMPLICIT_SYS
PERL_MALLOC_WRAP PERL_PRESERVE_IVUV PERL_SAWAMPERSAND
USE_64_BIT_INT USE_ITHREADS USE_LARGE_FILES
USE_LOCALE USE_LOCALE_COLLATE USE_LOCALE_CTYPE
USE_LOCALE_NUMERIC USE_PERLIO USE_PERL_ATOF
Built under MSWin32
Compiled at May 18 2013 17:53:14
%ENV:
PERL5LIB="C:\strawberry180\cpan\build\Net-Google-AuthSub-0.5-oOjfxQ/blib/arch;C:\strawberry180\cpan\build\Net-Google-AuthSub-0.5-oOjfxQ/blib/lib;C:\strawberry180\cpan\build\Net-OAuth2-0.61-Dnzzku/blib/arch;C:\strawberry180\cpan\build\Net-OAuth2-0.61-Dnzzku/blib/lib"
PERL5_CPANPLUS_IS_RUNNING="1056"
PERL5_CPAN_IS_RUNNING="1056"
PERL5_CPAN_IS_RUNNING_IN_RECURSION="444,1056"
PERL_CR_SMOKER_CURRENT="Net-Google-DataAPI-0.2805"
PERL_EXTUTILS_AUTOINSTALL="--defaultdeps"
PERL_MM_USE_DEFAULT="1"
@INC:
C:\strawberry180\cpan\build\Net-Google-AuthSub-0.5-oOjfxQ/blib/arch
C:\strawberry180\cpan\build\Net-Google-AuthSub-0.5-oOjfxQ/blib/lib
C:\strawberry180\cpan\build\Net-OAuth2-0.61-Dnzzku/blib/arch
C:\strawberry180\cpan\build\Net-OAuth2-0.61-Dnzzku/blib/lib
C:/strawberry180/perl/site/lib
C:/strawberry180/perl/vendor/lib
C:/strawberry180/perl/lib
.