JSON v4.05 Perl 5 v5.30.2 x86_64-linux-ld
- Status
- Pass
- From
- Nigel Horne
- Dist
-
JSON v4.05
- Platform
- Perl 5 v5.30.2 x86_64-linux-ld
- Date
- 2022-01-18 06:31:54
- ID
- 53f68f9c-7828-11ec-87cf-2c9bf63631e0
This distribution has been tested as part of the CPAN Testers
project, supporting the Perl programming language. See
http://wiki.cpantesters.org/ for more information or email
questions to cpan-testers-discuss@perl.org
--
Dear Kenichi Ishigaki,
This is a computer-generated report for JSON-4.05
on perl 5.30.2, created by CPAN-Reporter-1.2018.
Thank you for uploading your work to CPAN. Congratulations!
All tests were successful.
Sections of this report:
* Tester comments
* Program output
* Prerequisites
* Environment and other context
------------------------------
TESTER COMMENTS
------------------------------
Additional comments from tester:
none provided
------------------------------
PROGRAM OUTPUT
------------------------------
Output from '/usr/bin/make test':
PERL_DL_NONLAZY=1 "/home/njh/perl5/perlbrew/perls/perl-5.30.2-ld/bin/perl5.30.2" "-MExtUtils::Command::MM" "-MTest::Harness" "-e" "undef *Test::Harness::Switches; test_harness(0, 'blib/lib', 'blib/arch')" t/*.t
# JSON::backportPP 4.07
t/00_backend_version.t ......................... ok
t/00_load.t .................................... ok
t/00_load_backport_pp.t ........................ ok
t/00_pod.t ..................................... ok
t/01_utf8.t .................................... ok
t/02_error.t ................................... ok
t/03_types.t ................................... ok
t/04_dwiw_encode.t ............................. ok
t/05_dwiw_decode.t ............................. ok
t/06_pc_pretty.t ............................... ok
t/07_pc_esc.t .................................. ok
t/08_pc_base.t ................................. ok
t/09_pc_extra_number.t ......................... ok
t/104_sortby.t ................................. ok
t/105_esc_slash.t .............................. ok
t/106_allow_barekey.t .......................... ok
t/107_allow_singlequote.t ...................... ok
t/108_decode.t ................................. ok
t/109_encode.t ................................. ok
t/10_pc_keysort.t .............................. ok
t/110_bignum.t ................................. ok
t/112_upgrade.t ................................ ok
t/113_overloaded_eq.t .......................... ok
t/114_decode_prefix.t .......................... ok
t/115_tie_ixhash.t ............................. ok
t/116_incr_parse_fixed.t ....................... ok
t/117_numbers.t ................................ ok
t/118_boolean_values.t ......................... ok
t/119_incr_parse_utf8.t ........................ ok
t/11_pc_expo.t ................................. ok
t/12_blessed.t ................................. ok
t/13_limit.t ................................... ok
t/14_latin1.t .................................. ok
t/15_prefix.t .................................. ok
t/16_tied.t .................................... ok
t/17_relaxed.t ................................. ok
t/18_json_checker.t ............................ ok
t/19_incr.t .................................... ok
t/20_faihu.t ................................... ok
t/20_unknown.t ................................. ok
t/21_evans.t ................................... ok
t/22_comment_at_eof.t .......................... ok
t/52_object.t .................................. ok
t/99_binary.t .................................. ok
t/e00_func.t ................................... ok
t/e01_property.t ............................... ok
# 1
t/e02_bool.t ................................... ok
t/e03_bool2.t .................................. ok
t/e11_conv_blessed_univ.t ...................... ok
t/e90_misc.t ................................... ok
t/gh_28_json_test_suite.t ...................... ok
t/gh_29_trailing_false_value.t ................. ok
t/rt_116998_wrong_character_offset.t ........... ok
t/rt_122270_is_bool_for_obsolete_xs_boolean.t .. ok
t/rt_90071_incr_parse.t ........................ ok
# load JSON::XS v.4.03
t/x00_load.t ................................... ok
t/x02_error.t .................................. ok
t/x12_blessed.t ................................ ok
t/x16_tied.t ................................... ok
t/x17_strange_overload.t ....................... ok
t/xe04_escape_slash.t .......................... ok
t/xe05_indent_length.t ......................... ok
t/xe12_boolean.t ............................... ok
t/xe19_xs_and_suportbypp.t ..................... ok
t/xe20_croak_message.t ......................... ok
t/xe21_is_pp.t ................................. ok
t/zero-mojibake.t .............................. ok
All tests successful.
Files=67, Tests=26055, 135 wallclock secs ( 5.19 usr 0.78 sys + 131.06 cusr 2.14 csys = 139.17 CPU)
Result: PASS
------------------------------
PREREQUISITES
------------------------------
Prerequisite modules loaded:
requires:
Module Need Have
------------------- ---- --------
Test::More 0 1.302188
build_requires:
Module Need Have
------------------- ---- --------
ExtUtils::MakeMaker 0 7.64
configure_requires:
Module Need Have
------------------- ---- --------
ExtUtils::MakeMaker 0 7.64
opt_requires:
Module Need Have
------------------- ---- --------
JSON::XS 2.34 4.03
------------------------------
ENVIRONMENT AND OTHER CONTEXT
------------------------------
Environment variables:
LANG = C.UTF-8
PATH = /home/njh/perl5/perlbrew/bin:/home/njh/perl5/perlbrew/perls/perl-5.30.2-ld/bin:/home/njh/perl5/perlbrew/bin:/usr/bin:/bin
PERL5LIB =
PERL5OPT =
PERL5_CPANPLUS_IS_RUNNING = 10896
PERL5_CPAN_IS_RUNNING = 10896
PERLBREW_HOME = /home/njh/.perlbrew
PERLBREW_LIB =
PERLBREW_MANPATH = /home/njh/perl5/perlbrew/perls/perl-5.30.2-ld/man
PERLBREW_PATH = /home/njh/perl5/perlbrew/bin:/home/njh/perl5/perlbrew/perls/perl-5.30.2-ld/bin
PERLBREW_PERL = perl-5.30.2-ld
PERLBREW_ROOT = /home/njh/perl5/perlbrew
PERLBREW_SHELLRC_VERSION = 0.92
PERLBREW_VERSION = 0.92
PERL_LOCAL_LIB_ROOT =
PERL_USE_UNSAFE_INC = 1
SHELL = /bin/sh
TEMP = /tmp/user/1002
TMPDIR = /tmp/user/1002
Perl special variables (and OS-specific diagnostics, for MSWin32):
$^X = /home/njh/perl5/perlbrew/perls/perl-5.30.2-ld/bin/perl5.30.2
$UID/$EUID = 1002 / 1002
$GID = 1002 120 1002
$EGID = 1002 120 1002
Perl module toolchain versions installed:
Module Have
------------------- --------
CPAN 2.29
CPAN::Meta 2.150010
Cwd 3.78
ExtUtils::CBuilder 0.280236
ExtUtils::Command 7.64
ExtUtils::Install 2.20
ExtUtils::MakeMaker 7.64
ExtUtils::Manifest 1.73
ExtUtils::ParseXS 3.44
File::Spec 3.78
JSON 4.04
JSON::PP 4.07
Module::Build 0.4231
Module::Signature 0.88
Parse::CPAN::Meta 2.150010
Test::Harness 3.42
Test::More 1.302188
YAML 1.30
YAML::Syck 1.34
version 0.9929
--
Summary of my perl5 (revision 5 version 30 subversion 2) configuration:
Platform:
osname=linux
osvers=5.0.0-1013-oracle
archname=x86_64-linux-ld
uname='linux oracle1 5.0.0-1013-oracle #18-ubuntu smp tue mar 3 05:48:35 utc 2020 x86_64 x86_64 x86_64 gnulinux '
config_args='-de -Dprefix=/home/njh/perl5/perlbrew/perls/perl-5.30.2-ld -Dusedevel -Duselongdouble -Accflags=-O2 -W -Wformat=2 -Wswitch -Wshadow -Wwrite-strings -Wuninitialized -Wall -pipe -fomit-frame-pointer -pedantic -D_FORTIFY_SOURCE=2 -Wpointer-arith -Wstrict-prototypes -fstack-protector -Wstack-protector -Wextra -Wbad-function-cast -Wcast-align -Wcast-qual -Wdisabled-optimization -Wendif-labels -Wfloat-equal -Wformat-nonliteral -Winline -Wmissing-declarations -Wmissing-prototypes -Wnested-externs -Wpointer-arith -Wundef -Wformat-security -ftree-vectorize -msse -mfpmath=sse -msse2 -mssse3 -msse4.1 -msse4.2 -maes -fdiagnostics-color=auto -mtune=native -march=native -Aeval:scriptdir=/home/njh/perl5/perlbrew/perls/perl-5.30.2-ld/bin'
hint=recommended
useposix=true
d_sigaction=define
useithreads=undef
usemultiplicity=undef
use64bitint=define
use64bitall=define
uselongdouble=define
usemymalloc=n
default_inc_excludes_dot=define
bincompat5005=undef
Compiler:
cc='cc'
ccflags ='-O2 -W -Wformat=2 -Wswitch -Wshadow -Wwrite-strings -Wuninitialized -Wall -pipe -fomit-frame-pointer -pedantic -D_FORTIFY_SOURCE=2 -Wpointer-arith -Wstrict-prototypes -fstack-protector -Wstack-protector -Wextra -Wbad-function-cast -Wcast-align -Wcast-qual -Wdisabled-optimization -Wendif-labels -Wfloat-equal -Wformat-nonliteral -Winline -Wmissing-declarations -Wmissing-prototypes -Wnested-externs -Wpointer-arith -Wundef -Wformat-security -ftree-vectorize -msse -mfpmath=sse -msse2 -mssse3 -msse4.1 -msse4.2 -maes -fdiagnostics-color=auto -mtune=native -march=native -fwrapv -fno-strict-aliasing -fstack-protector-strong -I/usr/local/include -D_LARGEFILE_SOURCE -D_FILE_OFFSET_BITS=64'
optimize='-O2'
cppflags='-O2 -W -Wformat=2 -Wswitch -Wshadow -Wwrite-strings -Wuninitialized -Wall -pipe -fomit-frame-pointer -pedantic -D_FORTIFY_SOURCE=2 -Wpointer-arith -Wstrict-prototypes -fstack-protector -Wstack-protector -Wextra -Wbad-function-cast -Wcast-align -Wcast-qual -Wdisabled-optimization -Wendif-labels -Wfloat-equal -Wformat-nonliteral -Winline -Wmissing-declarations -Wmissing-prototypes -Wnested-externs -Wpointer-arith -Wundef -Wformat-security -ftree-vectorize -msse -mfpmath=sse -msse2 -mssse3 -msse4.1 -msse4.2 -maes -fdiagnostics-color=auto -mtune=native -march=native -fwrapv -fno-strict-aliasing -fstack-protector-strong -I/usr/local/include'
ccversion=''
gccversion='7.5.0'
gccosandvers=''
intsize=4
longsize=8
ptrsize=8
doublesize=8
byteorder=12345678
doublekind=3
d_longlong=define
longlongsize=8
d_longdbl=define
longdblsize=16
longdblkind=3
ivtype='long'
ivsize=8
nvtype='long double'
nvsize=16
Off_t='off_t'
lseeksize=8
alignbytes=16
prototype=define
Linker and Libraries:
ld='cc'
ldflags =' -fstack-protector-strong -L/usr/local/lib'
libpth=/usr/local/lib /usr/lib/gcc/x86_64-linux-gnu/7/include-fixed /usr/include/x86_64-linux-gnu /usr/lib /lib/x86_64-linux-gnu /lib/../lib /usr/lib/x86_64-linux-gnu /usr/lib/../lib /lib
libs=-lpthread -lnsl -lgdbm -ldb -ldl -lm -lcrypt -lutil -lc
perllibs=-lpthread -lnsl -ldl -lm -lcrypt -lutil -lc
libc=libc-2.27.so
so=so
useshrplib=false
libperl=libperl.a
gnulibc_version='2.27'
Dynamic Linking:
dlsrc=dl_dlopen.xs
dlext=so
d_dlsymun=undef
ccdlflags='-Wl,-E'
cccdlflags='-fPIC'
lddlflags='-shared -O2 -L/usr/local/lib -fstack-protector-strong'
Characteristics of this binary (from libperl):
Compile-time options:
HAS_TIMES
PERLIO_LAYERS
PERL_COPY_ON_WRITE
PERL_DONT_CREATE_GVSV
PERL_MALLOC_WRAP
PERL_OP_PARENT
PERL_PRESERVE_IVUV
PERL_USE_DEVEL
USE_64_BIT_ALL
USE_64_BIT_INT
USE_LARGE_FILES
USE_LOCALE
USE_LOCALE_COLLATE
USE_LOCALE_CTYPE
USE_LOCALE_NUMERIC
USE_LOCALE_TIME
USE_LONG_DOUBLE
USE_PERLIO
USE_PERL_ATOF
Built under linux
Compiled at Mar 24 2020 21:06:38
%ENV:
PERL5LIB=""
PERL5OPT=""
PERL5_CPANPLUS_IS_RUNNING="10896"
PERL5_CPAN_IS_RUNNING="10896"
PERLBREW_HOME="/home/njh/.perlbrew"
PERLBREW_LIB=""
PERLBREW_MANPATH="/home/njh/perl5/perlbrew/perls/perl-5.30.2-ld/man"
PERLBREW_PATH="/home/njh/perl5/perlbrew/bin:/home/njh/perl5/perlbrew/perls/perl-5.30.2-ld/bin"
PERLBREW_PERL="perl-5.30.2-ld"
PERLBREW_ROOT="/home/njh/perl5/perlbrew"
PERLBREW_SHELLRC_VERSION="0.92"
PERLBREW_VERSION="0.92"
PERL_LOCAL_LIB_ROOT=""
PERL_USE_UNSAFE_INC="1"
@INC:
/home/njh/perl5/perlbrew/perls/perl-5.30.2-ld/lib/site_perl/5.30.2/x86_64-linux-ld
/home/njh/perl5/perlbrew/perls/perl-5.30.2-ld/lib/site_perl/5.30.2
/home/njh/perl5/perlbrew/perls/perl-5.30.2-ld/lib/5.30.2/x86_64-linux-ld
/home/njh/perl5/perlbrew/perls/perl-5.30.2-ld/lib/5.30.2
.