Report for EmbedIT-WebIT-1.6.3a

Back
From: metabase:user:322078bc-2aae-11df-837a-5e0a49663a4f
Subject: PASS EmbedIT-WebIT-1.6.3a v5.12.3 GNU/Linux
Date: 2011-12-15T17:58:00Z

This distribution has been tested as part of the CPAN Testers
project, supporting the Perl programming language.  See
http://wiki.cpantesters.org/ for more information or email
questions to cpan-testers-discuss@perl.org


--

Dear DEVMORFO,

This is a computer-generated error report created automatically by
CPANPLUS, version 0.9113. Testers personal comments may appear
at the end of this report.

MAKE TEST passed: PERL_DL_NONLAZY=1 /home/cpan/pit/bare/perl-5.12.3/bin/perl "-MExtUtils::Command::MM" "-e" "test_harness(0, 'blib/lib', 'blib/arch')" t/*.t
defined(%hash) is deprecated at /home/cpan/pit/bare/conf/perl-5.12.3/.cpanplus/5.12.3/build/EmbedIT-WebIT/blib/lib/EmbedIT/WebIT.pm line 29.
	(Maybe you should just omit the defined()?)
defined(@array) is deprecated at /home/cpan/pit/bare/conf/perl-5.12.3/.cpanplus/5.12.3/build/EmbedIT-WebIT/blib/lib/EmbedIT/WebIT.pm line 356.
	(Maybe you should just omit the defined()?)
defined(@array) is deprecated at /home/cpan/pit/bare/conf/perl-5.12.3/.cpanplus/5.12.3/build/EmbedIT-WebIT/blib/lib/EmbedIT/WebIT.pm line 452.
	(Maybe you should just omit the defined()?)
defined(@array) is deprecated at /home/cpan/pit/bare/conf/perl-5.12.3/.cpanplus/5.12.3/build/EmbedIT-WebIT/blib/lib/EmbedIT/WebIT.pm line 512.
	(Maybe you should just omit the defined()?)
Use of /c modifier is meaningless in s/// at /home/cpan/pit/bare/conf/perl-5.12.3/.cpanplus/5.12.3/build/EmbedIT-WebIT/blib/lib/EmbedIT/WebIT.pm line 696.
Use of /c modifier is meaningless in s/// at /home/cpan/pit/bare/conf/perl-5.12.3/.cpanplus/5.12.3/build/EmbedIT-WebIT/blib/lib/EmbedIT/WebIT.pm line 715.
Use of /c modifier is meaningless in s/// at /home/cpan/pit/bare/conf/perl-5.12.3/.cpanplus/5.12.3/build/EmbedIT-WebIT/blib/lib/EmbedIT/WebIT.pm line 790.
Use of /c modifier is meaningless in s/// at /home/cpan/pit/bare/conf/perl-5.12.3/.cpanplus/5.12.3/build/EmbedIT-WebIT/blib/lib/EmbedIT/WebIT.pm line 801.
"my" variable $page masks earlier declaration in same scope at /home/cpan/pit/bare/conf/perl-5.12.3/.cpanplus/5.12.3/build/EmbedIT-WebIT/blib/lib/EmbedIT/WebIT.pm line 838.
Use of /c modifier is meaningless in s/// at /home/cpan/pit/bare/conf/perl-5.12.3/.cpanplus/5.12.3/build/EmbedIT-WebIT/blib/lib/EmbedIT/WebIT.pm line 920.
"my" variable $len masks earlier declaration in same scope at /home/cpan/pit/bare/conf/perl-5.12.3/.cpanplus/5.12.3/build/EmbedIT-WebIT/blib/lib/EmbedIT/WebIT.pm line 1428.
Use of /c modifier is meaningless in s/// at /home/cpan/pit/bare/conf/perl-5.12.3/.cpanplus/5.12.3/build/EmbedIT-WebIT/blib/lib/EmbedIT/WebIT.pm line 1452.
Unrecognized escape \s passed through at /home/cpan/pit/bare/conf/perl-5.12.3/.cpanplus/5.12.3/build/EmbedIT-WebIT/blib/lib/EmbedIT/WebIT.pm line 1693.
Use of /c modifier is meaningless in s/// at /home/cpan/pit/bare/conf/perl-5.12.3/.cpanplus/5.12.3/build/EmbedIT-WebIT/blib/lib/EmbedIT/WebIT.pm line 1713.
Use of /c modifier is meaningless in s/// at /home/cpan/pit/bare/conf/perl-5.12.3/.cpanplus/5.12.3/build/EmbedIT-WebIT/blib/lib/EmbedIT/WebIT.pm line 1889.
# Testing EmbedIT::WebIT 1.6.3, Perl 5.012003, /home/cpan/pit/bare/perl-5.12.3/bin/perl
t/00-load.t ....... ok
t/boilerplate.t ... ok
t/pod-coverage.t .. skipped: Test::Pod::Coverage 1.08 required for testing POD coverage
t/pod.t ........... skipped: Test::Pod 1.22 required for testing POD
All tests successful.

Test Summary Report
-------------------
t/boilerplate.t (Wstat: 0 Tests: 3 Failed: 0)
  TODO passed:   1-3
Files=4, Tests=4,  0 wallclock secs ( 0.02 usr  0.02 sys +  0.10 cusr  0.01 csys =  0.15 CPU)
Result: PASS

[MSG] [Thu Dec 15 17:57:38 2011] Sending test report for 'EmbedIT-WebIT-1.6.3a'

PREREQUISITES:

Here is a list of prerequisites you specified and versions we
managed to load:

	  Module Name                        Have     Want
	  ExtUtils::MakeMaker                6.62        0
	  HTTP::Date                         6.00        0
	  IO::Select                         1.17        0
	  IO::Socket                         1.31        0
	  IPC::Open3                         1.05        0
	  LWP::MediaTypes                    6.01        0
	  MIME::Base64                       3.08        0
	  Taint::Runtime                     0.03     0.03
	  Test::More                         0.98        0

Perl module toolchain versions installed:
	Module Name                        Have
	CPANPLUS                         0.9113
	CPANPLUS::Dist::Build              0.60
	Cwd                                3.33
	ExtUtils::CBuilder             0.280202
	ExtUtils::Command                  1.16
	ExtUtils::Install                  1.55
	ExtUtils::MakeMaker                6.62
	ExtUtils::Manifest                 1.60
	ExtUtils::ParseXS                  3.07
	File::Spec                         3.33
	Module::Build                    0.3800
	Test::Harness                      3.23
	Test::More                         0.98
	version                            0.95

******************************** NOTE ********************************
The comments above are created mechanically, possibly without manual
checking by the sender.  As there are many people performing automatic
tests on each upload to CPAN, it is likely that you will receive
identical messages about the same problem.

If you believe that the message is mistaken, please reply to the first
one with correction and/or additional informations, and do not take
it personally.  We appreciate your patience. :)
**********************************************************************

Additional comments:


This report was machine-generated by CPANPLUS::Dist::YACSmoke 0.66.
Powered by minismokebox version 0.54

------------------------------
ENVIRONMENT AND OTHER CONTEXT
------------------------------

Environment variables:

    AUTOMATED_TESTING = 1
    LANG = en_US
    LC_COLLATE = C
    PATH = /usr/local/bin:/usr/bin:/bin:/usr/games:/usr/lib64/java/bin:/usr/lib64/qt/bin:/usr/share/texmf/bin:.
    PERL5LIB = :/home/cpan/pit/bare/conf/perl-5.12.3/.cpanplus/5.12.3/build/HTTP-Date-6.00/blib/lib:/home/cpan/pit/bare/conf/perl-5.12.3/.cpanplus/5.12.3/build/HTTP-Date-6.00/blib/arch:/home/cpan/pit/bare/conf/perl-5.12.3/.cpanplus/5.12.3/build/LWP-MediaTypes-6.01/blib/lib:/home/cpan/pit/bare/conf/perl-5.12.3/.cpanplus/5.12.3/build/LWP-MediaTypes-6.01/blib/arch:/home/cpan/pit/bare/conf/perl-5.12.3/.cpanplus/5.12.3/build/Taint-Runtime-0.03/blib/lib:/home/cpan/pit/bare/conf/perl-5.12.3/.cpanplus/5.12.3/build/Taint-Runtime-0.03/blib/arch:/home/cpan/pit/bare/conf/perl-5.12.3/.cpanplus/5.12.3/build/EmbedIT-WebIT/blib/lib:/home/cpan/pit/bare/conf/perl-5.12.3/.cpanplus/5.12.3/build/EmbedIT-WebIT/blib/arch
    PERL5_CPANPLUS_IS_RUNNING = 19991
    PERL5_CPANPLUS_IS_VERSION = 0.9113
    PERL5_MINISMOKEBOX = 0.54
    PERL5_YACSMOKE_BASE = /home/cpan/pit/bare/conf/perl-5.12.3
    PERL_EXTUTILS_AUTOINSTALL = --defaultdeps
    PERL_MM_USE_DEFAULT = 1
    SHELL = /bin/bash
    TERM = screen

Perl special variables (and OS-specific diagnostics, for MSWin32):

    Perl: $^X = /home/cpan/pit/bare/perl-5.12.3/bin/perl
    UID:  $<  = 1001
    EUID: $>  = 1001
    GID:  $(  = 100 100
    EGID: $)  = 100 100


-------------------------------


--

Summary of my perl5 (revision 5 version 12 subversion 3) configuration:
   
  Platform:
    osname=linux, osvers=2.6.33.4, archname=x86_64-linux
    uname='linux slack64 2.6.33.4 #3 smp wed may 12 23:13:09 cdt 2010 x86_64 intel(r) xeon(r) cpu e5520 @ 2.27ghz genuineintel gnulinux '
    config_args='-des -Dprefix=/home/cpan/pit/bare/perl-5.12.3'
    hint=recommended, useposix=true, d_sigaction=define
    useithreads=undef, usemultiplicity=undef
    useperlio=define, d_sfio=undef, uselargefiles=define, usesocks=undef
    use64bitint=define, use64bitall=define, uselongdouble=undef
    usemymalloc=n, bincompat5005=undef
  Compiler:
    cc='cc', ccflags ='-fno-strict-aliasing -pipe -fstack-protector -I/usr/local/include -D_LARGEFILE_SOURCE -D_FILE_OFFSET_BITS=64',
    optimize='-O2',
    cppflags='-fno-strict-aliasing -pipe -fstack-protector -I/usr/local/include'
    ccversion='', gccversion='4.4.4', gccosandvers=''
    intsize=4, longsize=8, ptrsize=8, doublesize=8, byteorder=12345678
    d_longlong=define, longlongsize=8, d_longdbl=define, longdblsize=16
    ivtype='long', ivsize=8, nvtype='double', nvsize=8, Off_t='off_t', lseeksize=8
    alignbytes=8, prototype=define
  Linker and Libraries:
    ld='cc', ldflags =' -fstack-protector -L/usr/local/lib'
    libpth=/usr/local/lib /lib /usr/lib /lib64 /usr/lib64 /usr/local/lib64
    libs=-lnsl -lgdbm -ldb -ldl -lm -lcrypt -lutil -lc
    perllibs=-lnsl -ldl -lm -lcrypt -lutil -lc
    libc=, so=so, useshrplib=false, libperl=libperl.a
    gnulibc_version='2.11.1'
  Dynamic Linking:
    dlsrc=dl_dlopen.xs, dlext=so, d_dlsymun=undef, ccdlflags='-Wl,-E'
    cccdlflags='-fPIC', lddlflags='-shared -O2 -L/usr/local/lib -fstack-protector'


Characteristics of this binary (from libperl): 
  Compile-time options: PERL_DONT_CREATE_GVSV PERL_MALLOC_WRAP USE_64_BIT_ALL
                        USE_64_BIT_INT USE_LARGE_FILES USE_PERLIO
                        USE_PERL_ATOF
  Built under linux
  Compiled at Feb 15 2011 14:55:53
  %ENV:
    PERL5LIB=":/home/cpan/pit/bare/conf/perl-5.12.3/.cpanplus/5.12.3/build/HTTP-Date-6.00/blib/lib:/home/cpan/pit/bare/conf/perl-5.12.3/.cpanplus/5.12.3/build/HTTP-Date-6.00/blib/arch:/home/cpan/pit/bare/conf/perl-5.12.3/.cpanplus/5.12.3/build/LWP-MediaTypes-6.01/blib/lib:/home/cpan/pit/bare/conf/perl-5.12.3/.cpanplus/5.12.3/build/LWP-MediaTypes-6.01/blib/arch:/home/cpan/pit/bare/conf/perl-5.12.3/.cpanplus/5.12.3/build/Taint-Runtime-0.03/blib/lib:/home/cpan/pit/bare/conf/perl-5.12.3/.cpanplus/5.12.3/build/Taint-Runtime-0.03/blib/arch:/home/cpan/pit/bare/conf/perl-5.12.3/.cpanplus/5.12.3/build/EmbedIT-WebIT/blib/lib:/home/cpan/pit/bare/conf/perl-5.12.3/.cpanplus/5.12.3/build/EmbedIT-WebIT/blib/arch"
    PERL5_CPANPLUS_IS_RUNNING="19991"
    PERL5_CPANPLUS_IS_VERSION="0.9113"
    PERL5_MINISMOKEBOX="0.54"
    PERL5_YACSMOKE_BASE="/home/cpan/pit/bare/conf/perl-5.12.3"
    PERL_EXTUTILS_AUTOINSTALL="--defaultdeps"
    PERL_MM_USE_DEFAULT="1"
  @INC:
    /home/cpan/pit/bare/conf/perl-5.12.3/.cpanplus/5.12.3/build/HTTP-Date-6.00/blib/lib
    /home/cpan/pit/bare/conf/perl-5.12.3/.cpanplus/5.12.3/build/HTTP-Date-6.00/blib/arch
    /home/cpan/pit/bare/conf/perl-5.12.3/.cpanplus/5.12.3/build/LWP-MediaTypes-6.01/blib/lib
    /home/cpan/pit/bare/conf/perl-5.12.3/.cpanplus/5.12.3/build/LWP-MediaTypes-6.01/blib/arch
    /home/cpan/pit/bare/conf/perl-5.12.3/.cpanplus/5.12.3/build/Taint-Runtime-0.03/blib/lib
    /home/cpan/pit/bare/conf/perl-5.12.3/.cpanplus/5.12.3/build/Taint-Runtime-0.03/blib/arch
    /home/cpan/pit/bare/conf/perl-5.12.3/.cpanplus/5.12.3/build/EmbedIT-WebIT/blib/lib
    /home/cpan/pit/bare/conf/perl-5.12.3/.cpanplus/5.12.3/build/EmbedIT-WebIT/blib/arch
    /home/cpan/pit/bare/perl-5.12.3/lib/site_perl/5.12.3/x86_64-linux
    /home/cpan/pit/bare/perl-5.12.3/lib/site_perl/5.12.3
    /home/cpan/pit/bare/perl-5.12.3/lib/5.12.3/x86_64-linux
    /home/cpan/pit/bare/perl-5.12.3/lib/5.12.3
    .