Alt-Devel-CallParser-ButWorking v0.002 Perl 5 v5.30.0 x86_64-linux
- Status
- Pass
- From
- Nigel Horne
- Dist
-
Alt-Devel-CallParser-ButWorking v0.002
- Platform
- Perl 5 v5.30.0 x86_64-linux
- Date
- 2019-06-28 18:41:23
- ID
- 53e6849c-99d4-11e9-8fa9-99a29f1e7dde
This distribution has been tested as part of the CPAN Testers
project, supporting the Perl programming language. See
http://wiki.cpantesters.org/ for more information or email
questions to cpan-testers-discuss@perl.org
--
Dear Toby Inkster,
This is a computer-generated report for Alt-Devel-CallParser-ButWorking-0.002
on perl 5.30.0, created by CPAN-Reporter-1.2018.
Thank you for uploading your work to CPAN. Congratulations!
All tests were successful.
Sections of this report:
* Tester comments
* Program output
* Prerequisites
* Environment and other context
------------------------------
TESTER COMMENTS
------------------------------
Additional comments from tester:
this report is from an automated smoke testing program
and was not reviewed by a human for accuracy
------------------------------
PROGRAM OUTPUT
------------------------------
Output from './Build test':
t/dataalias.t ...... skipped: good Data::Alias unavailable
t/develdeclare.t ... skipped: good Devel::Declare unavailable
t/getset0.t ........ ok
t/getset1.t ........ ok
t/indirect.t ....... skipped: good indirect unavailable
t/leximport.t ...... skipped: good Lexical::Sub unavailable
t/multiblock.t ..... ok
t/listquote.t ...... ok
t/pad2.t ........... ok
t/no_hdr.t ......... ok
t/padrange.t ....... ok
t/pod_cvg.t ........ skipped: Test::Pod::Coverage not available
t/pod_syn.t ........ skipped: Test::Pod not available
t/proto.t .......... ok
t/substrictdecl.t .. skipped: good Sub::StrictDecl unavailable
t/stdargs.t ........ ok
All tests successful.
Files=16, Tests=462, 3 wallclock secs ( 0.10 usr 0.04 sys + 4.88 cusr 0.98 csys = 6.00 CPU)
Result: PASS
------------------------------
PREREQUISITES
------------------------------
Prerequisite modules loaded:
requires:
Module Need Have
--------------------- -------- --------
Devel::CallChecker 0.002 0.008
DynaLoader 0 1.45
DynaLoader::Functions 0.001 0.003
Exporter 0 5.73
parent 0 0.237
perl 5.011002 5.030000
strict 0 1.11
warnings 0 1.44
build_requires:
Module Need Have
--------------------- -------- --------
Devel::CallChecker 0.002 0.008
DynaLoader 0 1.45
ExtUtils::CBuilder 0.15 0.280231
ExtUtils::ParseXS 0 3.40
File::Spec 0 3.78
IO::File 1.03 1.40
Module::Build 0 0.4229
perl 5.011002 5.030000
strict 0 1.11
Test::More 0 1.302162
warnings 0 1.44
configure_requires:
Module Need Have
--------------------- -------- --------
Module::Build 0 0.4229
perl 5.011002 5.030000
strict 0 1.11
warnings 0 1.44
------------------------------
ENVIRONMENT AND OTHER CONTEXT
------------------------------
Environment variables:
AUTOMATED_TESTING = 1
HARNESS_OPTIONS = j2
NONINTERACTIVE_TESTING = 1
PATH = /home/smoker/perl5/perlbrew/bin:/home/smoker/perl5/perlbrew/perls/perl-5.30.0/bin:/usr/local/sbin:/usr/local/bin:/usr/sbin:/usr/bin:/sbin:/bin
PERL5LIB = /tmp/build/Devel-CallChecker-0.008-0/blib/arch:/tmp/build/Devel-CallChecker-0.008-0/blib/lib:/tmp/build/DynaLoader-Functions-0.003-0/blib/arch:/tmp/build/DynaLoader-Functions-0.003-0/blib/lib:/tmp/build/RPi-EEPROM-AT24C32-0.01-0/blib/arch:/tmp/build/RPi-EEPROM-AT24C32-0.01-0/blib/lib
PERL5OPT =
PERL5_CPANPLUS_IS_RUNNING = 78
PERL5_CPAN_IS_RUNNING = 78
PERLBREW_HOME = /home/smoker/.perlbrew
PERLBREW_MANPATH = /home/smoker/perl5/perlbrew/perls/perl-5.30.0/man
PERLBREW_PATH = /home/smoker/perl5/perlbrew/bin:/home/smoker/perl5/perlbrew/perls/perl-5.30.0/bin
PERLBREW_PERL = perl-5.30.0
PERLBREW_ROOT = /home/smoker/perl5/perlbrew
PERLBREW_SHELLRC_VERSION = 0.86
PERLBREW_VERSION = 0.86
PERL_MM_USE_DEFAULT = 1
PERL_USE_UNSAFE_INC = 1
SHELL = /bin/bash
TERM = xterm
TMPDIR = /tmp/testwrapper.66
Perl special variables (and OS-specific diagnostics, for MSWin32):
$^X = /home/smoker/perl5/perlbrew/perls/perl-5.30.0/bin/perl5.30.0
$UID/$EUID = 1000 / 1000
$GID = 1000
$EGID = 1000
Perl module toolchain versions installed:
Module Have
------------------- --------
CPAN 2.26
CPAN::Meta 2.150010
Cwd 3.78
ExtUtils::CBuilder 0.280231
ExtUtils::Command 7.36
ExtUtils::Install 2.14
ExtUtils::MakeMaker 7.36
ExtUtils::Manifest 1.72
ExtUtils::ParseXS 3.40
File::Spec 3.78
JSON 4.02
JSON::PP 4.02
Module::Build 0.4229
Module::Signature n/a
Parse::CPAN::Meta 2.150010
Test::Harness 3.42
Test::More 1.302162
YAML 1.29
YAML::Syck 1.31
version 0.9924
--
Summary of my perl5 (revision 5 version 30 subversion 0) configuration:
Platform:
osname=linux
osvers=4.16.0-2-amd64
archname=x86_64-linux
uname='linux 63c7b4e14902 4.16.0-2-amd64 #1 smp debian 4.16.16-2 (2018-06-22) x86_64 gnulinux '
config_args='-de -Dprefix=/home/smoker/perl5/perlbrew/perls/perl-5.30.0 -Dusedevel -Accflags=-O2 -pipe -Wall -Wextra -mtune=native -march=native -Aeval:scriptdir=/home/smoker/perl5/perlbrew/perls/perl-5.30.0/bin'
hint=recommended
useposix=true
d_sigaction=define
useithreads=undef
usemultiplicity=undef
use64bitint=define
use64bitall=define
uselongdouble=undef
usemymalloc=n
default_inc_excludes_dot=define
bincompat5005=undef
Compiler:
cc='cc'
ccflags ='-O2 -pipe -Wall -Wextra -mtune=native -march=native -fwrapv -fno-strict-aliasing -fstack-protector-strong -I/usr/local/include -D_LARGEFILE_SOURCE -D_FILE_OFFSET_BITS=64 -D_FORTIFY_SOURCE=2'
optimize='-O2'
cppflags='-O2 -pipe -Wall -Wextra -mtune=native -march=native -fwrapv -fno-strict-aliasing -fstack-protector-strong -I/usr/local/include'
ccversion=''
gccversion='6.3.0 20170516'
gccosandvers=''
intsize=4
longsize=8
ptrsize=8
doublesize=8
byteorder=12345678
doublekind=3
d_longlong=define
longlongsize=8
d_longdbl=define
longdblsize=16
longdblkind=3
ivtype='long'
ivsize=8
nvtype='double'
nvsize=8
Off_t='off_t'
lseeksize=8
alignbytes=8
prototype=define
Linker and Libraries:
ld='cc'
ldflags =' -fstack-protector-strong -L/usr/local/lib'
libpth=/usr/local/lib /usr/lib/gcc/x86_64-linux-gnu/6/include-fixed /usr/include/x86_64-linux-gnu /usr/lib /lib/x86_64-linux-gnu /lib/../lib /usr/lib/x86_64-linux-gnu /usr/lib/../lib /lib
libs=-lpthread -lnsl -ldl -lm -lcrypt -lutil -lc
perllibs=-lpthread -lnsl -ldl -lm -lcrypt -lutil -lc
libc=libc-2.24.so
so=so
useshrplib=false
libperl=libperl.a
gnulibc_version='2.24'
Dynamic Linking:
dlsrc=dl_dlopen.xs
dlext=so
d_dlsymun=undef
ccdlflags='-Wl,-E'
cccdlflags='-fPIC'
lddlflags='-shared -O2 -L/usr/local/lib -fstack-protector-strong'
Characteristics of this binary (from libperl):
Compile-time options:
HAS_TIMES
PERLIO_LAYERS
PERL_COPY_ON_WRITE
PERL_DONT_CREATE_GVSV
PERL_MALLOC_WRAP
PERL_OP_PARENT
PERL_PRESERVE_IVUV
PERL_USE_DEVEL
USE_64_BIT_ALL
USE_64_BIT_INT
USE_LARGE_FILES
USE_LOCALE
USE_LOCALE_COLLATE
USE_LOCALE_CTYPE
USE_LOCALE_NUMERIC
USE_LOCALE_TIME
USE_PERLIO
USE_PERL_ATOF
Built under linux
Compiled at May 29 2019 02:25:42
%ENV:
PERL5LIB="/tmp/build/Devel-CallChecker-0.008-0/blib/arch:/tmp/build/Devel-CallChecker-0.008-0/blib/lib:/tmp/build/DynaLoader-Functions-0.003-0/blib/arch:/tmp/build/DynaLoader-Functions-0.003-0/blib/lib:/tmp/build/RPi-EEPROM-AT24C32-0.01-0/blib/arch:/tmp/build/RPi-EEPROM-AT24C32-0.01-0/blib/lib"
PERL5OPT=""
PERL5_CPANPLUS_IS_RUNNING="78"
PERL5_CPAN_IS_RUNNING="78"
PERLBREW_HOME="/home/smoker/.perlbrew"
PERLBREW_MANPATH="/home/smoker/perl5/perlbrew/perls/perl-5.30.0/man"
PERLBREW_PATH="/home/smoker/perl5/perlbrew/bin:/home/smoker/perl5/perlbrew/perls/perl-5.30.0/bin"
PERLBREW_PERL="perl-5.30.0"
PERLBREW_ROOT="/home/smoker/perl5/perlbrew"
PERLBREW_SHELLRC_VERSION="0.86"
PERLBREW_VERSION="0.86"
PERL_MM_USE_DEFAULT="1"
PERL_USE_UNSAFE_INC="1"
@INC:
/tmp/build/Devel-CallChecker-0.008-0/blib/arch
/tmp/build/Devel-CallChecker-0.008-0/blib/lib
/tmp/build/DynaLoader-Functions-0.003-0/blib/arch
/tmp/build/DynaLoader-Functions-0.003-0/blib/lib
/tmp/build/RPi-EEPROM-AT24C32-0.01-0/blib/arch
/tmp/build/RPi-EEPROM-AT24C32-0.01-0/blib/lib
/home/smoker/perl5/perlbrew/perls/perl-5.30.0/lib/site_perl/5.30.0/x86_64-linux
/home/smoker/perl5/perlbrew/perls/perl-5.30.0/lib/site_perl/5.30.0
/home/smoker/perl5/perlbrew/perls/perl-5.30.0/lib/5.30.0/x86_64-linux
/home/smoker/perl5/perlbrew/perls/perl-5.30.0/lib/5.30.0
.