Back
From: metabase:user:cd035d39-6d5b-1014-ab3a-39c0c09612a1
Subject: PASS Module-Install-ReadmeFromPod-0.22 v5.18.1
Date: 2013-08-24T17:38:58Z
This distribution has been tested as part of the CPAN Testers
project, supporting the Perl programming language. See
http://wiki.cpantesters.org/ for more information or email
questions to cpan-testers-discuss@perl.org
--
Dear Chris Williams,
This is a computer-generated report for Module-Install-ReadmeFromPod-0.22
on perl 5.18.1, created by CPAN-Reporter-1.2010.
Thank you for uploading your work to CPAN. Congratulations!
All tests were successful.
Sections of this report:
* Tester comments
* Program output
* Prerequisites
* Environment and other context
------------------------------
TESTER COMMENTS
------------------------------
Additional comments from tester:
this report is from an automated smoke testing program
and was not reviewed by a human for accuracy
------------------------------
PROGRAM OUTPUT
------------------------------
Output from 'C:\strawberry\c\bin\dmake.EXE test':
C:\strawberry\perl\bin\perl.exe "-MExtUtils::Command::MM" "-e" "test_harness(0, 'inc', 'blib\lib', 'blib\arch')" t/*.t
# Testing Module::Install::ReadmeFromPod 0.22, Perl 5.018001, C:\strawberry\perl\bin\perl.exe
t/00_compile.t ....... ok
# include C:/cpan/build/Module-Install-ReadmeFromPod-0.22-bpgbhI/dist/mITV7QsecF/inc/Module/Install.pm
# include inc/Module/Install/Metadata.pm
# include inc/Module/Install/Base.pm
# include inc/Module/Install/ReadmeFromPod.pm
# readme_from README.pm to txt
# readme_from README.pm to htm
# readme_from README.pm to man
# include inc/Module/Install/WriteAll.pm
# include inc/Module/Install/Makefile.pm
# include inc/Module/Install/Win32.pm
# include inc/Module/Install/Can.pm
# include inc/Module/Install/Fetch.pm
# Writing Makefile for Foo::Bar
# Writing MYMETA.yml and MYMETA.json
# Writing META.yml
# C:\strawberry\perl\bin\perl.exe "-Iinc" -MExtUtils::Command -e rm_f -- \
# perl blibdirs.ts \
# pm_to_blib MYMETA.json \
# *perl.core core.[0-9][0-9][0-9][0-9] \
# core.*perl.*.? blib\arch\auto\Foo\Bar\extralibs.all \
# *.a Bar.exp \
# core.[0-9][0-9][0-9] perl.exe \
# core core.[0-9] \
# libBar.def Makefile.aperl \
# mon.out so_locations \
# Bar.def blib\arch\auto\Foo\Bar\extralibs.ld \
# MYMETA.yml pm_to_blib.ts \
# perl.exe \
# Bar.x core.[0-9][0-9] \
# perlmain.c Bar.bso \
# core.[0-9][0-9][0-9][0-9][0-9] *.o \
# tmon.out
# C:\strawberry\perl\bin\perl.exe "-Iinc" -MExtUtils::Command -e rm_rf -- \
# blib dll.base \
# dll.exp
# C:\strawberry\perl\bin\perl.exe "-Iinc" -MExtUtils::Command -e mv -- Makefile Makefile.old > NUL
# C:\strawberry\perl\bin\perl.exe "-Iinc" -MExtUtils::Command -e rm_f -- \
# Makefile Makefile.old
# C:\strawberry\perl\bin\perl.exe "-Iinc" -MExtUtils::Command -e rm_rf -- \
# MYMETA.yml Foo-Bar-0.01
# C:\strawberry\perl\bin\perl.exe "-Iinc" -MExtUtils::Command -e rm_f -- Foo-Bar-0.01.tar.gz
# C:\strawberry\perl\bin\perl.exe "-Iinc" -MExtUtils::Command -e rm_f -- MANIFEST.bak _build
# C:\strawberry\perl\bin\perl.exe "-Iinc" "-Ilib" "-MModule::Install::Admin" -e "remove_meta()"
# C:\strawberry\perl\bin\perl.exe "-Iinc" -MExtUtils::Command -e rm_rf -- inc
# C:\strawberry\perl\bin\perl.exe "-Iinc" "-MExtUtils::Manifest=fullcheck" -e fullcheck
# Problem opening MANIFEST: No such file or directory at C:/strawberry/perl/lib/ExtUtils/Manifest.pm line 347.
# Problem opening MANIFEST: No such file or directory at C:/strawberry/perl/lib/ExtUtils/Manifest.pm line 347.
# Not in MANIFEST: Makefile.PL
# Not in MANIFEST: README
# Not in MANIFEST: README.1
# Not in MANIFEST: README.htm
# Not in MANIFEST: README.pm
t/01_dist.t .......... ok
# include C:/cpan/build/Module-Install-ReadmeFromPod-0.22-bpgbhI/dist/QUvLoIKgnv/inc/Module/Install.pm
# include inc/Module/Install/Metadata.pm
# include inc/Module/Install/Base.pm
# include inc/Module/Install/ReadmeFromPod.pm
# readme_from README.pm to text
# include inc/Module/Install/Makefile.pm
# readme_from README.pm to html
# readme_from README.pm to man
# include inc/Module/Install/WriteAll.pm
# include inc/Module/Install/Win32.pm
# include inc/Module/Install/Can.pm
# include inc/Module/Install/Fetch.pm
# Writing Makefile for Foo::Bar
# Writing MYMETA.yml and MYMETA.json
# Writing META.yml
# C:\strawberry\perl\bin\perl.exe "-Iinc" -MExtUtils::Command -e rm_f -- \
# pm_to_blib perl.exe \
# *perl.core mon.out \
# perl *.o \
# perl.exe core.[0-9][0-9][0-9] \
# Bar.exp \
# MYMETA.json *.a \
# perlmain.c core.[0-9] \
# pm_to_blib.ts blib\arch\auto\Foo\Bar\extralibs.all \
# tmon.out so_locations \
# libBar.def core.[0-9][0-9] \
# Bar.x core.[0-9][0-9][0-9][0-9] \
# core.[0-9][0-9][0-9][0-9][0-9] MYMETA.yml \
# Bar.bso blib\arch\auto\Foo\Bar\extralibs.ld \
# blibdirs.ts core \
# Bar.def Makefile.aperl \
# core.*perl.*.?
# C:\strawberry\perl\bin\perl.exe "-Iinc" -MExtUtils::Command -e rm_rf -- \
# Foobar.man dll.base \
# blib dll.exp \
# Foobar.htm Foobar.txt
# C:\strawberry\perl\bin\perl.exe "-Iinc" -MExtUtils::Command -e mv -- Makefile Makefile.old > NUL
# C:\strawberry\perl\bin\perl.exe "-Iinc" -MExtUtils::Command -e rm_f -- \
# Makefile.old Makefile
# C:\strawberry\perl\bin\perl.exe "-Iinc" -MExtUtils::Command -e rm_rf -- \
# MYMETA.yml Foo-Bar-0.01
# C:\strawberry\perl\bin\perl.exe "-Iinc" -MExtUtils::Command -e rm_f -- Foo-Bar-0.01.tar.gz
# C:\strawberry\perl\bin\perl.exe "-Iinc" -MExtUtils::Command -e rm_f -- MANIFEST.bak _build
# C:\strawberry\perl\bin\perl.exe "-Iinc" "-Ilib" "-MModule::Install::Admin" -e "remove_meta()"
# C:\strawberry\perl\bin\perl.exe "-Iinc" -MExtUtils::Command -e rm_rf -- inc
# C:\strawberry\perl\bin\perl.exe "-Iinc" "-MExtUtils::Manifest=fullcheck" -e fullcheck
# Problem opening MANIFEST: No such file or directory at C:/strawberry/perl/lib/ExtUtils/Manifest.pm line 347.
# Problem opening MANIFEST: No such file or directory at C:/strawberry/perl/lib/ExtUtils/Manifest.pm line 347.
# Not in MANIFEST: Makefile.PL
# Not in MANIFEST: README.pm
t/02_clean.t ......... ok
# include C:/cpan/build/Module-Install-ReadmeFromPod-0.22-bpgbhI/dist/mmWlwQEbvd/inc/Module/Install.pm
# include inc/Module/Install/Metadata.pm
# include inc/Module/Install/Base.pm
# include inc/Module/Install/Makefile.pm
# include inc/Module/Install/ReadmeFromPod.pm
# readme_from README.pm to txt
# include inc/Module/Install/WriteAll.pm
# include inc/Module/Install/Win32.pm
# include inc/Module/Install/Can.pm
# include inc/Module/Install/Fetch.pm
# Writing Makefile for Foo::Bar
# Writing MYMETA.yml and MYMETA.json
# Writing META.yml
# C:\strawberry\perl\bin\perl.exe "-Iinc" -MExtUtils::Command -e rm_f -- \
# perl.exe Bar.exp \
# core.[0-9][0-9] \
# core.[0-9][0-9][0-9][0-9][0-9] *.o \
# perlmain.c Bar.bso \
# Makefile.aperl blib\arch\auto\Foo\Bar\extralibs.all \
# blib\arch\auto\Foo\Bar\extralibs.ld MYMETA.yml \
# so_locations Bar.x \
# blibdirs.ts core.[0-9][0-9][0-9] \
# core.*perl.*.? core.[0-9][0-9][0-9][0-9] \
# core mon.out \
# Bar.def pm_to_blib \
# MYMETA.json core.[0-9] \
# pm_to_blib.ts tmon.out \
# perl.exe *.a \
# *perl.core libBar.def \
# perl
# C:\strawberry\perl\bin\perl.exe "-Iinc" -MExtUtils::Command -e rm_rf -- \
# dll.base dll.exp \
# blib
# C:\strawberry\perl\bin\perl.exe "-Iinc" -MExtUtils::Command -e mv -- Makefile Makefile.old > NUL
# C:\strawberry\perl\bin\perl.exe "-Iinc" -MExtUtils::Command -e rm_f -- \
# Makefile Makefile.old
# C:\strawberry\perl\bin\perl.exe "-Iinc" -MExtUtils::Command -e rm_rf -- \
# MYMETA.yml Foo-Bar-0.01
# C:\strawberry\perl\bin\perl.exe "-Iinc" -MExtUtils::Command -e rm_f -- Foo-Bar-0.01.tar.gz
# C:\strawberry\perl\bin\perl.exe "-Iinc" -MExtUtils::Command -e rm_f -- MANIFEST.bak _build
# C:\strawberry\perl\bin\perl.exe "-Iinc" "-Ilib" "-MModule::Install::Admin" -e "remove_meta()"
# C:\strawberry\perl\bin\perl.exe "-Iinc" -MExtUtils::Command -e rm_rf -- inc
# C:\strawberry\perl\bin\perl.exe "-Iinc" "-MExtUtils::Manifest=fullcheck" -e fullcheck
# Problem opening MANIFEST: No such file or directory at C:/strawberry/perl/lib/ExtUtils/Manifest.pm line 347.
# Problem opening MANIFEST: No such file or directory at C:/strawberry/perl/lib/ExtUtils/Manifest.pm line 347.
# Not in MANIFEST: Makefile.PL
# Not in MANIFEST: README
# Not in MANIFEST: README.pm
t/03_all_from.t ...... ok
t/04_distpdf.t ....... skipped: App::pod2pdf not installed
t/05_cleanpdf.t ...... skipped: App::pod2pdf not installed
t/99_pod.t ........... skipped: Test::Pod 1.00 required for testing POD
t/99_pod_coverage.t .. skipped: Test::Pod::Coverage 1.00 required for testing POD coverage
All tests successful.
Files=8, Tests=18, 25 wallclock secs ( 0.17 usr + 0.05 sys = 0.22 CPU)
Result: PASS
------------------------------
PREREQUISITES
------------------------------
Prerequisite modules loaded:
requires:
Module Need Have
------------------- ----- --------
Module::Install 1 1.06
perl 5.006 5.018001
Pod::Html 0 1.18
Pod::Man 0 2.27
Pod::Text 3.13 3.17
build_requires:
Module Need Have
------------------- ----- --------
Capture::Tiny 0.05 0.22
ExtUtils::MakeMaker 6.59 6.72
File::Temp 0 0.2301
Test::More 0.47 0.98
configure_requires:
Module Need Have
------------------- ----- --------
ExtUtils::MakeMaker 6.59 6.72
------------------------------
ENVIRONMENT AND OTHER CONTEXT
------------------------------
Environment variables:
AUTOMATED_TESTING = 1
COMSPEC = C:\WINDOWS.0\system32\cmd.exe
NUMBER_OF_PROCESSORS = 1
PATH = C:\WINDOWS.0\system32;C:\strawberry\c\bin;C:\strawberry\perl\site\bin;C:\strawberry\perl\bin
PERL5LIB = C:\cpan\build\Module-Install-1.06-YL102I/blib/arch;C:\cpan\build\Module-Install-1.06-YL102I/blib/lib;C:\cpan\build\Module-ScanDeps-1.10-g45is8/blib/arch;C:\cpan\build\Module-ScanDeps-1.10-g45is8/blib/lib
PERL5OPT =
PERL5_CPANPLUS_IS_RUNNING = 3836
PERL5_CPAN_IS_RUNNING = 3836
PERL5_CPAN_IS_RUNNING_IN_RECURSION = 1980,3836
PERL_CR_SMOKER_CURRENT = Module-Install-ReadmeFromPod-0.22
PERL_EXTUTILS_AUTOINSTALL = --defaultdeps
PERL_MM_USE_DEFAULT = 1
PROCESSOR_IDENTIFIER = x86 Family 6 Model 14 Stepping 8, GenuineIntel
TEMP = C:\DOKUME~1\smoker\LOKALE~1\Temp
TERM = dumb
Perl special variables (and OS-specific diagnostics, for MSWin32):
$^X = C:\strawberry\perl\bin\perl.exe
$UID/$EUID = 0 / 0
$GID = 0
$EGID = 0
Win32::GetOSName = WinXP/.Net
Win32::GetOSVersion = Service Pack 3, 5, 1, 2600, 2, 3, 0, 256, 1
Win32::FsType = NTFS
Win32::IsAdminUser = 1
Perl module toolchain versions installed:
Module Have
------------------- --------
CPAN 2.00
CPAN::Meta 2.132140
Cwd 3.40
ExtUtils::CBuilder 0.280210
ExtUtils::Command 1.17
ExtUtils::Install 1.59
ExtUtils::MakeMaker 6.72
ExtUtils::Manifest 1.63
ExtUtils::ParseXS 3.21
File::Spec 3.40
JSON 2.59
JSON::PP 2.27202
Module::Build 0.4007
Module::Signature n/a
Parse::CPAN::Meta 1.4405
Test::Harness 3.28
Test::More 0.98
YAML 0.84
YAML::Syck n/a
version 0.9903
--
Summary of my perl5 (revision 5 version 18 subversion 1) configuration:
Platform:
osname=MSWin32, osvers=4.0, archname=MSWin32-x86-multi-thread-64int
uname='Win32 strawberry-perl 5.18.1.1 #1 Tue Aug 13 19:20:13 2013 i386'
config_args='undef'
hint=recommended, useposix=true, d_sigaction=undef
useithreads=define, usemultiplicity=define
useperlio=define, d_sfio=undef, uselargefiles=define, usesocks=undef
use64bitint=define, use64bitall=undef, uselongdouble=undef
usemymalloc=n, bincompat5005=undef
Compiler:
cc='gcc', ccflags =' -s -O2 -DWIN32 -DPERL_TEXTMODE_SCRIPTS -DPERL_IMPLICIT_CONTEXT -DPERL_IMPLICIT_SYS -DUSE_PERLIO -fno-strict-aliasing -mms-bitfields',
optimize='-s -O2',
cppflags='-DWIN32'
ccversion='', gccversion='4.7.3', gccosandvers=''
intsize=4, longsize=4, ptrsize=4, doublesize=8, byteorder=12345678
d_longlong=define, longlongsize=8, d_longdbl=define, longdblsize=12
ivtype='long long', ivsize=8, nvtype='double', nvsize=8, Off_t='long long', lseeksize=8
alignbytes=8, prototype=define
Linker and Libraries:
ld='g++', ldflags ='-s -L"C:\strawberry\perl\lib\CORE" -L"C:\strawberry\c\lib"'
libpth=C:\strawberry\c\lib C:\strawberry\c\i686-w64-mingw32\lib
libs=-lmoldname -lkernel32 -luser32 -lgdi32 -lwinspool -lcomdlg32 -ladvapi32 -lshell32 -lole32 -loleaut32 -lnetapi32 -luuid -lws2_32 -lmpr -lwinmm -lversion -lodbc32 -lodbccp32 -lcomctl32
perllibs=-lmoldname -lkernel32 -luser32 -lgdi32 -lwinspool -lcomdlg32 -ladvapi32 -lshell32 -lole32 -loleaut32 -lnetapi32 -luuid -lws2_32 -lmpr -lwinmm -lversion -lodbc32 -lodbccp32 -lcomctl32
libc=, so=dll, useshrplib=true, libperl=libperl518.a
gnulibc_version=''
Dynamic Linking:
dlsrc=dl_win32.xs, dlext=dll, d_dlsymun=undef, ccdlflags=' '
cccdlflags=' ', lddlflags='-mdll -s -L"C:\strawberry\perl\lib\CORE" -L"C:\strawberry\c\lib"'
Characteristics of this binary (from libperl):
Compile-time options: HAS_TIMES HAVE_INTERP_INTERN MULTIPLICITY
PERLIO_LAYERS PERL_DONT_CREATE_GVSV
PERL_HASH_FUNC_ONE_AT_A_TIME_HARD
PERL_IMPLICIT_CONTEXT PERL_IMPLICIT_SYS
PERL_MALLOC_WRAP PERL_PRESERVE_IVUV PERL_SAWAMPERSAND
USE_64_BIT_INT USE_ITHREADS USE_LARGE_FILES
USE_LOCALE USE_LOCALE_COLLATE USE_LOCALE_CTYPE
USE_LOCALE_NUMERIC USE_PERLIO USE_PERL_ATOF
Built under MSWin32
Compiled at Aug 13 2013 19:29:16
%ENV:
PERL5LIB="C:\cpan\build\Module-Install-1.06-YL102I/blib/arch;C:\cpan\build\Module-Install-1.06-YL102I/blib/lib;C:\cpan\build\Module-ScanDeps-1.10-g45is8/blib/arch;C:\cpan\build\Module-ScanDeps-1.10-g45is8/blib/lib"
PERL5_CPANPLUS_IS_RUNNING="3836"
PERL5_CPAN_IS_RUNNING="3836"
PERL5_CPAN_IS_RUNNING_IN_RECURSION="1980,3836"
PERL_CR_SMOKER_CURRENT="Module-Install-ReadmeFromPod-0.22"
PERL_EXTUTILS_AUTOINSTALL="--defaultdeps"
PERL_MM_USE_DEFAULT="1"
@INC:
C:\cpan\build\Module-Install-1.06-YL102I/blib/arch
C:\cpan\build\Module-Install-1.06-YL102I/blib/lib
C:\cpan\build\Module-ScanDeps-1.10-g45is8/blib/arch
C:\cpan\build\Module-ScanDeps-1.10-g45is8/blib/lib
C:/strawberry/perl/site/lib
C:/strawberry/perl/vendor/lib
C:/strawberry/perl/lib
.